Workbook

Sheet Summary
B1: Maryland 2023 GHG Emissions by Sector
D2: Global Warming Potential
D3: AR6 20-yr GWP | E3: AR6 100-yr GWP
C4: CO2 | D4: 1 | E4: 1
C5: CH4 | D5: 81.2 | E5: 27.9
C6: N2O | D6: 273 | E6: 273
C7: SF6 | D7: 18200 | E7: 24300
C8: HFCs & PFCs | D8: see note
B9: MMTCO2e | D9: 20-year GWP | E9: 100-year GWP
B10: Energy Use (CO2, CH4, N2O) | D10: =D11+D30+D47+D80 -> 65.852033 | E10: =E11+E30+E47+E80 -> 63.431094
B11: Electricity Use (Consumption) | D11: =D12+D29 -> 16.57808 | E11: =E12+E29 -> 16.557621
C12: Electricity Production (in-state) | D12: =D13+D17+D21+D25 -> 8.32331 | E12: =E13+E17+E21+E25 -> 8.3028508
C13: Coal | D13: =SUM(D14:D16) -> 2.0586711 | E13: =SUM(E14:E16) -> 2.0455463
C14: CO2 | D14: =E14/_xlfn.XLOOKUP(C14,C$4:C$7,E$4:E$7,"ERROR")*_xlfn.XLOOKUP(C14,C$4:C$7,D$4:D$7,"ERROR") -> 2.0288821 | E14: ='In-State Electricity'!M268 -> 2.0288821
C15: CH4 | D15: =E15/_xlfn.XLOOKUP(C15,C$4:C$7,E$4:E$7,"ERROR")*_xlfn.XLOOKUP(C15,C$4:C$7,D$4:D$7,"ERROR") -> 0.019994922 | E15: ='In-State Electricity'!N268 -> 0.0068701765
C16: N2O | D16: =E16/_xlfn.XLOOKUP(C16,C$4:C$7,E$4:E$7,"ERROR")*_xlfn.XLOOKUP(C16,C$4:C$7,D$4:D$7,"ERROR") -> 0.0097940647 | E16: ='In-State Electricity'!O268 -> 0.0097940647
C17: Natural Gas | D17: =SUM(D18:D20) -> 6.1631692 | E17: =SUM(E18:E20) -> 6.1562222
C18: CO2 | D18: =E18/_xlfn.XLOOKUP(C18,C$4:C$7,E$4:E$7,"ERROR")*_xlfn.XLOOKUP(C18,C$4:C$7,D$4:D$7,"ERROR") -> 6.1475896 | E18: ='In-State Electricity'!M269 -> 6.1475896
C19: CH4 | D19: =E19/_xlfn.XLOOKUP(C19,C$4:C$7,E$4:E$7,"ERROR")*_xlfn.XLOOKUP(C19,C$4:C$7,D$4:D$7,"ERROR") -> 0.010583415 | E19: ='In-State Electricity'!N269 -> 0.0036364199
C20: N2O | D20: =E20/_xlfn.XLOOKUP(C20,C$4:C$7,E$4:E$7,"ERROR")*_xlfn.XLOOKUP(C20,C$4:C$7,D$4:D$7,"ERROR") -> 0.0049961371 | E20: ='In-State Electricity'!O269 -> 0.0049961371
C21: Oil | D21: =SUM(D22:D24) -> 0.10146973 | E21: =SUM(E22:E24) -> 0.10108231
C22: CO2 | D22: =E22/_xlfn.XLOOKUP(C22,C$4:C$7,E$4:E$7,"ERROR")*_xlfn.XLOOKUP(C22,C$4:C$7,D$4:D$7,"ERROR") -> 0.10068323 | E22: ='In-State Electricity'!M270 -> 0.10068323
C23: CH4 | D23: =E23/_xlfn.XLOOKUP(C23,C$4:C$7,E$4:E$7,"ERROR")*_xlfn.XLOOKUP(C23,C$4:C$7,D$4:D$7,"ERROR") -> 0.00059020359 | E23: ='In-State Electricity'!N270 -> 0.00020279163
C24: N2O | D24: =E24/_xlfn.XLOOKUP(C24,C$4:C$7,E$4:E$7,"ERROR")*_xlfn.XLOOKUP(C24,C$4:C$7,D$4:D$7,"ERROR") -> 0.00019629507 | E24: ='In-State Electricity'!O270 -> 0.00019629507
C25: Wood | D25: =SUM(D26:D28) -> 0 | E25: =SUM(E26:E28) -> 0
C26: CO2 | D26: =E26/_xlfn.XLOOKUP(C26,C$4:C$7,E$4:E$7,"ERROR")*_xlfn.XLOOKUP(C26,C$4:C$7,D$4:D$7,"ERROR") -> 0 | E26: 0
C27: CH4 | D27: =E27/_xlfn.XLOOKUP(C27,C$4:C$7,E$4:E$7,"ERROR")*_xlfn.XLOOKUP(C27,C$4:C$7,D$4:D$7,"ERROR") -> 0 | E27: 0
C28: N2O | D28: =E28/_xlfn.XLOOKUP(C28,C$4:C$7,E$4:E$7,"ERROR")*_xlfn.XLOOKUP(C28,C$4:C$7,D$4:D$7,"ERROR") -> 0 | E28: 0
C29: Net Imported Electricity | D29: =E29 -> 8.2547704 | E29: ='Imported Electricity'!O61 -> 8.2547704
B30: Residential/Commercial/Industrial (RCI) Fuel Use | D30: =D31+D35+D39+D43 -> 13.077784 | E30: =E31+E35+E39+E43 -> 12.90932
C31: Coal | D31: =SUM(D32:D34) -> 0.83081828 | E31: =SUM(E32:E34) -> 0.82633374
C32: CO2 | D32: =E32/_xlfn.XLOOKUP(C32,C$4:C$7,E$4:E$7,"ERROR")*_xlfn.XLOOKUP(C32,C$4:C$7,D$4:D$7,"ERROR") -> 0.82054086 | E32: =Residential!C58+Commercial!C66+Industrial!C129 -> 0.82054086
C33: CH4 | D33: =E33/_xlfn.XLOOKUP(C33,C$4:C$7,E$4:E$7,"ERROR")*_xlfn.XLOOKUP(C33,C$4:C$7,D$4:D$7,"ERROR") -> 0.0068319815 | E33: =Residential!E58+Commercial!D66+Industrial!D129 -> 0.0023474419
C34: N2O | D34: =E34/_xlfn.XLOOKUP(C34,C$4:C$7,E$4:E$7,"ERROR")*_xlfn.XLOOKUP(C34,C$4:C$7,D$4:D$7,"ERROR") -> 0.0034454389 | E34: =Residential!D58+Commercial!E66+Industrial!E129 -> 0.0034454389
C35: Natural Gas & LPG | D35: =SUM(D36:D38) -> 9.1232038 | E35: =SUM(E36:E38) -> 9.0811707
C36: CO2 | D36: =E36/_xlfn.XLOOKUP(C36,C$4:C$7,E$4:E$7,"ERROR")*_xlfn.XLOOKUP(C36,C$4:C$7,D$4:D$7,"ERROR") -> 9.0535913 | E36: =Residential!C59+Commercial!C67+Industrial!C130 -> 9.0535913
C37: CH4 | D37: =E37/_xlfn.XLOOKUP(C37,C$4:C$7,E$4:E$7,"ERROR")*_xlfn.XLOOKUP(C37,C$4:C$7,D$4:D$7,"ERROR") -> 0.064035428 | E37: =Residential!E59+Commercial!D67+Industrial!D130 -> 0.022002321
C38: N2O | D38: =E38/_xlfn.XLOOKUP(C38,C$4:C$7,E$4:E$7,"ERROR")*_xlfn.XLOOKUP(C38,C$4:C$7,D$4:D$7,"ERROR") -> 0.0055770245 | E38: =Residential!D59+Commercial!E67+Industrial!E130 -> 0.0055770245
C39: Petroleum | D39: =SUM(D40:D42) -> 2.9564336 | E39: =SUM(E40:E42) -> 2.9393324
C40: CO2 | D40: =E40/_xlfn.XLOOKUP(C40,C$4:C$7,E$4:E$7,"ERROR")*_xlfn.XLOOKUP(C40,C$4:C$7,D$4:D$7,"ERROR") -> 2.9241046 | E40: =Residential!C60+Commercial!C68+Industrial!C131 -> 2.9241046
...

Sheet In-State Electricity
B2: In-State Electricity Generation Emissions | E2: Emission Factors: | F2: kg/MMBTU | I2: lb/MMBTU
E3: EPA 40 CFR Part 98, Subpart C | F3: CO2 | G3: CH4 | H3: N2O | I3: CO2 | J3: CH4 | K3: N2O
B4: Color Legend: | E4: Bitumunious Coal | F4: 93.28 | G4: 0.011 | H4: 0.0016 | I4: 205.6 | J4: 0.0243 | K4: 0.00353
C5: Data from Maryland Emissions Certification Report (ECR) | E5: Subbituminous Coal | F5: 97.17 | G5: 0.011 | H5: 0.0016 | I5: 214.2 | J5: 0.0243 | K5: 0.00353 | M5: #2 Oil | N5: lbs/1,000 gal
C6: Data from EPA Clean Air Markets Program Data (CAMPD) | E6: Natural Gas | F6: 53.06 | G6: 0.001 | H6: 0.0001 | I6: 117 | J6: 0.0022 | K6: 0.00022 | M6: CO2 | N6: 22600
C7: Calculated Value | E7: Distillate Fuel Oil #2 | F7: 73.96 | G7: 0.003 | H7: 0.0006 | I7: 163.1 | J7: 0.0066 | K7: 0.00132 | M7: CH4 | N7: 1.11
E8: Distillate Fuel Oil #6 | F8: 75.1 | G8: 0.003 | H8: 0.0006 | I8: 165.6 | J8: 0.0066 | K8: 0.00132 | M8: N2O | N8: 0.11
B10: Plant ID | C10: Plant Name | D10: Equipment Description | E10: Registration Number | F10: Fuel Type | G10: Fuel | H10: Fuel Consumption | I10: Fuel Consumption Units | J10: Heat Content | K10: Heat Content Units | L10: Heat Input (MMBTU) | M10: CO2 Emission (short tons) | N10: CH4 Emission (short tons) | O10: N2O Emission (short tons)
B13: 001-0203 | C13: AES WARRIOR RUN COGEN | D13: ACF Boiler | E13: 001-3-0127 | F13: Coal | G13: Coal | H13: 358505 | I13: tons | J13: 10898 | K13: Btu/lb | L13: 8357782 | M13: =(L13/L15)*M15 -> 855191.39 | N13: =L13/L15*N15 -> 101.16824 | O13: =L13/L15*O15 -> 14.766173
D14: ACF Boiler | E14: 001-3-0127 | F14: Distillate Fuel | G14: Diesel | H14: 136760 | I14: gallons | J14: 140000 | K14: Btu/gal | L14: =H14*J14/1000000 -> 19146.4 | M14: =(L14/L15)*M15 -> 1959.1126 | N14: =L14/L15*N15 -> 0.23176096 | O14: =L14/L15*O15 -> 0.033827043
D15: ACF Boiler | E15: 001-3-0127 | F15: Sum for unit; CEM CO2 emissions for unit | L15: =L13+L14 -> 8376928.4 | M15: 857150.5 | N15: 101.4 | O15: 14.8
D17: Emergency Engine (Boiler Feed Pump) | E17: 001-9-0081 | F17: Distillate Fuel | G17: Diesel | H17: 323 | I17: gallons | J17: 140000 | K17: Btu/gal | L17: =H17*J17/1000000 -> 45.22 | M17: 3.6 | N17: 0 | O17: 0
D19: Limestone Dryer | E19: 001-6-0136 | F19: Natural Gas | G19: Natural Gas | H19: 2703900 | I19: scf | J19: 1020 | K19: Btu/scf | L19: =H19*J19/1000000 -> 2757.978 | M19: 162.5 | N19: 0 | O19: 0
D21: Space Heaters | E21: 001-6-0243/0244 | F21: Natural Gas | G21: Natural Gas | H21: =0.5858*1000000 -> 585800 | I21: scf | J21: 1020 | K21: Btu/scf | L21: 597.516 | M21: 35.2 | N21: =0.0022 -> 0.0022 | O21: =0.00022 -> 0.00022
B24: 003-0468 | C24: Brandon Shores | D24: Unit 1 | E24: 3-0015 | F24: Distillate Fuel | G24: S-No. 2 Oil | H24: 643898 | I24: gallons | J24: 0.137 | K24: MMBTU/ Unit | L24: 88214 | M24: =(L24/L26)*M26 -> 9041.3481 | N24: 0.292 | O24: 0.058
D25: Unit 1 | E25: 3-0015 | F25: Coal | G25: P-Coal | H25: 228022 | I25: tons | J25: =L25/H25 -> 27.422183 | K25: MMBTU/ tons | L25: =L26-L24 -> 6252861 | M25: =(L25/L26)*M26 -> 640876.65 | N25: 71.76 | O25: 10.472
D26: Unit 1 | E26: 3-0015 | F26: Sum for unit; CEM CO2 emissions for unit | L26: 6341075 | M26: 649918 | N26: =N24+N25 -> 72.052 | O26: =O24+O25 -> 10.53
D28: Unit 2 | E28: 3-0016 | F28: Distillate Fuel | G28: S-No. 2 Oil | H28: 821191 | I28: gallons | J28: 0.137 | K28: MMBTU/ Unit | L28: 112503 | M28: =(L28/L30)*M30 -> 11534.575 | N28: 0.373 | O28: 0.075
D29: Unit 2 | E29: 3-0016 | F29: Coal | G29: P-Coal | H29: 294165 | I29: tons | J29: =L29/H29 -> 22.889786 | K29: MMBTU/ tons | L29: =L30-L28 -> 6733374 | M29: =(L29/L30)*M30 -> 690351.43 | N29: 92.594 | O29: 13.448
D30: Unit 2 | E30: 3-0016 | F30: Sum for unit; CEM CO2 emissions for unit | L30: 6845877 | M30: 701886 | N30: =N28+N29 -> 92.967 | O30: =O28+O29 -> 13.523
D32: Quench Pumps | E32: 9-0988 | F32: Distillate Fuel | G32: ULS-Diesel | H32: 620 | I32: gallons | J32: 0.137 | K32: MMBTU/Gallons | L32: 84.94 | M32: 6.97 | N32: 6.7e-05 | O32: 0
D34: Auxilliary Boiler 1 | E34: 4-0507 | F34: Distillate Fuel | G34: S-No. 2 Oil | H34: 161 | I34: gallons | J34: 0.137 | K34: MMBTU/ Gal | L34: 22.06 | M34: 156 | N34: 0 | O34: 0
B37: 033-00014 | C37: Chalk Point | D37: Unit 3 | E37: 1600-14-40998 | F37: Natural Gas | G37: Gas | H37: 4194400000 | I37: scf | J37: 1050.3 | K37: MMBtu/1E+06 scf | L37: 4405169 | M37: 268341 | N37: 4.99 | O37: 0.5
D39: Unit 4 | E39: 1600-14-40999 | F39: Natural Gas | G39: Gas | H39: 3241060000 | I39: scf | J39: 1050.3 | K39: MMBtu/1E+06 scf | L39: 3403923 | M39: 227205 | N39: 4.22 | O39: 0.42
D41: CT1 | E41: 1600-14-40778 | F41: Distillate Fuel | G41: #2 Oil | H41: 5161 | I41: gallons | J41: 137269 | K41: Btu/gal | L41: =H41*J41/1000000 -> 708.44531 | M41: 57.76 | N41: 0.00234 | O41: 0.000469
D43: CT2 | E43: 1600-14-41145 | F43: Distillate Fuel | G43: #2 Oil | H43: 24360 | I43: gallons | J43: 137269 | K43: Btu/gal | L43: 3205 | M43: 259.8 | N43: 0.0106 | O43: 0.00212
D45: CT3 | E45: 1600-14-90752 | F45: Distillate Fuel | G45: #2 Oil | H45: 73080 | I45: gallons | J45: 137269 | K45: Btu/gal | L45: =H45*J45/1000000 -> 10031.619 | M45: =(L45/L47)*(M47) -> 637.15438 | N45: =L45/L47*N47 -> 0.014876853 | O45: =L45/L47*O47 -> 0.0022740333
D46: CT3 | E46: 1600-14-90752 | F46: Natural Gas | G46: Gas | H46: 35390000 | I46: scf | J46: 1050.3 | K46: MMBtu/1E+06 scf | L46: =H46*J46/1000000 -> 37170.117 | M46: =(L46/L47)*M47 -> 2360.8456 | N46: =L46/L47*N47 -> 0.055123147 | O46: =L46/L47*O47 -> 0.0084259667
D47: CT3 | E47: 1600-14-90752 | F47: Sum for unit; CEM CO2 emissions for unit | L47: =SUM(L45:L46) -> 47201.736 | M47: 2998 | N47: 0.07 | O47: 0.0107
D49: CT4 | E49: 1600-14-90753 | F49: Distillate Fuel | G49: #2 Oil | H49: 33180 | I49: gallons | J49: 137269 | K49: Btu/gal | L49: =H49*J49/1000000 -> 4554.5854 | M49: =L49/L51*M51 -> 273.91752 | N49: =L49/L51*N51 -> 0.0047670992 | O49: =L49/L51*O51 -> 0.00048147701
D50: CT4 | E50: 1600-14-90753 | F50: Natural Gas | G50: Gas | H50: 86630000 | I50: scf | J50: 1050.3 | K50: MMBtu/1E+06 scf | L50: =H50*J50/1000000 -> 90987.489 | M50: =L50/L51*M51 -> 5472.0825 | N50: =L50/L51*N51 -> 0.095232901 | O50: =L50/L51*O51 -> 0.009618523
D51: CT4 | E51: 1600-14-90753 | F51: Sum for unit; CEM CO2 emissions for unit | L51: =L49+L50 -> 95542.074 | M51: 5746 | N51: 0.1 | O51: 0.0101
D53: CT5 | E53: 1600-14-90754 | F53: Distillate Fuel | G53: #2 Oil | H53: 88200 | I53: gallons | J53: 137269 | K53: Btu/gal | L53: =H53*J53/1000000 -> 12107.126 | M53: =L53/L55*M55 -> 771.27955 | N53: =L53/L55*N55 -> 0.018599989 | O53: =L53/L55*O55 -> 0.0027279984
D54: CT5 | E54: 1600-14-90754 | F54: Natural Gas | G54: Gas | H54: 44250000 | I54: scf | J54: 1050.3 | K54: MMBtu/1E+06 scf | L54: =H54*J54/1000000 -> 46475.775 | M54: =L54/L55*M55 -> 2960.7204 | N54: =L54/L55*N55 -> 0.071400011 | O54: =L54/L55*O55 -> 0.010472002
D55: CT5 | E55: 1600-14-90754 | F55: Sum for unit; CEM CO2 emissions for unit | L55: =L53+L54 -> 58582.901 | M55: 3732 | N55: 0.09 | O55: 0.0132
D57: CT6 | E57: 1600-14-90755 | F57: Natural Gas | G57: Gas | H57: 98260000 | I57: scf | J57: 1050.3 | K57: MMBtu/1E+06 scf | L57: 103192 | M57: 6089 | N57: 0.11 | O57: 0.0114
D59: CE Aux. Boiler 5 | E59: 1600-14-41156 | F59: Distillate Fuel | G59: #2 Oil | H59: 155824 | I59: gallons | J59: 137269 | K59: Btu/gal | L59: =H59*J59/1000000 -> 21389.805 | M59: 1744 | N59: 0.07 | O59: 0.0141
D60: CE Aux. Boiler 6 | E60: 1600-14-41157 | F60: Distillate Fuel | G60: #2 Oil | H60: 83380 | I60: gallons | J60: 137269 | K60: Btu/gal | L60: =H60*J60/1000000 -> 11445.489 | M60: 933.1 | N60: 0.0378 | O60: 0.00757
D61: CE Aux. Boiler 7 | E61: 1600-14-41158 | F61: Distillate Fuel | G61: #2 Oil | H61: 88081 | I61: gallons | J61: 137269 | K61: Btu/gal | L61: =H61*J61/1000000 -> 12090.791 | M61: 985.7 | N61: 0.04 | O61: 0.008
B64: 033-01827 | C64: Chalkpoint -SMECO | D64: Combustion Turbine | E64: 1827-5-074990 | F64: Distillate Fuel | G64: #2 Oil | H64: 61320 | I64: gallons | J64: 137269 | K64: Btu/gal | L64: =H64*J64/1000000 -> 8417.3351 | M64: =L64/L66*M66 -> 654.52522 | N64: =L64/L66*N66 -> 0.0093056752 | O64: =L64/L66*O66 -> 0.00093056752
...

Sheet Imported Electricity
B2: Imported Electricity Emissions for Maryland
B4: Amount of Electricity Imported
B6: Electricity Consumption (MD Retail Sales) (MWh)
B8: End-Use Sector | C8: 2001 | D8: 2002 | E8: 2003 | F8: 2004 | G8: 2005 | H8: 2006 | I8: 2007 | J8: 2008 | K8: 2009 | L8: 2010 | M8: 2011 | N8: 2012 | O8: 2013 | P8: 2014 | Q8: 2015 | R8: 2016 | S8: 2017 | T8: 2018 | U8: 2019 | V8: 2020 | W8: 2021 | X8: 2022 | Y8: 2023
B9: Residential | C9: 24294096 | D9: 25489053 | E9: 26671274 | F9: 27951978 | G9: 28439645 | H9: 26905386 | I9: 28194802 | J9: 27144255 | K9: 26944566 | L9: 28934074 | M9: 27295675 | N9: 26678158 | O9: 27448367 | P9: 27487633 | Q9: 27403336 | R9: 27316871 | S9: 26058000 | T9: 28138474 | U9: 27533693 | V9: 27306375 | W9: 27964545 | X9: 28065379 | Y9: 26107722
B10: Commercial | C10: 26243614 | D10: 21044289 | E10: 16950347 | F10: 17264135 | G10: 17931771 | H10: 29729030 | I10: 30691159 | J10: 30002993 | K10: 29806001 | L10: 30771317 | M10: 30749605 | N10: 30107526 | O10: 29966199 | P10: 29804342 | Q10: 29959115 | R10: 29675993 | S10: 28840000 | T10: 29547518 | U10: 28893335 | V10: 26451864 | W10: 27437050 | X10: 27623358 | Y10: 27061701
B11: Industrial | C11: 10176724 | D11: 20874507 | E11: 27175526 | F11: 21194572 | G11: 21516638 | H11: 6057030 | I11: 5980358 | J11: 5649943 | K11: 5285833 | L11: 5083115 | M11: 5007386 | N11: 4499827 | O11: 3943942 | P11: 3847954 | Q11: 3883315 | R11: 3821476 | S11: 3743000 | T11: 3870188 | U11: 3718412 | V11: 3381895 | W11: 3480392 | X11: 3601623 | Y11: 3455597
B12: Transportation | C12: - | D12: - | E12: 461436 | F12: 481015 | G12: 477331 | H12: 481697 | I12: 524341 | J12: 528586 | K12: 552743 | L12: 546992 | M12: 547045 | N12: 528041 | O12: 540970 | P12: 543940 | Q12: 535953 | R12: 539571 | S12: 529000 | T12: 530275 | U12: 575218 | V12: 488906 | W12: 421987 | X12: 392359 | Y12: 408065
B13: Other | C13: 925586 | D13: 972057 | E13: 0 | F13: 0 | G13: 0 | H13: 0 | I13: 0 | J13: 0 | K13: 0 | L13: 0 | M13: 0 | N13: 0 | O13: 0 | P13: 0 | Q13: 0 | R13: 0 | S13: 0 | T13: 0 | U13: 0 | V13: 0 | W13: 0 | X13: 0 | Y13: 0
B14: Total Electricity Consumption (Retail Sales) (MWh) | C14: 61640020 | D14: 68379906 | E14: 71258583 | F14: 66891700 | G14: 68365385 | H14: 63173143 | I14: 65390660 | J14: 63325777 | K14: 62589143 | L14: 65335498 | M14: 63599711 | N14: 61813552 | O14: 61899478 | P14: 61683869 | Q14: 61781719 | R14: 61353911 | S14: 59175000 | T14: 62086455 | U14: 60720658 | V14: 57629040 | W14: 59303974 | X14: 59682719 | Y14: 57033085
B17: Electricity Consumption Accounting for Transmission and Distribution Losses (MWh)
C19: 2001 | D19: 2002 | E19: 2003 | F19: 2004 | G19: 2005 | H19: 2006 | I19: 2007 | J19: 2008 | K19: 2009 | L19: 2010 | M19: 2011 | N19: 2012 | O19: 2013 | P19: 2014 | Q19: 2015 | R19: 2016 | S19: 2017 | T19: 2018 | U19: 2019 | V19: 2020 | W19: 2021 | X19: 2022 | Y19: 2023
B20: Transmission and Distribution Losses (%) | C20: 0.0625 | D20: 0.0625 | E20: 0.0625 | F20: 0.0625 | G20: 0.0625 | H20: 0.0625 | I20: 0.0625 | J20: 0.0625 | K20: 0.0625 | L20: 0.0625 | M20: 0.0625 | N20: 0.0625 | O20: 0.0625 | P20: 0.0625 | Q20: 0.0625 | R20: 0.0625 | S20: 0.0625 | T20: 0.0625 | U20: 0.0625 | V20: 0.0625 | W20: 0.0625 | X20: 0.0625 | Y20: 0.0625
B21: Total Gross Electricity Consumption (MWh) | C21: =C14/(1-C20) -> 65749355 | D21: =D14/(1-D20) -> 72938566 | E21: =E14/(1-E20) -> 76009155 | F21: =F14/(1-F20) -> 71351147 | G21: =G14/(1-G20) -> 72923077 | H21: =H14/(1-H20) -> 67384686 | I21: =I14/(1-I20) -> 69750037 | J21: =J14/(1-J20) -> 67547495 | ... Y21: =Y14/(1-Y20) -> 60835291
B24: Maryland In-State Gross Generation (MWh)
B26: Fuel | C26: 2001 | D26: 2002 | E26: 2003 | F26: 2004 | G26: 2005 | H26: 2006 | I26: 2007 | J26: 2008 | K26: 2009 | L26: 2010 | M26: 2011 | N26: 2012 | O26: 2013 | P26: 2014 | Q26: 2015 | R26: 2016 | S26: 2017 | T26: 2018 | U26: 2019 | V26: 2020 | W26: 2021 | X26: 2022 | Y26: 2023
B27: Coal | C27: 28379409 | D27: 28712053 | E27: 29939086 | F27: 29195458 | G27: 29302792 | H27: 29408022 | I27: 29699186 | J27: 27218239 | K27: 24162345 | L27: 23668204 | M27: 21186919 | N27: 16184773 | O27: 15538469 | P27: 17603291 | Q27: 13925604 | R27: 13826213 | S27: 8514009 | T27: 10066924 | U27: 5721573 | V27: 3359560 | W27: 5173979 | X27: 4639314 | Y27: 1708970
B28: Petroleum | C28: 3021639 | D28: 2282432 | E28: 3572183 | F28: 3296842 | G28: 3805569 | H28: 580726 | I28: 984831 | J28: 405840 | K28: 329901 | L28: 322438 | M28: 219804 | N28: 137305 | O28: 189553 | P28: 463456 | Q28: 232348 | R28: 160550 | S28: 102181 | T28: 260015 | U28: 67269 | V28: 70379 | W28: 72669 | X28: 142864 | Y28: 64236
B29: Natural Gas | C29: 1760812 | D29: 2214431 | E29: 1195642 | F29: 1183301 | G29: 1886986 | H29: 1770206 | I29: 2240927 | J29: 1848147 | K29: 1767844 | L29: 2896978 | M29: 2236976 | N29: 4944895 | O29: 2887589 | P29: 2505890 | Q29: 4555345 | R29: 5423046 | S29: 6729174 | T29: 13849673 | U29: 14605261 | V29: 14091778 | W29: 13977747 | X29: 13949642 | Y29: 15336206
B30: Other Gases | C30: 439980 | D30: 504513 | E30: 325355 | F30: 411565 | G30: 342466 | H30: 332444 | I30: 377560 | J30: 337823 | K30: 269182 | L30: 214727 | M30: 154641 | N30: 112314 | O30: 0 | P30: 0 | Q30: 0 | R30: 0 | S30: - | W30: . | X30: . | Y30: .
B31: Nuclear | C31: 13656267 | D31: 12128005 | E31: 13690713 | F31: 14580260 | G31: 14703221 | H31: 13830411 | I31: 14353192 | J31: 14678695 | K31: 14550119 | L31: 13993948 | M31: 14397437 | N31: 13579266 | O31: 14264305 | P31: 14343334 | Q31: 14643325 | R31: 14760177 | S31: 15106988 | T31: 14987931 | U31: 15012922 | V31: 15080557 | W31: 14993633 | X31: 14810684 | Y31: 14983751
B32: Hydroelectric Conventional | C32: 1183518 | D32: 1660989 | E32: 2646984 | F32: 2507521 | G32: 1703639 | H32: 2104275 | I32: 1652216 | J32: 1974078 | K32: 1888769 | L32: 1667397 | M32: 2540908 | N32: 1656539 | O32: 1727020 | P32: 1615523 | Q32: 1623190 | R32: 1392187 | S32: 1965459 | T32: 2830886 | U32: 2188051 | V32: 1696803 | W32: 2117149 | X32: 1779682 | Y32: 1849088
B33: Wind | L33: 1494 | M33: 319254 | N33: 321687 | O33: 321670 | P33: 323612 | Q33: 434595 | R33: 527114 | S33: 561349 | T33: 569984 | U33: 520269 | V33: 545676 | W33: 517431 | X33: 497608 | Y33: 481526
B34: Solar Thermal and Photovoltaic (excluding small-scale) | L34: 80 | M34: 2070 | N34: 22473 | O34: 63485 | P34: 98118 | Q34: 118801 | R34: 208657 | S34: 267090 | T34: 396720 | U34: 494311 | V34: 527235 | W34: 632049 | X34: 713532 | Y34: 942764
B35: Wood and Wood Derived Fuels | C35: 11939 | D35: 182904 | E35: 225240 | F35: 192384 | G35: 205985 | H35: 218066 | I35: 203097 | J35: 197704 | K35: 175058 | L35: 164688 | M35: 167437 | N35: 158953 | O35: 142789 | P35: 150426 | Q35: 111162 | R35: 123653 | S35: 120338 | T35: 104043 | U35: 60124 | V35: 10304 | W35: 8473 | X35: 6856 | Y35: 2672
B36: Other Biomass | C36: 361076 | D36: 338727 | E36: 370811 | F36: 396824 | G36: 417380 | H36: 408095 | I36: 400364 | J36: 414781 | K36: 375721 | L36: 407402 | M36: 420114 | N36: 395039 | O36: 413220 | P36: 416719 | Q36: 403239 | R36: 422029 | S36: 415940 | T36: 417346 | U36: 330379 | V36: 327069 | W36: 366363 | X36: 305614 | Y36: 319124
B37: Other | C37: 247700 | D37: 255034 | E37: 278224 | F37: 288616 | G37: 293561 | H37: 304635 | I37: 286550 | J37: 285645 | K37: 255893 | L37: 269907 | M37: 267727 | N37: 296499 | O37: 302712 | P37: 313284 | Q37: 317935 | R37: 323060 | S37: 321712 | T37: 326127 | U37: 325436 | V37: 319843 | W37: 378348 | X37: 295945 | Y37: 312894
B38: Total | C38: 49062340 | D38: 48279088 | E38: 52244237 | F38: 52052770 | G38: 52661600 | H38: 48956880 | I38: 50197924 | J38: 47360953 | K38: 43774832 | L38: 43607266 | M38: 41913287 | N38: 37809743 | O38: 35850812 | P38: 37833653 | Q38: 36365544 | R38: 37166686 | S38: 34104240 | T38: 43809649 | U38: 39325595 | V38: 36029204 | W38: 38235713 | X38: 37139365 | Y38: 36000650
B41: Imported Electricity to Meet Maryland Demand (MWh)
C43: 2001 | D43: 2002 | E43: 2003 | F43: 2004 | G43: 2005 | H43: 2006 | I43: 2007 | J43: 2008 | K43: 2009 | L43: 2010 | M43: 2011 | N43: 2012 | O43: 2013 | P43: 2014 | Q43: 2015 | R43: 2016 | S43: 2017 | T43: 2018 | U43: 2019 | V43: 2020 | W43: 2021 | X43: 2022 | Y43: 2023
B44: Gross Imported Electricity to Meet MD Demand (MWh) | C44: =C21-C38 -> 16687015 | D44: =D21-D38 -> 24659478 | E44: =E21-E38 -> 23764918 | F44: =F21-F38 -> 19298377 | G44: =G21-G38 -> 20261477 | H44: =H21-H38 -> 18427806 | I44: =I21-I38 -> 19552113 | J44: =J21-J38 -> 20186542 | ... Y44: =Y21-Y38 -> 24834641
B47: GHG Emissions Associated with Imported Electricity
B49: Maryland Imported Electricity Consumption by Fuel Type
B51: Fuel Type | C51: Coal | D51: Nuclear | E51: Natural Gas | F51: Oil | G51: Hydroelectric | H51: Solid Waste | I51: Wind | J51: Captured CH4 | K51: Biomass | L51: Solar | M51: Wood | N51: Other | O51: Total
B52: 2023 PJM Electricity Generation Fuel Mix (%) | C52: =121450348/813131324 -> 0.1493613 | D52: =273352117/813131324 -> 0.33617216 | E52: =359447780/813131324 -> 0.44205379 | F52: =2198248/813131324 -> 0.0027034354 | G52: =7824870/813131324 -> 0.0096231319 | H52: =3942261/813131324 -> 0.0048482464 | I52: =28880451/813131324 -> 0.035517573 | J52: =2530338/813131324 -> 0.0031118442 | K52: =8/813131324 -> 9.8385092e-09 | L52: =11196440/813131324 -> 0.013769535 | M52: =1386046/813131324 -> 0.0017045783 | N52: =922417/813131324 -> 0.001134401 | O52: =SUM(C52:N52) -> 1
B53: 2023 Maryland Import Share (MWh) | C53: =C52*$O53 -> 3709334.1 | D53: =D52*$O53 -> 8348714.9 | E53: =E52*$O53 -> 10978247 | F53: =F52*$O53 -> 67138.847 | G53: =G52*$O53 -> 238987.02 | H53: =H52*$O53 -> 120404.46 | I53: =I52*$O53 -> 882066.16 | J53: =J52*$O53 -> 77281.533 | ... N53: =N52*$O53 -> 28172.442 | O53: =Y44 -> 24834641
B56: Application of Fuel-Specific Emissions Factors
B58: Fuel Type | C58: Coal | D58: Nuclear | E58: Natural Gas | F58: Oil | G58: Hydroelectric | H58: Solid Waste | I58: Wind | J58: Captured CH4 | K58: Biomass | L58: Solar | M58: Wood | N58: Other | O58: Total
B59: 2023 Imported Electricity CO2 Emissions Factor (metric tons/MWh) | C59: =264838579803/121450348/2000*0.907185 -> 0.98911856 | D59: =0/273352117/2000*0.907185 -> 0 | E59: =313800469346/359447780/2000*0.907185 -> 0.39598948 | F59: =4646720264/2198248/2000*0.907185 -> 0.95881696 | G59: =0/7824870/2000*0.907185 -> 0 | H59: =7525367777/3942261/2000*0.907185 -> 0.86586108 | I59: =0/28880451/2000*0.907185 -> 0 | J59: =1144157086/2530338/2000*0.907185 -> 0.20510346 | K59: =0/8/2000*0.907185 -> 0 | L59: =0/11196440/2000*0.907185 -> 0 | M59: =3443041965/1386046/2000*0.907185 -> 1.1267577 | N59: =458524754/922417/2000*0.907185 -> 0.22547654 | O59: -
B60: 2023 Imported Electricity CO2 Emissions (metric tons) | C60: =C53*C59 -> 3668971.2 | D60: =D53*D59 -> 0 | E60: =E53*E59 -> 4347270.3 | F60: =F53*F59 -> 64373.865 | G60: =G53*G59 -> 0 | H60: =H53*H59 -> 104253.53 | I60: =I53*I59 -> 0 | J60: =J53*J59 -> 15850.71 | ... N60: =N53*N59 -> 6352.2245 | O60: =SUM(C60:N60) -> 8254770.4
...

Sheet Residential
B2: Residential Fuel Use Emissions
B5: Residential Sector CO2 | E5: 2023
C7: Consumption | D7: Carbon Content | E7: Combustion | F7: Emissions | G7: Emissions | J7: =Summary!D2 -> Global Warming Potential
B8: Fuel Type | C8: (Billion Btu) | D8: (lb C/Million Btu) | E8: Efficiency (%) | F8: (short tons carbon) | G8: (MMTCO2e) | K8: =Summary!E3 -> AR6 100-yr GWP
B9: Coal | C9: 0 | D9: =57.73 -> 57.73 | E9: 1 | F9: =C9*1000*D9*E9/2000 -> 0 | G9: =F9*(44/12)*0.907185/1000000 -> 0 | J9: =Summary!C4 -> CO2 | K9: =Summary!E4 -> 1
B10: Distillate Fuel | C10: =13420 -> 13420 | D10: =44.58 -> 44.58 | E10: 1 | F10: =C10*1000*D10*E10/2000 -> 299131.8 | G10: =F10*(44/12)*0.907185/1000000 -> 0.99501557 | J10: =Summary!C5 -> CH4 | K10: =Summary!E5 -> 27.9
B11: Kerosene | C11: =268 -> 268 | D11: =44.01 -> 44.01 | E11: 1 | F11: =C11*1000*D11*E11/2000 -> 5897.34 | G11: =F11*(44/12)*0.907185/1000000 -> 0.019616587 | J11: =Summary!C6 -> N2O | K11: =Summary!E6 -> 273
B12: LPG (Propane) | C12: =5839 -> 5839 | D12: =37.81 -> 37.81 | E12: 1 | F12: =C12*1000*D12*E12/2000 -> 110386.29 | G12: =F12*(44/12)*0.907185/1000000 -> 0.3671829 | J12: =Summary!C7 -> SF6 | K12: =Summary!E7 -> 24300
B13: Natural Gas | C13: =74444 -> 74444 | D13: =31.82 -> 31.82 | E13: 1 | F13: =C13*1000*D13*E13/2000 -> 1184404 | G13: =F13*(44/12)*0.907185/1000000 -> 3.9397365
B14: Wood | C14: =5617 -> 5617 | D14: -
F15: Total | G15: =SUM(G9:G13) -> 5.3215515
B18: Residential Sector N2O | E18: 2023
C20: Consumption | D20: Emission Factor | E20: Emissions | F20: GWP | G20: Emissions
B21: Fuel Type | C21: (Billion Btu) | D21: (metric tons N2O/BBtu) | E21: (metric tons N2O) | G21: (MMTCO2e)
B22: Coal | C22: =C9 -> 0 | D22: 0.0015034546 | E22: =C22*D22 -> 0 | F22: =K11 -> 273 | G22: =E22*F22/1000000 -> 0
B23: Distillate Fuel | C23: =C10 -> 13420 | D23: 0.00060138184 | E23: =C23*D23 -> 8.0705442 | F23: =K11 -> 273 | G23: =E23*F23/1000000 -> 0.0022032586
B24: Kerosene | C24: =C11 -> 268 | D24: 0.00060138184 | E24: =C24*D24 -> 0.16117033 | F24: =K11 -> 273 | G24: =E24*F24/1000000 -> 4.3999501e-05
B25: LPG (Propane) | C25: =C12 -> 5839 | D25: 0.00060138184 | E25: =C25*D25 -> 3.5114685 | F25: =K11 -> 273 | G25: =E25*F25/1000000 -> 0.00095863091
B26: Natural Gas | C26: =C13 -> 74444 | D26: 9.4955027e-05 | E26: =C26*D26 -> 7.068832 | F26: =K11 -> 273 | G26: =E26*F26/1000000 -> 0.0019297911
B27: Wood | C27: =C14 -> 5617 | D27: 0.0037982011 | E27: =C27*D27 -> 21.334495 | F27: =K11 -> 273 | G27: =E27*F27/1000000 -> 0.0058243172
F28: Total | G28: =SUM(G22:G27) -> 0.010959997
B31: Residential Sector CH4 | E31: 2023
C33: Consumption | D33: Emission Factor | E33: Emissions | F33: GWP | G33: Emissions
B34: Fuel Type | C34: (Billion Btu) | D34: (metric tons CH4 /BBtu) | E34: (metric tons CH4) | G34: (MMTCO2e)
B35: Coal | C35: =C9 -> 0 | D35: 0.30069092 | E35: =C35*D35 -> 0 | F35: =K10 -> 27.9 | G35: =E35*F35/1000000 -> 0
B36: Distillate Fuel | C36: =C10 -> 13420 | D36: 0.010023031 | E36: =C36*D36 -> 134.50907 | F36: =K10 -> 27.9 | G36: =E36*F36/1000000 -> 0.0037528031
B37: Kerosene | C37: =C11 -> 268 | D37: 0.010023031 | E37: =C37*D37 -> 2.6861722 | F37: =K10 -> 27.9 | G37: =E37*F37/1000000 -> 7.4944204e-05
B38: LPG (Propane) | C38: =C12 -> 5839 | D38: 0.010023031 | E38: =C38*D38 -> 58.524476 | F38: =K10 -> 27.9 | G38: =E38*F38/1000000 -> 0.0016328329
B39: Natural Gas | C39: =C13 -> 74444 | D39: 0.0047477513 | E39: =C39*D39 -> 353.4416 | F39: =K10 -> 27.9 | G39: =E39*F39/1000000 -> 0.0098610207
B40: Wood | C40: =C14 -> 5617 | D40: 0.28486508 | E40: =C40*D40 -> 1600.0872 | F40: =K10 -> 27.9 | G40: =E40*F40/1000000 -> 0.044642432
F41: Total | G41: =SUM(G35:G40) -> 0.059964032
B44: Residential Sector 2023 GHG Emissions
C46: CO2 | D46: N2O | E46: CH4 | F46: Total
B47: Fuel Type | C47: (MMTCO2e) | D47: (MMTCO2e) | E47: (MMTCO2e) | F47: (MMTCO2e)
B48: Coal | C48: =G9 -> 0 | D48: =G22 -> 0 | E48: =G35 -> 0 | F48: =C48+D48+E48 -> 0
B49: Distillate Fuel | C49: =G10 -> 0.99501557 | D49: =G23 -> 0.0022032586 | E49: =G36 -> 0.0037528031 | F49: =C49+D49+E49 -> 1.0009716
B50: Kerosene | C50: =G11 -> 0.019616587 | D50: =G24 -> 4.3999501e-05 | E50: =G37 -> 7.4944204e-05 | F50: =C50+D50+E50 -> 0.019735531
B51: LPG (Propane) | C51: =G12 -> 0.3671829 | D51: =G25 -> 0.00095863091 | E51: =G38 -> 0.0016328329 | F51: =C51+D51+E51 -> 0.36977436
B52: Natural Gas | C52: =G13 -> 3.9397365 | D52: =G26 -> 0.0019297911 | E52: =G39 -> 0.0098610207 | F52: =C52+D52+E52 -> 3.9515273
B53: Wood | C53: =G14 -> 0 | D53: =G27 -> 0.0058243172 | E53: =G40 -> 0.044642432 | F53: =C53+D53+E53 -> 0.050466749
...

Sheet Commercial
B2: Commercial Fuel Use Emissions
B5: Commercial Sector CO2 | E5: 2023
C7: Consumption | D7: Carbon Content | E7: Combustion | F7: Emissions | G7: Emissions | J7: =Summary!D2 -> Global Warming Potential
B8: Fuel Type | C8: (Billion Btu) | D8: (lb C/Million Btu) | E8: Efficiency (%) | F8: (short tons carbon) | G8: (MMTCO2e) | K8: =Summary!E3 -> AR6 100-yr GWP
B9: Coal | C9: 0 | D9: 57.73 | E9: 1 | F9: =C9*1000*D9*E9/2000 -> 0 | G9: =F9*(44/12)*0.907185/1000000 -> 0 | J9: =Summary!C4 -> CO2 | K9: =Summary!E4 -> 1
B10: Distillate Fuel | C10: =6908 -> 6908 | D10: 44.58 | E10: 1 | F10: =C10*1000*D10*E10/2000 -> 153979.32 | G10: =F10*(44/12)*0.907185/1000000 -> 0.51218834 | J10: =Summary!C5 -> CH4 | K10: =Summary!E5 -> 27.9
B11: Kerosene | C11: =79 -> 79 | D11: 44.01 | E11: 1 | F11: =C11*1000*D11*E11/2000 -> 1738.395 | G11: =F11*(44/12)*0.907185/1000000 -> 0.0057825015 | J11: =Summary!C6 -> N2O | K11: =Summary!E6 -> 273
B12: LPG (Propane) | C12: =2661 -> 2661 | D12: 37.81 | E12: 1 | F12: =C12*1000*D12*E12/2000 -> 50306.205 | G12: =F12*(44/12)*0.907185/1000000 -> 0.16733579 | J12: =Summary!C7 -> SF6 | K12: =Summary!E7 -> 24300
B13: Motor Gasoline | C13: =9331-685 -> 8646 | D13: 42.49 | E13: 1 | F13: =C13*1000*D13*E13/2000 -> 183684.27 | G13: =F13*(44/12)*0.907185/1000000 -> 0.61099725
B14: Residual Fuel | C14: =26 -> 26 | D14: 45.15 | E14: 1 | F14: =C14*1000*D14*E14/2000 -> 586.95 | G14: =F14*(44/12)*0.907185/1000000 -> 0.0019523982
B15: Natural Gas | C15: =70620 -> 70620 | D15: 31.82 | E15: 1 | F15: =C15*1000*D15*E15/2000 -> 1123564.2 | G15: =F15*(44/12)*0.9074185/1000000 -> 3.7383241
B16: Wood | C16: =1241 -> 1241 | D16: -
F17: Total | G17: =SUM(G9:G15) -> 5.0365804
B20: Commercial Sector N2O | E20: 2023
C22: Consumption | D22: Emission Factor | E22: Emissions | F22: GWP | G22: Emissions
B23: Fuel Type | C23: (Billion Btu) | D23: (metric tons N2O/BBtu) | E23: (metric tons N2O) | G23: (MMTCO2e)
B24: Coal | C24: =C9 -> 0 | D24: 0.0015034546 | E24: =C24*D24 -> 0 | F24: =K11 -> 273 | G24: =E24*F24/1000000 -> 0
B25: Distillate Fuel | C25: =C10 -> 6908 | D25: 0.00060138184 | E25: =C25*D25 -> 4.1543457 | F25: =K11 -> 273 | G25: =E25*F25/1000000 -> 0.0011341364
B26: Kerosene | C26: =C11 -> 79 | D26: 0.00060138184 | E26: =C26*D26 -> 0.047509165 | F26: =K11 -> 273 | G26: =E26*F26/1000000 -> 1.2970002e-05
B27: LPG (Propane) | C27: =C12 -> 2661 | D27: 0.00060138184 | E27: =C27*D27 -> 1.6002771 | F27: =K11 -> 273 | G27: =E27*F27/1000000 -> 0.00043687564
B28: Motor Gasoline | C28: =C13 -> 8646 | D28: 0.00060138184 | E28: =C28*D28 -> 5.1995474 | F28: =K11 -> 273 | G28: =E28*F28/1000000 -> 0.0014194764
B29: Residual Fuel | C29: =C14 -> 26 | D29: 0.00060138184 | E29: =C29*D29 -> 0.015635928 | F29: =K11 -> 273 | G29: =E29*F29/1000000 -> 4.2686083e-06
B30: Natural Gas | C30: =C15 -> 70620 | D30: 9.4955027e-05 | E30: =C30*D30 -> 6.705724 | F30: =K11 -> 273 | G30: =E30*F30/1000000 -> 0.0018306626
B31: Wood | C31: =C16 -> 1241 | D31: 0.0037982011 | E31: =C31*D31 -> 4.7135675 | F31: =K11 -> 273 | G31: =E31*F31/1000000 -> 0.0012868039
F32: Total | G32: =SUM(G24:G31) -> 0.0061251936
B35: Commercial Sector CH4 | E35: 2023
C37: Consumption | D37: Emission Factor | E37: Emissions | F37: GWP | G37: Emissions
B38: Fuel Type | C38: (Billion Btu) | D38: (metric tons CH4 /BBtu) | E38: (metric tons CH4) | G38: (MMTCO2e)
B39: Coal | C39: =C9 -> 0 | D39: 0.010023031 | E39: =C39*D39 -> 0 | F39: =K10 -> 27.9 | G39: =E39*F39/1000000 -> 0
B40: Distillate Fuel | C40: =C10 -> 6908 | D40: 0.010023031 | E40: =C40*D40 -> 69.239095 | F40: =K10 -> 27.9 | G40: =E40*F40/1000000 -> 0.0019317708
B41: Kerosene | C41: =C11 -> 79 | D41: 0.010023031 | E41: =C41*D41 -> 0.79181942 | F41: =K10 -> 27.9 | G41: =E41*F41/1000000 -> 2.2091762e-05
B42: LPG (Propane) | C42: =C12 -> 2661 | D42: 0.010023031 | E42: =C42*D42 -> 26.671284 | F42: =K10 -> 27.9 | G42: =E42*F42/1000000 -> 0.00074412884
B43: Motor Gasoline | C43: =C13 -> 8646 | D43: 0.010023031 | E43: =C43*D43 -> 86.659123 | F43: =K10 -> 27.9 | G43: =E43*F43/1000000 -> 0.0024177895
B44: Residual Fuel | C44: =C14 -> 26 | D44: 0.010023031 | E44: =C44*D44 -> 0.2605988 | F44: =K10 -> 27.9 | G44: =E44*F44/1000000 -> 7.2707064e-06
B45: Natural Gas | C45: =C15 -> 70620 | D45: 0.0047477513 | E45: =C45*D45 -> 335.2862 | F45: =K10 -> 27.9 | G45: =E45*F45/1000000 -> 0.009354485
B46: Wood | C46: =C16 -> 1241 | D46: 0.28486508 | E46: =C46*D46 -> 353.51756 | F46: =K10 -> 27.9 | G46: =E46*F46/1000000 -> 0.0098631401
F47: Total | G47: =SUM(G39:G46) -> 0.024340677
B50: Commercial Sector 2023 GHG Emissions
C52: CO2 | D52: CH4 | E52: N2O | F52: Total
B53: Fuel Type | C53: (MMTCO2e) | D53: (MMTCO2e) | E53: (MMTCO2e) | F53: (MMTCO2e)
...

Sheet Industrial
B2: Industrial Fuel Use Emissions
B5: Industrial Sector CO2 | E5: 2023
C7: Total | D7: Percent | E7: Non-Energy | G7: Net Combustible or
C8: Consumption | D8: Non-Energy | E8: Consumption | G8: Oxidizable Consumption | H8: Carbon Content | I8: Combustion | J8: Emissions | K8: Emissions
B9: Fuel Type | C9: (Billion Btu) | D9: Consumption (%) | E9: (Billion Btu) | F9: Storage Factor (%) | G9: (Billion Btu) | H9: (lb C/Million Btu) | I9: Efficiency (%) | J9: (short tons carbon) | K9: (MMTCO2E)
B10: Coking Coal | C10: 0 | D10: 1 | E10: =C10*D10 -> 0 | F10: 0.1 | G10: =C10-(E10*F10) -> 0 | H10: 56.4592 | I10: 1 | J10: =(G10*1000*H10*I10)/2000 -> 0 | K10: =J10*(44/12)*0.907185/1000000 -> 0
B11: Other Coal | C11: =8571 -> 8571 | D11: 0.0206 | E11: =C11*D11 -> 176.5626 | F11: 0 | G11: =C11-(E11*F11) -> 8571 | H11: 57.56141 | I11: 1 | J11: =(G11*1000*H11*I11)/2000 -> 246679.42 | K11: =J11*(44/12)*0.907185/1000000 -> 0.82054086
B12: Asphalt and Road Oil | C12: =11972 -> 11972 | D12: 1 | E12: =C12*D12 -> 11972 | F12: 0.9956 | G12: =C12-(E12*F12) -> 52.6768 | H12: 45.31195 | I12: 1 | J12: =(G12*1000*H12*I12)/2000 -> 1193.4443 | K12: =J12*(44/12)*0.907185/1000000 -> 0.0039698074
B13: Aviation Gasoline Blending Components | C13: 0 | D13: 0 | E13: =C13*D13 -> 0 | F13: 0 | G13: =C13-(E13*F13) -> 0 | H13: 41.60118 | I13: 1 | J13: =(G13*1000*H13*I13)/2000 -> 0 | K13: =J13*(44/12)*0.907185/1000000 -> 0
B14: Crude Oil | C14: 0 | D14: 0 | E14: =C14*D14 -> 0 | F14: 0 | G14: =C14-(E14*F14) -> 0 | H14: 44.77366 | I14: 1 | J14: =(G14*1000*H14*I14)/2000 -> 0 | K14: =J14*(44/12)*0.907185/1000000 -> 0
B15: Distillate Fuel | C15: =5856 -> 5856 | D15: 0.0056 | E15: =C15*D15 -> 32.7936 | F15: 0.5 | G15: =C15-(E15*F15) -> 5839.6032 | H15: 44.57825 | I15: 1 | J15: =(G15*1000*H15*I15)/2000 -> 130159.65 | K15: =J15*(44/12)*0.907185/1000000 -> 0.43295589
B16: Feedstocks, Naphtha less than 401 F | C16: 0 | D16: 0.9198 | E16: =C16*D16 -> 0 | F16: 0.6698 | G16: =C16-(E16*F16) -> 0 | H16: 40.89713 | I16: 1 | J16: =(G16*1000*H16*I16)/2000 -> 0 | K16: =J16*(44/12)*0.907185/1000000 -> 0
B17: Feedstocks, Other Oils greater than 401 F | C17: 0 | D17: 0.8697 | E17: =C17*D17 -> 0 | F17: 0.6698 | G17: =C17-(E17*F17) -> 0 | H17: 44.46719 | I17: 1 | J17: =(G17*1000*H17*I17)/2000 -> 0 | K17: =J17*(44/12)*0.907185/1000000 -> 0
B18: Kerosene | C18: =20 -> 20 | D18: 0 | E18: =C18*D18 -> 0 | F18: 0 | G18: =C18-(E18*F18) -> 20 | H18: 44.01326 | I18: 1 | J18: =(G18*1000*H18*I18)/2000 -> 440.1326 | K18: =J18*(44/12)*0.907185/1000000 -> 0.0014640329
B19: LPG (Propane) | C19: =1635 -> 1635 | D19: 0.8508 | E19: =C19*D19 -> 1391.058 | F19: 0.6698 | G19: =C19-(E19*F19) -> 703.26935 | H19: 39.15447 | I19: 1 | J19: =(G19*1000*H19*I19)/2000 -> 13768.069 | K19: =J19*(44/12)*0.907185/1000000 -> 0.045797349
B20: Lubricants | C20: =941 -> 941 | D20: 1 | E20: =C20*D20 -> 941 | F20: 0.0918 | G20: =C20-(E20*F20) -> 854.6162 | H20: 44.5319 | I20: 1 | J20: =(G20*1000*H20*I20)/2000 -> 19028.842 | K20: =J20*(44/12)*0.907185/1000000 -> 0.063296492
B21: Motor Gasoline | C21: =3008-221 -> 2787 | D21: 0 | E21: =C21*D21 -> 0 | F21: 0 | G21: =C21-(E21*F21) -> 2787 | H21: 42.48946 | I21: 1 | J21: =(G21*1000*H21*I21)/2000 -> 59209.063 | K21: =J21*(44/12)*0.907185/1000000 -> 0.19694977
B22: Motor Gasoline Blending Components | C22: 0 | D22: 0 | E22: =C22*D22 -> 0 | F22: 0 | G22: =C22-(E22*F22) -> 0 | H22: 42.90074 | I22: 1 | J22: =(G22*1000*H22*I22)/2000 -> 0 | K22: =J22*(44/12)*0.907185/1000000 -> 0
B23: Misc. Petro Products | C23: 467 | D23: 1 | E23: =C23*D23 -> 467 | F23: 0 | G23: =C23-(E23*F23) -> 467 | H23: 0 | I23: 1 | J23: =(G23*1000*H23*I23)/2000 -> 0 | K23: =J23*(44/12)*0.907185/1000000 -> 0
B24: Petroleum Coke | C24: 0 | D24: 0 | E24: =C24*D24 -> 0 | F24: 0.3 | G24: =C24-(E24*F24) -> 0 | H24: 61.3936 | I24: 1 | J24: =(G24*1000*H24*I24)/2000 -> 0 | K24: =J24*(44/12)*0.907185/1000000 -> 0
B25: Pentanes Plus | C25: 0 | D25: 0 | E25: =C25*D25 -> 0 | F25: 0.6698 | G25: =C25-(E25*F25) -> 0 | H25: 40.21227 | I25: 1 | J25: =(G25*1000*H25*I25)/2000 -> 0 | K25: =J25*(44/12)*0.907185/1000000 -> 0
B26: Residual Fuel | C26: =48 -> 48 | D26: 0 | E26: =C26*D26 -> 0 | F26: 0.5 | G26: =C26-(E26*F26) -> 48 | H26: 45.15062 | I26: 1 | J26: =(G26*1000*H26*I26)/2000 -> 1083.6149 | K26: =J26*(44/12)*0.907185/1000000 -> 0.0036044769
B27: Still Gas | C27: 0 | D27: 0.1035 | E27: =C27*D27 -> 0 | F27: 0.6698 | G27: =C27-(E27*F27) -> 0 | H27: 40.11406 | I27: 1 | J27: =(G27*1000*H27*I27)/2000 -> 0 | K27: =J27*(44/12)*0.907185/1000000 -> 0
B28: Special Naphthas | C28: =2682 -> 2682 | D28: 0.9246 | E28: =C28*D28 -> 2479.7772 | F28: 0.6698 | G28: =C28-(E28*F28) -> 1021.0452 | H28: 43.51344 | I28: 1 | J28: =(G28*1000*H28*I28)/2000 -> 22214.595 | K28: =J28*(44/12)*0.907185/1000000 -> 0.073893408
B29: Unfinished Oils | C29: 0 | D29: 0 | E29: =C29*D29 -> 0 | F29: 0 | G29: =C29-(E29*F29) -> 0 | H29: 44.77366 | I29: 1 | J29: =(G29*1000*H29*I29)/2000 -> 0 | K29: =J29*(44/12)*0.907185/1000000 -> 0
B30: Waxes | C30: =79 -> 79 | D30: 1 | E30: =C30*D30 -> 79 | F30: 0.5783 | G30: =C30-(E30*F30) -> 33.3143 | H30: 43.64212 | I30: 1 | J30: =(G30*1000*H30*I30)/2000 -> 726.95334 | K30: =J30*(44/12)*0.907185/1000000 -> 0.0024180976
B31: Natural Gas | C31: =15688 -> 15688 | D31: 0.0631 | E31: =C31*D31 -> 989.9128 | F31: 0.6698 | G31: =C31-(E31*F31) -> 15024.956 | H31: 31.82247 | I31: 1 | J31: =(G31*1000*H31*I31)/2000 -> 239065.61 | K31: =J31*(44/12)*0.907185/1000000 -> 0.7952147
B32: Wood | C32: 473
J33: Total | K33: =SUM(K10:K31) -> 2.4401049
B36: Industrial Sector N2O | E36: 2023
C38: Total | D38: Percent | E38: Non-Energy | K38: Global Warming Potential
C39: Consumption | D39: Non-Energy | E39: Consumption | F39: Emission Factor | G39: Emissions | H39: GWP | I39: Emissions | L39: =Summary!E3 -> AR6 100-yr GWP
B40: Fuel Type | C40: (Billion Btu) | D40: Consumption (%) | E40: (Billion Btu) | F40: (metric tons N2O/BBtu) | G40: (metric tons N2O) | I40: (MMTCO2E) | K40: =Summary!C4 -> CO2 | L40: =Summary!E4 -> 1
B41: Coking Coal | C41: =C10 -> 0 | D41: =D10 -> 1 | E41: =C41*D41 -> 0 | F41: 0.0015034546 | G41: =(C41-E41)*F41 -> 0 | H41: =L42 -> 273 | I41: =G41*H41/1000000 -> 0 | K41: =Summary!C5 -> CH4 | L41: =Summary!E5 -> 27.9
B42: Other Coal | C42: =C11 -> 8571 | D42: =D11 -> 0.0206 | E42: =C42*D42 -> 176.5626 | F42: 0.0015034546 | G42: =(C42-E42)*F42 -> 12.620655 | H42: =L42 -> 273 | I42: =G42*H42/1000000 -> 0.0034454389 | K42: =Summary!C6 -> N2O | L42: =Summary!E6 -> 273
B43: Asphalt and Road Oil | C43: =C12 -> 11972 | D43: =D12 -> 1 | E43: =C43*D43 -> 11972 | F43: 0.00060138184 | G43: =(C43-E43)*F43 -> 0 | H43: =L42 -> 273 | I43: =G43*H43/1000000 -> 0 | K43: =Summary!C7 -> SF6 | L43: =Summary!E7 -> 24300
B44: Aviation Gasoline Blending Components | C44: =C13 -> 0 | D44: =D13 -> 0 | E44: =C44*D44 -> 0 | F44: 0.00060138184 | G44: =(C44-E44)*F44 -> 0 | H44: =L42 -> 273 | I44: =G44*H44/1000000 -> 0
B45: Crude Oil | C45: =C14 -> 0 | D45: =D14 -> 0 | E45: =C45*D45 -> 0 | F45: 0.00060138184 | G45: =(C45-E45)*F45 -> 0 | H45: =L42 -> 273 | I45: =G45*H45/1000000 -> 0
B46: Distillate Fuel | C46: =C15 -> 5856 | D46: =D15 -> 0.0056 | E46: =C46*D46 -> 32.7936 | F46: 0.00060138184 | G46: =(C46-E46)*F46 -> 3.5019706 | H46: =L42 -> 273 | I46: =G46*H46/1000000 -> 0.00095603796
B47: Feedstocks, Naphtha less than 401 F | C47: =C16 -> 0 | D47: =D16 -> 0.9198 | E47: =C47*D47 -> 0 | F47: 0.00060138184 | G47: =(C47-E47)*F47 -> 0 | H47: =L42 -> 273 | I47: =G47*H47/1000000 -> 0
...

Sheet On-Road Transportation
B2: On-Road Transportation Emissions
B8: MOVES4 Model Outputs
B10: 2023 GHG Emissions by Pollutant Type and by Fuel Type (grams) | S10: 2023 VMT | V10: 2023 Fuel Consumption (kJ)
C12: Gasoline | G12: Diesel | K12: CNG | O12: E85
B13: County | C13: CH4 | D13: N2O | E13: CO2 | G13: CH4 | H13: N2O | I13: CO2 | K13: CH4 | L13: N2O | M13: CO2 | O13: CH4 | P13: N2O | Q13: CO2 | S13: County | T13: VMT (million miles) | V13: County | W13: Gasoline | X13: Diesel
B14: 24001 | C14: 12961031 | D14: 4988407.9 | E14: 2.8524274e+11 | G14: 2726047 | H14: 14672014 | I14: 1.2688476e+11 | K14: 27109398 | L14: 106467.75 | M14: 2.3020391e+09 | O14: 30932.171 | P14: 4693.3508 | Q14: 3.9015353e+08 | S14: Allegany | T14: 820.99989 | V14: Allegany | W14: 3.9249983e+12 | X14: 1.7114212e+12
B15: 24003 | C15: 78583210 | D15: 37055957 | E15: 2.1393684e+12 | G15: 9248971.2 | H15: 48002031 | I15: 412968507759 | K15: 26024523 | L15: 150131.43 | M15: 2.1465645e+09 | O15: 152589.63 | P15: 31719.125 | Q15: 2207548643 | S15: Anne Arundel | T15: 5926.9983 | V15: Anne Arundel | W15: 2.9438155e+13 | X15: 5.5701173e+12
B16: 24005 | C16: 1.0111404e+08 | D16: 45776041 | E16: 2.9252151e+12 | G16: 14660801 | H16: 79841202 | I16: 683763062494 | K16: 42164343 | L16: 248859.23 | M16: 3.6974567e+09 | O16: 191057.28 | P16: 36819.977 | Q16: 2821480088 | S16: Baltimore County | T16: 8267.0011 | V16: Baltimore | W16: 4.0251555e+13 | X16: 9.2225919e+12
B17: 24009 | C17: 14802751 | D17: 6022046.8 | E17: 2.8260212e+11 | G17: 925227.12 | H17: 4420160.9 | I17: 3.9350182e+10 | K17: 2994543.8 | L17: 19509.391 | M17: 2.7837043e+08 | O17: 25094.326 | P17: 4194.5605 | Q17: 2.5742515e+08 | S17: Calvert | T17: 779.00039 | V17: Calvert | W17: 3.8886601e+12 | X17: 5.3075528e+11
B18: 24011 | C18: 7404564.3 | D18: 3153169.9 | E18: 1.3980138e+11 | G18: 887521.66 | H18: 4528641.7 | I18: 4.0364323e+10 | K18: 2508456.9 | L18: 15770.848 | M18: 2.4343252e+08 | O18: 17779.771 | P18: 2996.3326 | Q18: 1.904876e+08 | S18: Caroline | T18: 403.99987 | V18: Caroline | W18: 1.9236957e+12 | X18: 5.4443368e+11
B19: 24013 | C19: 24906418 | D19: 11699489 | E19: 4.8929945e+11 | G19: 2141781.4 | H19: 10019009 | I19: 8.9066792e+10 | K19: 6490288.3 | L19: 37209.833 | M19: 4.8908641e+08 | O19: 42316.776 | P19: 8854.0535 | Q19: 4.8421039e+08 | S19: Carroll | T19: 1295 | V19: Carroll | W19: 6.7328612e+12 | X19: 1.2013322e+12
B20: 24015 | C20: 19609091 | D20: 7261333.9 | E20: 4.394488e+11 | G20: 4642750.6 | H20: 25051599 | I20: 2.1898441e+11 | K20: 18173735 | L20: 112300.44 | M20: 1.9352488e+09 | O20: 45915.445 | P20: 6789.2037 | Q20: 5.6857882e+08 | S20: Cecil | T20: 1339.0004 | V20: Cecil | W20: 6.046905e+12 | X20: 2.953661e+12
B21: 24017 | C21: 24206483 | D21: 9954326.5 | E21: 4.7669165e+11 | G21: 1754547.7 | H21: 8367434.1 | I21: 7.4012577e+10 | K21: 4448637.5 | L21: 23302.397 | M21: 3.4576668e+08 | O21: 41681.633 | P21: 6967.3591 | Q21: 414833459 | S21: Charles | T21: 1316.0002 | V21: Charles | W21: 6.5593764e+12 | X21: 9.9828125e+11
B22: 24019 | C22: 6282350.8 | D22: 2540252.1 | E22: 1.2739107e+11 | G22: 731614.76 | H22: 3747930.1 | I22: 3.4140199e+10 | K22: 1748868.8 | L22: 10815.328 | M22: 1.7294979e+08 | O22: 14496.465 | P22: 2311.2062 | Q22: 1.6702556e+08 | S22: Dorchester | T22: 367.9998 | V22: Dorchester | W22: 1.7529275e+12 | X22: 4.6048279e+11
B23: 24021 | C23: 47567715 | D23: 18125607 | E23: 1.1384971e+12 | G23: 5373930.8 | H23: 31177239 | I23: 267788798587 | K23: 13227203 | L23: 84210.72 | M23: 1.374682e+09 | O23: 86648.557 | P23: 13122.445 | Q23: 1051492939 | S23: Frederick | T23: 3232.9984 | V23: Frederick | W23: 1.5665956e+13 | X23: 3.6119353e+12
B24: 24023 | C24: 6935468.2 | D24: 2543200.2 | E24: 1.8132203e+11 | G24: 1598388.3 | H24: 8999417.1 | I24: 7.6660328e+10 | K24: 4901161.7 | L24: 27782.941 | M24: 5.3234235e+08 | O24: 18856.794 | P24: 2612.35 | Q24: 2.7059937e+08 | S24: Garrett | T24: 537.00027 | V24: Garrett | W24: 2.4950285e+12 | X24: 1.0339943e+12
B25: 24025 | C25: 35183131 | D25: 16050849 | E25: 9.0021001e+11 | G25: 4341254.3 | H25: 22817559 | I25: 196830715744 | K25: 13553070 | L25: 80749.384 | M25: 1.1266532e+09 | O25: 60165.537 | P25: 11838.624 | Q25: 827656717 | S25: Harford | T25: 2516.9995 | V25: Harford | W25: 1.2387079e+13 | X25: 2.6548521e+12
... B37: 24510 | C37: 43359647 | D37: 19455238 | E37: 1.2448161e+12 | G37: 6381245.8 | H37: 29102291 | I37: 2.5350291e+11 | K37: 20557414 | L37: 156139.93 | M37: 1.5063846e+09 | O37: 81032.684 | P37: 15434.535 | Q37: 1.1432769e+09 | S37: Baltimore City | T37: 3290.0005 | V37: Baltimore City | W37: 1.712893e+13 | X37: 3.4192462e+12
B38: Total | C38: 8.1716557e+08 | D38: 3.4624146e+08 | E38: 2.0561632e+13 | G38: 1.0581544e+08 | H38: 5.5965558e+08 | I38: 4.8337259e+12 | K38: 3.3320238e+08 | L38: 1967765.4 | M38: 2.9291888e+10 | O38: 1602692.1 | P38: 278145.14 | Q38: 2.0413973e+10 | S38: Total | T38: 57536.998 | V38: Total | W38: 2.829323e+14 | X38: 6.5197275e+13
B40: Summary Tables
C42: Gasoline | G42: Diesel | K42: CNG | O42: E85 | V42: Gallons conversion:
C43: CH4 | D43: N2O | E43: CO2 | G43: CH4 | H43: N2O | I43: CO2 | K43: CH4 | L43: N2O | M43: CO2 | O43: CH4 | P43: N2O | Q43: CO2
B44: Metric tons | C44: =C38/1000/1000 -> 817.16557 | D44: =D38/1000/1000 -> 346.24146 | E44: =E38/1000/1000 -> 20561632 | G44: =G38/1000/1000 -> 105.81544 | H44: =H38/1000/1000 -> 559.65558 | I44: =I38/1000/1000 -> 4833725.9 | K44: =K38/1000/1000 -> 333.20238 | L44: =L38/1000/1000 -> 1.9677654 | M44: =M38/1000/1000 -> 29291.888 | O44: =O38/1000/1000 -> 1.6026921 | P44: =P38/1000/1000 -> 0.27814514 | Q44: =Q38/1000/1000 -> 20413.973 | V44: Fuel Properties | W44: Gasohol (E10) | X44: Diesel
B45: MMTCO2e | C45: =C44*$I$50/1000000 -> 0.02279892 | D45: =D44*$I$51/1000000 -> 0.094523918 | E45: =E44*$I$49/1000000 -> 20.561632 | G45: =G44*$I$50/1000000 -> 0.0029522507 | H45: =H44*$I$51/1000000 -> 0.15278597 | I45: =I44*$I$49/1000000 -> 4.8337259 | K45: =K44*$I$50/1000000 -> 0.0092963464 | L45: =L44*$I$51/1000000 -> 0.00053719995 | M45: =M44*$I$49/1000000 -> 0.029291888 | O45: =O44*$I$50/1000000 -> 4.4715109e-05 | P45: =P44*$I$51/1000000 -> 7.5933625e-05 | Q45: =Q44*$I$49/1000000 -> 0.020413973 | V45: Energy Content (kJ/g) | W45: 41.696 | X45: 42.869
V46: Fuel Density (g/gal) | W46: 2829 | X46: 3203
B47: Fuel Type | C47: CO2 (MMTCO2e) | D47: CH4 (MMTCO2e) | E47: N2O (MMTCO2e) | F47: Total (MMTCO2e) | H47: Global Warming Potential
B48: Gasoline | C48: =E45 -> 20.561632 | D48: =C45 -> 0.02279892 | E48: =D45 -> 0.094523918 | F48: =SUM(C48:E48) -> 20.678955 | I48: =Summary!E3 -> AR6 100-yr GWP | W48: Gasoline | X48: Diesel
B49: Diesel | C49: =I45 -> 4.8337259 | D49: =G45 -> 0.0029522507 | E49: =H45 -> 0.15278597 | F49: =SUM(C49:E49) -> 4.9894641 | H49: =Summary!C4 -> CO2 | I49: =Summary!E4 -> 1 | V49: Gallons | W49: =+(W38/W45*(1/W46)) -> 2.3985854e+09 | X49: =+(X38/X45*(1/X46)) -> 4.7482016e+08
B50: CNG | C50: =M45 -> 0.029291888 | D50: =K45 -> 0.0092963464 | E50: =L45 -> 0.00053719995 | F50: =SUM(C50:E50) -> 0.039125434 | H50: =Summary!C5 -> CH4 | I50: =Summary!E5 -> 27.9
B51: E85 | C51: =Q45 -> 0.020413973 | D51: =O45 -> 4.4715109e-05 | E51: =P45 -> 7.5933625e-05 | F51: =SUM(C51:E51) -> 0.020534622 | H51: =Summary!C6 -> N2O | I51: =Summary!E6 -> 273
E52: Total | F52: =SUM(F48:F51) -> 25.728079 | H52: =Summary!C7 -> SF6 | I52: =Summary!E7 -> 24300
B54: Fuel Type Category | C54: CO2 (MMTCO2e) | D54: CH4 (MMTCO2e) | E54: N2O (MMTCO2e) | F54: Total (MMTCO2e)
B55: On-Road Gasoline | C55: =C48+C51 -> 20.582046 | D55: =D48+D51 -> 0.022843635 | E55: =E48+E51 -> 0.094599852 | F55: =SUM(C55:E55) -> 20.69949
B56: On-Road Diesel | C56: =C49 -> 4.8337259 | D56: =D49 -> 0.0029522507 | E56: =E49 -> 0.15278597 | F56: =SUM(C56:E56) -> 4.9894641
B57: Natural Gas | C57: =C50 -> 0.029291888 | D57: =D50 -> 0.0092963464 | E57: =E50 -> 0.00053719995 | F57: =SUM(C57:E57) -> 0.039125434
E58: Total | F58: =SUM(F55:F57) -> 25.728079

Sheet Non-Road Transportation
B2: Non-Road Equipment Emissions
B8: Summary Tables | J8: Global Warming Potential
K9: =Summary!E3 -> AR6 100-yr GWP
B10: Non-Road CO2 | J10: =Summary!C4 -> CO2 | K10: =Summary!E4 -> 1
B11: Equipment Type | C11: CO2 Emissions (short tons) by Fuel Type | G11: Total CO2 Emissions (short tons) | H11: Total CO2 Emissions (MMTCO2e) | J11: =Summary!C5 -> CH4 | K11: =Summary!E5 -> 27.9
C12: Diesel | D12: Gasoline | E12: LPG | F12: CNG | J12: =Summary!C6 -> N2O | K12: =Summary!E6 -> 273
B13: Lawn and Garden Equipment | C13: =SUMIFS($I$48:$I$5107,$K$48:$K$5107,$B13,$L$48:$L$5107,C$12) -> 87813.707 | D13: =SUMIFS($I$48:$I$5107,$K$48:$K$5107,$B13,$L$48:$L$5107,D$12) -> 647332.12 | E13: =SUMIFS($I$48:$I$5107,$K$48:$K$5107,$B13,$L$48:$L$5107,E$12) -> 3846.1705 | F13: =SUMIFS($I$48:$I$5107,$K$48:$K$5107,$B13,$L$48:$L$5107,F$12) -> 0 | G13: =SUM(C13:F13) -> 738992 | H13: =G13*0.907185/1000000 -> 0.67040246 | J13: =Summary!C7 -> SF6 | K13: =Summary!E7 -> 24300
B14: Construction and Mining Equipment | C14: =SUMIFS($I$48:$I$5107,$K$48:$K$5107,$B14,$L$48:$L$5107,C$12) -> 629974.09 | D14: =SUMIFS($I$48:$I$5107,$K$48:$K$5107,$B14,$L$48:$L$5107,D$12) -> 17181.57 | E14: =SUMIFS($I$48:$I$5107,$K$48:$K$5107,$B14,$L$48:$L$5107,E$12) -> 1798.2792 | F14: =SUMIFS($I$48:$I$5107,$K$48:$K$5107,$B14,$L$48:$L$5107,F$12) -> 4.3534312 | G14: =SUM(C14:F14) -> 648958.29 | H14: =G14*0.907185/1000000 -> 0.58872523
B15: Industrial Equipment | C15: =SUMIFS($I$48:$I$5107,$K$48:$K$5107,$B15,$L$48:$L$5107,C$12) -> 252014.69 | D15: =SUMIFS($I$48:$I$5107,$K$48:$K$5107,$B15,$L$48:$L$5107,D$12) -> 29207.959 | E15: =SUMIFS($I$48:$I$5107,$K$48:$K$5107,$B15,$L$48:$L$5107,E$12) -> 194154.84 | F15: =SUMIFS($I$48:$I$5107,$K$48:$K$5107,$B15,$L$48:$L$5107,F$12) -> 12949.734 | G15: =SUM(C15:F15) -> 488327.22 | H15: =G15*0.907185/1000000 -> 0.44300313
B16: Pleasure Craft | C16: =SUMIFS($I$48:$I$5107,$K$48:$K$5107,$B16,$L$48:$L$5107,C$12) -> 61790.914 | D16: =SUMIFS($I$48:$I$5107,$K$48:$K$5107,$B16,$L$48:$L$5107,D$12) -> 227003.04 | E16: =SUMIFS($I$48:$I$5107,$K$48:$K$5107,$B16,$L$48:$L$5107,E$12) -> 0 | F16: =SUMIFS($I$48:$I$5107,$K$48:$K$5107,$B16,$L$48:$L$5107,F$12) -> 0 | G16: =SUM(C16:F16) -> 288793.95 | H16: =G16*0.907185/1000000 -> 0.26198954
B17: Commercial Equipment | C17: =SUMIFS($I$48:$I$5107,$K$48:$K$5107,$B17,$L$48:$L$5107,C$12) -> 100109.24 | D17: =SUMIFS($I$48:$I$5107,$K$48:$K$5107,$B17,$L$48:$L$5107,D$12) -> 130265.97 | E17: =SUMIFS($I$48:$I$5107,$K$48:$K$5107,$B17,$L$48:$L$5107,E$12) -> 9985.0274 | F17: =SUMIFS($I$48:$I$5107,$K$48:$K$5107,$B17,$L$48:$L$5107,F$12) -> 6187.9671 | G17: =SUM(C17:F17) -> 246548.2 | H17: =G17*0.907185/1000000 -> 0.22366483
B18: Agricultural Equipment | C18: =SUMIFS($I$48:$I$5107,$K$48:$K$5107,$B18,$L$48:$L$5107,C$12) -> 80357.526 | D18: =SUMIFS($I$48:$I$5107,$K$48:$K$5107,$B18,$L$48:$L$5107,D$12) -> 1164.5549 | E18: =SUMIFS($I$48:$I$5107,$K$48:$K$5107,$B18,$L$48:$L$5107,E$12) -> 2.4933465 | F18: =SUMIFS($I$48:$I$5107,$K$48:$K$5107,$B18,$L$48:$L$5107,F$12) -> 174.11801 | G18: =SUM(C18:F18) -> 81698.692 | H18: =G18*0.907185/1000000 -> 0.074115828
B19: Recreational Equipment | C19: =SUMIFS($I$48:$I$5107,$K$48:$K$5107,$B19,$L$48:$L$5107,C$12) -> 2738.8577 | D19: =SUMIFS($I$48:$I$5107,$K$48:$K$5107,$B19,$L$48:$L$5107,D$12) -> 46658.889 | E19: =SUMIFS($I$48:$I$5107,$K$48:$K$5107,$B19,$L$48:$L$5107,E$12) -> 167.18106 | F19: =SUMIFS($I$48:$I$5107,$K$48:$K$5107,$B19,$L$48:$L$5107,F$12) -> 0 | G19: =SUM(C19:F19) -> 49564.928 | H19: =G19*0.907185/1000000 -> 0.044964559
B20: Airport Ground Support Equipment | C20: =SUMIFS($I$48:$I$5107,$K$48:$K$5107,$B20,$L$48:$L$5107,C$12) -> 13254.34 | D20: =SUMIFS($I$48:$I$5107,$K$48:$K$5107,$B20,$L$48:$L$5107,D$12) -> 429.06177 | E20: =SUMIFS($I$48:$I$5107,$K$48:$K$5107,$B20,$L$48:$L$5107,E$12) -> 239.35184 | F20: =SUMIFS($I$48:$I$5107,$K$48:$K$5107,$B20,$L$48:$L$5107,F$12) -> 0 | G20: =SUM(C20:F20) -> 13922.753 | H20: =G20*0.907185/1000000 -> 0.012630513
B21: Logging Equipment | C21: =SUMIFS($I$48:$I$5107,$K$48:$K$5107,$B21,$L$48:$L$5107,C$12) -> 9529.0426 | D21: =SUMIFS($I$48:$I$5107,$K$48:$K$5107,$B21,$L$48:$L$5107,D$12) -> 570.26753 | E21: =SUMIFS($I$48:$I$5107,$K$48:$K$5107,$B21,$L$48:$L$5107,E$12) -> 0 | F21: =SUMIFS($I$48:$I$5107,$K$48:$K$5107,$B21,$L$48:$L$5107,F$12) -> 0 | G21: =SUM(C21:F21) -> 10099.31 | H21: =G21*0.907185/1000000 -> 0.0091619427
B22: Underground Mining Equipment | C22: =SUMIFS($I$48:$I$5107,$K$48:$K$5107,$B22,$L$48:$L$5107,C$12) -> 2934.9849 | D22: =SUMIFS($I$48:$I$5107,$K$48:$K$5107,$B22,$L$48:$L$5107,D$12) -> 0 | E22: =SUMIFS($I$48:$I$5107,$K$48:$K$5107,$B22,$L$48:$L$5107,E$12) -> 0 | F22: =SUMIFS($I$48:$I$5107,$K$48:$K$5107,$B22,$L$48:$L$5107,F$12) -> 0 | G22: =SUM(C22:F22) -> 2934.9849 | H22: =G22*0.907185/1000000 -> 0.0026625743
B23: Railroad Equipment | C23: =SUMIFS($I$48:$I$5107,$K$48:$K$5107,$B23,$L$48:$L$5107,C$12) -> 2123.2771 | D23: =SUMIFS($I$48:$I$5107,$K$48:$K$5107,$B23,$L$48:$L$5107,D$12) -> 125.18713 | E23: =SUMIFS($I$48:$I$5107,$K$48:$K$5107,$B23,$L$48:$L$5107,E$12) -> 3.7288138 | F23: =SUMIFS($I$48:$I$5107,$K$48:$K$5107,$B23,$L$48:$L$5107,F$12) -> 0 | G23: =SUM(C23:F23) -> 2252.1931 | H23: =G23*0.907185/1000000 -> 0.0020431558
B24: Total CO2 Emissions (short tons) | C24: =SUM(C13:C23) -> 1242640.7 | D24: =SUM(D13:D23) -> 1099938.6 | E24: =SUM(E13:E23) -> 210197.07 | F24: =SUM(F13:F23) -> 19316.173 | G24: =SUM(G13:G23) -> 2572092.5
B25: Total CO2 Emissions (MMTCO2e) | C25: =C24*0.907185/1000000 -> 1.127305 | D25: =D24*0.907185/1000000 -> 0.99784782 | E25: =E24*0.907185/1000000 -> 0.19068763 | F25: =F24*0.907185/1000000 -> 0.017523342 | H25: =G24*0.907185/1000000 -> 2.3333638
B27: Non-Road CH4
B28: Equipment Type | C28: CH4 Emissions (short tons) by Fuel Type | G28: Total CH4 Emissions (short tons) | H28: Total CH4 Emissions (MMTCO2e)
C29: Diesel | D29: Gasoline | E29: LPG | F29: CNG
B30: Lawn and Garden Equipment | C30: =SUMIFS($J$48:$J$5107,$K$48:$K$5107,$B30,$L$48:$L$5107,C$12) -> 2.3805946 | D30: =SUMIFS($J$48:$J$5107,$K$48:$K$5107,$B30,$L$48:$L$5107,D$12) -> 536.54803 | E30: =SUMIFS($J$48:$J$5107,$K$48:$K$5107,$B30,$L$48:$L$5107,E$12) -> 0.17473041 | F30: =SUMIFS($J$48:$J$5107,$K$48:$K$5107,$B30,$L$48:$L$5107,F$12) -> 0 | G30: =SUM(C30:F30) -> 539.10335 | H30: =G30*$K$11*0.907185/1000000 -> 0.013644955
B31: Construction and Mining Equipment | C31: =SUMIFS($J$48:$J$5107,$K$48:$K$5107,$B31,$L$48:$L$5107,C$12) -> 6.5699326 | D31: =SUMIFS($J$48:$J$5107,$K$48:$K$5107,$B31,$L$48:$L$5107,D$12) -> 13.161906 | E31: =SUMIFS($J$48:$J$5107,$K$48:$K$5107,$B31,$L$48:$L$5107,E$12) -> 0.2293789 | F31: =SUMIFS($J$48:$J$5107,$K$48:$K$5107,$B31,$L$48:$L$5107,F$12) -> 0.093539034 | G31: =SUM(C31:F31) -> 20.054757 | H31: =G31*$K$11*0.907185/1000000 -> 0.00050759515
B32: Industrial Equipment | C32: =SUMIFS($J$48:$J$5107,$K$48:$K$5107,$B32,$L$48:$L$5107,C$12) -> 3.3167102 | D32: =SUMIFS($J$48:$J$5107,$K$48:$K$5107,$B32,$L$48:$L$5107,D$12) -> 8.208955 | E32: =SUMIFS($J$48:$J$5107,$K$48:$K$5107,$B32,$L$48:$L$5107,E$12) -> 8.8906231 | F32: =SUMIFS($J$48:$J$5107,$K$48:$K$5107,$B32,$L$48:$L$5107,F$12) -> 51.552011 | G32: =SUM(C32:F32) -> 71.968299 | H32: =G32*$K$11*0.907185/1000000 -> 0.0018215509
B33: Pleasure Craft | C33: =SUMIFS($J$48:$J$5107,$K$48:$K$5107,$B33,$L$48:$L$5107,C$12) -> 2.4310392 | D33: =SUMIFS($J$48:$J$5107,$K$48:$K$5107,$B33,$L$48:$L$5107,D$12) -> 203.03471 | E33: =SUMIFS($J$48:$J$5107,$K$48:$K$5107,$B33,$L$48:$L$5107,E$12) -> 0 | F33: =SUMIFS($J$48:$J$5107,$K$48:$K$5107,$B33,$L$48:$L$5107,F$12) -> 0 | G33: =SUM(C33:F33) -> 205.46575 | H33: =G33*$K$11*0.907185/1000000 -> 0.0052004329
B34: Commercial Equipment | C34: =SUMIFS($J$48:$J$5107,$K$48:$K$5107,$B34,$L$48:$L$5107,C$12) -> 2.4025556 | D34: =SUMIFS($J$48:$J$5107,$K$48:$K$5107,$B34,$L$48:$L$5107,D$12) -> 88.315361 | E34: =SUMIFS($J$48:$J$5107,$K$48:$K$5107,$B34,$L$48:$L$5107,E$12) -> 1.5527708 | F34: =SUMIFS($J$48:$J$5107,$K$48:$K$5107,$B34,$L$48:$L$5107,F$12) -> 59.755848 | G34: =SUM(C34:F34) -> 152.02654 | H34: =G34*$K$11*0.907185/1000000 -> 0.0038478618
B35: Agricultural Equipment | C35: =SUMIFS($J$48:$J$5107,$K$48:$K$5107,$B35,$L$48:$L$5107,C$12) -> 0.8651387 | D35: =SUMIFS($J$48:$J$5107,$K$48:$K$5107,$B35,$L$48:$L$5107,D$12) -> 0.91925108 | E35: =SUMIFS($J$48:$J$5107,$K$48:$K$5107,$B35,$L$48:$L$5107,E$12) -> 0.00043109567 | F35: =SUMIFS($J$48:$J$5107,$K$48:$K$5107,$B35,$L$48:$L$5107,F$12) -> 0.76304061 | G35: =SUM(C35:F35) -> 2.5478615 | H35: =G35*$K$11*0.907185/1000000 -> 6.448755e-05
B36: Recreational Equipment | C36: =SUMIFS($J$48:$J$5107,$K$48:$K$5107,$B36,$L$48:$L$5107,C$12) -> 0.098729376 | D36: =SUMIFS($J$48:$J$5107,$K$48:$K$5107,$B36,$L$48:$L$5107,D$12) -> 52.405387 | E36: =SUMIFS($J$48:$J$5107,$K$48:$K$5107,$B36,$L$48:$L$5107,E$12) -> 0.057830051 | F36: =SUMIFS($J$48:$J$5107,$K$48:$K$5107,$B36,$L$48:$L$5107,F$12) -> 0 | G36: =SUM(C36:F36) -> 52.561946 | H36: =G36*$K$11*0.907185/1000000 -> 0.0013303671
B37: Airport Ground Support Equipment | C37: =SUMIFS($J$48:$J$5107,$K$48:$K$5107,$B37,$L$48:$L$5107,C$12) -> 0.10702053 | D37: =SUMIFS($J$48:$J$5107,$K$48:$K$5107,$B37,$L$48:$L$5107,D$12) -> 0.12327379 | E37: =SUMIFS($J$48:$J$5107,$K$48:$K$5107,$B37,$L$48:$L$5107,E$12) -> 0.010902545 | F37: =SUMIFS($J$48:$J$5107,$K$48:$K$5107,$B37,$L$48:$L$5107,F$12) -> 0 | G37: =SUM(C37:F37) -> 0.24119686 | H37: =G37*$K$11*0.907185/1000000 -> 6.1048039e-06
B38: Logging Equipment | C38: =SUMIFS($J$48:$J$5107,$K$48:$K$5107,$B38,$L$48:$L$5107,C$12) -> 0.018686076 | D38: =SUMIFS($J$48:$J$5107,$K$48:$K$5107,$B38,$L$48:$L$5107,D$12) -> 0.57188673 | E38: =SUMIFS($J$48:$J$5107,$K$48:$K$5107,$B38,$L$48:$L$5107,E$12) -> 0 | F38: =SUMIFS($J$48:$J$5107,$K$48:$K$5107,$B38,$L$48:$L$5107,F$12) -> 0 | G38: =SUM(C38:F38) -> 0.59057281 | H38: =G38*$K$11*0.907185/1000000 -> 1.494767e-05
B39: Underground Mining Equipment | C39: =SUMIFS($J$48:$J$5107,$K$48:$K$5107,$B39,$L$48:$L$5107,C$12) -> 0.32618213 | D39: =SUMIFS($J$48:$J$5107,$K$48:$K$5107,$B39,$L$48:$L$5107,D$12) -> 0 | E39: =SUMIFS($J$48:$J$5107,$K$48:$K$5107,$B39,$L$48:$L$5107,E$12) -> 0 | F39: =SUMIFS($J$48:$J$5107,$K$48:$K$5107,$B39,$L$48:$L$5107,F$12) -> 0 | G39: =SUM(C39:F39) -> 0.32618213 | H39: =G39*$K$11*0.907185/1000000 -> 8.2558204e-06
B40: Railroad Equipment | C40: =SUMIFS($J$48:$J$5107,$K$48:$K$5107,$B40,$L$48:$L$5107,C$12) -> 0.07136693 | D40: =SUMIFS($J$48:$J$5107,$K$48:$K$5107,$B40,$L$48:$L$5107,D$12) -> 0.081196602 | E40: =SUMIFS($J$48:$J$5107,$K$48:$K$5107,$B40,$L$48:$L$5107,E$12) -> 0.00030022285 | F40: =SUMIFS($J$48:$J$5107,$K$48:$K$5107,$B40,$L$48:$L$5107,F$12) -> 0 | G40: =SUM(C40:F40) -> 0.15286375 | H40: =G40*$K$11*0.907185/1000000 -> 3.8690522e-06
B41: Total CH4 Emissions (short tons) | C41: =SUM(C30:C40) -> 18.587956 | D41: =SUM(D30:D40) -> 903.36995 | E41: =SUM(E30:E40) -> 10.916967 | F41: =SUM(F30:F40) -> 112.16444 | G41: =SUM(G30:G40) -> 1045.0393
B42: Total CH4 Emissions (MMTCO2e) | C42: =C41*$K$11*0.907185/1000000 -> 0.00047046974 | D42: =D41*$K$11*0.907185/1000000 -> 0.02286471 | E42: =E41*$K$11*0.907185/1000000 -> 0.00027631348 | F42: =F41*$K$11*0.907185/1000000 -> 0.0028389337 | H42: =G41*$K$11*0.907185/1000000 -> 0.026450427
B45: MOVES4 Model Outputs
B47: Year | C47: CountyID | D47: SCC | E47: Tier 2 Description | F47: SCC Level Two | G47: SCC Level Three | H47: SCC Level Four | I47: CO2 | J47: CH4 | K47: Equipment Type | L47: Fuel Type
