Workbook

Sheet Summary
B1: Maryland 2023 GHG Emissions by Sector
D2: Global Warming Potential
D3: AR6 20-yr GWP | E3: AR6 100-yr GWP
C4: CO2 | D4: 1 | E4: 1
C5: CH4 | D5: 81.2 | E5: 27.9
C6: N2O | D6: 273 | E6: 273
C7: SF6 | D7: 18200 | E7: 24300
C8: HFCs & PFCs | D8: see note
B9: MMTCO2e | D9: 20-year GWP | E9: 100-year GWP
B10: Energy Use (CO2, CH4, N2O) | D10: =D11+D30+D47+D80 -> 65.852033 | E10: =E11+E30+E47+E80 -> 63.431094
B11: Electricity Use (Consumption) | D11: =D12+D29 -> 16.57808 | E11: =E12+E29 -> 16.557621
C12: Electricity Production (in-state) | D12: =D13+D17+D21+D25 -> 8.32331 | E12: =E13+E17+E21+E25 -> 8.3028508
C13: Coal | D13: =SUM(D14:D16) -> 2.0586711 | E13: =SUM(E14:E16) -> 2.0455463
C14: CO2 | D14: =E14/_xlfn.XLOOKUP(C14,C$4:C$7,E$4:E$7,"ERROR")*_xlfn.XLOOKUP(C14,C$4:C$7,D$4:D$7,"ERROR") -> 2.0288821 | E14: ='In-State Electricity'!M268 -> 2.0288821
C15: CH4 | D15: =E15/_xlfn.XLOOKUP(C15,C$4:C$7,E$4:E$7,"ERROR")*_xlfn.XLOOKUP(C15,C$4:C$7,D$4:D$7,"ERROR") -> 0.019994922 | E15: ='In-State Electricity'!N268 -> 0.0068701765
C16: N2O | D16: =E16/_xlfn.XLOOKUP(C16,C$4:C$7,E$4:E$7,"ERROR")*_xlfn.XLOOKUP(C16,C$4:C$7,D$4:D$7,"ERROR") -> 0.0097940647 | E16: ='In-State Electricity'!O268 -> 0.0097940647
C17: Natural Gas | D17: =SUM(D18:D20) -> 6.1631692 | E17: =SUM(E18:E20) -> 6.1562222
C18: CO2 | D18: =E18/_xlfn.XLOOKUP(C18,C$4:C$7,E$4:E$7,"ERROR")*_xlfn.XLOOKUP(C18,C$4:C$7,D$4:D$7,"ERROR") -> 6.1475896 | E18: ='In-State Electricity'!M269 -> 6.1475896
C19: CH4 | D19: =E19/_xlfn.XLOOKUP(C19,C$4:C$7,E$4:E$7,"ERROR")*_xlfn.XLOOKUP(C19,C$4:C$7,D$4:D$7,"ERROR") -> 0.010583415 | E19: ='In-State Electricity'!N269 -> 0.0036364199
C20: N2O | D20: =E20/_xlfn.XLOOKUP(C20,C$4:C$7,E$4:E$7,"ERROR")*_xlfn.XLOOKUP(C20,C$4:C$7,D$4:D$7,"ERROR") -> 0.0049961371 | E20: ='In-State Electricity'!O269 -> 0.0049961371
C21: Oil | D21: =SUM(D22:D24) -> 0.10146973 | E21: =SUM(E22:E24) -> 0.10108231
C22: CO2 | D22: =E22/_xlfn.XLOOKUP(C22,C$4:C$7,E$4:E$7,"ERROR")*_xlfn.XLOOKUP(C22,C$4:C$7,D$4:D$7,"ERROR") -> 0.10068323 | E22: ='In-State Electricity'!M270 -> 0.10068323
C23: CH4 | D23: =E23/_xlfn.XLOOKUP(C23,C$4:C$7,E$4:E$7,"ERROR")*_xlfn.XLOOKUP(C23,C$4:C$7,D$4:D$7,"ERROR") -> 0.00059020359 | E23: ='In-State Electricity'!N270 -> 0.00020279163
C24: N2O | D24: =E24/_xlfn.XLOOKUP(C24,C$4:C$7,E$4:E$7,"ERROR")*_xlfn.XLOOKUP(C24,C$4:C$7,D$4:D$7,"ERROR") -> 0.00019629507 | E24: ='In-State Electricity'!O270 -> 0.00019629507
C25: Wood | D25: =SUM(D26:D28) -> 0 | E25: =SUM(E26:E28) -> 0
C26: CO2 | D26: =E26/_xlfn.XLOOKUP(C26,C$4:C$7,E$4:E$7,"ERROR")*_xlfn.XLOOKUP(C26,C$4:C$7,D$4:D$7,"ERROR") -> 0 | E26: 0
C27: CH4 | D27: =E27/_xlfn.XLOOKUP(C27,C$4:C$7,E$4:E$7,"ERROR")*_xlfn.XLOOKUP(C27,C$4:C$7,D$4:D$7,"ERROR") -> 0 | E27: 0
C28: N2O | D28: =E28/_xlfn.XLOOKUP(C28,C$4:C$7,E$4:E$7,"ERROR")*_xlfn.XLOOKUP(C28,C$4:C$7,D$4:D$7,"ERROR") -> 0 | E28: 0
C29: Net Imported Electricity | D29: =E29 -> 8.2547704 | E29: ='Imported Electricity'!O61 -> 8.2547704
B30: Residential/Commercial/Industrial (RCI) Fuel Use | D30: =D31+D35+D39+D43 -> 13.077784 | E30: =E31+E35+E39+E43 -> 12.90932
C31: Coal | D31: =SUM(D32:D34) -> 0.83081828 | E31: =SUM(E32:E34) -> 0.82633374
C32: CO2 | D32: =E32/_xlfn.XLOOKUP(C32,C$4:C$7,E$4:E$7,"ERROR")*_xlfn.XLOOKUP(C32,C$4:C$7,D$4:D$7,"ERROR") -> 0.82054086 | E32: =Residential!C58+Commercial!C66+Industrial!C129 -> 0.82054086
C33: CH4 | D33: =E33/_xlfn.XLOOKUP(C33,C$4:C$7,E$4:E$7,"ERROR")*_xlfn.XLOOKUP(C33,C$4:C$7,D$4:D$7,"ERROR") -> 0.0068319815 | E33: =Residential!E58+Commercial!D66+Industrial!D129 -> 0.0023474419
C34: N2O | D34: =E34/_xlfn.XLOOKUP(C34,C$4:C$7,E$4:E$7,"ERROR")*_xlfn.XLOOKUP(C34,C$4:C$7,D$4:D$7,"ERROR") -> 0.0034454389 | E34: =Residential!D58+Commercial!E66+Industrial!E129 -> 0.0034454389
C35: Natural Gas & LPG | D35: =SUM(D36:D38) -> 9.1232038 | E35: =SUM(E36:E38) -> 9.0811707
C36: CO2 | D36: =E36/_xlfn.XLOOKUP(C36,C$4:C$7,E$4:E$7,"ERROR")*_xlfn.XLOOKUP(C36,C$4:C$7,D$4:D$7,"ERROR") -> 9.0535913 | E36: =Residential!C59+Commercial!C67+Industrial!C130 -> 9.0535913
C37: CH4 | D37: =E37/_xlfn.XLOOKUP(C37,C$4:C$7,E$4:E$7,"ERROR")*_xlfn.XLOOKUP(C37,C$4:C$7,D$4:D$7,"ERROR") -> 0.064035428 | E37: =Residential!E59+Commercial!D67+Industrial!D130 -> 0.022002321
C38: N2O | D38: =E38/_xlfn.XLOOKUP(C38,C$4:C$7,E$4:E$7,"ERROR")*_xlfn.XLOOKUP(C38,C$4:C$7,D$4:D$7,"ERROR") -> 0.0055770245 | E38: =Residential!D59+Commercial!E67+Industrial!E130 -> 0.0055770245
C39: Petroleum | D39: =SUM(D40:D42) -> 2.9564336 | E39: =SUM(E40:E42) -> 2.9393324
C40: CO2 | D40: =E40/_xlfn.XLOOKUP(C40,C$4:C$7,E$4:E$7,"ERROR")*_xlfn.XLOOKUP(C40,C$4:C$7,D$4:D$7,"ERROR") -> 2.9241046 | E40: =Residential!C60+Commercial!C68+Industrial!C131 -> 2.9241046
C41: CH4 | D41: =E41/_xlfn.XLOOKUP(C41,C$4:C$7,E$4:E$7,"ERROR")*_xlfn.XLOOKUP(C41,C$4:C$7,D$4:D$7,"ERROR") -> 0.0260529 | E41: =Residential!E60+Commercial!D68+Industrial!D131 -> 0.0089516738
C42: N2O | D42: =E42/_xlfn.XLOOKUP(C42,C$4:C$7,E$4:E$7,"ERROR")*_xlfn.XLOOKUP(C42,C$4:C$7,D$4:D$7,"ERROR") -> 0.0062760739 | E42: =Residential!D60+Commercial!E68+Industrial!E131 -> 0.0062760739
C43: Wood | D43: =SUM(D44:D46) -> 0.16732838 | E43: =SUM(E44:E46) -> 0.062483079
C44: CO2 | D44: =E44/_xlfn.XLOOKUP(C44,C$4:C$7,E$4:E$7,"ERROR")*_xlfn.XLOOKUP(C44,C$4:C$7,D$4:D$7,"ERROR") -> 0 | E44: =Residential!C61+Commercial!C69+Industrial!C132 -> 0
C45: CH4 | D45: =E45/_xlfn.XLOOKUP(C45,C$4:C$7,E$4:E$7,"ERROR")*_xlfn.XLOOKUP(C45,C$4:C$7,D$4:D$7,"ERROR") -> 0.1597268 | E45: =Residential!E61+Commercial!D69+Industrial!D132 -> 0.0548815
C46: N2O | D46: =E46/_xlfn.XLOOKUP(C46,C$4:C$7,E$4:E$7,"ERROR")*_xlfn.XLOOKUP(C46,C$4:C$7,D$4:D$7,"ERROR") -> 0.0076015791 | E46: =Residential!D61+Commercial!E69+Industrial!E132 -> 0.0076015791
B47: Transportation | D47: =D48+D52+D56+D60+D64+D68+D72+D76 -> 31.520846 | E47: =E48+E52+E56+E60+E64+E68+E72+E76 -> 31.380208
C48: Onroad Gasoline | D48: =SUM(D49:D51) -> 20.74313 | E48: =SUM(E49:E51) -> 20.69949
C49: CO2 | D49: =E49/_xlfn.XLOOKUP(C49,C$4:C$7,E$4:E$7,"ERROR")*_xlfn.XLOOKUP(C49,C$4:C$7,D$4:D$7,"ERROR") -> 20.582046 | E49: ='On-Road Transportation'!C55 -> 20.582046
C50: CH4 | D50: =E50/_xlfn.XLOOKUP(C50,C$4:C$7,E$4:E$7,"ERROR")*_xlfn.XLOOKUP(C50,C$4:C$7,D$4:D$7,"ERROR") -> 0.066483983 | E50: ='On-Road Transportation'!D55 -> 0.022843635
C51: N2O | D51: =E51/_xlfn.XLOOKUP(C51,C$4:C$7,E$4:E$7,"ERROR")*_xlfn.XLOOKUP(C51,C$4:C$7,D$4:D$7,"ERROR") -> 0.094599852 | E51: ='On-Road Transportation'!E55 -> 0.094599852
C52: Nonroad Gasoline | D52: =SUM(D53:D55) -> 1.0643931 | E52: =SUM(E53:E55) -> 1.0207125
C53: CO2 | D53: =E53/_xlfn.XLOOKUP(C53,C$4:C$7,E$4:E$7,"ERROR")*_xlfn.XLOOKUP(C53,C$4:C$7,D$4:D$7,"ERROR") -> 0.99784782 | E53: ='Non-Road Transportation'!D25 -> 0.99784782
C54: CH4 | D54: =E54/_xlfn.XLOOKUP(C54,C$4:C$7,E$4:E$7,"ERROR")*_xlfn.XLOOKUP(C54,C$4:C$7,D$4:D$7,"ERROR") -> 0.066545322 | E54: ='Non-Road Transportation'!D42 -> 0.02286471
C55: N2O | D55: =E55/_xlfn.XLOOKUP(C55,C$4:C$7,E$4:E$7,"ERROR")*_xlfn.XLOOKUP(C55,C$4:C$7,D$4:D$7,"ERROR") -> 0 | E55: 0
C56: Onroad Diesel | D56: =SUM(D57:D59) -> 4.9951041 | E56: =SUM(E57:E59) -> 4.9894641
C57: CO2 | D57: =E57/_xlfn.XLOOKUP(C57,C$4:C$7,E$4:E$7,"ERROR")*_xlfn.XLOOKUP(C57,C$4:C$7,D$4:D$7,"ERROR") -> 4.8337259 | E57: ='On-Road Transportation'!C56 -> 4.8337259
C58: CH4 | D58: =E58/_xlfn.XLOOKUP(C58,C$4:C$7,E$4:E$7,"ERROR")*_xlfn.XLOOKUP(C58,C$4:C$7,D$4:D$7,"ERROR") -> 0.0085922134 | E58: ='On-Road Transportation'!D56 -> 0.0029522507
C59: N2O | D59: =E59/_xlfn.XLOOKUP(C59,C$4:C$7,E$4:E$7,"ERROR")*_xlfn.XLOOKUP(C59,C$4:C$7,D$4:D$7,"ERROR") -> 0.15278597 | E59: ='On-Road Transportation'!E56 -> 0.15278597
C60: Nonroad Diesel | D60: =SUM(D61:D63) -> 1.1286742 | E60: =SUM(E61:E63) -> 1.1277754
C61: CO2 | D61: =E61/_xlfn.XLOOKUP(C61,C$4:C$7,E$4:E$7,"ERROR")*_xlfn.XLOOKUP(C61,C$4:C$7,D$4:D$7,"ERROR") -> 1.127305 | E61: ='Non-Road Transportation'!C25 -> 1.127305
C62: CH4 | D62: =E62/_xlfn.XLOOKUP(C62,C$4:C$7,E$4:E$7,"ERROR")*_xlfn.XLOOKUP(C62,C$4:C$7,D$4:D$7,"ERROR") -> 0.0013692524 | E62: ='Non-Road Transportation'!C42 -> 0.00047046974
C63: N2O | D63: =E63/_xlfn.XLOOKUP(C63,C$4:C$7,E$4:E$7,"ERROR")*_xlfn.XLOOKUP(C63,C$4:C$7,D$4:D$7,"ERROR") -> 0 | E63: 0
C64: Rail | D64: =SUM(D65:D67) -> 0.32275015 | E64: =SUM(E65:E67) -> 0.31895405
C65: CO2 | D65: =E65/_xlfn.XLOOKUP(C65,C$4:C$7,E$4:E$7,"ERROR")*_xlfn.XLOOKUP(C65,C$4:C$7,D$4:D$7,"ERROR") -> 0.31482915 | E65: ='Other Transportation'!C42 -> 0.31482915
C66: CH4 | D66: =E66/_xlfn.XLOOKUP(C66,C$4:C$7,E$4:E$7,"ERROR")*_xlfn.XLOOKUP(C66,C$4:C$7,D$4:D$7,"ERROR") -> 0.0057831816 | E66: ='Other Transportation'!D42 -> 0.0019870784
C67: N2O | D67: =E67/_xlfn.XLOOKUP(C67,C$4:C$7,E$4:E$7,"ERROR")*_xlfn.XLOOKUP(C67,C$4:C$7,D$4:D$7,"ERROR") -> 0.0021378223 | E67: ='Other Transportation'!E42 -> 0.0021378223
C68: Marine Vessels | D68: =SUM(D69:D71) -> 0.099241098 | E68: =SUM(E69:E71) -> 0.093423513
C69: CO2 | D69: =E69/_xlfn.XLOOKUP(C69,C$4:C$7,E$4:E$7,"ERROR")*_xlfn.XLOOKUP(C69,C$4:C$7,D$4:D$7,"ERROR") -> 0.089851746 | E69: ='Other Transportation'!C43 -> 0.089851746
C70: CH4 | D70: =E70/_xlfn.XLOOKUP(C70,C$4:C$7,E$4:E$7,"ERROR")*_xlfn.XLOOKUP(C70,C$4:C$7,D$4:D$7,"ERROR") -> 0.0088628126 | E70: ='Other Transportation'!D43 -> 0.0030452275
C71: N2O | D71: =E71/_xlfn.XLOOKUP(C71,C$4:C$7,E$4:E$7,"ERROR")*_xlfn.XLOOKUP(C71,C$4:C$7,D$4:D$7,"ERROR") -> 0.00052653966 | E71: ='Other Transportation'!E43 -> 0.00052653966
C72: Lubricants, Natural Gas, and LPG | D72: =SUM(D73:D75) -> 0.36214549 | E72: =SUM(E73:E75) -> 0.33843445
C73: CO2 | D73: =E73/_xlfn.XLOOKUP(C73,C$4:C$7,E$4:E$7,"ERROR")*_xlfn.XLOOKUP(C73,C$4:C$7,D$4:D$7,"ERROR") -> 0.32548566 | E73: ='Other Transportation'!C44+'On-Road Transportation'!C57+'Non-Road Transportation'!E25+'Non-Road Transportation'!F25 -> 0.32548566
C74: CH4 | D74: =E74/_xlfn.XLOOKUP(C74,C$4:C$7,E$4:E$7,"ERROR")*_xlfn.XLOOKUP(C74,C$4:C$7,D$4:D$7,"ERROR") -> 0.036122631 | E74: ='Other Transportation'!D44+'On-Road Transportation'!D57+'Non-Road Transportation'!E42+'Non-Road Transportation'!F42 -> 0.012411594
C75: N2O | D75: =E75/_xlfn.XLOOKUP(C75,C$4:C$7,E$4:E$7,"ERROR")*_xlfn.XLOOKUP(C75,C$4:C$7,D$4:D$7,"ERROR") -> 0.00053719995 | E75: ='Other Transportation'!E44+'On-Road Transportation'!E57 -> 0.00053719995
C76: Jet Fuel and Aviation Gasoline | D76: =SUM(D77:D79) -> 2.8054073 | E76: =SUM(E77:E79) -> 2.7919542
C77: CO2 | D77: =E77/_xlfn.XLOOKUP(C77,C$4:C$7,E$4:E$7,"ERROR")*_xlfn.XLOOKUP(C77,C$4:C$7,D$4:D$7,"ERROR") -> 2.7617744 | E77: ='Other Transportation'!C41 -> 2.7617744
C78: CH4 | D78: =E78/_xlfn.XLOOKUP(C78,C$4:C$7,E$4:E$7,"ERROR")*_xlfn.XLOOKUP(C78,C$4:C$7,D$4:D$7,"ERROR") -> 0.020495128 | E78: ='Other Transportation'!D41 -> 0.0070420451
C79: N2O | D79: =E79/_xlfn.XLOOKUP(C79,C$4:C$7,E$4:E$7,"ERROR")*_xlfn.XLOOKUP(C79,C$4:C$7,D$4:D$7,"ERROR") -> 0.023137757 | E79: ='Other Transportation'!E41 -> 0.023137757
B80: Fossil Fuel Industry | D80: =D81+D85+D89 -> 4.6753233 | E80: =E81+E85+E89 -> 2.5839451
C81: Natural Gas Industry | D81: =SUM(D82:D84) -> 4.4390951 | E81: =SUM(E82:E84) -> 2.5027781
C82: CO2 | D82: =E82/_xlfn.XLOOKUP(C82,C$4:C$7,E$4:E$7,"ERROR")*_xlfn.XLOOKUP(C82,C$4:C$7,D$4:D$7,"ERROR") -> 1.4884797 | E82: ='Natural Gas'!C67 -> 1.4884797
C83: CH4 | D83: =E83/_xlfn.XLOOKUP(C83,C$4:C$7,E$4:E$7,"ERROR")*_xlfn.XLOOKUP(C83,C$4:C$7,D$4:D$7,"ERROR") -> 2.9498864 | E83: ='Natural Gas'!D67 -> 1.0135693
C84: N2O | D84: =E84/_xlfn.XLOOKUP(C84,C$4:C$7,E$4:E$7,"ERROR")*_xlfn.XLOOKUP(C84,C$4:C$7,D$4:D$7,"ERROR") -> 0.00072904162 | E84: ='Natural Gas'!E67 -> 0.00072904162
C85: Oil Industry | D85: =SUM(D86:D88) -> 0 | E85: =SUM(E86:E88) -> 0
C86: CO2 | D86: =E86/_xlfn.XLOOKUP(C86,C$4:C$7,E$4:E$7,"ERROR")*_xlfn.XLOOKUP(C86,C$4:C$7,D$4:D$7,"ERROR") -> 0 | E86: 0
C87: CH4 | D87: =E87/_xlfn.XLOOKUP(C87,C$4:C$7,E$4:E$7,"ERROR")*_xlfn.XLOOKUP(C87,C$4:C$7,D$4:D$7,"ERROR") -> 0 | E87: 0
C88: N2O | D88: =E88/_xlfn.XLOOKUP(C88,C$4:C$7,E$4:E$7,"ERROR")*_xlfn.XLOOKUP(C88,C$4:C$7,D$4:D$7,"ERROR") -> 0 | E88: 0
C89: Coal Mining | D89: =SUM(D90:D92) -> 0.23622825 | E89: =SUM(E90:E92) -> 0.081167095
C90: CO2 | D90: =E90/_xlfn.XLOOKUP(C90,C$4:C$7,E$4:E$7,"ERROR")*_xlfn.XLOOKUP(C90,C$4:C$7,D$4:D$7,"ERROR") -> 0 | E90: 0
C91: CH4 | D91: =E91/_xlfn.XLOOKUP(C91,C$4:C$7,E$4:E$7,"ERROR")*_xlfn.XLOOKUP(C91,C$4:C$7,D$4:D$7,"ERROR") -> 0.23622825 | E91: ='Coal Mining'!F38 -> 0.081167095
C92: N2O | D92: =E92/_xlfn.XLOOKUP(C92,C$4:C$7,E$4:E$7,"ERROR")*_xlfn.XLOOKUP(C92,C$4:C$7,D$4:D$7,"ERROR") -> 0 | E92: 0
B93: Industrial Processes and Product Use | D93: =D94+D98+D102+D106+D110+D114+D118+D122+D126 -> 10.31924 | E93: =E94+E98+E102+E106+E110+E114+E118+E122+E126 -> 5.8057427
C94: Cement Manufacture | D94: =SUM(D95:D97) -> 1.5239306 | E94: =SUM(E95:E97) -> 1.5239306
C95: CO2 | D95: =E95/_xlfn.XLOOKUP(C95,C$4:C$7,E$4:E$7,"ERROR")*_xlfn.XLOOKUP(C95,C$4:C$7,D$4:D$7,"ERROR") -> 1.5239306 | E95: =Cement!D36 -> 1.5239306
C96: CH4 | D96: =E96/_xlfn.XLOOKUP(C96,C$4:C$7,E$4:E$7,"ERROR")*_xlfn.XLOOKUP(C96,C$4:C$7,D$4:D$7,"ERROR") -> 0 | E96: 0
C97: N2O | D97: =E97/_xlfn.XLOOKUP(C97,C$4:C$7,E$4:E$7,"ERROR")*_xlfn.XLOOKUP(C97,C$4:C$7,D$4:D$7,"ERROR") -> 0 | E97: 0
C98: Limestone and Dolomite | D98: =SUM(D99:D101) -> 0.2232934 | E98: =SUM(E99:E101) -> 0.2232934
C99: CO2 | D99: =E99/_xlfn.XLOOKUP(C99,C$4:C$7,E$4:E$7,"ERROR")*_xlfn.XLOOKUP(C99,C$4:C$7,D$4:D$7,"ERROR") -> 0.2232934 | E99: ='LimeT&DSoda'!I10 -> 0.2232934
C100: CH4 | D100: =E100/_xlfn.XLOOKUP(C100,C$4:C$7,E$4:E$7,"ERROR")*_xlfn.XLOOKUP(C100,C$4:C$7,D$4:D$7,"ERROR") -> 0 | E100: 0
...

Sheet In-State Electricity
B2: In-State Electricity Generation Emissions | E2: Emission Factors: | F2: kg/MMBTU | I2: lb/MMBTU
E3: EPA 40 CFR Part 98, Subpart C | F3: CO2 | G3: CH4 | H3: N2O | I3: CO2 | J3: CH4 | K3: N2O
B4: Color Legend: | E4: Bitumunious Coal | F4: 93.28 | G4: 0.011 | H4: 0.0016 | I4: 205.6 | J4: 0.0243 | K4: 0.00353
C5: Data from Maryland Emissions Certification Report (ECR) | E5: Subbituminous Coal | F5: 97.17 | G5: 0.011 | H5: 0.0016 | I5: 214.2 | J5: 0.0243 | K5: 0.00353 | M5: #2 Oil | N5: lbs/1,000 gal
C6: Data from EPA Clean Air Markets Program Data (CAMPD) | E6: Natural Gas | F6: 53.06 | G6: 0.001 | H6: 0.0001 | I6: 117 | J6: 0.0022 | K6: 0.00022 | M6: CO2 | N6: 22600
C7: Calculated Value | E7: Distillate Fuel Oil #2 | F7: 73.96 | G7: 0.003 | H7: 0.0006 | I7: 163.1 | J7: 0.0066 | K7: 0.00132 | M7: CH4 | N7: 1.11
E8: Distillate Fuel Oil #6 | F8: 75.1 | G8: 0.003 | H8: 0.0006 | I8: 165.6 | J8: 0.0066 | K8: 0.00132 | M8: N2O | N8: 0.11
B10: Plant ID | C10: Plant Name | D10: Equipment Description | E10: Registration Number | F10: Fuel Type | G10: Fuel | H10: Fuel Consumption | I10: Fuel Consumption Units | J10: Heat Content | K10: Heat Content Units | L10: Heat Input (MMBTU) | M10: CO2 Emission (short tons) | N10: CH4 Emission (short tons) | O10: N2O Emission (short tons)
B13: 001-0203 | C13: AES WARRIOR RUN COGEN | D13: ACF Boiler | E13: 001-3-0127 | F13: Coal | G13: Coal | H13: 358505 | I13: tons | J13: 10898 | K13: Btu/lb | L13: 8357782 | M13: =(L13/L15)*M15 -> 855191.39 | N13: =L13/L15*N15 -> 101.16824 | O13: =L13/L15*O15 -> 14.766173
D14: ACF Boiler | E14: 001-3-0127 | F14: Distillate Fuel | G14: Diesel | H14: 136760 | I14: gallons | J14: 140000 | K14: Btu/gal | L14: =H14*J14/1000000 -> 19146.4 | M14: =(L14/L15)*M15 -> 1959.1126 | N14: =L14/L15*N15 -> 0.23176096 | O14: =L14/L15*O15 -> 0.033827043
D15: ACF Boiler | E15: 001-3-0127 | F15: Sum for unit; CEM CO2 emissions for unit | L15: =L13+L14 -> 8376928.4 | M15: 857150.5 | N15: 101.4 | O15: 14.8
D17: Emergency Engine (Boiler Feed Pump) | E17: 001-9-0081 | F17: Distillate Fuel | G17: Diesel | H17: 323 | I17: gallons | J17: 140000 | K17: Btu/gal | L17: =H17*J17/1000000 -> 45.22 | M17: 3.6 | N17: 0 | O17: 0
D19: Limestone Dryer | E19: 001-6-0136 | F19: Natural Gas | G19: Natural Gas | H19: 2703900 | I19: scf | J19: 1020 | K19: Btu/scf | L19: =H19*J19/1000000 -> 2757.978 | M19: 162.5 | N19: 0 | O19: 0
D21: Space Heaters | E21: 001-6-0243/0244 | F21: Natural Gas | G21: Natural Gas | H21: =0.5858*1000000 -> 585800 | I21: scf | J21: 1020 | K21: Btu/scf | L21: 597.516 | M21: 35.2 | N21: =0.0022 -> 0.0022 | O21: =0.00022 -> 0.00022
B24: 003-0468 | C24: Brandon Shores | D24: Unit 1 | E24: 3-0015 | F24: Distillate Fuel | G24: S-No. 2 Oil | H24: 643898 | I24: gallons | J24: 0.137 | K24: MMBTU/ Unit | L24: 88214 | M24: =(L24/L26)*M26 -> 9041.3481 | N24: 0.292 | O24: 0.058
D25: Unit 1 | E25: 3-0015 | F25: Coal | G25: P-Coal | H25: 228022 | I25: tons | J25: =L25/H25 -> 27.422183 | K25: MMBTU/ tons | L25: =L26-L24 -> 6252861 | M25: =(L25/L26)*M26 -> 640876.65 | N25: 71.76 | O25: 10.472
D26: Unit 1 | E26: 3-0015 | F26: Sum for unit; CEM CO2 emissions for unit | L26: 6341075 | M26: 649918 | N26: =N24+N25 -> 72.052 | O26: =O24+O25 -> 10.53
D28: Unit 2 | E28: 3-0016 | F28: Distillate Fuel | G28: S-No. 2 Oil | H28: 821191 | I28: gallons | J28: 0.137 | K28: MMBTU/ Unit | L28: 112503 | M28: =(L28/L30)*M30 -> 11534.575 | N28: 0.373 | O28: 0.075
D29: Unit 2 | E29: 3-0016 | F29: Coal | G29: P-Coal | H29: 294165 | I29: tons | J29: =L29/H29 -> 22.889786 | K29: MMBTU/ tons | L29: =L30-L28 -> 6733374 | M29: =(L29/L30)*M30 -> 690351.43 | N29: 92.594 | O29: 13.448
D30: Unit 2 | E30: 3-0016 | F30: Sum for unit; CEM CO2 emissions for unit | L30: 6845877 | M30: 701886 | N30: =N28+N29 -> 92.967 | O30: =O28+O29 -> 13.523
D32: Quench Pumps | E32: 9-0988 | F32: Distillate Fuel | G32: ULS-Diesel | H32: 620 | I32: gallons | J32: 0.137 | K32: MMBTU/Gallons | L32: 84.94 | M32: 6.97 | N32: 6.7e-05 | O32: 0
D34: Auxilliary Boiler 1 | E34: 4-0507 | F34: Distillate Fuel | G34: S-No. 2 Oil | H34: 161 | I34: gallons | J34: 0.137 | K34: MMBTU/ Gal | L34: 22.06 | M34: 156 | N34: 0 | O34: 0
B37: 033-00014 | C37: Chalk Point | D37: Unit 3 | E37: 1600-14-40998 | F37: Natural Gas | G37: Gas | H37: 4194400000 | I37: scf | J37: 1050.3 | K37: MMBtu/1E+06 scf | L37: 4405169 | M37: 268341 | N37: 4.99 | O37: 0.5
D39: Unit 4 | E39: 1600-14-40999 | F39: Natural Gas | G39: Gas | H39: 3241060000 | I39: scf | J39: 1050.3 | K39: MMBtu/1E+06 scf | L39: 3403923 | M39: 227205 | N39: 4.22 | O39: 0.42
D41: CT1 | E41: 1600-14-40778 | F41: Distillate Fuel | G41: #2 Oil | H41: 5161 | I41: gallons | J41: 137269 | K41: Btu/gal | L41: =H41*J41/1000000 -> 708.44531 | M41: 57.76 | N41: 0.00234 | O41: 0.000469
D43: CT2 | E43: 1600-14-41145 | F43: Distillate Fuel | G43: #2 Oil | H43: 24360 | I43: gallons | J43: 137269 | K43: Btu/gal | L43: 3205 | M43: 259.8 | N43: 0.0106 | O43: 0.00212
D45: CT3 | E45: 1600-14-90752 | F45: Distillate Fuel | G45: #2 Oil | H45: 73080 | I45: gallons | J45: 137269 | K45: Btu/gal | L45: =H45*J45/1000000 -> 10031.619 | M45: =(L45/L47)*(M47) -> 637.15438 | N45: =L45/L47*N47 -> 0.014876853 | O45: =L45/L47*O47 -> 0.0022740333
D46: CT3 | E46: 1600-14-90752 | F46: Natural Gas | G46: Gas | H46: 35390000 | I46: scf | J46: 1050.3 | K46: MMBtu/1E+06 scf | L46: =H46*J46/1000000 -> 37170.117 | M46: =(L46/L47)*M47 -> 2360.8456 | N46: =L46/L47*N47 -> 0.055123147 | O46: =L46/L47*O47 -> 0.0084259667
D47: CT3 | E47: 1600-14-90752 | F47: Sum for unit; CEM CO2 emissions for unit | L47: =SUM(L45:L46) -> 47201.736 | M47: 2998 | N47: 0.07 | O47: 0.0107
D49: CT4 | E49: 1600-14-90753 | F49: Distillate Fuel | G49: #2 Oil | H49: 33180 | I49: gallons | J49: 137269 | K49: Btu/gal | L49: =H49*J49/1000000 -> 4554.5854 | M49: =L49/L51*M51 -> 273.91752 | N49: =L49/L51*N51 -> 0.0047670992 | O49: =L49/L51*O51 -> 0.00048147701
D50: CT4 | E50: 1600-14-90753 | F50: Natural Gas | G50: Gas | H50: 86630000 | I50: scf | J50: 1050.3 | K50: MMBtu/1E+06 scf | L50: =H50*J50/1000000 -> 90987.489 | M50: =L50/L51*M51 -> 5472.0825 | N50: =L50/L51*N51 -> 0.095232901 | O50: =L50/L51*O51 -> 0.009618523
D51: CT4 | E51: 1600-14-90753 | F51: Sum for unit; CEM CO2 emissions for unit | L51: =L49+L50 -> 95542.074 | M51: 5746 | N51: 0.1 | O51: 0.0101
D53: CT5 | E53: 1600-14-90754 | F53: Distillate Fuel | G53: #2 Oil | H53: 88200 | I53: gallons | J53: 137269 | K53: Btu/gal | L53: =H53*J53/1000000 -> 12107.126 | M53: =L53/L55*M55 -> 771.27955 | N53: =L53/L55*N55 -> 0.018599989 | O53: =L53/L55*O55 -> 0.0027279984
D54: CT5 | E54: 1600-14-90754 | F54: Natural Gas | G54: Gas | H54: 44250000 | I54: scf | J54: 1050.3 | K54: MMBtu/1E+06 scf | L54: =H54*J54/1000000 -> 46475.775 | M54: =L54/L55*M55 -> 2960.7204 | N54: =L54/L55*N55 -> 0.071400011 | O54: =L54/L55*O55 -> 0.010472002
D55: CT5 | E55: 1600-14-90754 | F55: Sum for unit; CEM CO2 emissions for unit | L55: =L53+L54 -> 58582.901 | M55: 3732 | N55: 0.09 | O55: 0.0132
D57: CT6 | E57: 1600-14-90755 | F57: Natural Gas | G57: Gas | H57: 98260000 | I57: scf | J57: 1050.3 | K57: MMBtu/1E+06 scf | L57: 103192 | M57: 6089 | N57: 0.11 | O57: 0.0114
D59: CE Aux. Boiler 5 | E59: 1600-14-41156 | F59: Distillate Fuel | G59: #2 Oil | H59: 155824 | I59: gallons | J59: 137269 | K59: Btu/gal | L59: =H59*J59/1000000 -> 21389.805 | M59: 1744 | N59: 0.07 | O59: 0.0141
D60: CE Aux. Boiler 6 | E60: 1600-14-41157 | F60: Distillate Fuel | G60: #2 Oil | H60: 83380 | I60: gallons | J60: 137269 | K60: Btu/gal | L60: =H60*J60/1000000 -> 11445.489 | M60: 933.1 | N60: 0.0378 | O60: 0.00757
D61: CE Aux. Boiler 7 | E61: 1600-14-41158 | F61: Distillate Fuel | G61: #2 Oil | H61: 88081 | I61: gallons | J61: 137269 | K61: Btu/gal | L61: =H61*J61/1000000 -> 12090.791 | M61: 985.7 | N61: 0.04 | O61: 0.008
B64: 033-01827 | C64: Chalkpoint -SMECO | D64: Combustion Turbine | E64: 1827-5-074990 | F64: Distillate Fuel | G64: #2 Oil | H64: 61320 | I64: gallons | J64: 137269 | K64: Btu/gal | L64: =H64*J64/1000000 -> 8417.3351 | M64: =L64/L66*M66 -> 654.52522 | N64: =L64/L66*N66 -> 0.0093056752 | O64: =L64/L66*O66 -> 0.00093056752
D65: Combustion Turbine | E65: 1827-5-074990 | F65: Natural Gas | G65: Gas | H65: =910*1000 -> 910000 | I65: scf | J65: 1050.3 | K65: MMBtu/1E+06 scf | L65: =L66-L64 -> 2346.6649 | M65: =L65/L66*M66 -> 182.47478 | N65: =L65/L66*N66 -> 0.0025943248 | O65: =L65/L66*O66 -> 0.00025943248
D66: Combustion Turbine | E66: 1827-5-074990 | F66: Sum for unit; CEM CO2 emissions for unit | L66: 10764 | M66: 837 | N66: =0.0119 -> 0.0119 | O66: =0.00119 -> 0.00119
B69: 003-0014 | C69: HERBERT A WAGNER | D69: Unit 1 | E69: 5-0489 | F69: Natural Gas | G69: Gas | H69: 19150 | I69: Mcf | J69: 1.056 | K69: MMBTU/ Mcf | L69: =H69*J69 -> 20222.4 | M69: =L69/L71*M71 -> 1581.106 | N69: 0.022 | O69: 0.002
D70: Unit 1 | E70: 5-0489 | F70: Residual Fuel | G70: P-No.5 Oil | H70: 879308 | I70: gallons | J70: 0.143 | K70: MMBTU/gallons | L70: =L71-L69 -> 125059.6 | M70: =L70/L71*M71 -> 9777.894 | N70: 0.416 | O70: 0.083
D71: Unit 1 | E71: 5-0489 | F71: Sum for unit; CEM CO2 emissions for unit | L71: 145282 | M71: =11359 -> 11359 | N71: =N69+N70 -> 0.438 | O71: =O69+O70 -> 0.085
D73: Unit 2 | E73: 3-0017 | F73: Natural Gas | G73: S-Gas | H73: 114070 | I73: Mcf | J73: 1.056 | K73: MMBTU/ Mcf | L73: 125828.3 | M73: 7479 | N73: 0.132 | O73: 0
D75: Unit 3 | E75: 3-0003 | F75: Natural Gas | G75: S-Gas | H75: 109460 | I75: Mcf | J75: 1.056 | K75: MMBTU/ Mcf | L75: =H75*J75 -> 115589.76 | M75: =(L75/L78)*M78 -> 11859.566 | N75: 0.044 | O75: 0.013
D76: Unit 3 | E76: 3-0003 | F76: Coal | G76: P-Coal | H76: 20518 | I76: tons | J76: 23.77 | K76: MMBtu/ tons | L76: =H76*J76 -> 487712.86 | M76: =(L76/L78)*M78 -> 50039.578 | N76: 5.914 | O76: 0.86
D77: Unit 3 | E77: 3-0003 | F77: Residual Fuel | G77: P-No.5 Oil | H77: 311104 | I77: gallons | J77: 0.143 | K77: MMBTU/ gallons | L77: =L78-L75-L76 -> 97288.58 | M77: =(L77/L78)*M78 -> 9981.8559 | N77: 0.147 | O77: 0.03
D78: Unit 3 | E78: 3-0003 | F78: Sum for unit; CEM CO2 emissions for unit | L78: 700591.2 | M78: 71881 | N78: =SUM(N75:N77) -> 6.105 | O78: =SUM(O75:O77) -> 0.903
D80: Boiler 2 (Unit 4) | E80: 4-0017 | F80: Natural Gas | G80: S-Gas | H80: 31490 | I80: Mcf | J80: 1.056 | K80: MMBTU/ Mcf | L80: =H80*J80 -> 33253.44 | M80: =(L80/L82)*M82 -> 2629.7032 | N80: 0.036 | O80: 0.003
D81: Boiler 2 (Unit 4) | E81: 4-0017 | F81: Residual Fuel | G81: P-No.5 Oil | H81: 2556055 | I81: gallons | J81: 0.143 | K81: MMBTU/ gallons | L81: =L82-L80 -> 328301.56 | M81: =(L81/L82)*M82 -> 25962.297 | N81: 1.209 | O81: 0.241
D82: Boiler 2 (Unit 4) | E82: 4-0017 | F82: Sum for unit; CEM CO2 emissions for unit | L82: 361555 | M82: =28592 -> 28592 | N82: =N80+N81 -> 1.245 | O82: =O80+O81 -> 0.244
D84: CT | E84: 4-0007 | F84: Distillate Fuel | G84: No.2 Oil | H84: 9713 | I84: gallons | J84: 0.137 | K84: MMBTU/gallons | L84: =H84*J84 -> 1330.681 | M84: 109 | N84: 0.004 | O84: 0.001101
B87: 024-025-0024 | C87: Perryman | D87: Unit 51 CT | E87: 5-0088 | F87: Natural Gas | G87: Gas | H87: =1830000000 -> 1830000000 | I87: scf | J87: 1040 | K87: MMBTU/ 10E+06 scf | L87: =1900000000000/1000000 -> 1900000 | M87: =L87/L89*M89 -> 92613.976 | N87: 2.09 | O87: 0.21
D88: Unit 51 CT | E88: 5-0088 | F88: Distillate Fuel | G88: No.2 Oil | H88: 158908 | I88: gallons | J88: 136910 | K88: BTU/gallons | L88: =21800000000/1000000 -> 21800 | M88: =L88/L89*M89 -> 1062.6235 | N88: 0.07 | O88: 0.01
D89: Unit 51 CT | E89: 5-0088 | F89: Sum for unit; CEM CO2 emissions for unit | L89: =L87+L88 -> 1921800 | M89: 93676.6 | N89: =N87+N88 -> 2.16 | O89: =O87+O88 -> 0.22
D91: Unit 1 CT | E91: 4-0081 | F91: Distillate Fuel | G91: No.2 Oil | H91: 270204 | I91: gallons | J91: 136910 | K91: BTU/gallons | L91: =37000000000/1000000 -> 37000 | M91: 2417.5 | N91: 0.12 | O91: 0.02
D92: Unit 3 CT | E92: 4-0083 | F92: Distillate Fuel | G92: No.2 Oil | H92: 269570 | I92: gallons | J92: 136910 | K92: BTU/gallons | L92: =36900000000/1000000 -> 36900 | M92: 2360.6 | N92: 0.12 | O92: 0.02
D93: Unit 4 CT | E93: 4-0084 | F93: Distillate Fuel | G93: No.2 Oil | H93: 187047 | I93: gallons | J93: 136910 | K93: BTU/gallons | L93: =25600000000/1000000 -> 25600 | M93: 1595.7 | N93: 0.08 | O93: 0.02
D95: Unit 6A CT | E95: 5-0353 | F95: Natural Gas | G95: Gas | H95: =993000000 -> 993000000 | I95: scf | J95: 1040 | K95: MMBTU/ 10E+06 scf | L95: =1030000000000/1000000 -> 1030000 | M95: =(L95/L97)*M97 -> 58158.623 | N95: 1.14 | O95: 0.11
D96: Unit 6A CT | E96: 5-0353 | F96: Distillate Fuel | G96: No.2 Oil | H96: 35786 | I96: gallons | J96: 136910 | K96: BTU/gallons | L96: =4900000000/1000000 -> 4900 | M96: =(L96/L97)*M97 -> 276.67694 | N96: 0.02 | O96: 0
D97: Unit 6A CT | E97: 5-0353 | F97: Sum for unit; CEM CO2 emissions for unit | L97: =L95+L96 -> 1034900 | M97: 58435.3 | N97: =N95+N96 -> 1.16 | O97: =O95+O96 -> 0.11
D99: Unit 6B CT | E99: 5-0354 | F99: Natural Gas | G99: Gas | H99: 169000000 | I99: scf | J99: 1040 | K99: MMBTU/ 10E+06 scf | L99: =176000000000/1000000 -> 176000 | M99: 9692.4 | N99: 0.19 | O99: 0.02
B102: 019-0013 | C102: Vienna Generating Station | D102: Unit 8 | E102: 4-0065-70 | F102: Residual Fuel | G102: #6 Oil | H102: 547885 | I102: gallons | J102: 150798 | K102: Btu/gallons | L102: =H102*J102/1000000 -> 82619.962 | M102: =L102/L104*M104 -> 10940.492 | N102: =L102/L104*N104 -> 0.44988904 | O102: =L102/L104*O104 -> 0.089977807
D103: Unit 8 | E103: 4-0065-70 | F103: Distillate Fuel | G103: #2 Oil | H103: 67538 | I103: gallons | J103: 136259 | K103: Btu/gallons | L103: =H103*J103/1000000 -> 9202.6603 | M103: =L103/L104*M104 -> 1218.6114 | N103: =L103/L104*N104 -> 0.050111086 | O103: =L103/L104*O104 -> 0.010022217
D104: Unit 8 | E104: 4-0065-70 | F104: Sum for unit; CEM CO2 emissions for unit | L104: 91822.6 | M104: 12159.1 | N104: 0.5 | O104: 0.1
D106: Aux Boiler | E106: 4-0020-69 | F106: Distillate Fuel | G106: #2 Oil | H106: 4030 | I106: gallons | J106: 136259 | K106: Btu/gallons | L106: 549.1 | M106: 44.768 | N106: 0.002 | O106: 0
D108: Combustion Turbine CT1 | E108: 4-0114-79 | F108: Distillate Fuel | G108: #2 Oil | H108: 26120 | I108: gallons | J108: 136259 | K108: Btu/gallons | L108: 3559.1 | M108: 290.161 | N108: 0.012 | O108: 0.002
B111: 031-1822 | C111: Dickerson Power LLC - Station H | D111: HCT1 | E111: 1518-22-90362 | F111: Natural Gas | G111: Gas | H111: 1549230 | I111: scf | J111: 1049 | K111: MMBTU/1E+06 scf | L111: =(H111*J111)/1000 -> 1625142.3 | M111: =L111/L113*M113 -> 96629.017 | N111: =L111/L113*N113 -> 1.7995793 | O111: =L111/L113*O113 -> 0.17716066
D112: HCT1 | E112: 1518-22-90362 | F112: Distillate Fuel | G112: #2 Oil | H112: 13440 | I112: gallons | J112: 137295 | K112: Btu/gallons | L112: =L113-L111 -> 117778.73 | M112: =(L112/L113)*M113 -> 7002.9825 | N112: =L112/L113*N113 -> 0.13042068 | O112: =L112/L113*O113 -> 0.012839342
D113: HCT1 | E113: 1518-22-90362 | F113: Sum for unit; CEM CO2 emissions for unit | L113: 1742921 | M113: 103632 | N113: 1.93 | O113: 0.19
D115: HCT2 | E115: 1518-22-90362 | F115: Natural Gas | G115: Gas | H115: 1817949 | I115: scf | J115: 1049 | K115: MMBTU/1E+06 scf | L115: =(H115*J115)/1000 -> 1907028.5 | M115: =(L115/L117)*M117 -> 113385.38 | N115: =L115/L117*N117 -> 2.106285 | O115: =L115/L117*O117 -> 0.20766191
D116: HCT2 | E116: 1518-22-90362 | F116: Distillate Fuel | G116: #2 Oil | H116: 19320 | I116: gallons | J116: 137298 | K116: Btu/gallons | L116: =L117-L115 -> 21471.499 | M116: =(L116/L117)*M117 -> 1276.6217 | N116: =L116/L117*N117 -> 0.023714956 | O116: =L116/L117*O117 -> 0.0023380943
D117: HCT2 | E117: 1518-22-90362 | F117: Sum for unit; CEM CO2 emissions for unit | L117: 1928500 | M117: 114662 | N117: 2.13 | O117: 0.21
D119: Gasoline Pump | E119: 1500-19-90062 | F119: Gasoline | H119: 1283 | I119: gallons | J119: 123500 | K119: Btu/gallons | L119: =H119*J119/1000000 -> 158.4505 | M119: 10.98 | N119: 0 | O119: 0
B122: 017-0279 | C122: Morgantown Power LLC | D122: CT3 | E122: 0800-14-4-0070 | F122: Distillate Fuel | G122: #2 Oil | H122: 29589 | I122: gallons | J122: 137427 | K122: Btu/gallons | L122: 3205 | M122: 259.4 | N122: 0.0106 | O122: 0.00212
D124: CT4 | E124: 0800-14-4-0071 | F124: Distillate Fuel | G124: #2 Oil | H124: 23539 | I124: gallons | J124: 137427 | K124: Btu/gallons | L124: 3180 | M124: 257.7 | N124: 0.0105 | O124: 0.0021
B127: 033-2200 | C127: Panda Brandywine | D127: Unit 1 | E127: 5-0844 | F127: Natural Gas | G127: Natural Gas | H127: =L127*1000000/J127 -> 2.5037286e+09 | I127: scf | J127: 1050 | K127: MMBTU/scf | L127: 2628915 | M127: =L127/L129*M129 -> 156428.49 | N127: =L127/L129*N129 -> 11.261161 | O127: =L127/L129*O129 -> 3.8865953
D128: Unit 1 | E128: 5-0844 | F128: Distillate Fuel | G128: Fuel Oil | H128: =L128*1000000/J128 -> 66065.782 | I128: gallons | J128: 137242 | K128: Btu/gallon | L128: 9067 | M128: =L128/L129*M129 -> 539.51424 | N128: =L128/L129*N129 -> 0.038839196 | O128: =L128/L129*O129 -> 0.013404678
D129: Unit 1 | E129: 5-0844 | F129: Sum for unit; CEM CO2 emissions for unit | L129: =L127+L128 -> 2637982 | M129: 156968 | N129: 11.3 | O129: 3.9
D131: Unit 2 | E131: 5-0845 | F131: Natural Gas | G131: Natural Gas | I131: scf | K131: MMBTU/scf | L131: 2885608 | M131: =L131/L133*M133 -> 171589.61 | N131: =L131/L133*N133 -> 12.379626 | O131: =L131/L133*O133 -> 4.2929349
D132: Unit 2 | E132: 5-0845 | F132: Distillate Fuel | G132: Fuel Oil | I132: gallons | J132: 137242 | K132: Btu/gallon | L132: 4749 | M132: =L132/L133*M133 -> 282.39423 | N132: =L132/L133*N133 -> 0.020373815 | O132: =L132/L133*O133 -> 0.0070651134
D133: Unit 2 | E133: 5-0845 | F133: Sum for unit; CEM CO2 emissions for unit | L133: =L131+L132 -> 2890357 | M133: 171872 | N133: 12.4 | O133: 4.3
D135: Unit 3 | E135: 9-1465 | F135: Distillate Fuel | G135: Fuel Oil | I135: gallons | J135: 137242 | K135: Btu/gallon | L135: 558 | M135: 46 | N135: 3.7 | O135: 0.00037
B138: 510-265 | C138: CPSG- Philadelphia Road Power | D138: Unit 1 CT | E138: 4-0431 | F138: Distillate Fuel | G138: #2 Oil | H138: 54000 | I138: gallons | J138: 137 | K138: MMBTU/1E+03 gallons | L138: =7470000000/1000000 -> 7470 | M138: 608.5 | N138: 0.02 | O138: 0
D139: Unit 2 CT | E139: 4-0432 | F139: Distillate Fuel | G139: #2 Oil | H139: 39000 | I139: gallons | J139: 137 | K139: MMBTU/1E+03 gallons | L139: =5340000000/1000000 -> 5340 | M139: 435.3 | N139: 0.02 | O139: 0
D140: Unit 3 CT | E140: 4-0433 | F140: Distillate Fuel | G140: #2 Oil | H140: 55000 | I140: gallons | J140: 137 | K140: MMBTU/1E+03 gallons | L140: =7580000000/1000000 -> 7580 | M140: 617.4 | N140: 0.03 | O140: 0.01
D141: Unit 4 CT | E141: 4-0434 | F141: Distillate Fuel | G141: #2 Oil | H141: 52000 | I141: gallons | J141: 137 | K141: MMBTU/1E+03 gallons | L141: =7180000000/1000000 -> 7180 | M141: 584.7 | N141: 0.02 | O141: 0
B144: 015-0202 | C144: Rock Spring | D144: Turbine 1 | E144: 5-0076 | F144: Natural Gas | G144: Natural Gas | I144: scf | K144: MMBTU/scf | L144: 454220.8 | M144: 24357.4 | N144: 0.41 | O144: 0.04
D145: Turbine 2 | E145: 5-0077 | F145: Natural Gas | G145: Natural Gas | I145: scf | K145: MMBTU/scf | L145: 442822.1 | M145: 24182.652 | N145: 0.41 | O145: 0.04
D146: Turbine 3 | E146: 5-0078 | F146: Natural Gas | G146: Natural Gas | I146: scf | K146: MMBTU/scf | L146: 814472.4 | M146: 44977.203 | N146: 0.76 | O146: 0.08
D147: Turbine 4 | E147: 5-0079 | F147: Natural Gas | G147: Natural Gas | I147: scf | K147: MMBTU/scf | L147: 693996 | M147: 38042.757 | N147: 0.64 | O147: 0.06
D148: NG Fuel Gas Heater | E148: 6-0205 | F148: Natural Gas | G148: Natural Gas | H148: 4591364 | I148: scf | J148: 1036 | K148: MMBTU/scf | L148: 4830 | M148: 275.48 | N148: 0.0048 | O148: 0.0005
B151: 041-0029 | C151: Easton Utility | D151: Unit 101 | E151: 9-0032 | F151: Distillate Fuel | G151: #2 Oil | H151: 3359000 | I151: gallons | J151: 137 | K151: MMBTU/1E+03 gallons | L151: 460 | M151: 38 | N151: 0.0019 | O151: 0.0002
D152: Unit 102 | E152: 9-0031 | F152: Distillate Fuel | G152: #2 Oil | H152: 3220000 | I152: gallons | J152: 137 | K152: MMBTU/1E+03 gallons | L152: 441 | M152: 36 | N152: 0.0018 | O152: 0.0002
D153: Unit 7 | E153: 9-0023 | F153: Distillate Fuel | G153: #2 Oil | H153: 733000 | I153: gallons | J153: 137 | K153: MMBTU/1E+03 gallons | L153: 100 | M153: 8 | N153: 0.0004 | O153: 0
D154: Unit 9 | E154: 9-0025 | F154: Distillate Fuel | G154: #2 Oil | H154: 4418000 | I154: gallons | J154: 137 | K154: MMBTU/1E+03 gallons | L154: 605 | M154: 50 | N154: 0.0025 | O154: 0.0002
D155: Unit 10 | E155: 9-0026 | F155: Distillate Fuel | G155: #2 Oil | H155: 2490000 | I155: gallons | J155: 137 | K155: MMBTU/1E+03 gallons | L155: 341 | M155: 28 | N155: 0.0014 | O155: 0.0001
D156: Unit 11 | E156: 9-0027 | F156: Distillate Fuel | G156: #2 Oil | H156: 4210000 | I156: gallons | J156: 137 | K156: MMBTU/1E+03 gallons | L156: 577 | M156: 48 | N156: 0.0023 | O156: 0.0002
...

Sheet Imported Electricity
B2: Imported Electricity Emissions for Maryland
B4: Amount of Electricity Imported
B6: Electricity Consumption (MD Retail Sales) (MWh)
B8: End-Use Sector | C8: 2001 | D8: 2002 | E8: 2003 | F8: 2004 | G8: 2005 | H8: 2006 | I8: 2007 | J8: 2008 | K8: 2009 | L8: 2010 | M8: 2011 | N8: 2012 | O8: 2013 | P8: 2014 | Q8: 2015 | R8: 2016 | S8: 2017 | T8: 2018 | U8: 2019 | V8: 2020 | W8: 2021 | X8: 2022 | Y8: 2023
B9: Residential | C9: 24294096 | D9: 25489053 | E9: 26671274 | F9: 27951978 | G9: 28439645 | H9: 26905386 | I9: 28194802 | J9: 27144255 | K9: 26944566 | L9: 28934074 | M9: 27295675 | N9: 26678158 | O9: 27448367 | P9: 27487633 | Q9: 27403336 | R9: 27316871 | S9: 26058000 | T9: 28138474 | U9: 27533693 | V9: 27306375 | W9: 27964545 | X9: 28065379 | Y9: 26107722
B10: Commercial | C10: 26243614 | D10: 21044289 | E10: 16950347 | F10: 17264135 | G10: 17931771 | H10: 29729030 | I10: 30691159 | J10: 30002993 | K10: 29806001 | L10: 30771317 | M10: 30749605 | N10: 30107526 | O10: 29966199 | P10: 29804342 | Q10: 29959115 | R10: 29675993 | S10: 28840000 | T10: 29547518 | U10: 28893335 | V10: 26451864 | W10: 27437050 | X10: 27623358 | Y10: 27061701
B11: Industrial | C11: 10176724 | D11: 20874507 | E11: 27175526 | F11: 21194572 | G11: 21516638 | H11: 6057030 | I11: 5980358 | J11: 5649943 | K11: 5285833 | L11: 5083115 | M11: 5007386 | N11: 4499827 | O11: 3943942 | P11: 3847954 | Q11: 3883315 | R11: 3821476 | S11: 3743000 | T11: 3870188 | U11: 3718412 | V11: 3381895 | W11: 3480392 | X11: 3601623 | Y11: 3455597
B12: Transportation | C12: - | D12: - | E12: 461436 | F12: 481015 | G12: 477331 | H12: 481697 | I12: 524341 | J12: 528586 | K12: 552743 | L12: 546992 | M12: 547045 | N12: 528041 | O12: 540970 | P12: 543940 | Q12: 535953 | R12: 539571 | S12: 529000 | T12: 530275 | U12: 575218 | V12: 488906 | W12: 421987 | X12: 392359 | Y12: 408065
B13: Other | C13: 925586 | D13: 972057 | E13: 0 | F13: 0 | G13: 0 | H13: 0 | I13: 0 | J13: 0 | K13: 0 | L13: 0 | M13: 0 | N13: 0 | O13: 0 | P13: 0 | Q13: 0 | R13: 0 | S13: 0 | T13: 0 | U13: 0 | V13: 0 | W13: 0 | X13: 0 | Y13: 0
B14: Total Electricity Consumption (Retail Sales) (MWh) | C14: 61640020 | D14: 68379906 | E14: 71258583 | F14: 66891700 | G14: 68365385 | H14: 63173143 | I14: 65390660 | J14: 63325777 | K14: 62589143 | L14: 65335498 | M14: 63599711 | N14: 61813552 | O14: 61899478 | P14: 61683869 | Q14: 61781719 | R14: 61353911 | S14: 59175000 | T14: 62086455 | U14: 60720658 | V14: 57629040 | W14: 59303974 | X14: 59682719 | Y14: 57033085
B17: Electricity Consumption Accounting for Transmission and Distribution Losses (MWh)
C19: 2001 | D19: 2002 | E19: 2003 | F19: 2004 | G19: 2005 | H19: 2006 | I19: 2007 | J19: 2008 | K19: 2009 | L19: 2010 | M19: 2011 | N19: 2012 | O19: 2013 | P19: 2014 | Q19: 2015 | R19: 2016 | S19: 2017 | T19: 2018 | U19: 2019 | V19: 2020 | W19: 2021 | X19: 2022 | Y19: 2023
B20: Transmission and Distribution Losses (%) | C20: 0.0625 | D20: 0.0625 | E20: 0.0625 | F20: 0.0625 | G20: 0.0625 | H20: 0.0625 | I20: 0.0625 | J20: 0.0625 | K20: 0.0625 | L20: 0.0625 | M20: 0.0625 | N20: 0.0625 | O20: 0.0625 | P20: 0.0625 | Q20: 0.0625 | R20: 0.0625 | S20: 0.0625 | T20: 0.0625 | U20: 0.0625 | V20: 0.0625 | W20: 0.0625 | X20: 0.0625 | Y20: 0.0625
B21: Total Gross Electricity Consumption (MWh) | C21: =C14/(1-C20) -> 65749355 | D21: =D14/(1-D20) -> 72938566 | E21: =E14/(1-E20) -> 76009155 | F21: =F14/(1-F20) -> 71351147 | G21: =G14/(1-G20) -> 72923077 | H21: =H14/(1-H20) -> 67384686 | I21: =I14/(1-I20) -> 69750037 | J21: =J14/(1-J20) -> 67547495 | ... Y21: =Y14/(1-Y20) -> 60835291
B24: Maryland In-State Gross Generation (MWh)
B26: Fuel | C26: 2001 | D26: 2002 | E26: 2003 | F26: 2004 | G26: 2005 | H26: 2006 | I26: 2007 | J26: 2008 | K26: 2009 | L26: 2010 | M26: 2011 | N26: 2012 | O26: 2013 | P26: 2014 | Q26: 2015 | R26: 2016 | S26: 2017 | T26: 2018 | U26: 2019 | V26: 2020 | W26: 2021 | X26: 2022 | Y26: 2023
B27: Coal | C27: 28379409 | D27: 28712053 | E27: 29939086 | F27: 29195458 | G27: 29302792 | H27: 29408022 | I27: 29699186 | J27: 27218239 | K27: 24162345 | L27: 23668204 | M27: 21186919 | N27: 16184773 | O27: 15538469 | P27: 17603291 | Q27: 13925604 | R27: 13826213 | S27: 8514009 | T27: 10066924 | U27: 5721573 | V27: 3359560 | W27: 5173979 | X27: 4639314 | Y27: 1708970
B28: Petroleum | C28: 3021639 | D28: 2282432 | E28: 3572183 | F28: 3296842 | G28: 3805569 | H28: 580726 | I28: 984831 | J28: 405840 | K28: 329901 | L28: 322438 | M28: 219804 | N28: 137305 | O28: 189553 | P28: 463456 | Q28: 232348 | R28: 160550 | S28: 102181 | T28: 260015 | U28: 67269 | V28: 70379 | W28: 72669 | X28: 142864 | Y28: 64236
B29: Natural Gas | C29: 1760812 | D29: 2214431 | E29: 1195642 | F29: 1183301 | G29: 1886986 | H29: 1770206 | I29: 2240927 | J29: 1848147 | K29: 1767844 | L29: 2896978 | M29: 2236976 | N29: 4944895 | O29: 2887589 | P29: 2505890 | Q29: 4555345 | R29: 5423046 | S29: 6729174 | T29: 13849673 | U29: 14605261 | V29: 14091778 | W29: 13977747 | X29: 13949642 | Y29: 15336206
B30: Other Gases | C30: 439980 | D30: 504513 | E30: 325355 | F30: 411565 | G30: 342466 | H30: 332444 | I30: 377560 | J30: 337823 | K30: 269182 | L30: 214727 | M30: 154641 | N30: 112314 | O30: 0 | P30: 0 | Q30: 0 | R30: 0 | S30: - | W30: . | X30: . | Y30: .
B31: Nuclear | C31: 13656267 | D31: 12128005 | E31: 13690713 | F31: 14580260 | G31: 14703221 | H31: 13830411 | I31: 14353192 | J31: 14678695 | K31: 14550119 | L31: 13993948 | M31: 14397437 | N31: 13579266 | O31: 14264305 | P31: 14343334 | Q31: 14643325 | R31: 14760177 | S31: 15106988 | T31: 14987931 | U31: 15012922 | V31: 15080557 | W31: 14993633 | X31: 14810684 | Y31: 14983751
B32: Hydroelectric Conventional | C32: 1183518 | D32: 1660989 | E32: 2646984 | F32: 2507521 | G32: 1703639 | H32: 2104275 | I32: 1652216 | J32: 1974078 | K32: 1888769 | L32: 1667397 | M32: 2540908 | N32: 1656539 | O32: 1727020 | P32: 1615523 | Q32: 1623190 | R32: 1392187 | S32: 1965459 | T32: 2830886 | U32: 2188051 | V32: 1696803 | W32: 2117149 | X32: 1779682 | Y32: 1849088
B33: Wind | L33: 1494 | M33: 319254 | N33: 321687 | O33: 321670 | P33: 323612 | Q33: 434595 | R33: 527114 | S33: 561349 | T33: 569984 | U33: 520269 | V33: 545676 | W33: 517431 | X33: 497608 | Y33: 481526
B34: Solar Thermal and Photovoltaic (excluding small-scale) | L34: 80 | M34: 2070 | N34: 22473 | O34: 63485 | P34: 98118 | Q34: 118801 | R34: 208657 | S34: 267090 | T34: 396720 | U34: 494311 | V34: 527235 | W34: 632049 | X34: 713532 | Y34: 942764
B35: Wood and Wood Derived Fuels | C35: 11939 | D35: 182904 | E35: 225240 | F35: 192384 | G35: 205985 | H35: 218066 | I35: 203097 | J35: 197704 | K35: 175058 | L35: 164688 | M35: 167437 | N35: 158953 | O35: 142789 | P35: 150426 | Q35: 111162 | R35: 123653 | S35: 120338 | T35: 104043 | U35: 60124 | V35: 10304 | W35: 8473 | X35: 6856 | Y35: 2672
B36: Other Biomass | C36: 361076 | D36: 338727 | E36: 370811 | F36: 396824 | G36: 417380 | H36: 408095 | I36: 400364 | J36: 414781 | K36: 375721 | L36: 407402 | M36: 420114 | N36: 395039 | O36: 413220 | P36: 416719 | Q36: 403239 | R36: 422029 | S36: 415940 | T36: 417346 | U36: 330379 | V36: 327069 | W36: 366363 | X36: 305614 | Y36: 319124
B37: Other | C37: 247700 | D37: 255034 | E37: 278224 | F37: 288616 | G37: 293561 | H37: 304635 | I37: 286550 | J37: 285645 | K37: 255893 | L37: 269907 | M37: 267727 | N37: 296499 | O37: 302712 | P37: 313284 | Q37: 317935 | R37: 323060 | S37: 321712 | T37: 326127 | U37: 325436 | V37: 319843 | W37: 378348 | X37: 295945 | Y37: 312894
B38: Total | C38: 49062340 | D38: 48279088 | E38: 52244237 | F38: 52052770 | G38: 52661600 | H38: 48956880 | I38: 50197924 | J38: 47360953 | K38: 43774832 | L38: 43607266 | M38: 41913287 | N38: 37809743 | O38: 35850812 | P38: 37833653 | Q38: 36365544 | R38: 37166686 | S38: 34104240 | T38: 43809649 | U38: 39325595 | V38: 36029204 | W38: 38235713 | X38: 37139365 | Y38: 36000650
B41: Imported Electricity to Meet Maryland Demand (MWh)
C43: 2001 | D43: 2002 | E43: 2003 | F43: 2004 | G43: 2005 | H43: 2006 | I43: 2007 | J43: 2008 | K43: 2009 | L43: 2010 | M43: 2011 | N43: 2012 | O43: 2013 | P43: 2014 | Q43: 2015 | R43: 2016 | S43: 2017 | T43: 2018 | U43: 2019 | V43: 2020 | W43: 2021 | X43: 2022 | Y43: 2023
B44: Gross Imported Electricity to Meet MD Demand (MWh) | C44: =C21-C38 -> 16687015 | D44: =D21-D38 -> 24659478 | E44: =E21-E38 -> 23764918 | F44: =F21-F38 -> 19298377 | G44: =G21-G38 -> 20261477 | H44: =H21-H38 -> 18427806 | I44: =I21-I38 -> 19552113 | J44: =J21-J38 -> 20186542 | ... Y44: =Y21-Y38 -> 24834641
B47: GHG Emissions Associated with Imported Electricity
B49: Maryland Imported Electricity Consumption by Fuel Type
B51: Fuel Type | C51: Coal | D51: Nuclear | E51: Natural Gas | F51: Oil | G51: Hydroelectric | H51: Solid Waste | I51: Wind | J51: Captured CH4 | K51: Biomass | L51: Solar | M51: Wood | N51: Other | O51: Total
B52: 2023 PJM Electricity Generation Fuel Mix (%) | C52: =121450348/813131324 -> 0.1493613 | D52: =273352117/813131324 -> 0.33617216 | E52: =359447780/813131324 -> 0.44205379 | F52: =2198248/813131324 -> 0.0027034354 | G52: =7824870/813131324 -> 0.0096231319 | H52: =3942261/813131324 -> 0.0048482464 | I52: =28880451/813131324 -> 0.035517573 | J52: =2530338/813131324 -> 0.0031118442 | K52: =8/813131324 -> 9.8385092e-09 | L52: =11196440/813131324 -> 0.013769535 | M52: =1386046/813131324 -> 0.0017045783 | N52: =922417/813131324 -> 0.001134401 | O52: =SUM(C52:N52) -> 1
B53: 2023 Maryland Import Share (MWh) | C53: =C52*$O53 -> 3709334.1 | D53: =D52*$O53 -> 8348714.9 | E53: =E52*$O53 -> 10978247 | F53: =F52*$O53 -> 67138.847 | G53: =G52*$O53 -> 238987.02 | H53: =H52*$O53 -> 120404.46 | I53: =I52*$O53 -> 882066.16 | J53: =J52*$O53 -> 77281.533 | ... N53: =N52*$O53 -> 28172.442 | O53: =Y44 -> 24834641
B56: Application of Fuel-Specific Emissions Factors
B58: Fuel Type | C58: Coal | D58: Nuclear | E58: Natural Gas | F58: Oil | G58: Hydroelectric | H58: Solid Waste | I58: Wind | J58: Captured CH4 | K58: Biomass | L58: Solar | M58: Wood | N58: Other | O58: Total
B59: 2023 Imported Electricity CO2 Emissions Factor (metric tons/MWh) | C59: =264838579803/121450348/2000*0.907185 -> 0.98911856 | D59: =0/273352117/2000*0.907185 -> 0 | E59: =313800469346/359447780/2000*0.907185 -> 0.39598948 | F59: =4646720264/2198248/2000*0.907185 -> 0.95881696 | G59: =0/7824870/2000*0.907185 -> 0 | H59: =7525367777/3942261/2000*0.907185 -> 0.86586108 | I59: =0/28880451/2000*0.907185 -> 0 | J59: =1144157086/2530338/2000*0.907185 -> 0.20510346 | K59: =0/8/2000*0.907185 -> 0 | L59: =0/11196440/2000*0.907185 -> 0 | M59: =3443041965/1386046/2000*0.907185 -> 1.1267577 | N59: =458524754/922417/2000*0.907185 -> 0.22547654 | O59: -
B60: 2023 Imported Electricity CO2 Emissions (metric tons) | C60: =C53*C59 -> 3668971.2 | D60: =D53*D59 -> 0 | E60: =E53*E59 -> 4347270.3 | F60: =F53*F59 -> 64373.865 | G60: =G53*G59 -> 0 | H60: =H53*H59 -> 104253.53 | I60: =I53*I59 -> 0 | J60: =J53*J59 -> 15850.71 | ... N60: =N53*N59 -> 6352.2245 | O60: =SUM(C60:N60) -> 8254770.4
B61: 2023 Imported Electricity CO2 Emissions (MMTCO2) | C61: =C60/1000000 -> 3.6689712 | D61: =D60/1000000 -> 0 | E61: =E60/1000000 -> 4.3472703 | F61: =F60/1000000 -> 0.064373865 | G61: =G60/1000000 -> 0 | H61: =H60/1000000 -> 0.10425353 | I61: =I60/1000000 -> 0 | J61: =J60/1000000 -> 0.01585071 | ... O61: =O60/1000000 -> 8.2547704

Sheet Residential
B2: Residential Fuel Use Emissions
B5: Residential Sector CO2 | E5: 2023
C7: Consumption | D7: Carbon Content | E7: Combustion | F7: Emissions | G7: Emissions | J7: =Summary!D2 -> Global Warming Potential
B8: Fuel Type | C8: (Billion Btu) | D8: (lb C/Million Btu) | E8: Efficiency (%) | F8: (short tons carbon) | G8: (MMTCO2e) | K8: =Summary!E3 -> AR6 100-yr GWP
B9: Coal | C9: 0 | D9: =57.73 -> 57.73 | E9: 1 | F9: =C9*1000*D9*E9/2000 -> 0 | G9: =F9*(44/12)*0.907185/1000000 -> 0 | J9: =Summary!C4 -> CO2 | K9: =Summary!E4 -> 1
B10: Distillate Fuel | C10: =13420 -> 13420 | D10: =44.58 -> 44.58 | E10: 1 | F10: =C10*1000*D10*E10/2000 -> 299131.8 | G10: =F10*(44/12)*0.907185/1000000 -> 0.99501557 | J10: =Summary!C5 -> CH4 | K10: =Summary!E5 -> 27.9
B11: Kerosene | C11: =268 -> 268 | D11: =44.01 -> 44.01 | E11: 1 | F11: =C11*1000*D11*E11/2000 -> 5897.34 | G11: =F11*(44/12)*0.907185/1000000 -> 0.019616587 | J11: =Summary!C6 -> N2O | K11: =Summary!E6 -> 273
B12: LPG (Propane) | C12: =5839 -> 5839 | D12: =37.81 -> 37.81 | E12: 1 | F12: =C12*1000*D12*E12/2000 -> 110386.29 | G12: =F12*(44/12)*0.907185/1000000 -> 0.3671829 | J12: =Summary!C7 -> SF6 | K12: =Summary!E7 -> 24300
B13: Natural Gas | C13: =74444 -> 74444 | D13: =31.82 -> 31.82 | E13: 1 | F13: =C13*1000*D13*E13/2000 -> 1184404 | G13: =F13*(44/12)*0.907185/1000000 -> 3.9397365
B14: Wood | C14: =5617 -> 5617 | D14: -
F15: Total | G15: =SUM(G9:G13) -> 5.3215515
B18: Residential Sector N2O | E18: 2023
C20: Consumption | D20: Emission Factor | E20: Emissions | F20: GWP | G20: Emissions
B21: Fuel Type | C21: (Billion Btu) | D21: (metric tons N2O/BBtu) | E21: (metric tons N2O) | G21: (MMTCO2e)
B22: Coal | C22: =C9 -> 0 | D22: 0.0015034546 | E22: =C22*D22 -> 0 | F22: =K11 -> 273 | G22: =E22*F22/1000000 -> 0
B23: Distillate Fuel | C23: =C10 -> 13420 | D23: 0.00060138184 | E23: =C23*D23 -> 8.0705442 | F23: =K11 -> 273 | G23: =E23*F23/1000000 -> 0.0022032586
B24: Kerosene | C24: =C11 -> 268 | D24: 0.00060138184 | E24: =C24*D24 -> 0.16117033 | F24: =K11 -> 273 | G24: =E24*F24/1000000 -> 4.3999501e-05
B25: LPG (Propane) | C25: =C12 -> 5839 | D25: 0.00060138184 | E25: =C25*D25 -> 3.5114685 | F25: =K11 -> 273 | G25: =E25*F25/1000000 -> 0.00095863091
B26: Natural Gas | C26: =C13 -> 74444 | D26: 9.4955027e-05 | E26: =C26*D26 -> 7.068832 | F26: =K11 -> 273 | G26: =E26*F26/1000000 -> 0.0019297911
B27: Wood | C27: =C14 -> 5617 | D27: 0.0037982011 | E27: =C27*D27 -> 21.334495 | F27: =K11 -> 273 | G27: =E27*F27/1000000 -> 0.0058243172
F28: Total | G28: =SUM(G22:G27) -> 0.010959997
B31: Residential Sector CH4 | E31: 2023
C33: Consumption | D33: Emission Factor | E33: Emissions | F33: GWP | G33: Emissions
B34: Fuel Type | C34: (Billion Btu) | D34: (metric tons CH4 /BBtu) | E34: (metric tons CH4) | G34: (MMTCO2e)
B35: Coal | C35: =C9 -> 0 | D35: 0.30069092 | E35: =C35*D35 -> 0 | F35: =K10 -> 27.9 | G35: =E35*F35/1000000 -> 0
B36: Distillate Fuel | C36: =C10 -> 13420 | D36: 0.010023031 | E36: =C36*D36 -> 134.50907 | F36: =K10 -> 27.9 | G36: =E36*F36/1000000 -> 0.0037528031
B37: Kerosene | C37: =C11 -> 268 | D37: 0.010023031 | E37: =C37*D37 -> 2.6861722 | F37: =K10 -> 27.9 | G37: =E37*F37/1000000 -> 7.4944204e-05
B38: LPG (Propane) | C38: =C12 -> 5839 | D38: 0.010023031 | E38: =C38*D38 -> 58.524476 | F38: =K10 -> 27.9 | G38: =E38*F38/1000000 -> 0.0016328329
B39: Natural Gas | C39: =C13 -> 74444 | D39: 0.0047477513 | E39: =C39*D39 -> 353.4416 | F39: =K10 -> 27.9 | G39: =E39*F39/1000000 -> 0.0098610207
B40: Wood | C40: =C14 -> 5617 | D40: 0.28486508 | E40: =C40*D40 -> 1600.0872 | F40: =K10 -> 27.9 | G40: =E40*F40/1000000 -> 0.044642432
F41: Total | G41: =SUM(G35:G40) -> 0.059964032
B44: Residential Sector 2023 GHG Emissions
C46: CO2 | D46: N2O | E46: CH4 | F46: Total
B47: Fuel Type | C47: (MMTCO2e) | D47: (MMTCO2e) | E47: (MMTCO2e) | F47: (MMTCO2e)
B48: Coal | C48: =G9 -> 0 | D48: =G22 -> 0 | E48: =G35 -> 0 | F48: =C48+D48+E48 -> 0
B49: Distillate Fuel | C49: =G10 -> 0.99501557 | D49: =G23 -> 0.0022032586 | E49: =G36 -> 0.0037528031 | F49: =C49+D49+E49 -> 1.0009716
B50: Kerosene | C50: =G11 -> 0.019616587 | D50: =G24 -> 4.3999501e-05 | E50: =G37 -> 7.4944204e-05 | F50: =C50+D50+E50 -> 0.019735531
B51: LPG (Propane) | C51: =G12 -> 0.3671829 | D51: =G25 -> 0.00095863091 | E51: =G38 -> 0.0016328329 | F51: =C51+D51+E51 -> 0.36977436
B52: Natural Gas | C52: =G13 -> 3.9397365 | D52: =G26 -> 0.0019297911 | E52: =G39 -> 0.0098610207 | F52: =C52+D52+E52 -> 3.9515273
B53: Wood | C53: =G14 -> 0 | D53: =G27 -> 0.0058243172 | E53: =G40 -> 0.044642432 | F53: =C53+D53+E53 -> 0.050466749
E54: Total | F54: =SUM(F48:F53) -> 5.3924755
C56: CO2 | D56: N2O | E56: CH4 | F56: Total
B57: Fuel Type Category | C57: (MMTCO2e) | D57: (MMTCO2e) | E57: (MMTCO2e) | F57: (MMTCO2e)
B58: Coal | C58: =C48 -> 0 | D58: =D48 -> 0 | E58: =E48 -> 0 | F58: =F48 -> 0
B59: Natural Gas & LPG | C59: =C52+C51 -> 4.3069194 | D59: =D52+D51 -> 0.0028884221 | E59: =E52+E51 -> 0.011493854 | F59: =F52+F51 -> 4.3213016
B60: Petroleum | C60: =C49+C50 -> 1.0146322 | D60: =D49+D50 -> 0.0022472581 | E60: =E49+E50 -> 0.0038277473 | F60: =F49+F50 -> 1.0207072
B61: Wood | C61: =C53 -> 0 | D61: =D53 -> 0.0058243172 | E61: =E53 -> 0.044642432 | F61: =F53 -> 0.050466749
E62: Total | F62: =SUM(F58:F61) -> 5.3924755

Sheet Commercial
B2: Commercial Fuel Use Emissions
B5: Commercial Sector CO2 | E5: 2023
C7: Consumption | D7: Carbon Content | E7: Combustion | F7: Emissions | G7: Emissions | J7: =Summary!D2 -> Global Warming Potential
B8: Fuel Type | C8: (Billion Btu) | D8: (lb C/Million Btu) | E8: Efficiency (%) | F8: (short tons carbon) | G8: (MMTCO2e) | K8: =Summary!E3 -> AR6 100-yr GWP
B9: Coal | C9: 0 | D9: 57.73 | E9: 1 | F9: =C9*1000*D9*E9/2000 -> 0 | G9: =F9*(44/12)*0.907185/1000000 -> 0 | J9: =Summary!C4 -> CO2 | K9: =Summary!E4 -> 1
B10: Distillate Fuel | C10: =6908 -> 6908 | D10: 44.58 | E10: 1 | F10: =C10*1000*D10*E10/2000 -> 153979.32 | G10: =F10*(44/12)*0.907185/1000000 -> 0.51218834 | J10: =Summary!C5 -> CH4 | K10: =Summary!E5 -> 27.9
B11: Kerosene | C11: =79 -> 79 | D11: 44.01 | E11: 1 | F11: =C11*1000*D11*E11/2000 -> 1738.395 | G11: =F11*(44/12)*0.907185/1000000 -> 0.0057825015 | J11: =Summary!C6 -> N2O | K11: =Summary!E6 -> 273
B12: LPG (Propane) | C12: =2661 -> 2661 | D12: 37.81 | E12: 1 | F12: =C12*1000*D12*E12/2000 -> 50306.205 | G12: =F12*(44/12)*0.907185/1000000 -> 0.16733579 | J12: =Summary!C7 -> SF6 | K12: =Summary!E7 -> 24300
B13: Motor Gasoline | C13: =9331-685 -> 8646 | D13: 42.49 | E13: 1 | F13: =C13*1000*D13*E13/2000 -> 183684.27 | G13: =F13*(44/12)*0.907185/1000000 -> 0.61099725
B14: Residual Fuel | C14: =26 -> 26 | D14: 45.15 | E14: 1 | F14: =C14*1000*D14*E14/2000 -> 586.95 | G14: =F14*(44/12)*0.907185/1000000 -> 0.0019523982
B15: Natural Gas | C15: =70620 -> 70620 | D15: 31.82 | E15: 1 | F15: =C15*1000*D15*E15/2000 -> 1123564.2 | G15: =F15*(44/12)*0.9074185/1000000 -> 3.7383241
B16: Wood | C16: =1241 -> 1241 | D16: -
F17: Total | G17: =SUM(G9:G15) -> 5.0365804
B20: Commercial Sector N2O | E20: 2023
C22: Consumption | D22: Emission Factor | E22: Emissions | F22: GWP | G22: Emissions
B23: Fuel Type | C23: (Billion Btu) | D23: (metric tons N2O/BBtu) | E23: (metric tons N2O) | G23: (MMTCO2e)
B24: Coal | C24: =C9 -> 0 | D24: 0.0015034546 | E24: =C24*D24 -> 0 | F24: =K11 -> 273 | G24: =E24*F24/1000000 -> 0
B25: Distillate Fuel | C25: =C10 -> 6908 | D25: 0.00060138184 | E25: =C25*D25 -> 4.1543457 | F25: =K11 -> 273 | G25: =E25*F25/1000000 -> 0.0011341364
B26: Kerosene | C26: =C11 -> 79 | D26: 0.00060138184 | E26: =C26*D26 -> 0.047509165 | F26: =K11 -> 273 | G26: =E26*F26/1000000 -> 1.2970002e-05
B27: LPG (Propane) | C27: =C12 -> 2661 | D27: 0.00060138184 | E27: =C27*D27 -> 1.6002771 | F27: =K11 -> 273 | G27: =E27*F27/1000000 -> 0.00043687564
B28: Motor Gasoline | C28: =C13 -> 8646 | D28: 0.00060138184 | E28: =C28*D28 -> 5.1995474 | F28: =K11 -> 273 | G28: =E28*F28/1000000 -> 0.0014194764
B29: Residual Fuel | C29: =C14 -> 26 | D29: 0.00060138184 | E29: =C29*D29 -> 0.015635928 | F29: =K11 -> 273 | G29: =E29*F29/1000000 -> 4.2686083e-06
B30: Natural Gas | C30: =C15 -> 70620 | D30: 9.4955027e-05 | E30: =C30*D30 -> 6.705724 | F30: =K11 -> 273 | G30: =E30*F30/1000000 -> 0.0018306626
B31: Wood | C31: =C16 -> 1241 | D31: 0.0037982011 | E31: =C31*D31 -> 4.7135675 | F31: =K11 -> 273 | G31: =E31*F31/1000000 -> 0.0012868039
F32: Total | G32: =SUM(G24:G31) -> 0.0061251936
B35: Commercial Sector CH4 | E35: 2023
C37: Consumption | D37: Emission Factor | E37: Emissions | F37: GWP | G37: Emissions
B38: Fuel Type | C38: (Billion Btu) | D38: (metric tons CH4 /BBtu) | E38: (metric tons CH4) | G38: (MMTCO2e)
B39: Coal | C39: =C9 -> 0 | D39: 0.010023031 | E39: =C39*D39 -> 0 | F39: =K10 -> 27.9 | G39: =E39*F39/1000000 -> 0
B40: Distillate Fuel | C40: =C10 -> 6908 | D40: 0.010023031 | E40: =C40*D40 -> 69.239095 | F40: =K10 -> 27.9 | G40: =E40*F40/1000000 -> 0.0019317708
B41: Kerosene | C41: =C11 -> 79 | D41: 0.010023031 | E41: =C41*D41 -> 0.79181942 | F41: =K10 -> 27.9 | G41: =E41*F41/1000000 -> 2.2091762e-05
B42: LPG (Propane) | C42: =C12 -> 2661 | D42: 0.010023031 | E42: =C42*D42 -> 26.671284 | F42: =K10 -> 27.9 | G42: =E42*F42/1000000 -> 0.00074412884
B43: Motor Gasoline | C43: =C13 -> 8646 | D43: 0.010023031 | E43: =C43*D43 -> 86.659123 | F43: =K10 -> 27.9 | G43: =E43*F43/1000000 -> 0.0024177895
B44: Residual Fuel | C44: =C14 -> 26 | D44: 0.010023031 | E44: =C44*D44 -> 0.2605988 | F44: =K10 -> 27.9 | G44: =E44*F44/1000000 -> 7.2707064e-06
B45: Natural Gas | C45: =C15 -> 70620 | D45: 0.0047477513 | E45: =C45*D45 -> 335.2862 | F45: =K10 -> 27.9 | G45: =E45*F45/1000000 -> 0.009354485
B46: Wood | C46: =C16 -> 1241 | D46: 0.28486508 | E46: =C46*D46 -> 353.51756 | F46: =K10 -> 27.9 | G46: =E46*F46/1000000 -> 0.0098631401
F47: Total | G47: =SUM(G39:G46) -> 0.024340677
B50: Commercial Sector 2023 GHG Emissions
C52: CO2 | D52: CH4 | E52: N2O | F52: Total
B53: Fuel Type | C53: (MMTCO2e) | D53: (MMTCO2e) | E53: (MMTCO2e) | F53: (MMTCO2e)
B54: Coal | C54: =G9 -> 0 | D54: =G39 -> 0 | E54: =G24 -> 0 | F54: =C54+D54+E54 -> 0
B55: Distillate Fuel | C55: =G10 -> 0.51218834 | D55: =G40 -> 0.0019317708 | E55: =G25 -> 0.0011341364 | F55: =C55+D55+E55 -> 0.51525425
B56: Kerosene | C56: =G11 -> 0.0057825015 | D56: =G41 -> 2.2091762e-05 | E56: =G26 -> 1.2970002e-05 | F56: =C56+D56+E56 -> 0.0058175633
B57: LPG (Propane) | C57: =G12 -> 0.16733579 | D57: =G42 -> 0.00074412884 | E57: =G27 -> 0.00043687564 | F57: =C57+D57+E57 -> 0.1685168
B58: Motor Gasoline | C58: =G13 -> 0.61099725 | D58: =G43 -> 0.0024177895 | E58: =G28 -> 0.0014194764 | F58: =C58+D58+E58 -> 0.61483452
B59: Residual Fuel | C59: =G14 -> 0.0019523982 | D59: =G44 -> 7.2707064e-06 | E59: =G29 -> 4.2686083e-06 | F59: =C59+D59+E59 -> 0.0019639375
B60: Natural Gas | C60: =G15 -> 3.7383241 | D60: =G45 -> 0.009354485 | E60: =G30 -> 0.0018306626 | F60: =C60+D60+E60 -> 3.7495093
B61: Wood | C61: =G16 -> 0 | D61: =G46 -> 0.0098631401 | E61: =G31 -> 0.0012868039 | F61: =C61+D61+E61 -> 0.011149944
E62: Total | F62: =SUM(F54:F61) -> 5.0670463
C64: CO2 | D64: CH4 | E64: N2O | F64: Total
B65: Fuel Type Category | C65: (MMTCO2e) | D65: (MMTCO2e) | E65: (MMTCO2e) | F65: (MMTCO2e)
B66: Coal | C66: =C54 -> 0 | D66: =D54 -> 0 | E66: =E54 -> 0 | F66: =F54 -> 0
B67: Natural Gas & LPG | C67: =C60+C57 -> 3.9056599 | D67: =D60+D57 -> 0.010098614 | E67: =E60+E57 -> 0.0022675383 | F67: =F60+F57 -> 3.9180261
B68: Petroleum | C68: =C55+C56+C58+C59 -> 1.1309205 | D68: =D55+D56+D58+D59 -> 0.0043789227 | E68: =E55+E56+E58+E59 -> 0.0025708514 | F68: =F55+F56+F58+F59 -> 1.1378703
B69: Wood | C69: =C61 -> 0 | D69: =D61 -> 0.0098631401 | E69: =E61 -> 0.0012868039 | F69: =F61 -> 0.011149944
E70: Total | F70: =SUM(F66:F69) -> 5.0670463

Sheet Industrial
B2: Industrial Fuel Use Emissions
B5: Industrial Sector CO2 | E5: 2023
C7: Total | D7: Percent | E7: Non-Energy | G7: Net Combustible or
C8: Consumption | D8: Non-Energy | E8: Consumption | G8: Oxidizable Consumption | H8: Carbon Content | I8: Combustion | J8: Emissions | K8: Emissions
B9: Fuel Type | C9: (Billion Btu) | D9: Consumption (%) | E9: (Billion Btu) | F9: Storage Factor (%) | G9: (Billion Btu) | H9: (lb C/Million Btu) | I9: Efficiency (%) | J9: (short tons carbon) | K9: (MMTCO2E)
B10: Coking Coal | C10: 0 | D10: 1 | E10: =C10*D10 -> 0 | F10: 0.1 | G10: =C10-(E10*F10) -> 0 | H10: 56.4592 | I10: 1 | J10: =(G10*1000*H10*I10)/2000 -> 0 | K10: =J10*(44/12)*0.907185/1000000 -> 0
B11: Other Coal | C11: =8571 -> 8571 | D11: 0.0206 | E11: =C11*D11 -> 176.5626 | F11: 0 | G11: =C11-(E11*F11) -> 8571 | H11: 57.56141 | I11: 1 | J11: =(G11*1000*H11*I11)/2000 -> 246679.42 | K11: =J11*(44/12)*0.907185/1000000 -> 0.82054086
B12: Asphalt and Road Oil | C12: =11972 -> 11972 | D12: 1 | E12: =C12*D12 -> 11972 | F12: 0.9956 | G12: =C12-(E12*F12) -> 52.6768 | H12: 45.31195 | I12: 1 | J12: =(G12*1000*H12*I12)/2000 -> 1193.4443 | K12: =J12*(44/12)*0.907185/1000000 -> 0.0039698074
B13: Aviation Gasoline Blending Components | C13: 0 | D13: 0 | E13: =C13*D13 -> 0 | F13: 0 | G13: =C13-(E13*F13) -> 0 | H13: 41.60118 | I13: 1 | J13: =(G13*1000*H13*I13)/2000 -> 0 | K13: =J13*(44/12)*0.907185/1000000 -> 0
B14: Crude Oil | C14: 0 | D14: 0 | E14: =C14*D14 -> 0 | F14: 0 | G14: =C14-(E14*F14) -> 0 | H14: 44.77366 | I14: 1 | J14: =(G14*1000*H14*I14)/2000 -> 0 | K14: =J14*(44/12)*0.907185/1000000 -> 0
B15: Distillate Fuel | C15: =5856 -> 5856 | D15: 0.0056 | E15: =C15*D15 -> 32.7936 | F15: 0.5 | G15: =C15-(E15*F15) -> 5839.6032 | H15: 44.57825 | I15: 1 | J15: =(G15*1000*H15*I15)/2000 -> 130159.65 | K15: =J15*(44/12)*0.907185/1000000 -> 0.43295589
B16: Feedstocks, Naphtha less than 401 F | C16: 0 | D16: 0.9198 | E16: =C16*D16 -> 0 | F16: 0.6698 | G16: =C16-(E16*F16) -> 0 | H16: 40.89713 | I16: 1 | J16: =(G16*1000*H16*I16)/2000 -> 0 | K16: =J16*(44/12)*0.907185/1000000 -> 0
B17: Feedstocks, Other Oils greater than 401 F | C17: 0 | D17: 0.8697 | E17: =C17*D17 -> 0 | F17: 0.6698 | G17: =C17-(E17*F17) -> 0 | H17: 44.46719 | I17: 1 | J17: =(G17*1000*H17*I17)/2000 -> 0 | K17: =J17*(44/12)*0.907185/1000000 -> 0
B18: Kerosene | C18: =20 -> 20 | D18: 0 | E18: =C18*D18 -> 0 | F18: 0 | G18: =C18-(E18*F18) -> 20 | H18: 44.01326 | I18: 1 | J18: =(G18*1000*H18*I18)/2000 -> 440.1326 | K18: =J18*(44/12)*0.907185/1000000 -> 0.0014640329
B19: LPG (Propane) | C19: =1635 -> 1635 | D19: 0.8508 | E19: =C19*D19 -> 1391.058 | F19: 0.6698 | G19: =C19-(E19*F19) -> 703.26935 | H19: 39.15447 | I19: 1 | J19: =(G19*1000*H19*I19)/2000 -> 13768.069 | K19: =J19*(44/12)*0.907185/1000000 -> 0.045797349
B20: Lubricants | C20: =941 -> 941 | D20: 1 | E20: =C20*D20 -> 941 | F20: 0.0918 | G20: =C20-(E20*F20) -> 854.6162 | H20: 44.5319 | I20: 1 | J20: =(G20*1000*H20*I20)/2000 -> 19028.842 | K20: =J20*(44/12)*0.907185/1000000 -> 0.063296492
B21: Motor Gasoline | C21: =3008-221 -> 2787 | D21: 0 | E21: =C21*D21 -> 0 | F21: 0 | G21: =C21-(E21*F21) -> 2787 | H21: 42.48946 | I21: 1 | J21: =(G21*1000*H21*I21)/2000 -> 59209.063 | K21: =J21*(44/12)*0.907185/1000000 -> 0.19694977
B22: Motor Gasoline Blending Components | C22: 0 | D22: 0 | E22: =C22*D22 -> 0 | F22: 0 | G22: =C22-(E22*F22) -> 0 | H22: 42.90074 | I22: 1 | J22: =(G22*1000*H22*I22)/2000 -> 0 | K22: =J22*(44/12)*0.907185/1000000 -> 0
B23: Misc. Petro Products | C23: 467 | D23: 1 | E23: =C23*D23 -> 467 | F23: 0 | G23: =C23-(E23*F23) -> 467 | H23: 0 | I23: 1 | J23: =(G23*1000*H23*I23)/2000 -> 0 | K23: =J23*(44/12)*0.907185/1000000 -> 0
B24: Petroleum Coke | C24: 0 | D24: 0 | E24: =C24*D24 -> 0 | F24: 0.3 | G24: =C24-(E24*F24) -> 0 | H24: 61.3936 | I24: 1 | J24: =(G24*1000*H24*I24)/2000 -> 0 | K24: =J24*(44/12)*0.907185/1000000 -> 0
B25: Pentanes Plus | C25: 0 | D25: 0 | E25: =C25*D25 -> 0 | F25: 0.6698 | G25: =C25-(E25*F25) -> 0 | H25: 40.21227 | I25: 1 | J25: =(G25*1000*H25*I25)/2000 -> 0 | K25: =J25*(44/12)*0.907185/1000000 -> 0
B26: Residual Fuel | C26: =48 -> 48 | D26: 0 | E26: =C26*D26 -> 0 | F26: 0.5 | G26: =C26-(E26*F26) -> 48 | H26: 45.15062 | I26: 1 | J26: =(G26*1000*H26*I26)/2000 -> 1083.6149 | K26: =J26*(44/12)*0.907185/1000000 -> 0.0036044769
B27: Still Gas | C27: 0 | D27: 0.1035 | E27: =C27*D27 -> 0 | F27: 0.6698 | G27: =C27-(E27*F27) -> 0 | H27: 40.11406 | I27: 1 | J27: =(G27*1000*H27*I27)/2000 -> 0 | K27: =J27*(44/12)*0.907185/1000000 -> 0
B28: Special Naphthas | C28: =2682 -> 2682 | D28: 0.9246 | E28: =C28*D28 -> 2479.7772 | F28: 0.6698 | G28: =C28-(E28*F28) -> 1021.0452 | H28: 43.51344 | I28: 1 | J28: =(G28*1000*H28*I28)/2000 -> 22214.595 | K28: =J28*(44/12)*0.907185/1000000 -> 0.073893408
B29: Unfinished Oils | C29: 0 | D29: 0 | E29: =C29*D29 -> 0 | F29: 0 | G29: =C29-(E29*F29) -> 0 | H29: 44.77366 | I29: 1 | J29: =(G29*1000*H29*I29)/2000 -> 0 | K29: =J29*(44/12)*0.907185/1000000 -> 0
B30: Waxes | C30: =79 -> 79 | D30: 1 | E30: =C30*D30 -> 79 | F30: 0.5783 | G30: =C30-(E30*F30) -> 33.3143 | H30: 43.64212 | I30: 1 | J30: =(G30*1000*H30*I30)/2000 -> 726.95334 | K30: =J30*(44/12)*0.907185/1000000 -> 0.0024180976
B31: Natural Gas | C31: =15688 -> 15688 | D31: 0.0631 | E31: =C31*D31 -> 989.9128 | F31: 0.6698 | G31: =C31-(E31*F31) -> 15024.956 | H31: 31.82247 | I31: 1 | J31: =(G31*1000*H31*I31)/2000 -> 239065.61 | K31: =J31*(44/12)*0.907185/1000000 -> 0.7952147
B32: Wood | C32: 473
J33: Total | K33: =SUM(K10:K31) -> 2.4401049
B36: Industrial Sector N2O | E36: 2023
C38: Total | D38: Percent | E38: Non-Energy | K38: Global Warming Potential
C39: Consumption | D39: Non-Energy | E39: Consumption | F39: Emission Factor | G39: Emissions | H39: GWP | I39: Emissions | L39: =Summary!E3 -> AR6 100-yr GWP
B40: Fuel Type | C40: (Billion Btu) | D40: Consumption (%) | E40: (Billion Btu) | F40: (metric tons N2O/BBtu) | G40: (metric tons N2O) | I40: (MMTCO2E) | K40: =Summary!C4 -> CO2 | L40: =Summary!E4 -> 1
B41: Coking Coal | C41: =C10 -> 0 | D41: =D10 -> 1 | E41: =C41*D41 -> 0 | F41: 0.0015034546 | G41: =(C41-E41)*F41 -> 0 | H41: =L42 -> 273 | I41: =G41*H41/1000000 -> 0 | K41: =Summary!C5 -> CH4 | L41: =Summary!E5 -> 27.9
B42: Other Coal | C42: =C11 -> 8571 | D42: =D11 -> 0.0206 | E42: =C42*D42 -> 176.5626 | F42: 0.0015034546 | G42: =(C42-E42)*F42 -> 12.620655 | H42: =L42 -> 273 | I42: =G42*H42/1000000 -> 0.0034454389 | K42: =Summary!C6 -> N2O | L42: =Summary!E6 -> 273
B43: Asphalt and Road Oil | C43: =C12 -> 11972 | D43: =D12 -> 1 | E43: =C43*D43 -> 11972 | F43: 0.00060138184 | G43: =(C43-E43)*F43 -> 0 | H43: =L42 -> 273 | I43: =G43*H43/1000000 -> 0 | K43: =Summary!C7 -> SF6 | L43: =Summary!E7 -> 24300
B44: Aviation Gasoline Blending Components | C44: =C13 -> 0 | D44: =D13 -> 0 | E44: =C44*D44 -> 0 | F44: 0.00060138184 | G44: =(C44-E44)*F44 -> 0 | H44: =L42 -> 273 | I44: =G44*H44/1000000 -> 0
B45: Crude Oil | C45: =C14 -> 0 | D45: =D14 -> 0 | E45: =C45*D45 -> 0 | F45: 0.00060138184 | G45: =(C45-E45)*F45 -> 0 | H45: =L42 -> 273 | I45: =G45*H45/1000000 -> 0
B46: Distillate Fuel | C46: =C15 -> 5856 | D46: =D15 -> 0.0056 | E46: =C46*D46 -> 32.7936 | F46: 0.00060138184 | G46: =(C46-E46)*F46 -> 3.5019706 | H46: =L42 -> 273 | I46: =G46*H46/1000000 -> 0.00095603796
B47: Feedstocks, Naphtha less than 401 F | C47: =C16 -> 0 | D47: =D16 -> 0.9198 | E47: =C47*D47 -> 0 | F47: 0.00060138184 | G47: =(C47-E47)*F47 -> 0 | H47: =L42 -> 273 | I47: =G47*H47/1000000 -> 0
B48: Feedstocks, Other Oils greater than 401 F | C48: =C17 -> 0 | D48: =D17 -> 0.8697 | E48: =C48*D48 -> 0 | F48: 0.00060138184 | G48: =(C48-E48)*F48 -> 0 | H48: =L42 -> 273 | I48: =G48*H48/1000000 -> 0
B49: Kerosene | C49: =C18 -> 20 | D49: =D18 -> 0 | E49: =C49*D49 -> 0 | F49: 0.00060138184 | G49: =(C49-E49)*F49 -> 0.012027637 | H49: =L42 -> 273 | I49: =G49*H49/1000000 -> 3.2835448e-06
B50: LPG (Propane) | C50: =C19 -> 1635 | D50: =D19 -> 0.8508 | E50: =C50*D50 -> 1391.058 | F50: 0.00060138184 | G50: =(C50-E50)*F50 -> 0.14670229 | H50: =L42 -> 273 | I50: =G50*H50/1000000 -> 4.0049725e-05
B51: Lubricants | C51: =C20 -> 941 | D51: =D20 -> 1 | E51: =C51*D51 -> 941 | F51: 0.00060138184 | G51: =(C51-E51)*F51 -> 0 | H51: =L42 -> 273 | I51: =G51*H51/1000000 -> 0
B52: Motor Gasoline | C52: =C21 -> 2787 | D52: =D21 -> 0 | E52: =C52*D52 -> 0 | F52: 0.00060138184 | G52: =(C52-E52)*F52 -> 1.6760512 | H52: =L42 -> 273 | I52: =G52*H52/1000000 -> 0.00045756197
B53: Motor Gasoline Blending Components | C53: =C22 -> 0 | D53: =D22 -> 0 | E53: =C53*D53 -> 0 | F53: 0.00060138184 | G53: =(C53-E53)*F53 -> 0 | H53: =L42 -> 273 | I53: =G53*H53/1000000 -> 0
B54: Misc. Petro Products | C54: =C23 -> 467 | D54: =D23 -> 1 | E54: =C54*D54 -> 467 | F54: 0.00060138184 | G54: =(C54-E54)*F54 -> 0 | H54: =L42 -> 273 | I54: =G54*H54/1000000 -> 0
B55: Petroleum Coke | C55: =C24 -> 0 | D55: =D24 -> 0 | E55: =C55*D55 -> 0 | F55: 0.00060138184 | G55: =(C55-E55)*F55 -> 0 | H55: =L42 -> 273 | I55: =G55*H55/1000000 -> 0
B56: Pentanes Plus | C56: =C25 -> 0 | D56: =D25 -> 0 | E56: =C56*D56 -> 0 | F56: 0.00060138184 | G56: =(C56-E56)*F56 -> 0 | H56: =L42 -> 273 | I56: =G56*H56/1000000 -> 0
B57: Residual Fuel | C57: =C26 -> 48 | D57: =D26 -> 0 | E57: =C57*D57 -> 0 | F57: 0.00060138184 | G57: =(C57-E57)*F57 -> 0.028866328 | H57: =L42 -> 273 | I57: =G57*H57/1000000 -> 7.8805076e-06
B58: Still Gas | C58: =C27 -> 0 | D58: =D27 -> 0.1035 | E58: =C58*D58 -> 0 | F58: 0.00060138184 | G58: =(C58-E58)*F58 -> 0 | H58: =L42 -> 273 | I58: =G58*H58/1000000 -> 0
B59: Special Naphthas | C59: =C28 -> 2682 | D59: =D28 -> 0.9246 | E59: =C59*D59 -> 2479.7772 | F59: 0.00060138184 | G59: =(C59-E59)*F59 -> 0.12161312 | H59: =L42 -> 273 | I59: =G59*H59/1000000 -> 3.3200381e-05
B60: Unfinished Oils | C60: =C29 -> 0 | D60: =D29 -> 0 | E60: =C60*D60 -> 0 | F60: 0.00060138184 | G60: =(C60-E60)*F60 -> 0 | H60: =L42 -> 273 | I60: =G60*H60/1000000 -> 0
B61: Waxes | C61: =C30 -> 79 | D61: =D30 -> 1 | E61: =C61*D61 -> 79 | F61: 0.00060138184 | G61: =(C61-E61)*F61 -> 0 | H61: =L42 -> 273 | I61: =G61*H61/1000000 -> 0
B62: Natural Gas | C62: =C31 -> 15688 | D62: =D31 -> 0.0631 | E62: =C62*D62 -> 989.9128 | F62: 9.4955027e-05 | G62: =(C62-E62)*F62 -> 1.3956573 | H62: =L42 -> 273 | I62: =G62*H62/1000000 -> 0.00038101443
B63: Wood | C63: =C32 -> 473 | D63: =D32 -> 0 | E63: =C63*D63 -> 0 | F63: 0.0037982011 | G63: =C63*F63 -> 1.7965491 | H63: =L42 -> 273 | I63: =G63*H63/1000000 -> 0.00049045791
H64: Total | I64: =SUM(I41:I63) -> 0.0058149254
B67: Industrial Sector CH4 | E67: 2023
C69: Total | D69: Percent | E69: Non-Energy
C70: Consumption | D70: Non-Energy | E70: Consumption | F70: Emission Factor | G70: Emissions | H70: GWP | I70: Emissions
B71: Fuel Type | C71: (Billion Btu) | D71: Consumption (%) | E71: (Billion Btu) | F71: (metric tons CH4 /BBtu) | G71: (metric tons CH4) | I71: (MMTCO2E)
B72: Coking Coal | C72: =C10 -> 0 | D72: =D10 -> 1 | E72: =C72*D72 -> 0 | F72: 0.010023031 | G72: =(C72-E72)*F72 -> 0 | H72: =L41 -> 27.9 | I72: =G72*H72/1000000 -> 0
B73: Other Coal | C73: =C11 -> 8571 | D73: =D11 -> 0.0206 | E73: =C73*D73 -> 176.5626 | F73: 0.010023031 | G73: =(C73-E73)*F73 -> 84.137703 | H73: =L41 -> 27.9 | I73: =G73*H73/1000000 -> 0.0023474419
B74: Asphalt and Road Oil | C74: =C12 -> 11972 | D74: =D12 -> 1 | E74: =C74*D74 -> 11972 | F74: 0.0030069092 | G74: =(C74-E74)*F74 -> 0 | H74: =L41 -> 27.9 | I74: =G74*H74/1000000 -> 0
B75: Aviation Gasoline Blending Components | C75: =C13 -> 0 | D75: =D13 -> 0 | E75: =C75*D75 -> 0 | F75: 0.0030069092 | G75: =(C75-E75)*F75 -> 0 | H75: =L41 -> 27.9 | I75: =G75*H75/1000000 -> 0
B76: Crude Oil | C76: =C14 -> 0 | D76: =D14 -> 0 | E76: =C76*D76 -> 0 | F76: 0.0030069092 | G76: =(C76-E76)*F76 -> 0 | H76: =L41 -> 27.9 | I76: =G76*H76/1000000 -> 0
B77: Distillate Fuel | C77: =C15 -> 5856 | D77: =D15 -> 0.0056 | E77: =C77*D77 -> 32.7936 | F77: 0.0030069092 | G77: =(C77-E77)*F77 -> 17.509853 | H77: =L41 -> 27.9 | I77: =G77*H77/1000000 -> 0.00048852489
B78: Feedstocks, Naphtha less than 401 F | C78: =C16 -> 0 | D78: =D16 -> 0.9198 | E78: =C78*D78 -> 0 | F78: 0.0030069092 | G78: =(C78-E78)*F78 -> 0 | H78: =L41 -> 27.9 | I78: =G78*H78/1000000 -> 0
B79: Feedstocks, Other Oils greater than 401 F | C79: =C17 -> 0 | D79: =D17 -> 0.8697 | E79: =C79*D79 -> 0 | F79: 0.0030069092 | G79: =(C79-E79)*F79 -> 0 | H79: =L41 -> 27.9 | I79: =G79*H79/1000000 -> 0
B80: Kerosene | C80: =C18 -> 20 | D80: =D18 -> 0 | E80: =C80*D80 -> 0 | F80: 0.0030069092 | G80: =(C80-E80)*F80 -> 0.060138184 | H80: =L41 -> 27.9 | I80: =G80*H80/1000000 -> 1.6778553e-06
B81: LPG (Propane) | C81: =C19 -> 1635 | D81: =D19 -> 0.8508 | E81: =C81*D81 -> 1391.058 | F81: 0.0030069092 | G81: =(C81-E81)*F81 -> 0.73351144 | H81: =L41 -> 27.9 | I81: =G81*H81/1000000 -> 2.0464969e-05
B82: Lubricants | C82: =C20 -> 941 | D82: =D20 -> 1 | E82: =C82*D82 -> 941 | F82: 0.0030069092 | G82: =(C82-E82)*F82 -> 0 | H82: =L41 -> 27.9 | I82: =G82*H82/1000000 -> 0
B83: Motor Gasoline | C83: =C21 -> 2787 | D83: =D21 -> 0 | E83: =C83*D83 -> 0 | F83: 0.0030069092 | G83: =(C83-E83)*F83 -> 8.3802559 | H83: =L41 -> 27.9 | I83: =G83*H83/1000000 -> 0.00023380914
B84: Motor Gasoline Blending Components | C84: =C22 -> 0 | D84: =D22 -> 0 | E84: =C84*D84 -> 0 | F84: 0.0030069092 | G84: =(C84-E84)*F84 -> 0 | H84: =L41 -> 27.9 | I84: =G84*H84/1000000 -> 0
B85: Misc. Petro Products | C85: =C23 -> 467 | D85: =D23 -> 1 | E85: =C85*D85 -> 467 | F85: 0.0030069092 | G85: =(C85-E85)*F85 -> 0 | H85: =L41 -> 27.9 | I85: =G85*H85/1000000 -> 0
B86: Petroleum Coke | C86: =C24 -> 0 | D86: =D24 -> 0 | E86: =C86*D86 -> 0 | F86: 0.0030069092 | G86: =(C86-E86)*F86 -> 0 | H86: =L41 -> 27.9 | I86: =G86*H86/1000000 -> 0
B87: Pentanes Plus | C87: =C25 -> 0 | D87: =D25 -> 0 | E87: =C87*D87 -> 0 | F87: 0.0030069092 | G87: =(C87-E87)*F87 -> 0 | H87: =L41 -> 27.9 | I87: =G87*H87/1000000 -> 0
B88: Residual Fuel | C88: =C26 -> 48 | D88: =D26 -> 0 | E88: =C88*D88 -> 0 | F88: 0.0030069092 | G88: =(C88-E88)*F88 -> 0.14433164 | H88: =L41 -> 27.9 | I88: =G88*H88/1000000 -> 4.0268528e-06
B89: Still Gas | C89: =C27 -> 0 | D89: =D27 -> 0.1035 | E89: =C89*D89 -> 0 | F89: 0.0030069092 | G89: =(C89-E89)*F89 -> 0 | H89: =L41 -> 27.9 | I89: =G89*H89/1000000 -> 0
B90: Special Naphthas | C90: =C28 -> 2682 | D90: =D28 -> 0.9246 | E90: =C90*D90 -> 2479.7772 | F90: 0.0030069092 | G90: =(C90-E90)*F90 -> 0.60806559 | H90: =L41 -> 27.9 | I90: =G90*H90/1000000 -> 1.696503e-05
B91: Unfinished Oils | C91: =C29 -> 0 | D91: =D29 -> 0 | E91: =C91*D91 -> 0 | F91: 0.0030069092 | G91: =(C91-E91)*F91 -> 0 | H91: =L41 -> 27.9 | I91: =G91*H91/1000000 -> 0
B92: Waxes | C92: =C30 -> 79 | D92: =D30 -> 1 | E92: =C92*D92 -> 79 | F92: 0.0030069092 | G92: =(C92-E92)*F92 -> 0 | H92: =L41 -> 27.9 | I92: =G92*H92/1000000 -> 0
B93: Natural Gas | C93: =C31 -> 15688 | D93: =D31 -> 0.0631 | E93: =C93*D93 -> 989.9128 | F93: 0.00094955027 | G93: =(C93-E93)*F93 -> 13.956573 | H93: =L41 -> 27.9 | I93: =G93*H93/1000000 -> 0.00038938838
B94: Wood | C94: =C32 -> 473 | D94: =D32 -> 0 | E94: =C94*D94 -> 0 | F94: 0.028486508 | G94: =C94*F94 -> 13.474118 | H94: =L41 -> 27.9 | I94: =G94*H94/1000000 -> 0.0003759279
H95: Total | I95: =SUM(I72:I94) -> 0.0038782269
B98: Industrial Sector 2023 GHG Emissions
C100: CO2 | D100: CH4 | E100: N2O | F100: Total
B101: Fuel Type | C101: (MMTCO2e) | D101: (MMTCO2e) | E101: (MMTCO2e) | F101: (MMTCO2e)
A102: Coal | B102: Coking Coal | C102: =K10 -> 0 | D102: =I72 -> 0 | E102: =I41 -> 0 | F102: =SUM(C102:E102) -> 0
A103: Coal | B103: Other Coal | C103: =K11 -> 0.82054086 | D103: =I73 -> 0.0023474419 | E103: =I42 -> 0.0034454389 | F103: =SUM(C103:E103) -> 0.82633374
A104: Petroleum | B104: Asphalt and Road Oil | C104: =K12 -> 0.0039698074 | D104: =I74 -> 0 | E104: =I43 -> 0 | F104: =SUM(C104:E104) -> 0.0039698074
A105: Petroleum | B105: Aviation Gasoline Blending Components | C105: =K13 -> 0 | D105: =I75 -> 0 | E105: =I44 -> 0 | F105: =SUM(C105:E105) -> 0
A106: Petroleum | B106: Crude Oil | C106: =K14 -> 0 | D106: =I76 -> 0 | E106: =I45 -> 0 | F106: =SUM(C106:E106) -> 0
A107: Petroleum | B107: Distillate Fuel | C107: =K15 -> 0.43295589 | D107: =I77 -> 0.00048852489 | E107: =I46 -> 0.00095603796 | F107: =SUM(C107:E107) -> 0.43440045
A108: Petroleum | B108: Feedstocks, Naphtha less than 401 F | C108: =K16 -> 0 | D108: =I78 -> 0 | E108: =I47 -> 0 | F108: =SUM(C108:E108) -> 0
A109: Petroleum | B109: Feedstocks, Other Oils greater than 401 F | C109: =K17 -> 0 | D109: =I79 -> 0 | E109: =I48 -> 0 | F109: =SUM(C109:E109) -> 0
A110: Petroleum | B110: Kerosene | C110: =K18 -> 0.0014640329 | D110: =I80 -> 1.6778553e-06 | E110: =I49 -> 3.2835448e-06 | F110: =SUM(C110:E110) -> 0.0014689943
A111: Natural Gas & LPG | B111: LPG (Propane) | C111: =K19 -> 0.045797349 | D111: =I81 -> 2.0464969e-05 | E111: =I50 -> 4.0049725e-05 | F111: =SUM(C111:E111) -> 0.045857863
A112: Petroleum | B112: Lubricants | C112: =K20 -> 0.063296492 | D112: =I82 -> 0 | E112: =I51 -> 0 | F112: =SUM(C112:E112) -> 0.063296492
A113: Petroleum | B113: Motor Gasoline | C113: =K21 -> 0.19694977 | D113: =I83 -> 0.00023380914 | E113: =I52 -> 0.00045756197 | F113: =SUM(C113:E113) -> 0.19764114
...

Sheet On-Road Transportation
B2: On-Road Transportation Emissions
B8: MOVES4 Model Outputs
B10: 2023 GHG Emissions by Pollutant Type and by Fuel Type (grams) | S10: 2023 VMT | V10: 2023 Fuel Consumption (kJ)
C12: Gasoline | G12: Diesel | K12: CNG | O12: E85
B13: County | C13: CH4 | D13: N2O | E13: CO2 | G13: CH4 | H13: N2O | I13: CO2 | K13: CH4 | L13: N2O | M13: CO2 | O13: CH4 | P13: N2O | Q13: CO2 | S13: County | T13: VMT (million miles) | V13: County | W13: Gasoline | X13: Diesel
B14: 24001 | C14: 12961031 | D14: 4988407.9 | E14: 2.8524274e+11 | G14: 2726047 | H14: 14672014 | I14: 1.2688476e+11 | K14: 27109398 | L14: 106467.75 | M14: 2.3020391e+09 | O14: 30932.171 | P14: 4693.3508 | Q14: 3.9015353e+08 | S14: Allegany | T14: 820.99989 | V14: Allegany | W14: 3.9249983e+12 | X14: 1.7114212e+12
B15: 24003 | C15: 78583210 | D15: 37055957 | E15: 2.1393684e+12 | G15: 9248971.2 | H15: 48002031 | I15: 412968507759 | K15: 26024523 | L15: 150131.43 | M15: 2.1465645e+09 | O15: 152589.63 | P15: 31719.125 | Q15: 2207548643 | S15: Anne Arundel | T15: 5926.9983 | V15: Anne Arundel | W15: 2.9438155e+13 | X15: 5.5701173e+12
B16: 24005 | C16: 1.0111404e+08 | D16: 45776041 | E16: 2.9252151e+12 | G16: 14660801 | H16: 79841202 | I16: 683763062494 | K16: 42164343 | L16: 248859.23 | M16: 3.6974567e+09 | O16: 191057.28 | P16: 36819.977 | Q16: 2821480088 | S16: Baltimore County | T16: 8267.0011 | V16: Baltimore | W16: 4.0251555e+13 | X16: 9.2225919e+12
B17: 24009 | C17: 14802751 | D17: 6022046.8 | E17: 2.8260212e+11 | G17: 925227.12 | H17: 4420160.9 | I17: 3.9350182e+10 | K17: 2994543.8 | L17: 19509.391 | M17: 2.7837043e+08 | O17: 25094.326 | P17: 4194.5605 | Q17: 2.5742515e+08 | S17: Calvert | T17: 779.00039 | V17: Calvert | W17: 3.8886601e+12 | X17: 5.3075528e+11
B18: 24011 | C18: 7404564.3 | D18: 3153169.9 | E18: 1.3980138e+11 | G18: 887521.66 | H18: 4528641.7 | I18: 4.0364323e+10 | K18: 2508456.9 | L18: 15770.848 | M18: 2.4343252e+08 | O18: 17779.771 | P18: 2996.3326 | Q18: 1.904876e+08 | S18: Caroline | T18: 403.99987 | V18: Caroline | W18: 1.9236957e+12 | X18: 5.4443368e+11
B19: 24013 | C19: 24906418 | D19: 11699489 | E19: 4.8929945e+11 | G19: 2141781.4 | H19: 10019009 | I19: 8.9066792e+10 | K19: 6490288.3 | L19: 37209.833 | M19: 4.8908641e+08 | O19: 42316.776 | P19: 8854.0535 | Q19: 4.8421039e+08 | S19: Carroll | T19: 1295 | V19: Carroll | W19: 6.7328612e+12 | X19: 1.2013322e+12
B20: 24015 | C20: 19609091 | D20: 7261333.9 | E20: 4.394488e+11 | G20: 4642750.6 | H20: 25051599 | I20: 2.1898441e+11 | K20: 18173735 | L20: 112300.44 | M20: 1.9352488e+09 | O20: 45915.445 | P20: 6789.2037 | Q20: 5.6857882e+08 | S20: Cecil | T20: 1339.0004 | V20: Cecil | W20: 6.046905e+12 | X20: 2.953661e+12
B21: 24017 | C21: 24206483 | D21: 9954326.5 | E21: 4.7669165e+11 | G21: 1754547.7 | H21: 8367434.1 | I21: 7.4012577e+10 | K21: 4448637.5 | L21: 23302.397 | M21: 3.4576668e+08 | O21: 41681.633 | P21: 6967.3591 | Q21: 414833459 | S21: Charles | T21: 1316.0002 | V21: Charles | W21: 6.5593764e+12 | X21: 9.9828125e+11
B22: 24019 | C22: 6282350.8 | D22: 2540252.1 | E22: 1.2739107e+11 | G22: 731614.76 | H22: 3747930.1 | I22: 3.4140199e+10 | K22: 1748868.8 | L22: 10815.328 | M22: 1.7294979e+08 | O22: 14496.465 | P22: 2311.2062 | Q22: 1.6702556e+08 | S22: Dorchester | T22: 367.9998 | V22: Dorchester | W22: 1.7529275e+12 | X22: 4.6048279e+11
B23: 24021 | C23: 47567715 | D23: 18125607 | E23: 1.1384971e+12 | G23: 5373930.8 | H23: 31177239 | I23: 267788798587 | K23: 13227203 | L23: 84210.72 | M23: 1.374682e+09 | O23: 86648.557 | P23: 13122.445 | Q23: 1051492939 | S23: Frederick | T23: 3232.9984 | V23: Frederick | W23: 1.5665956e+13 | X23: 3.6119353e+12
B24: 24023 | C24: 6935468.2 | D24: 2543200.2 | E24: 1.8132203e+11 | G24: 1598388.3 | H24: 8999417.1 | I24: 7.6660328e+10 | K24: 4901161.7 | L24: 27782.941 | M24: 5.3234235e+08 | O24: 18856.794 | P24: 2612.35 | Q24: 2.7059937e+08 | S24: Garrett | T24: 537.00027 | V24: Garrett | W24: 2.4950285e+12 | X24: 1.0339943e+12
B25: 24025 | C25: 35183131 | D25: 16050849 | E25: 9.0021001e+11 | G25: 4341254.3 | H25: 22817559 | I25: 196830715744 | K25: 13553070 | L25: 80749.384 | M25: 1.1266532e+09 | O25: 60165.537 | P25: 11838.624 | Q25: 827656717 | S25: Harford | T25: 2516.9995 | V25: Harford | W25: 1.2387079e+13 | X25: 2.6548521e+12
... B37: 24510 | C37: 43359647 | D37: 19455238 | E37: 1.2448161e+12 | G37: 6381245.8 | H37: 29102291 | I37: 2.5350291e+11 | K37: 20557414 | L37: 156139.93 | M37: 1.5063846e+09 | O37: 81032.684 | P37: 15434.535 | Q37: 1.1432769e+09 | S37: Baltimore City | T37: 3290.0005 | V37: Baltimore City | W37: 1.712893e+13 | X37: 3.4192462e+12
B38: Total | C38: 8.1716557e+08 | D38: 3.4624146e+08 | E38: 2.0561632e+13 | G38: 1.0581544e+08 | H38: 5.5965558e+08 | I38: 4.8337259e+12 | K38: 3.3320238e+08 | L38: 1967765.4 | M38: 2.9291888e+10 | O38: 1602692.1 | P38: 278145.14 | Q38: 2.0413973e+10 | S38: Total | T38: 57536.998 | V38: Total | W38: 2.829323e+14 | X38: 6.5197275e+13
B40: Summary Tables
C42: Gasoline | G42: Diesel | K42: CNG | O42: E85 | V42: Gallons conversion:
C43: CH4 | D43: N2O | E43: CO2 | G43: CH4 | H43: N2O | I43: CO2 | K43: CH4 | L43: N2O | M43: CO2 | O43: CH4 | P43: N2O | Q43: CO2
B44: Metric tons | C44: =C38/1000/1000 -> 817.16557 | D44: =D38/1000/1000 -> 346.24146 | E44: =E38/1000/1000 -> 20561632 | G44: =G38/1000/1000 -> 105.81544 | H44: =H38/1000/1000 -> 559.65558 | I44: =I38/1000/1000 -> 4833725.9 | K44: =K38/1000/1000 -> 333.20238 | L44: =L38/1000/1000 -> 1.9677654 | M44: =M38/1000/1000 -> 29291.888 | O44: =O38/1000/1000 -> 1.6026921 | P44: =P38/1000/1000 -> 0.27814514 | Q44: =Q38/1000/1000 -> 20413.973 | V44: Fuel Properties | W44: Gasohol (E10) | X44: Diesel
B45: MMTCO2e | C45: =C44*$I$50/1000000 -> 0.02279892 | D45: =D44*$I$51/1000000 -> 0.094523918 | E45: =E44*$I$49/1000000 -> 20.561632 | G45: =G44*$I$50/1000000 -> 0.0029522507 | H45: =H44*$I$51/1000000 -> 0.15278597 | I45: =I44*$I$49/1000000 -> 4.8337259 | K45: =K44*$I$50/1000000 -> 0.0092963464 | L45: =L44*$I$51/1000000 -> 0.00053719995 | M45: =M44*$I$49/1000000 -> 0.029291888 | O45: =O44*$I$50/1000000 -> 4.4715109e-05 | P45: =P44*$I$51/1000000 -> 7.5933625e-05 | Q45: =Q44*$I$49/1000000 -> 0.020413973 | V45: Energy Content (kJ/g) | W45: 41.696 | X45: 42.869
V46: Fuel Density (g/gal) | W46: 2829 | X46: 3203
B47: Fuel Type | C47: CO2 (MMTCO2e) | D47: CH4 (MMTCO2e) | E47: N2O (MMTCO2e) | F47: Total (MMTCO2e) | H47: Global Warming Potential
B48: Gasoline | C48: =E45 -> 20.561632 | D48: =C45 -> 0.02279892 | E48: =D45 -> 0.094523918 | F48: =SUM(C48:E48) -> 20.678955 | I48: =Summary!E3 -> AR6 100-yr GWP | W48: Gasoline | X48: Diesel
B49: Diesel | C49: =I45 -> 4.8337259 | D49: =G45 -> 0.0029522507 | E49: =H45 -> 0.15278597 | F49: =SUM(C49:E49) -> 4.9894641 | H49: =Summary!C4 -> CO2 | I49: =Summary!E4 -> 1 | V49: Gallons | W49: =+(W38/W45*(1/W46)) -> 2.3985854e+09 | X49: =+(X38/X45*(1/X46)) -> 4.7482016e+08
B50: CNG | C50: =M45 -> 0.029291888 | D50: =K45 -> 0.0092963464 | E50: =L45 -> 0.00053719995 | F50: =SUM(C50:E50) -> 0.039125434 | H50: =Summary!C5 -> CH4 | I50: =Summary!E5 -> 27.9
B51: E85 | C51: =Q45 -> 0.020413973 | D51: =O45 -> 4.4715109e-05 | E51: =P45 -> 7.5933625e-05 | F51: =SUM(C51:E51) -> 0.020534622 | H51: =Summary!C6 -> N2O | I51: =Summary!E6 -> 273
E52: Total | F52: =SUM(F48:F51) -> 25.728079 | H52: =Summary!C7 -> SF6 | I52: =Summary!E7 -> 24300
B54: Fuel Type Category | C54: CO2 (MMTCO2e) | D54: CH4 (MMTCO2e) | E54: N2O (MMTCO2e) | F54: Total (MMTCO2e)
B55: On-Road Gasoline | C55: =C48+C51 -> 20.582046 | D55: =D48+D51 -> 0.022843635 | E55: =E48+E51 -> 0.094599852 | F55: =SUM(C55:E55) -> 20.69949
B56: On-Road Diesel | C56: =C49 -> 4.8337259 | D56: =D49 -> 0.0029522507 | E56: =E49 -> 0.15278597 | F56: =SUM(C56:E56) -> 4.9894641
B57: Natural Gas | C57: =C50 -> 0.029291888 | D57: =D50 -> 0.0092963464 | E57: =E50 -> 0.00053719995 | F57: =SUM(C57:E57) -> 0.039125434
E58: Total | F58: =SUM(F55:F57) -> 25.728079

Sheet Non-Road Transportation
B2: Non-Road Equipment Emissions
B8: Summary Tables | J8: Global Warming Potential
K9: =Summary!E3 -> AR6 100-yr GWP
B10: Non-Road CO2 | J10: =Summary!C4 -> CO2 | K10: =Summary!E4 -> 1
B11: Equipment Type | C11: CO2 Emissions (short tons) by Fuel Type | G11: Total CO2 Emissions (short tons) | H11: Total CO2 Emissions (MMTCO2e) | J11: =Summary!C5 -> CH4 | K11: =Summary!E5 -> 27.9
C12: Diesel | D12: Gasoline | E12: LPG | F12: CNG | J12: =Summary!C6 -> N2O | K12: =Summary!E6 -> 273
B13: Lawn and Garden Equipment | C13: =SUMIFS($I$48:$I$5107,$K$48:$K$5107,$B13,$L$48:$L$5107,C$12) -> 87813.707 | D13: =SUMIFS($I$48:$I$5107,$K$48:$K$5107,$B13,$L$48:$L$5107,D$12) -> 647332.12 | E13: =SUMIFS($I$48:$I$5107,$K$48:$K$5107,$B13,$L$48:$L$5107,E$12) -> 3846.1705 | F13: =SUMIFS($I$48:$I$5107,$K$48:$K$5107,$B13,$L$48:$L$5107,F$12) -> 0 | G13: =SUM(C13:F13) -> 738992 | H13: =G13*0.907185/1000000 -> 0.67040246 | J13: =Summary!C7 -> SF6 | K13: =Summary!E7 -> 24300
B14: Construction and Mining Equipment | C14: =SUMIFS($I$48:$I$5107,$K$48:$K$5107,$B14,$L$48:$L$5107,C$12) -> 629974.09 | D14: =SUMIFS($I$48:$I$5107,$K$48:$K$5107,$B14,$L$48:$L$5107,D$12) -> 17181.57 | E14: =SUMIFS($I$48:$I$5107,$K$48:$K$5107,$B14,$L$48:$L$5107,E$12) -> 1798.2792 | F14: =SUMIFS($I$48:$I$5107,$K$48:$K$5107,$B14,$L$48:$L$5107,F$12) -> 4.3534312 | G14: =SUM(C14:F14) -> 648958.29 | H14: =G14*0.907185/1000000 -> 0.58872523
B15: Industrial Equipment | C15: =SUMIFS($I$48:$I$5107,$K$48:$K$5107,$B15,$L$48:$L$5107,C$12) -> 252014.69 | D15: =SUMIFS($I$48:$I$5107,$K$48:$K$5107,$B15,$L$48:$L$5107,D$12) -> 29207.959 | E15: =SUMIFS($I$48:$I$5107,$K$48:$K$5107,$B15,$L$48:$L$5107,E$12) -> 194154.84 | F15: =SUMIFS($I$48:$I$5107,$K$48:$K$5107,$B15,$L$48:$L$5107,F$12) -> 12949.734 | G15: =SUM(C15:F15) -> 488327.22 | H15: =G15*0.907185/1000000 -> 0.44300313
B16: Pleasure Craft | C16: =SUMIFS($I$48:$I$5107,$K$48:$K$5107,$B16,$L$48:$L$5107,C$12) -> 61790.914 | D16: =SUMIFS($I$48:$I$5107,$K$48:$K$5107,$B16,$L$48:$L$5107,D$12) -> 227003.04 | E16: =SUMIFS($I$48:$I$5107,$K$48:$K$5107,$B16,$L$48:$L$5107,E$12) -> 0 | F16: =SUMIFS($I$48:$I$5107,$K$48:$K$5107,$B16,$L$48:$L$5107,F$12) -> 0 | G16: =SUM(C16:F16) -> 288793.95 | H16: =G16*0.907185/1000000 -> 0.26198954
B17: Commercial Equipment | C17: =SUMIFS($I$48:$I$5107,$K$48:$K$5107,$B17,$L$48:$L$5107,C$12) -> 100109.24 | D17: =SUMIFS($I$48:$I$5107,$K$48:$K$5107,$B17,$L$48:$L$5107,D$12) -> 130265.97 | E17: =SUMIFS($I$48:$I$5107,$K$48:$K$5107,$B17,$L$48:$L$5107,E$12) -> 9985.0274 | F17: =SUMIFS($I$48:$I$5107,$K$48:$K$5107,$B17,$L$48:$L$5107,F$12) -> 6187.9671 | G17: =SUM(C17:F17) -> 246548.2 | H17: =G17*0.907185/1000000 -> 0.22366483
B18: Agricultural Equipment | C18: =SUMIFS($I$48:$I$5107,$K$48:$K$5107,$B18,$L$48:$L$5107,C$12) -> 80357.526 | D18: =SUMIFS($I$48:$I$5107,$K$48:$K$5107,$B18,$L$48:$L$5107,D$12) -> 1164.5549 | E18: =SUMIFS($I$48:$I$5107,$K$48:$K$5107,$B18,$L$48:$L$5107,E$12) -> 2.4933465 | F18: =SUMIFS($I$48:$I$5107,$K$48:$K$5107,$B18,$L$48:$L$5107,F$12) -> 174.11801 | G18: =SUM(C18:F18) -> 81698.692 | H18: =G18*0.907185/1000000 -> 0.074115828
B19: Recreational Equipment | C19: =SUMIFS($I$48:$I$5107,$K$48:$K$5107,$B19,$L$48:$L$5107,C$12) -> 2738.8577 | D19: =SUMIFS($I$48:$I$5107,$K$48:$K$5107,$B19,$L$48:$L$5107,D$12) -> 46658.889 | E19: =SUMIFS($I$48:$I$5107,$K$48:$K$5107,$B19,$L$48:$L$5107,E$12) -> 167.18106 | F19: =SUMIFS($I$48:$I$5107,$K$48:$K$5107,$B19,$L$48:$L$5107,F$12) -> 0 | G19: =SUM(C19:F19) -> 49564.928 | H19: =G19*0.907185/1000000 -> 0.044964559
B20: Airport Ground Support Equipment | C20: =SUMIFS($I$48:$I$5107,$K$48:$K$5107,$B20,$L$48:$L$5107,C$12) -> 13254.34 | D20: =SUMIFS($I$48:$I$5107,$K$48:$K$5107,$B20,$L$48:$L$5107,D$12) -> 429.06177 | E20: =SUMIFS($I$48:$I$5107,$K$48:$K$5107,$B20,$L$48:$L$5107,E$12) -> 239.35184 | F20: =SUMIFS($I$48:$I$5107,$K$48:$K$5107,$B20,$L$48:$L$5107,F$12) -> 0 | G20: =SUM(C20:F20) -> 13922.753 | H20: =G20*0.907185/1000000 -> 0.012630513
B21: Logging Equipment | C21: =SUMIFS($I$48:$I$5107,$K$48:$K$5107,$B21,$L$48:$L$5107,C$12) -> 9529.0426 | D21: =SUMIFS($I$48:$I$5107,$K$48:$K$5107,$B21,$L$48:$L$5107,D$12) -> 570.26753 | E21: =SUMIFS($I$48:$I$5107,$K$48:$K$5107,$B21,$L$48:$L$5107,E$12) -> 0 | F21: =SUMIFS($I$48:$I$5107,$K$48:$K$5107,$B21,$L$48:$L$5107,F$12) -> 0 | G21: =SUM(C21:F21) -> 10099.31 | H21: =G21*0.907185/1000000 -> 0.0091619427
B22: Underground Mining Equipment | C22: =SUMIFS($I$48:$I$5107,$K$48:$K$5107,$B22,$L$48:$L$5107,C$12) -> 2934.9849 | D22: =SUMIFS($I$48:$I$5107,$K$48:$K$5107,$B22,$L$48:$L$5107,D$12) -> 0 | E22: =SUMIFS($I$48:$I$5107,$K$48:$K$5107,$B22,$L$48:$L$5107,E$12) -> 0 | F22: =SUMIFS($I$48:$I$5107,$K$48:$K$5107,$B22,$L$48:$L$5107,F$12) -> 0 | G22: =SUM(C22:F22) -> 2934.9849 | H22: =G22*0.907185/1000000 -> 0.0026625743
B23: Railroad Equipment | C23: =SUMIFS($I$48:$I$5107,$K$48:$K$5107,$B23,$L$48:$L$5107,C$12) -> 2123.2771 | D23: =SUMIFS($I$48:$I$5107,$K$48:$K$5107,$B23,$L$48:$L$5107,D$12) -> 125.18713 | E23: =SUMIFS($I$48:$I$5107,$K$48:$K$5107,$B23,$L$48:$L$5107,E$12) -> 3.7288138 | F23: =SUMIFS($I$48:$I$5107,$K$48:$K$5107,$B23,$L$48:$L$5107,F$12) -> 0 | G23: =SUM(C23:F23) -> 2252.1931 | H23: =G23*0.907185/1000000 -> 0.0020431558
B24: Total CO2 Emissions (short tons) | C24: =SUM(C13:C23) -> 1242640.7 | D24: =SUM(D13:D23) -> 1099938.6 | E24: =SUM(E13:E23) -> 210197.07 | F24: =SUM(F13:F23) -> 19316.173 | G24: =SUM(G13:G23) -> 2572092.5
B25: Total CO2 Emissions (MMTCO2e) | C25: =C24*0.907185/1000000 -> 1.127305 | D25: =D24*0.907185/1000000 -> 0.99784782 | E25: =E24*0.907185/1000000 -> 0.19068763 | F25: =F24*0.907185/1000000 -> 0.017523342 | H25: =G24*0.907185/1000000 -> 2.3333638
B27: Non-Road CH4
B28: Equipment Type | C28: CH4 Emissions (short tons) by Fuel Type | G28: Total CH4 Emissions (short tons) | H28: Total CH4 Emissions (MMTCO2e)
C29: Diesel | D29: Gasoline | E29: LPG | F29: CNG
B30: Lawn and Garden Equipment | C30: =SUMIFS($J$48:$J$5107,$K$48:$K$5107,$B30,$L$48:$L$5107,C$12) -> 2.3805946 | D30: =SUMIFS($J$48:$J$5107,$K$48:$K$5107,$B30,$L$48:$L$5107,D$12) -> 536.54803 | E30: =SUMIFS($J$48:$J$5107,$K$48:$K$5107,$B30,$L$48:$L$5107,E$12) -> 0.17473041 | F30: =SUMIFS($J$48:$J$5107,$K$48:$K$5107,$B30,$L$48:$L$5107,F$12) -> 0 | G30: =SUM(C30:F30) -> 539.10335 | H30: =G30*$K$11*0.907185/1000000 -> 0.013644955
B31: Construction and Mining Equipment | C31: =SUMIFS($J$48:$J$5107,$K$48:$K$5107,$B31,$L$48:$L$5107,C$12) -> 6.5699326 | D31: =SUMIFS($J$48:$J$5107,$K$48:$K$5107,$B31,$L$48:$L$5107,D$12) -> 13.161906 | E31: =SUMIFS($J$48:$J$5107,$K$48:$K$5107,$B31,$L$48:$L$5107,E$12) -> 0.2293789 | F31: =SUMIFS($J$48:$J$5107,$K$48:$K$5107,$B31,$L$48:$L$5107,F$12) -> 0.093539034 | G31: =SUM(C31:F31) -> 20.054757 | H31: =G31*$K$11*0.907185/1000000 -> 0.00050759515
B32: Industrial Equipment | C32: =SUMIFS($J$48:$J$5107,$K$48:$K$5107,$B32,$L$48:$L$5107,C$12) -> 3.3167102 | D32: =SUMIFS($J$48:$J$5107,$K$48:$K$5107,$B32,$L$48:$L$5107,D$12) -> 8.208955 | E32: =SUMIFS($J$48:$J$5107,$K$48:$K$5107,$B32,$L$48:$L$5107,E$12) -> 8.8906231 | F32: =SUMIFS($J$48:$J$5107,$K$48:$K$5107,$B32,$L$48:$L$5107,F$12) -> 51.552011 | G32: =SUM(C32:F32) -> 71.968299 | H32: =G32*$K$11*0.907185/1000000 -> 0.0018215509
B33: Pleasure Craft | C33: =SUMIFS($J$48:$J$5107,$K$48:$K$5107,$B33,$L$48:$L$5107,C$12) -> 2.4310392 | D33: =SUMIFS($J$48:$J$5107,$K$48:$K$5107,$B33,$L$48:$L$5107,D$12) -> 203.03471 | E33: =SUMIFS($J$48:$J$5107,$K$48:$K$5107,$B33,$L$48:$L$5107,E$12) -> 0 | F33: =SUMIFS($J$48:$J$5107,$K$48:$K$5107,$B33,$L$48:$L$5107,F$12) -> 0 | G33: =SUM(C33:F33) -> 205.46575 | H33: =G33*$K$11*0.907185/1000000 -> 0.0052004329
B34: Commercial Equipment | C34: =SUMIFS($J$48:$J$5107,$K$48:$K$5107,$B34,$L$48:$L$5107,C$12) -> 2.4025556 | D34: =SUMIFS($J$48:$J$5107,$K$48:$K$5107,$B34,$L$48:$L$5107,D$12) -> 88.315361 | E34: =SUMIFS($J$48:$J$5107,$K$48:$K$5107,$B34,$L$48:$L$5107,E$12) -> 1.5527708 | F34: =SUMIFS($J$48:$J$5107,$K$48:$K$5107,$B34,$L$48:$L$5107,F$12) -> 59.755848 | G34: =SUM(C34:F34) -> 152.02654 | H34: =G34*$K$11*0.907185/1000000 -> 0.0038478618
B35: Agricultural Equipment | C35: =SUMIFS($J$48:$J$5107,$K$48:$K$5107,$B35,$L$48:$L$5107,C$12) -> 0.8651387 | D35: =SUMIFS($J$48:$J$5107,$K$48:$K$5107,$B35,$L$48:$L$5107,D$12) -> 0.91925108 | E35: =SUMIFS($J$48:$J$5107,$K$48:$K$5107,$B35,$L$48:$L$5107,E$12) -> 0.00043109567 | F35: =SUMIFS($J$48:$J$5107,$K$48:$K$5107,$B35,$L$48:$L$5107,F$12) -> 0.76304061 | G35: =SUM(C35:F35) -> 2.5478615 | H35: =G35*$K$11*0.907185/1000000 -> 6.448755e-05
B36: Recreational Equipment | C36: =SUMIFS($J$48:$J$5107,$K$48:$K$5107,$B36,$L$48:$L$5107,C$12) -> 0.098729376 | D36: =SUMIFS($J$48:$J$5107,$K$48:$K$5107,$B36,$L$48:$L$5107,D$12) -> 52.405387 | E36: =SUMIFS($J$48:$J$5107,$K$48:$K$5107,$B36,$L$48:$L$5107,E$12) -> 0.057830051 | F36: =SUMIFS($J$48:$J$5107,$K$48:$K$5107,$B36,$L$48:$L$5107,F$12) -> 0 | G36: =SUM(C36:F36) -> 52.561946 | H36: =G36*$K$11*0.907185/1000000 -> 0.0013303671
B37: Airport Ground Support Equipment | C37: =SUMIFS($J$48:$J$5107,$K$48:$K$5107,$B37,$L$48:$L$5107,C$12) -> 0.10702053 | D37: =SUMIFS($J$48:$J$5107,$K$48:$K$5107,$B37,$L$48:$L$5107,D$12) -> 0.12327379 | E37: =SUMIFS($J$48:$J$5107,$K$48:$K$5107,$B37,$L$48:$L$5107,E$12) -> 0.010902545 | F37: =SUMIFS($J$48:$J$5107,$K$48:$K$5107,$B37,$L$48:$L$5107,F$12) -> 0 | G37: =SUM(C37:F37) -> 0.24119686 | H37: =G37*$K$11*0.907185/1000000 -> 6.1048039e-06
B38: Logging Equipment | C38: =SUMIFS($J$48:$J$5107,$K$48:$K$5107,$B38,$L$48:$L$5107,C$12) -> 0.018686076 | D38: =SUMIFS($J$48:$J$5107,$K$48:$K$5107,$B38,$L$48:$L$5107,D$12) -> 0.57188673 | E38: =SUMIFS($J$48:$J$5107,$K$48:$K$5107,$B38,$L$48:$L$5107,E$12) -> 0 | F38: =SUMIFS($J$48:$J$5107,$K$48:$K$5107,$B38,$L$48:$L$5107,F$12) -> 0 | G38: =SUM(C38:F38) -> 0.59057281 | H38: =G38*$K$11*0.907185/1000000 -> 1.494767e-05
B39: Underground Mining Equipment | C39: =SUMIFS($J$48:$J$5107,$K$48:$K$5107,$B39,$L$48:$L$5107,C$12) -> 0.32618213 | D39: =SUMIFS($J$48:$J$5107,$K$48:$K$5107,$B39,$L$48:$L$5107,D$12) -> 0 | E39: =SUMIFS($J$48:$J$5107,$K$48:$K$5107,$B39,$L$48:$L$5107,E$12) -> 0 | F39: =SUMIFS($J$48:$J$5107,$K$48:$K$5107,$B39,$L$48:$L$5107,F$12) -> 0 | G39: =SUM(C39:F39) -> 0.32618213 | H39: =G39*$K$11*0.907185/1000000 -> 8.2558204e-06
B40: Railroad Equipment | C40: =SUMIFS($J$48:$J$5107,$K$48:$K$5107,$B40,$L$48:$L$5107,C$12) -> 0.07136693 | D40: =SUMIFS($J$48:$J$5107,$K$48:$K$5107,$B40,$L$48:$L$5107,D$12) -> 0.081196602 | E40: =SUMIFS($J$48:$J$5107,$K$48:$K$5107,$B40,$L$48:$L$5107,E$12) -> 0.00030022285 | F40: =SUMIFS($J$48:$J$5107,$K$48:$K$5107,$B40,$L$48:$L$5107,F$12) -> 0 | G40: =SUM(C40:F40) -> 0.15286375 | H40: =G40*$K$11*0.907185/1000000 -> 3.8690522e-06
B41: Total CH4 Emissions (short tons) | C41: =SUM(C30:C40) -> 18.587956 | D41: =SUM(D30:D40) -> 903.36995 | E41: =SUM(E30:E40) -> 10.916967 | F41: =SUM(F30:F40) -> 112.16444 | G41: =SUM(G30:G40) -> 1045.0393
B42: Total CH4 Emissions (MMTCO2e) | C42: =C41*$K$11*0.907185/1000000 -> 0.00047046974 | D42: =D41*$K$11*0.907185/1000000 -> 0.02286471 | E42: =E41*$K$11*0.907185/1000000 -> 0.00027631348 | F42: =F41*$K$11*0.907185/1000000 -> 0.0028389337 | H42: =G41*$K$11*0.907185/1000000 -> 0.026450427
B45: MOVES4 Model Outputs
B47: Year | C47: CountyID | D47: SCC | E47: Tier 2 Description | F47: SCC Level Two | G47: SCC Level Three | H47: SCC Level Four | I47: CO2 | J47: CH4 | K47: Equipment Type | L47: Fuel Type
B48: 2023 | C48: 24031 | D48: 2265004071 | E48: Non-Road Gasoline | F48: Off-highway Vehicle Gasoline, 4-Stroke | G48: Lawn and Garden Equipment | H48: Turf Equipment (Commercial) | I48: 58666.332 | J48: 36.99096 | K48: =IF(F48="Pleasure Craft","Pleasure Craft",IF(F48="Railroad Equipment","Railroad Equipment",G48)) -> Lawn and Garden Equipment | L48: =IF(E48="Non-Road Gasoline","Gasoline",IF(E48="Non-Road Diesel","Diesel",IF(RIGHT(F48,3)="LPG","LPG",IF(RIGHT(F48,3)="CNG","CNG",G48)))) -> Gasoline
B49: 2023 | C49: 24005 | D49: 2267003020 | E49: Other | F49: LPG | G49: Industrial Equipment | H49: Forklifts | I49: 34346.715 | J49: 1.5432796 | K49: =IF(F49="Pleasure Craft","Pleasure Craft",IF(F49="Railroad Equipment","Railroad Equipment",G49)) -> Industrial Equipment | L49: =IF(E49="Non-Road Gasoline","Gasoline",IF(E49="Non-Road Diesel","Diesel",IF(RIGHT(F49,3)="LPG","LPG",IF(RIGHT(F49,3)="CNG","CNG",G49)))) -> LPG
B50: 2023 | C50: 24033 | D50: 2265004071 | E50: Non-Road Gasoline | F50: Off-highway Vehicle Gasoline, 4-Stroke | G50: Lawn and Garden Equipment | H50: Turf Equipment (Commercial) | I50: 28663.33 | J50: 18.04965 | K50: =IF(F50="Pleasure Craft","Pleasure Craft",IF(F50="Railroad Equipment","Railroad Equipment",G50)) -> Lawn and Garden Equipment | L50: =IF(E50="Non-Road Gasoline","Gasoline",IF(E50="Non-Road Diesel","Diesel",IF(RIGHT(F50,3)="LPG","LPG",IF(RIGHT(F50,3)="CNG","CNG",G50)))) -> Gasoline
B51: 2023 | C51: 24005 | D51: 2265004071 | E51: Non-Road Gasoline | F51: Off-highway Vehicle Gasoline, 4-Stroke | G51: Lawn and Garden Equipment | H51: Turf Equipment (Commercial) | I51: 28367.896 | J51: 17.883203 | K51: =IF(F51="Pleasure Craft","Pleasure Craft",IF(F51="Railroad Equipment","Railroad Equipment",G51)) -> Lawn and Garden Equipment | L51: =IF(E51="Non-Road Gasoline","Gasoline",IF(E51="Non-Road Diesel","Diesel",IF(RIGHT(F51,3)="LPG","LPG",IF(RIGHT(F51,3)="CNG","CNG",G51)))) -> Gasoline
B52: 2023 | C52: 24510 | D52: 2267003020 | E52: Other | F52: LPG | G52: Industrial Equipment | H52: Forklifts | I52: 26059.6 | J52: 1.1709212 | K52: =IF(F52="Pleasure Craft","Pleasure Craft",IF(F52="Railroad Equipment","Railroad Equipment",G52)) -> Industrial Equipment | L52: =IF(E52="Non-Road Gasoline","Gasoline",IF(E52="Non-Road Diesel","Diesel",IF(RIGHT(F52,3)="LPG","LPG",IF(RIGHT(F52,3)="CNG","CNG",G52)))) -> LPG
B53: 2023 | C53: 24003 | D53: 2265004071 | E53: Non-Road Gasoline | F53: Off-highway Vehicle Gasoline, 4-Stroke | G53: Lawn and Garden Equipment | H53: Turf Equipment (Commercial) | I53: 23600.46 | J53: 14.861512 | K53: =IF(F53="Pleasure Craft","Pleasure Craft",IF(F53="Railroad Equipment","Railroad Equipment",G53)) -> Lawn and Garden Equipment | L53: =IF(E53="Non-Road Gasoline","Gasoline",IF(E53="Non-Road Diesel","Diesel",IF(RIGHT(F53,3)="LPG","LPG",IF(RIGHT(F53,3)="CNG","CNG",G53)))) -> Gasoline
B54: 2023 | C54: 24005 | D54: 2270002060 | E54: Non-Road Diesel | F54: Off-highway Vehicle Diesel | G54: Construction and Mining Equipment | H54: Rubber Tire Loaders | I54: 21269.618 | J54: 0.12657926 | K54: =IF(F54="Pleasure Craft","Pleasure Craft",IF(F54="Railroad Equipment","Railroad Equipment",G54)) -> Construction and Mining Equipment | L54: =IF(E54="Non-Road Gasoline","Gasoline",IF(E54="Non-Road Diesel","Diesel",IF(RIGHT(F54,3)="LPG","LPG",IF(RIGHT(F54,3)="CNG","CNG",G54)))) -> Diesel
B55: 2023 | C55: 24031 | D55: 2270003060 | E55: Non-Road Diesel | F55: Off-highway Vehicle Diesel | G55: Industrial Equipment | H55: AC\Refrigeration | I55: 20491.439 | J55: 0.42049561 | K55: =IF(F55="Pleasure Craft","Pleasure Craft",IF(F55="Railroad Equipment","Railroad Equipment",G55)) -> Industrial Equipment | L55: =IF(E55="Non-Road Gasoline","Gasoline",IF(E55="Non-Road Diesel","Diesel",IF(RIGHT(F55,3)="LPG","LPG",IF(RIGHT(F55,3)="CNG","CNG",G55)))) -> Diesel
B56: 2023 | C56: 24005 | D56: 2270002036 | E56: Non-Road Diesel | F56: Off-highway Vehicle Diesel | G56: Construction and Mining Equipment | H56: Excavators | I56: 19535.848 | J56: 0.073020083 | K56: =IF(F56="Pleasure Craft","Pleasure Craft",IF(F56="Railroad Equipment","Railroad Equipment",G56)) -> Construction and Mining Equipment | L56: =IF(E56="Non-Road Gasoline","Gasoline",IF(E56="Non-Road Diesel","Diesel",IF(RIGHT(F56,3)="LPG","LPG",IF(RIGHT(F56,3)="CNG","CNG",G56)))) -> Diesel
B57: 2023 | C57: 24005 | D57: 2270002069 | E57: Non-Road Diesel | F57: Off-highway Vehicle Diesel | G57: Construction and Mining Equipment | H57: Crawler Tractor/Dozers | I57: 19453.172 | J57: 0.087803112 | K57: =IF(F57="Pleasure Craft","Pleasure Craft",IF(F57="Railroad Equipment","Railroad Equipment",G57)) -> Construction and Mining Equipment | L57: =IF(E57="Non-Road Gasoline","Gasoline",IF(E57="Non-Road Diesel","Diesel",IF(RIGHT(F57,3)="LPG","LPG",IF(RIGHT(F57,3)="CNG","CNG",G57)))) -> Diesel
B58: 2023 | C58: 24031 | D58: 2267003020 | E58: Other | F58: LPG | G58: Industrial Equipment | H58: Forklifts | I58: 19433.201 | J58: 0.87317988 | K58: =IF(F58="Pleasure Craft","Pleasure Craft",IF(F58="Railroad Equipment","Railroad Equipment",G58)) -> Industrial Equipment | L58: =IF(E58="Non-Road Gasoline","Gasoline",IF(E58="Non-Road Diesel","Diesel",IF(RIGHT(F58,3)="LPG","LPG",IF(RIGHT(F58,3)="CNG","CNG",G58)))) -> LPG
B59: 2023 | C59: 24027 | D59: 2265004071 | E59: Non-Road Gasoline | F59: Off-highway Vehicle Gasoline, 4-Stroke | G59: Lawn and Garden Equipment | H59: Turf Equipment (Commercial) | I59: 19187.703 | J59: 12.095967 | K59: =IF(F59="Pleasure Craft","Pleasure Craft",IF(F59="Railroad Equipment","Railroad Equipment",G59)) -> Lawn and Garden Equipment | L59: =IF(E59="Non-Road Gasoline","Gasoline",IF(E59="Non-Road Diesel","Diesel",IF(RIGHT(F59,3)="LPG","LPG",IF(RIGHT(F59,3)="CNG","CNG",G59)))) -> Gasoline
... B5107: 2023 | C5107: 24510 | D5107: 2260002027 | E5107: Non-Road Gasoline | F5107: Off-highway Vehicle Gasoline, 2-Stroke | G5107: Construction and Mining Equipment | H5107: Signal Boards/Light Plants | I5107: 4.1496743e-20 | J5107: 9.2720439e-23 | K5107: =IF(F5107="Pleasure Craft","Pleasure Craft",IF(F5107="Railroad Equipment","Railroad Equipment",G5107)) -> Construction and Mining Equipment | L5107: =IF(E5107="Non-Road Gasoline","Gasoline",IF(E5107="Non-Road Diesel","Diesel",IF(RIGHT(F5107,3)="LPG","LPG",IF(RIGHT(F5107,3)="CNG","CNG",G5107)))) -> Gasoline

Sheet Other Transportation
B2: Other Transportation Emissions
J6: Global Warming Potential
K7: =Summary!E3 -> AR6 100-yr GWP
D8: Energy Conversion Factor (Btu/Gallon) | J8: =Summary!C4 -> CO2 | K8: =Summary!E4 -> 1
D9: Distillate Fuel Oil | E9: 137381 | J9: =Summary!C5 -> CH4 | K9: 81.2
J10: =Summary!C6 -> N2O | K10: =Summary!D6 -> 273
J11: =Summary!C7 -> SF6 | K11: =Summary!E7 -> 24300
C13: Consumption
C14: Physical Units | E14: Energy Units | F14: CO2 Emissions | L14: N2O Emissions | O14: CH4 Emissions
B15: Fuel Type | C15: Thousand Barrels | D15: Thousand Gallons | E15: Billion Btu | F15: Carbon Content (lb C/Million Btu) | G15: Combustion Efficiency (%) | H15: Emissions (short tons carbon) | I15: Emissions (MMTCO2e) | J15: Energy Content (kg/Million Btu) | K15: Density Factor (kg/gallon) | L15: Emission Factor (g/kg fuel) | M15: Emissions (metric tons N2O) | N15: Emissions (MMTCO2e) | O15: Emission Factor (g/kg fuel) | P15: Emissions (metric tons CH4) | Q15: Emissions (MMTCO2e)
B16: Aviation Gasoline | C16: 44 | D16: - | E16: 224 | F16: 41.57 | G16: 1 | H16: =E16*1000*F16*G16/2000 -> 4655.84 | I16: =H16*(44/12)*0.907185/1000000 -> 0.01548693 | J16: 22.258 | K16: - | L16: 0.04 | M16: =E16*1000*J16*L16/1000000 -> 0.19943168 | N16: =M16*$K$10/1000000 -> 5.4444849e-05 | O16: 2.64 | P16: =E16*1000*J16*O16/1000000 -> 13.162491 | Q16: =P16*$K$9/1000000 -> 0.0010687943
B17: Jet Fuel, Kerosene Type | C17: 6705 | D17: - | E17: 38019 | F17: 43.431818 | G17: 1 | H17: =E17*1000*F17*G17/2000 -> 825617.15 | I17: =H17*(44/12)*0.907185/1000000 -> 2.7462875 | J17: 22.24 | K17: - | L17: 0.1 | M17: =E17*1000*J17*L17/1000000 -> 84.554256 | N17: =M17*$K$10/1000000 -> 0.023083312 | O17: 0.087 | P17: =E17*1000*J17*O17/1000000 -> 73.562203 | Q17: =P17*$K$9/1000000 -> 0.0059732509
B18: Distillate Fuel Oil - Locomotive | C18: - | D18: 30908 | E18: =D18*1000*$E$9/1000000000 -> 4246.1719 | F18: 44.58 | G18: 1 | H18: =E18*1000*F18*G18/2000 -> 94647.173 | I18: =H18*(44/12)*0.907185/1000000 -> 0.31482915 | J18: - | K18: 3.167 | L18: 0.08 | M18: =D18*1000*K18*L18/1000000 -> 7.8308509 | N18: =M18*$K$10/1000000 -> 0.0021378223 | O18: 0.25 | P18: =D18*1000*K18*O18/1000000 -> 24.471409 | Q18: =P18*$K$9/1000000 -> 0.0019870784
B19: Distillate Fuel Oil - Vessel Bunkering | C19: - | D19: 5253 | E19: =D19*1000*$E$9/1000000000 -> 721.66239 | F19: 44.58 | G19: 1 | H19: =E19*1000*F19*G19/2000 -> 16085.855 | I19: =H19*(44/12)*0.907185/1000000 -> 0.053507102 | J19: - | K19: 3.167 | L19: 0.0545 | M19: =D19*1000*K19*L19/1000000 -> 0.90667568 | N19: =M19*$K$10/1000000 -> 0.00024752246 | O19: 2.0394 | P19: =D19*1000*K19*O19/1000000 -> 33.92797 | Q19: =P19*$K$9/1000000 -> 0.0027549512
B20: Residual Fuel Oil - Vessel Bunkering | C20: 77 | D20: - | E20: 484 | F20: 45.15 | G20: 1 | H20: =E20*1000*F20*G20/2000 -> 10926.3 | I20: =H20*(44/12)*0.907185/1000000 -> 0.036344643 | J20: - | K20: 3.575 | L20: 0.0884 | M20: =C20*42*1000*K20*L20/1000000 -> 1.022041 | N20: =M20*$K$10/1000000 -> 0.0002790172 | O20: 0.3092 | P20: =C20*42*1000*K20*O20/1000000 -> 3.5748313 | Q20: =P20*$K$9/1000000 -> 0.0002902763
C23: Consumption
C24: Physical Units | E24: Energy Units | J24: CO2 Emissions
B25: Fuel Type | C25: Thousand Barrels | D25: Thousand Gallons | E25: Billion Btu | F25: Percent Non-Energy Consumption (%) | G25: Non-Energy Consumption (Billion Btu) | H25: Storage Factor (%) | I25: Net Combustible or Oxidizable Consumption (Billion Btu) | J25: Carbon Content (lbs C/Million Btu) | K25: Combustion Efficiency (%) | L25: Emissions (short tons carbon) | M25: Emissions (MMTCO2e)
B26: Lubricants | C26: 216 | D26: - | E26: 1308 | F26: 1 | G26: =E26*F26 -> 1308 | H26: 0.0918 | I26: =E26-(G26*H26) -> 1187.9256 | J26: 44.5319 | K26: 1 | L26: =I26*1000*J26*K26/2000 -> 26450.292 | M26: =L26*(44/12)*0.907185/1000000 -> 0.087982797
B29: GHG Emissions Summary
B31: Fuel Type | C31: CO2 (MMTCO2e) | D31: CH4 (MMTCO2e) | E31: N2O (MMTCO2e) | F31: Total (MMTCO2e)
B32: Aviation Gasoline | C32: =I16 -> 0.01548693 | D32: =Q16 -> 0.0010687943 | E32: =N16 -> 5.4444849e-05 | F32: =SUM(C32:E32) -> 0.016610169
B33: Jet Fuel, Kerosene Type | C33: =I17 -> 2.7462875 | D33: =Q17 -> 0.0059732509 | E33: =N17 -> 0.023083312 | F33: =SUM(C33:E33) -> 2.775344
B34: Distillate Fuel Oil - Locomotive | C34: =I18 -> 0.31482915 | D34: =Q18 -> 0.0019870784 | E34: =N18 -> 0.0021378223 | F34: =SUM(C34:E34) -> 0.31895405
B35: Distillate Fuel Oil - Vessel Bunkering | C35: =I19 -> 0.053507102 | D35: =Q19 -> 0.0027549512 | E35: =N19 -> 0.00024752246 | F35: =SUM(C35:E35) -> 0.056509576
B36: Residual Fuel Oil - Vessel Bunkering | C36: =I20 -> 0.036344643 | D36: =Q20 -> 0.0002902763 | E36: =N20 -> 0.0002790172 | F36: =SUM(C36:E36) -> 0.036913937
B37: Lubricants | C37: =M26 -> 0.087982797 | D37: 0 | E37: 0 | F37: =SUM(C37:E37) -> 0.087982797
E38: Total | F38: =SUM(F32:F37) -> 3.2923146
B40: Transportation Category | C40: CO2 (MMTCO2e) | D40: CH4 (MMTCO2e) | E40: N2O (MMTCO2e) | F40: Total (MMTCO2e)
B41: Jet Fuel and Aviation Gasoline | C41: =C32+C33 -> 2.7617744 | D41: =D32+D33 -> 0.0070420451 | E41: =E32+E33 -> 0.023137757 | F41: =SUM(C41:E41) -> 2.7919542
B42: Rail | C42: =C34 -> 0.31482915 | D42: =D34 -> 0.0019870784 | E42: =E34 -> 0.0021378223 | F42: =SUM(C42:E42) -> 0.31895405
B43: Marine Vessels | C43: =C35+C36 -> 0.089851746 | D43: =D35+D36 -> 0.0030452275 | E43: =E35+E36 -> 0.00052653966 | F43: =SUM(C43:E43) -> 0.093423513
B44: Lubricants | C44: =C37 -> 0.087982797 | D44: =D37 -> 0 | E44: =E37 -> 0 | F44: =SUM(C44:E44) -> 0.087982797
E45: Total | F45: =SUM(F41:F44) -> 3.2923146

Sheet Natural Gas
B2: Emissions from Natural Gas Activities in MD
B5: Natural Gas - Production | H5: Global Warming Potential
I6: =Summary!E3 -> AR6 100-yr GWP
C7: Activity Data | D7: Emission Factor (metric tons CH4 per year per activity unit) | E7: Emissions (metric tons CH4) | F7: Emissions (MMTCO2e) | H7: =Summary!C4 -> CO2 | I7: =Summary!E4 -> 1
B8: Total number of onshore wells | C8: 1 | D8: 4.1021718 | E8: =C8*D8 -> 4.1021718 | F8: =E8*I8/1000000 -> 0.00011445059 | H8: =Summary!C5 -> CH4 | I8: =Summary!E5 -> 27.9
B9: Total | F9: =F8 -> 0.00011445059 | H9: =Summary!C6 -> N2O | I9: =Summary!E6 -> 273
H10: =Summary!C7 -> SF6 | I10: =Summary!E7 -> 24300
B11: Number of wells obtained from EIA:
B12: https://www.eia.gov/dnav/ng/NG_PROD_WELLS_S1_A.htm
B15: Natural Gas - Transmission
C17: Activity Data | D17: Emission Factor (metric tons CH4 per year per activity unit) | E17: Emissions (metric tons CH4) | F17: Emissions (MMTCO2e)
B18: Miles of transmission pipeline | C18: 985.65 | D18: 0.61847933 | E18: =C18*D18 -> 609.60415 | F18: =E18*I8/1000000 -> 0.017007956
B19: Number of gas transmission compressor stations | C19: =C18*0.006 -> 5.9139 | D19: 983.65968 | E19: =C19*D19 -> 5817.265 | F19: =E19*I8/1000000 -> 0.16230169
B20: Number of gas storage compressor stations | C20: =C18*0.0015 -> 1.478475 | D20: 964.14925 | E20: =C20*D20 -> 1425.4706 | F20: =E20*I8/1000000 -> 0.039770629
B21: Total | E21: =SUM(E18:E20) -> 7852.3397 | F21: =SUM(F18:F20) -> 0.21908028
B23: Miles of transmission pipeline from US DOT PHMSA, "Gas Transmission & Gathering Annual Data - 2010 to present" (Part P):
B24: https://www.phmsa.dot.gov/data-and-statistics/pipeline/gas-distribution-gas-gathering-gas-transmission-hazardous-liquids
B25: Number of gas transmission compressor stations = miles of transmission pipeline x 0.006 (EIIP, Volume VII: Chapter 5, March 2005)
B26: Number of gas storage compressor station = miles of transmission pipeline x 0.0015 (EIIP, Volume VII: Chapter 5, March 2005)
B29: Natural Gas - Distribution
C31: Activity Data | D31: Emission Factor (metric tons CH4 per year per activity unit) | E31: Emissions (metric tons CH4) | F31: Emissions (MMTCO2e)
B32: Distribution pipeline
B33: Miles of cast iron distribution pipeline | C33: 952.39 | D33: 5.8037236 | E33: =C33*D33 -> 5527.4083 | F33: =E33*I8/1000000 -> 0.15421469
B34: Miles of unprotected steel distribution pipeline | C34: 167.04 | D34: 2.1221754 | E34: =C34*D34 -> 354.48818 | F34: =E34*I8/1000000 -> 0.0098902202
B35: Miles of protected steel distribution pipeline | C35: 5211.88 | D35: 0.060046884 | E35: =C35*D35 -> 312.95716 | F35: =E35*I8/1000000 -> 0.0087315046
B36: Miles of plastic distribution pipeline | C36: 9241.689 | D36: 0.3716476 | E36: =C36*D36 -> 3434.6515 | F36: =E36*I8/1000000 -> 0.095826778
B38: Services
B39: Total number of services | C39: 1093623 | D39: 0.01526714 | E39: =C39*D39 -> 16696.496 | F39: =E39*I8/1000000 -> 0.46583223
B40: Number of unprotected steel services | C40: 55792 | D40: 0.0327503 | E40: =C40*D40 -> 1827.2047 | F40: =E40*I8/1000000 -> 0.050979012
B41: Number of protected steel services | C41: 85950 | D41: 0.0034007868 | E41: =C41*D41 -> 292.29763 | F41: =E41*I8/1000000 -> 0.0081551038
B42: Total | E42: =SUM(E33:E41) -> 28445.503 | F42: =SUM(F33:F41) -> 0.79362954
B44: Miles of distribution pipeline and number of services from USDOT PHMSA, "Gas Distribution Annual Data - 2010 to present":
B45: https://www.phmsa.dot.gov/data-and-statistics/pipeline/gas-distribution-gas-gathering-gas-transmission-hazardous-liquids
B48: Natural Gas - Consumption for Pipeline/Operations Use
B50: Natural Gas Consumption for Pipeline and Distribution Use | E50: CO2 Emissions | I50: N2O Emissions | L50: CH4 Emissions
B51: Physical Units (Million cubic feet) | C51: Heat Content (Btu/cubic foot) | D51: Energy Units (Billion Btu) | E51: Carbon Content (lb C/Million Btu) | F51: Combustion Efficiency (%) | G51: Emissions (short tons carbon) | H51: Emissions (MMTCO2e) | I51: Emission Factor (Mt/BBtu) | J51: Emissions (metric tons N2O) | K51: Emissions (MMTCO2e) | L51: Emission Factor (Mt/BBtu) | M51: Emissions (metric tons CH4) | N51: Emissions (MMTCO2e)
B52: =27068 -> 27068 | C52: 1039 | D52: =(B52*1000000*C52)/1000000000 -> 28123.652 | E52: 31.822471 | F52: 1 | G52: =D52*1000*E52*F52/2000 -> 447482.05 | H52: =G52*(44/12)*0.907185/1000000 -> 1.4884797 | I52: 9.4955027e-05 | J52: =D52*I52 -> 2.6704821 | K52: =J52*$I$9/1000000 -> 0.00072904162 | L52: 0.00094955027 | M52: =D52*L52 -> 26.704821 | N52: =M52*$I$8/1000000 -> 0.00074506451
B54: Maryland Natural Gas Consumption for Pipeline and Distribution Use (million cubic feet) obtained from EIA:
B55: https://www.eia.gov/dnav/ng/hist/na1480_smd_2a.htm
B56: Maryland Heat Content of Natural Gas Consumed:
B57: https://www.eia.gov/dnav/ng/ng_cons_heat_dcu_SMD_a.htm
B60: GHG Emissions Summary
B62: Natural Gas Industry Activity | C62: CO2 (MMTCO2e) | D62: CH4 (MMTCO2e) | E62: N2O (MMTCO2e) | F62: Total (MMTCO2e)
B63: Production | C63: 0 | D63: =F9 -> 0.00011445059 | E63: 0 | F63: =SUM(C63:D63) -> 0.00011445059
B64: Transmission | C64: 0 | D64: =F21 -> 0.21908028 | E64: 0 | F64: =SUM(C64:D64) -> 0.21908028
B65: Distribution | C65: 0 | D65: =F42 -> 0.79362954 | E65: 0 | F65: =SUM(C65:D65) -> 0.79362954
B66: Pipeline/Operations Use | C66: =H52 -> 1.4884797 | D66: =N52 -> 0.00074506451 | E66: =K52 -> 0.00072904162 | F66: =SUM(C66:D66) -> 1.4892247
B67: Total | C67: =SUM(C63:C66) -> 1.4884797 | D67: =SUM(D63:D66) -> 1.0135693 | E67: =SUM(E63:E66) -> 0.00072904162 | F67: =SUM(F63:F66) -> 2.502049

Sheet Coal Mining
B2: Coal Mining Emissions
B5: CH4 emissions from Mines
B7: Mine Type | C7: Measured Ventilation Emissions (million cubic feet) | D7: Degasification System Emissions (million cubic feet) | E7: Methane Recovered from Degasification Systems and Used for Energy (million cubic feet) | F7: Methane Density (g/ft3) | G7: Emissions (metric tons CH4) | H7: Emissions (MMTCO2e) | K7: Global Warming Potential
B8: Underground Mines | C8: 0 | D8: 0 | E8: 0 | F8: 19.2 | G8: =(C8+D8-E8)*1000000*F8/1000000 -> 0 | H8: =G8*$L$10/1000000 -> 0 | L8: =Summary!E3 -> AR6 100-yr GWP
K9: =Summary!C4 -> CO2 | L9: =Summary!E4 -> 1
B10: Mine Type | C10: Coal Basin | D10: Surface Coal Production (short tons) | E10: Basin-specific emission factor (ft3/short ton) | F10: Methane Density (g/ft3) | G10: Emissions (metric tons CH4) | H10: Emissions (MMTCO2e) | K10: =Summary!C5 -> CH4 | L10: =Summary!E5 -> 27.9
B11: Surface Mines | C11: Northern Appalachian Basin | D11: 798110.07 | E11: 119 | F11: 19.2 | G11: =D11*E11*F11/1000000 -> 1823.5219 | H11: =G11*$L$10/1000000 -> 0.050876261 | K11: =Summary!C6 -> N2O | L11: =Summary!E6 -> 273
K12: =Summary!C7 -> SF6 | L12: =Summary!E7 -> 24300
B14: CH4 emissions from Post-Mining Activity
B16: Mine Type | C16: Coal Basin | D16: Coal Production (short tons) | E16: Basin-specific emission factor (ft3/short ton) | F16: Methane Density (g/ft3) | G16: Emissions (metric tons CH4) | H16: Emissions (MMTCO2e)
B17: Underground Mines | C17: Northern Appalachian Basin | D17: =662829.79 -> 662829.79 | E17: 44.98 | F17: 19.2 | G17: =D17*E17*F17/1000000 -> 572.43041 | H17: =G17*$L$10/1000000 -> 0.015970808
B18: Surface Mines | C18: Northern Appalachian Basin | D18: =798110.07 -> 798110.07 | E18: 19.3375 | F18: 19.2 | G18: =D18*E18*F18/1000000 -> 296.32231 | H18: =G18*$L$10/1000000 -> 0.0082673924
B19: Coal production data: Annual Report of the Maryland Bureau of Mines 2023:
B20: https://mde.maryland.gov/programs/land/mining/Documents/ANNUAL%20REPORTOFTHEBUREAUOFMINES%20%281%29.pdf
B23: CH4 emissions from Abandoned Coal Mines
B25: Mine Status | C25: 2023 Maryland Abandoned Mine Emissions (Gg CH4/Year) | D25: Mine Status Distribution | E25: Emissions (metric tons CH4) | F25: Emissions (MMTCO2e)
B26: Vented | D26: 0.125 | E26: =C$29*D26*1000 -> 27.117534 | F26: =E26*$L$10/1000000 -> 0.00075657921
B27: Sealed | D27: 0.25 | E27: =C$29*D27*1000 -> 54.235068 | F27: =E27*$L$10/1000000 -> 0.0015131584
B28: Flooded | D28: 0.625 | E28: =C$29*D28*1000 -> 135.58767 | F28: =E28*$L$10/1000000 -> 0.003782896
B29: Total | C29: 0.21694027 | E29: =SUM(E26:E28) -> 216.94027 | F29: =SUM(F26:F28) -> 0.0060526336
B32: GHG Emissions Summary
B34: Coal Mining Activity | C34: CO2 (MMTCO2e) | D34: CH4 (MMTCO2e) | E34: N2O (MMTCO2e) | F34: Total (MMTCO2e)
B35: Mines | C35: 0 | D35: =H8+H11 -> 0.050876261 | E35: 0 | F35: =SUM(C35:D35) -> 0.050876261
B36: Post-Mining Activity | C36: 0 | D36: =H17+H18 -> 0.024238201 | E36: 0 | F36: =SUM(C36:D36) -> 0.024238201
B37: Abandoned Coal Mines | C37: 0 | D37: =F29 -> 0.0060526336 | E37: 0 | F37: =SUM(C37:D37) -> 0.0060526336
B38: Total | C38: =SUM(C35:C37) -> 0 | D38: =SUM(D35:D37) -> 0.081167095 | E38: =SUM(E35:E37) -> 0 | F38: =SUM(F35:F37) -> 0.081167095

Sheet Cement
B2: Cement Industry Production Emissions
B9: Facility: Lehigh/Heidelberg (Union Bridge) | H9: Facility: Holcim (Hagerstown)
E10: CO2 Emissions (metric tons) | F10: CO2 Emissions (short tons) | K10: CO2 Emissions (metric tons) | L10: CO2 Emissions (short tons)
B11: Kiln System Emissions (CEM measured) | E11: 1852019 | F11: 2041480.5 | H11: Kiln System Emissions (CEM measured) | K11: =L11*0.907185 -> 484658.14 | L11: 534244
B13: Kiln Fuel Combustion Emissions (calculated) | H13: Kiln Fuel Combustion Emissions (calculated)
B14: Fuel | C14: Fuel Consumption | D14: Fuel Consumption Units | E14: CO2 Emissions (metric tons) | F14: CO2 Emissions (short tons) | H14: Fuel | I14: Fuel Consumption | J14: Fuel Consumption Units | K14: CO2 Emissions (metric tons) | L14: CO2 Emissions (short tons)
B15: Coal | C15: 268573 | D15: metric tons | E15: 602707.16 | F15: 664370.13 | H15: Coal | I15: 66832 | J15: short tons | K15: =I15*20.49*96.4/1000 -> 132008.97 | L15: =K15/0.907185 -> 145514.94
B16: DBS (Preheater/Precalciner Kiln) | C16: 0 | D16: metric tons | E16: 0 | F16: 0 | H16: #2 Oil | I16: 0 | J16: gallons | K16: 0 | L16: 0
B17: #2 Oil | C17: 795700.92 | D17: gallons | E17: 8670.28 | F17: 9557.3408 | H17: Tire | I17: 913.5 | J17: metric tons | K17: =I17/0.907185*27.71*86/1000 -> 2399.6487 | L17: =K17/0.907185 -> 2645.1592
B18: Fly Ash | C18: 361485 | D18: metric tons | E18: 66960.47 | F18: 73811
B19: Total | E19: =SUM(E15:E18) -> 678337.91 | F19: =SUM(F15:F18) -> 747738.47 | H19: Total | K19: =SUM(K15:K18) -> 134408.62 | L19: =SUM(L15:L18) -> 148160.1
E21: CO2 Emissions (metric tons) | F21: CO2 Emissions (short tons) | K21: CO2 Emissions (metric tons) | L21: CO2 Emissions (short tons)
B22: Cement Production Process Emissions (kiln emissions - fuel emissions) | E22: =E11-E19 -> 1173681.1 | F22: =F11-F19 -> 1293742.1 | H22: Cement Production Process Emissions (kiln emissions - fuel emissions) | K22: =K11-K19 -> 350249.52 | L22: =L11-L19 -> 386083.9
B24: Non-Kiln Emissions (informational) | H24: Non-Kiln Emissions (informational)
B25: Fuel | C25: Fuel Consumption | D25: Fuel Consumption Units | E25: CO2 Emissions (metric tons) | F25: CO2 Emissions (short tons) | H25: Fuel | I25: Fuel Consumption | J25: Fuel Consumption Units | K25: CO2 Emissions (metric tons) | L25: CO2 Emissions (short tons)
B26: Finish Mill (#2 Oil) | C26: 49901.3 | D26: gallons | E26: 509.32 | F26: 561.42 | H26: Coal Mill Heater (#2 Oil) | I26: 162007 | J26: gallons | K26: =L26*0.907185 -> 1653.517 | L26: 1822.69
H27: Emergency Generator | J27: gallons | K27: =L27*0.907185 -> 25.54633 | L27: 28.16
E29: CO2 Emissions (metric tons) | F29: CO2 Emissions (short tons) | K29: CO2 Emissions (metric tons) | L29: CO2 Emissions (short tons)
B30: Total Facility Emissions (informational) | E30: =E11+SUM(E26:E27) -> 1852528.3 | F30: =F11+SUM(F26:F27) -> 2042042 | H30: Total Facility Emissions (informational) | K30: =K11+SUM(K26:K27) -> 486337.21 | L30: =L11+SUM(L26:L27) -> 536094.85
B33: GHG Emissions Summary
C35: CO2 Emissions (metric tons) | D35: CO2 Emissions (MMTCO2)
B36: Total Cement Process Emissions | C36: =E22+K22 -> 1523930.6 | D36: =C36/1000000 -> 1.5239306

Sheet Iron And Steel
B1: Iron & Steel Industry Production Emissions
E6: CO2 Emissions (metric tons) | F6: CO2 Emissions (short tons)
D8: CO2 | E8: 0 | F8: 0
C9: Bleeders | D9: CH4 | E9: 0 | F9: =E9*1.1023 -> 0
D10: N2O | E10: 0 | F10: =E10*1.1023 -> 0
D11: CO2 | F11: 0
C12: L Blast Furnace | D12: CH4 | F12: 0
D13: N2O | F13: 0
C14: Sinter Plant | D14: CO2 | E14: 0 | F14: =E14*1.1023 -> 0
C16: BOF | D16: CO2 | E16: 0 | F16: =E16*1.1023 -> 0
D18: CO2 | E18: 0 | F18: =F8+F14+F16+F11 -> 0
C19: Total | D19: CH4 | E19: =E9 -> 0 | F19: =F9+F12 -> 0
D20: N2O | E20: =E10 -> 0 | F20: =F10+F13 -> 0

Sheet LimeT&DSoda
B2: Limestone & Dolomite; Soda Ash; Ammonia & Urea; Electric Power Transmission & Distribution
B5: Limestone and Dolomite Use | M5: Global Warming Potential
C6: Consumption (metric tons) | E6: Emission Factor (t CO2/t production) | G6: CO2 Emissions (metric tons) | I6: CO2 Emissions (MMTCO2) | N6: =Summary!E3 -> AR6 100-yr GWP
B7: Limestone | C7: 507485 | D7: x | E7: 0.44 | F7: = | G7: =IF(ISERROR(C7*E7),0,C7*E7) -> 223293.4 | H7: = | I7: =G7/1000000 -> 0.2232934 | M7: =Summary!C4 -> CO2 | N7: =Summary!E4 -> 1
B8: Dolomite (excluding use in magnesium production) | D8: x | E8: 0.484 | F8: = | G8: =IF(ISERROR(C8*E8),0,C8*E8) -> 0 | H8: = | I8: 0 | M8: =Summary!C5 -> CH4 | N8: =Summary!E5 -> 27.9
B9: Magesium Production from Dolomite | D9: x | E9: 1.7966667 | F9: = | G9: =IF(ISERROR(C9*E9),0,C9*E9) -> 0 | H9: = | I9: 0 | M9: =Summary!C6 -> N2O | N9: =Summary!E6 -> 273
G10: Total | I10: =SUM(I7:I9) -> 0.2232934 | M10: =Summary!C7 -> SF6 | N10: =Summary!E7 -> 24300
B12: Soda Ash Manufacture and Consumption
C13: Manufacture or Consumption (metric tons) | E13: Emission Factor (t CO2/t production) | G13: CO2 Emissions (metric tons) | I13: CO2 Emissions (MMTCO2)
B14: Manufacture | C14: 0 | D14: x | E14: 0.0974 | F14: = | G14: =IF(ISERROR(C14*E14),0,C14*E14) -> 0 | H14: = | I14: 0
B15: Consumption | C15: 82264 | D15: x | E15: 0.415 | F15: = | G15: =IF(ISERROR(C15*E15),0,C15*E15) -> 34139.56 | H15: = | I15: =G15/1000000 -> 0.03413956
G16: Total | I16: =SUM(I14:I15) -> 0.03413956
B18: Ammonia Production and Urea Consumption
C19: Production or Consumption (metric tons) | E19: Emission Factor (mt CO2/mt activity) | G19: Subract emissions from Urea | I19: CO2 Emissions (metric tons) | K19: CO2 Emissions (MMTCO2)
B20: Ammonia Production | C20: 0 | D20: x | E20: 1.2 | F20: - ( | G20: =I21 -> 1103.03 | H20: ) = | I20: =IF(C20>0,C20*E20-(G20),0) -> 0 | J20: = | K20: =I20/1000000 -> 0
B21: Urea Consumption | C21: 1511 | D21: x | E21: 0.73 | H21: = | I21: =C21*E21 -> 1103.03 | J21: = | K21: =I21/1000000 -> 0.00110303
I22: Total | K22: =SUM(K20:K21) -> 0.00110303
B24: Electric Power Transmission & Distribution (T&D)
C25: SF6 Consumption (metric tons) | E25: Emission Factor (t SF6/t consumption) | G25: SF6 Emissions (metric tons) | I25: GWP | K25: SF6 Emissions (MMTCO2e)
C26: 3.2 | D26: x | E26: 1 | F26: = | G26: =IF(ISERROR(C26*E26),,C26*E26) -> 3.2 | H26: x | I26: =N$10 -> 24300 | J26: = | K26: =G26*I26/1000000 -> 0.07776
B28: Aluminum Production
C29: Production (metric tons) | E29: Emission Factor (t CE/t production) | G29: PFC Emissions (metric tons) | I29: GWP | K29: PFC Emissions (MMTCO2e)
C30: 0 | D30: x | E30: 0.42545455 | F30: = | H30: x | J30: =

Sheet ODSSubs 100-yr
B2: Maryland GHG Emissions from the Product Use of Substitutes for Ozone Depleting Substances
B5: EPA State-Level Data
B6: Data source entity | C6: U.S. Environmental Protection Agency
B7: Data source name | C7: Inventory of U.S. Greenhouse Gas Emissions and Sinks by State: 1990-2022
B8: Data source product | C8: 2024 All State GHG Inventory Data Workbook (AllStateGHGData90-22_v082924.xlsx)
B9: sector | C9: Industrial Processes and Product Use
B10: subsector | C10: Product uses as substitutes for ODS
B11: category | C11: Substitution of Ozone Depleting Substances
B12: geo_ref | C12: MD
B13: units | C13: Tg (MMTCO2e, GWP=100-yr AR5)
B15: sub_category_1 | C15: ghg_category | D15: ghg | E15: gwp | F15: Y1990 | G15: Y1991 | H15: Y1992 | I15: Y1993 | J15: Y1994 | K15: Y1995 | L15: Y1996 | M15: Y1997 | N15: Y1998 | O15: Y1999 | P15: Y2000 | Q15: Y2001 | R15: Y2002 | S15: Y2003 | T15: Y2004 | U15: Y2005 | V15: Y2006 | W15: Y2007 | X15: Y2008 | Y15: Y2009 | Z15: Y2010 | AA15: Y2011 | AB15: Y2012 | AC15: Y2013 | AD15: Y2014 | AE15: Y2015 | AF15: Y2016 | AG15: Y2017 | AH15: Y2018 | AI15: Y2019 | AJ15: Y2020 | AK15: Y2021 | AL15: Y2022
B16: Fire protection | C16: CO2 | D16: Carbon Dioxide | E16: 1 | F16: 0 | G16: 0 | H16: 0 | I16: 0 | J16: 0 | K16: 0 | L16: 0 | M16: 0 | N16: 9.8519299e-09 | O16: 3.1540939e-08 | P16: 6.2501429e-08 | Q16: 1.0185117e-07 | R16: 1.4894637e-07 | S16: 2.0074601e-07 | T16: 2.6107618e-07 | U16: 3.2987329e-07 | V16: 4.071129e-07 | W16: 4.8314337e-07 | X16: 5.5882771e-07 | Y16: 6.3589657e-07 | Z16: 7.166005e-07 | AA16: 7.9894556e-07 | AB16: 8.8522101e-07 | AC16: 9.744079e-07 | AD16: 1.0670013e-06 | AE16: 1.1630521e-06 | AF16: 1.2612901e-06 | AG16: 1.3659551e-06 | AH16: 1.4755734e-06 | AI16: 1.5902748e-06 | AJ16: 1.6681446e-06 | AK16: 1.7298704e-06 | AL16: 1.7856393e-06
B17: Foam blowing agents | C17: CO2 | D17: Carbon Dioxide | E17: 1 | F17: 2.6131015e-07 | G17: 4.1898125e-07 | H17: 5.8111867e-07 | I17: 7.4840461e-07 | J17: 9.220172e-07 | K17: 2.3052706e-06 | L17: 4.4136082e-06 | M17: 6.594629e-06 | N17: 8.8466613e-06 | O17: 1.1478304e-05 | P17: 1.2507148e-05 | Q17: 1.3145306e-05 | R17: 1.7139737e-05 | S17: 2.1744247e-05 | T17: 2.3069012e-05 | U17: 2.4384036e-05 | V17: 2.5685309e-05 | W17: 2.6988e-05 | X17: 2.8364564e-05 | Y17: 3.1166397e-05 | Z17: 3.4618546e-05 | AA17: 3.6918482e-05 | AB17: 3.8676693e-05 | AC17: 4.0727677e-05 | AD17: 4.3031867e-05 | AE17: 4.5313002e-05 | AF17: 4.8376348e-05 | AG17: 5.1409483e-05 | AH17: 5.5067013e-05 | AI17: 5.8640585e-05 | AJ17: 6.3052901e-05 | AK17: 6.6892769e-05 | AL17: 7.0764145e-05
B18: Refrigeration and air-conditioning | C18: CO2 | D18: Carbon Dioxide | E18: 1 | F18: 0 | G18: 0 | H18: 0 | I18: 0 | J18: 0 | K18: 0 | L18: 0 | M18: 0 | N18: 0 | O18: 0 | P18: 0 | Q18: 0 | R18: 0 | S18: 0 | T18: 0 | U18: 0 | V18: 0 | W18: 0 | X18: 0 | Y18: 0 | Z18: 0 | AA18: 0 | AB18: 3.7046286e-10 | AC18: 1.1108583e-09 | AD18: 1.2944557e-09 | AE18: 2.398426e-09 | AF18: 2.9404986e-09 | AG18: 6.4163775e-09 | AH18: 1.3532337e-08 | AI18: 2.4263686e-08 | AJ18: 3.923096e-08 | AK18: 5.8312307e-08 | AL18: 8.8385301e-08
B19: Fire protection | C19: HFC | D19: HFC-125 | E19: 3170 | F19: 0 | G19: 0 | H19: 0 | I19: 0 | J19: 0 | K19: 0 | L19: 0 | M19: 2.7077627e-05 | N19: 8.6931551e-05 | O19: 0.00018630404 | P19: 0.00031273548 | Q19: 0.00051983172 | R19: 0.00080178754 | S19: 0.001083461 | T19: 0.0013939861 | U19: 0.0017327705 | V19: 0.0020952358 | W19: 0.0024518461 | X19: 0.0028027344 | Y19: 0.0025626719 | Z19: 0.0027523802 | AA19: 0.0032288386 | AB19: 0.0038244972 | AC19: 0.0042703372 | AD19: 0.0053506684 | AE19: 0.0052407328 | AF19: 0.0061727424 | AG19: 0.0055345313 | AH19: 0.0064767103 | AI19: 0.0061203556 | AJ19: 0.0069972373 | AK19: 0.0072624296 | AL19: 0.0075245277
B20: Refrigeration and air-conditioning | C20: HFC | D20: HFC-125 | E20: 3170 | F20: 2.0830798e-06 | G20: 5.1310291e-06 | H20: 9.8378592e-06 | I20: 0.0018322801 | J20: 0.0048728701 | K20: 0.010327908 | L20: 0.017579837 | M20: 0.027135249 | N20: 0.035481955 | O20: 0.046437792 | P20: 0.055499793 | Q20: 0.067528539 | R20: 0.081966989 | S20: 0.097832896 | T20: 0.1141724 | U20: 0.1435341 | V20: 0.18096797 | W20: 0.22928928 | X20: 0.28110161 | Y20: 0.27603704 | Z20: 0.31935177 | AA20: 0.39418765 | AB20: 0.48079929 | AC20: 0.55078411 | AD20: 0.70366761 | AE20: 0.69749797 | AF20: 0.83328893 | AG20: 0.75152261 | AH20: 0.89051179 | AI20: 0.86712905 | AJ20: 1.0418143 | AK20: 1.1979654 | AL20: 1.302747
B21: Foam blowing agents | C21: HFC | D21: HFC-134a | E21: 1300 | F21: 0 | G21: 0 | H21: 0 | I21: 0 | J21: 0 | K21: 0 | L21: 0.00047083012 | M21: 0.00097398562 | N21: 0.0015172377 | O21: 0.0020890454 | P21: 0.0022597234 | Q21: 0.0024499313 | R21: 0.009671933 | S21: 0.017987115 | T21: 0.020047648 | U21: 0.022196068 | V21: 0.024372084 | W21: 0.026622561 | X21: 0.028829089 | Y21: 0.049818769 | Z21: 0.06451806 | AA21: 0.069924118 | AB21: 0.075492316 | AC21: 0.10291084 | AD21: 0.12581849 | AE21: 0.12643396 | AF21: 0.12240325 | AG21: 0.10682382 | AH21: 0.12017952 | AI21: 0.117278 | AJ21: 0.12873841 | AK21: 0.068501507 | AL21: 0.07314416
B22: Metered does inhalers | C22: HFC | D22: HFC-134a | E22: 1300 | F22: 0 | G22: 0 | H22: 0 | I22: 0 | J22: 0 | K22: 0 | L22: 0 | M22: 0.00032235782 | N22: 0.00065270642 | O22: 0.00099047932 | P22: 0.0013715671 | Q22: 0.0031367205 | R22: 0.0049577196 | S22: 0.0068239834 | T22: 0.0087482455 | U22: 0.010728317 | V22: 0.012740752 | W22: 0.014772572 | X22: 0.016454568 | Y22: 0.017865365 | Z22: 0.017039986 | AA22: 0.018568296 | AB22: 0.017419657 | AC22: 0.020422721 | AD22: 0.021296317 | AE22: 0.017987546 | AF22: 0.02099184 | AG22: 0.022168836 | AH22: 0.028629317 | AI22: 0.028196491 | AJ22: 0.031926112 | AK22: 0.032440101 | AL22: 0.019755372
B23: Other Aerosols | C23: HFC | D23: HFC-134a | E23: 1300 | F23: 0 | G23: 0 | H23: 0 | I23: 0 | J23: 0.012228733 | K23: 0.13197605 | L23: 0.15222652 | M23: 0.16412747 | N23: 0.1640113 | O23: 0.1691402 | P23: 0.17177958 | Q23: 0.16325329 | R23: 0.15334836 | S23: 0.14300346 | T23: 0.13129687 | U23: 0.11920599 | V23: 0.12879916 | W23: 0.13938226 | X23: 0.14890156 | Y23: 0.16524919 | Z23: 0.16121869 | AA23: 0.17243091 | AB23: 0.18256599 | AC23: 0.24235496 | AD23: 0.28728774 | AE23: 0.28008392 | AF23: 0.23625239 | AG23: 0.1853182 | AH23: 0.17912986 | AI23: 0.17753733 | AJ23: 0.20229141 | AK23: 0.20684834 | AL23: 0.21123935
B24: Refrigeration and air-conditioning | C24: HFC | D24: HFC-134a | E24: 1300 | F24: 7.3244025e-08 | G24: 1.8041423e-07 | H24: 0.017305468 | I24: 0.074925705 | J24: 0.1821437 | K24: 0.28846386 | L24: 0.4180816 | M24: 0.55318849 | N24: 0.64919731 | O24: 0.74618482 | P24: 0.8384812 | Q24: 0.93108188 | R24: 0.97507845 | S24: 1.0075033 | T24: 1.0436907 | U24: 1.0678293 | V24: 1.0892686 | W24: 1.1057765 | X24: 1.1283151 | Y24: 1.1090757 | Z24: 0.92797689 | AA24: 0.85749333 | AB24: 0.79206011 | AC24: 0.90959076 | AD24: 0.97963123 | AE24: 0.87464999 | AF24: 0.77006584 | AG24: 0.62989016 | AH24: 0.67060516 | AI24: 0.62800888 | AJ24: 0.67523393 | AK24: 0.65433657 | AL24: 0.62706311
B25: Refrigeration and air-conditioning | C25: HFC | D25: HFC-143a | E25: 4800 | F25: 3.7240846e-06 | G25: 9.173142e-06 | H25: 1.758791e-05 | I25: 0.0013186948 | J25: 0.0036741288 | K25: 0.0091767881 | L25: 0.017068478 | M25: 0.028260174 | N25: 0.040974399 | O25: 0.05851173 | P25: 0.072150615 | Q25: 0.089370066 | R25: 0.10878281 | S25: 0.12880728 | T25: 0.14725207 | U25: 0.17825235 | V25: 0.21186199 | W25: 0.24965077 | X25: 0.292543 | Y25: 0.32544677 | Z25: 0.33349639 | AA25: 0.41388764 | AB25: 0.49996887 | AC25: 0.56678411 | AD25: 0.65334286 | AE25: 0.65542007 | AF25: 0.6741416 | AG25: 0.50404953 | AH25: 0.63209378 | AI25: 0.55417967 | AJ25: 0.60943852 | AK25: 0.61154888 | AL25: 0.60870673
B26: Fire protection | C26: HFC | D26: HFC-23 | E26: 12400 | F26: 0 | G26: 0 | H26: 0 | I26: 0 | J26: 0 | K26: 9.3036146e-06 | L26: 2.0863174e-05 | M26: 3.9285248e-05 | N26: 5.7624496e-05 | O26: 8.2822796e-05 | P26: 0.00010808852 | Q26: 0.00013136571 | R26: 0.00015256284 | S26: 0.00016903748 | T26: 0.00018525577 | U26: 0.000203596 | V26: 0.00021908588 | W26: 0.00023642556 | X26: 0.00025156469 | Y26: 0.00026969387 | Z26: 0.00029085115 | AA26: 0.0003097348 | AB26: 0.00033304611 | AC26: 0.00035354918 | AD26: 0.00037605786 | AE26: 0.00040035265 | AF26: 0.00042387288 | AG26: 0.00045009971 | AH26: 0.00047619198 | AI26: 0.00050446574 | AJ26: 0.00053214126 | AK26: 0.00055199864 | AL26: 0.00056954537
B27: Fire protection | C27: HFC | D27: HFC-236fa | E27: 8060 | F27: 0 | G27: 0 | H27: 0 | I27: 0 | J27: 0 | K27: 0 | L27: 0 | M27: 0.00019677288 | N27: 0.00059929476 | O27: 0.0012202559 | P27: 0.0018595826 | Q27: 0.0025241805 | R27: 0.0032153774 | S27: 0.0037282026 | T27: 0.0040489965 | U27: 0.0041671244 | V27: 0.0042781707 | W27: 0.0043864975 | X27: 0.0045011783 | Y27: 0.0046335922 | Z27: 0.0047814097 | AA27: 0.0049347636 | AB27: 0.0050880259 | AC27: 0.0052378081 | AD27: 0.0053880608 | AE27: 0.0055376779 | AF27: 0.0056821755 | AG27: 0.0058379979 | AH27: 0.0059974113 | AI27: 0.0061625128 | AJ27: 0.006408648 | AK27: 0.0065918218 | AL27: 0.0067551257
... B49: Fire protection | C49: PFC | D49: PFC-14 (Perfluoromethane) | E49: 6630 | F49: 0 | G49: 0 | H49: 0 | I49: 0 | J49: 4.4884166e-07 | K49: 1.4425855e-06 | L49: 1.3039035e-05 | M49: 3.5782525e-05 | N49: 7.0346572e-05 | O49: 0.00011730201 | P49: 0.00017716473 | Q49: 0.00023890872 | R49: 0.00029247235 | S49: 0.00033651268 | T49: 0.00037015762 | U49: 0.00039282961 | V49: 0.00040335712 | W49: 0.0004135003 | X49: 0.00042435407 | Y49: 0.00043680145 | Z49: 0.00045081205 | AA49: 0.00046517504 | AB49: 0.00047968976 | AC49: 0.00049384718 | AD49: 0.00050801963 | AE49: 0.0005220606 | AF49: 0.00053563903 | AG49: 0.00055035359 | AH49: 0.00056542619 | AI49: 0.00058101252 | AJ49: 0.00054511363 | AK49: 0.00050178884 | AL49: 0.00045545001
B51: Notes About Other HFC and Other PFC
B53: Data source entity | C53: U.S. Environmental Protection Agency
B54: Data source name | C54: Inventory of U.S. Greenhouse Gas Emissions and Sinks: 1990-2022
B55: Data source product | C55: 2024 Chapter 4: Industrial Processes and Product Use (pdf) (2.23 MB, April 11, 2024, 430R24004)
B57: Table 4-125
B58: "Other Saturated HFCs represents an unspecified mix of saturated HFCs, which includes HFC-152a, HFC227ea, HFC-245fa, HFC-365mfc, and HFC-43-10mee
B59: Other PFCs and HFOs represents an unspecified mix of PFCs and HFOs, which includes HCFO-1233zd(E), HFO-1234yf, HFO-1234ze(E), HFO-1336mzz(Z), C4F10, and PFC/PFPEs, the latter being a proxy for a diverse
B60: collection of PFCs and perfluoropolyethers (PFPEs) employed for solvent applications. For estimating purposes, the GWP value used for PFC/PFPEs was based upon n-C6F14."
B62: Data source product | C62: Annex 3.9
B64: Other HFC and Other PFC are reported in aggregate due to confidentiality.
B66: Calculation of GWP Conversion Ratio
B68: Data source entity | C68: Intergovernmental Panel on Climate Change
B69: Data source name | C69: Fifth Assessment Report; Sixth Assessment Report
B70: Data source product | C70: Chapter 8, Anthropogenic and Natural Radiative Forcing (AR5); Chapter 7, The Earth’s Energy Budget, Climate Feedbacks and Climate Sensitivity (AR6)
B72: Gas | C72: AR5 100-yr GWP | D72: AR6 100-yr GWP | E72: Ratio of AR6 100-yr GWP : AR5 100-yr GWP
B73: Carbon Dioxide | C73: 1 | D73: 1 | E73: =D73/C73 -> 1
B74: HFC-125 | C74: 3170 | D74: 3740 | E74: =D74/C74 -> 1.1798107
B75: HFC-134a | C75: 1300 | D75: 1530 | E75: =D75/C75 -> 1.1769231
B76: HFC-143a | C76: 4800 | D76: 5810 | E76: =D76/C76 -> 1.2104167
B77: HFC-23 | C77: 12400 | D77: 14600 | E77: =D77/C77 -> 1.1774194
B78: HFC-236fa | C78: 8060 | D78: 8690 | E78: =D78/C78 -> 1.0781638
B79: HFC-32 | C79: 677 | D79: 771 | E79: =D79/C79 -> 1.1388479
B80: PFC-14 (Perfluoromethane) | C80: 6630 | D80: 7380 | E80: =D80/C80 -> 1.1131222
B82: Gas | C82: AR5 100-yr GWP | D82: AR6 100-yr GWP | E82: Ratio of AR6 100-yr GWP : AR5 100-yr GWP
B83: HFC-152a | C83: 138 | D83: 164 | E83: =D83/C83 -> 1.1884058
B84: HFC227ea | C84: 3350 | D84: 3600 | E84: =D84/C84 -> 1.0746269
B85: HFC-245fa | C85: 858 | D85: 962 | E85: =D85/C85 -> 1.1212121
B86: HFC-365mfc | C86: 804 | D86: 914 | E86: =D86/C86 -> 1.1368159
B87: HFC-43-10mee | C87: 1650 | D87: 1600 | E87: =D87/C87 -> 0.96969697
B88: Other HFC | E88: =AVERAGE(E83:E87) -> 1.0981515
B90: Gas | C90: AR5 100-yr GWP | D90: AR6 100-yr GWP | E90: Ratio of AR6 100-yr GWP : AR5 100-yr GWP
B91: C4F10 | C91: 9200 | D91: 10000 | E91: =D91/C91 -> 1.0869565
B92: n-C6F14 | C92: 7910 | D92: 8620 | E92: =D92/C92 -> 1.0897598
B93: Data source entity | C93: Intergovernmental Panel on Climate Change
B94: Data source name | C94: Sixth Assessment Report
B95: Data source product | C95: The Physical Science Basis, Chapter 7 Supplementary Material, Table 7.SM.7 | H95: AR6 | M95: AR5
B96: Gas | C96: AR5 100-yr GWP | D96: AR6 100-yr GWP | E96: Ratio of AR6 100-yr GWP : AR5 100-yr GWP | H96: Name | I96: Formula | J96: lifetime (yrs) | K96: lifetime (days) | M96: Name | N96: Formula | O96: lifetime (days) | P96: GWP20 | Q96: GWP100 | R96: ratio
B97: HCFO-1233zd(E) | C97: 1 | D97: 3.88 | E97: =D97/C97 -> 3.88 | H97: HCFO-1233zd(E) | I97: (E)-CF3CH=CHCl | J97: 0.116 | K97: 42 | M97: (E)-1-Chloro-3,3,3trifluoroprop-1-ene | N97: trans-CF3 CH=CHCl | O97: 26 | P97: 5 | Q97: 1 | R97: =P97/Q97 -> 5
B98: HFO-1234yf | C98: 0.5 | D98: 0.501 | E98: =D98/C98 -> 1.002 | H98: HFO-1234yf | I98: CF3CF=CH2 | J98: 0.033 | K98: 12 | M98: HFC-1234yf | N98: CF3 CF=CH2 | O98: 10.5 | P98: 1 | Q98: <1 | R98: =P98/Q98 -> #VALUE!
B99: HFO-1234ze(E) | C99: 0.5 | D99: 1.37 | E99: =D99/C99 -> 2.74 | H99: HFO-1234ze(E) | I99: (E)-CF3CH=CHF | J99: 0.052 | K99: 19 | M99: (E)-HFC-1234ze | N99: trans-CF3 CH=CHF | O99: 16.4 | P99: 4 | Q99: <1 | R99: =P99/Q99 -> #VALUE!
B100: HFO-1336mzz(Z) | C100: 2 | D100: 2.08 | E100: =D100/C100 -> 1.04 | H100: HFO-1336mzz(Z) | I100: (Z)-CF3CH=CHCF3 | J100: 0.074 | K100: 27 | M100: (Z)-HFC-1336 | N100: CF3 CH=CHCF3 (Z) | O100: 22 | P100: 6 | Q100: 2 | R100: =P100/Q100 -> 3
B101: Other PFC | E101: =AVERAGE(E91:E100) -> 1.8064527
B103: Conversion From AR5 100-yr GWP to AR6 100-yr GWP
B105: =B15 -> sub_category_1 | C105: =C15 -> ghg_category | D105: =D15 -> ghg | E105: GWP Conversion Ratio | F105: =F15 -> Y1990 | G105: =G15 -> Y1991 | H105: =H15 -> Y1992 | I105: =I15 -> Y1993 | J105: =J15 -> Y1994 | K105: =K15 -> Y1995 | L105: =L15 -> Y1996 | M105: =M15 -> Y1997 | ... AL105: =AL15 -> Y2022
B106: =B16 -> Fire protection | C106: =C16 -> CO2 | D106: =D16 -> Carbon Dioxide | E106: =_xlfn.XLOOKUP(D106,B$73:B$101,E$73:E$101) -> 1 | F106: =F16*$E106 -> 0 | G106: =G16*$E106 -> 0 | H106: =H16*$E106 -> 0 | I106: =I16*$E106 -> 0 | J106: =J16*$E106 -> 0 | K106: =K16*$E106 -> 0 | L106: =L16*$E106 -> 0 | M106: =M16*$E106 -> 0 | ... AL106: =AL16*$E106 -> 1.7856393e-06
B107: =B17 -> Foam blowing agents | C107: =C17 -> CO2 | D107: =D17 -> Carbon Dioxide | E107: =_xlfn.XLOOKUP(D107,B$73:B$101,E$73:E$101) -> 1 | F107: =F17*$E107 -> 2.6131015e-07 | G107: =G17*$E107 -> 4.1898125e-07 | H107: =H17*$E107 -> 5.8111867e-07 | I107: =I17*$E107 -> 7.4840461e-07 | J107: =J17*$E107 -> 9.220172e-07 | K107: =K17*$E107 -> 2.3052706e-06 | L107: =L17*$E107 -> 4.4136082e-06 | M107: =M17*$E107 -> 6.594629e-06 | ... AL107: =AL17*$E107 -> 7.0764145e-05
B108: =B18 -> Refrigeration and air-conditioning | C108: =C18 -> CO2 | D108: =D18 -> Carbon Dioxide | E108: =_xlfn.XLOOKUP(D108,B$73:B$101,E$73:E$101) -> 1 | F108: =F18*$E108 -> 0 | G108: =G18*$E108 -> 0 | H108: =H18*$E108 -> 0 | I108: =I18*$E108 -> 0 | J108: =J18*$E108 -> 0 | K108: =K18*$E108 -> 0 | L108: =L18*$E108 -> 0 | M108: =M18*$E108 -> 0 | ... AL108: =AL18*$E108 -> 8.8385301e-08
B109: =B19 -> Fire protection | C109: =C19 -> HFC | D109: =D19 -> HFC-125 | E109: =_xlfn.XLOOKUP(D109,B$73:B$101,E$73:E$101) -> 1.1798107 | F109: =F19*$E109 -> 0 | G109: =G19*$E109 -> 0 | H109: =H19*$E109 -> 0 | I109: =I19*$E109 -> 0 | J109: =J19*$E109 -> 0 | K109: =K19*$E109 -> 0 | L109: =L19*$E109 -> 0 | M109: =M19*$E109 -> 3.1946475e-05 | ... AL109: =AL19*$E109 -> 0.0088775184
B110: =B20 -> Refrigeration and air-conditioning | C110: =C20 -> HFC | D110: =D20 -> HFC-125 | E110: =_xlfn.XLOOKUP(D110,B$73:B$101,E$73:E$101) -> 1.1798107 | F110: =F20*$E110 -> 2.4576398e-06 | G110: =G20*$E110 -> 6.0536431e-06 | H110: =H20*$E110 -> 1.1606812e-05 | I110: =I20*$E110 -> 0.0021617438 | J110: =J20*$E110 -> 0.0057490644 | K110: =K20*$E110 -> 0.012184977 | L110: =L20*$E110 -> 0.02074088 | M110: =M20*$E110 -> 0.032014457 | ... AL110: =AL20*$E110 -> 1.5369949
B111: =B21 -> Foam blowing agents | C111: =C21 -> HFC | D111: =D21 -> HFC-134a | E111: =_xlfn.XLOOKUP(D111,B$73:B$101,E$73:E$101) -> 1.1769231 | F111: =F21*$E111 -> 0 | G111: =G21*$E111 -> 0 | H111: =H21*$E111 -> 0 | I111: =I21*$E111 -> 0 | J111: =J21*$E111 -> 0 | K111: =K21*$E111 -> 0 | L111: =L21*$E111 -> 0.00055413084 | M111: =M21*$E111 -> 0.0011463062 | ... AL111: =AL21*$E111 -> 0.08608505
B112: =B22 -> Metered does inhalers | C112: =C22 -> HFC | D112: =D22 -> HFC-134a | E112: =_xlfn.XLOOKUP(D112,B$73:B$101,E$73:E$101) -> 1.1769231 | F112: =F22*$E112 -> 0 | G112: =G22*$E112 -> 0 | H112: =H22*$E112 -> 0 | I112: =I22*$E112 -> 0 | J112: =J22*$E112 -> 0 | K112: =K22*$E112 -> 0 | L112: =L22*$E112 -> 0 | M112: =M22*$E112 -> 0.00037939036 | ... AL112: =AL22*$E112 -> 0.023250554
B113: =B23 -> Other Aerosols | C113: =C23 -> HFC | D113: =D23 -> HFC-134a | E113: =_xlfn.XLOOKUP(D113,B$73:B$101,E$73:E$101) -> 1.1769231 | F113: =F23*$E113 -> 0 | G113: =G23*$E113 -> 0 | H113: =H23*$E113 -> 0 | I113: =I23*$E113 -> 0 | J113: =J23*$E113 -> 0.014392278 | K113: =K23*$E113 -> 0.15532566 | L113: =L23*$E113 -> 0.1791589 | M113: =M23*$E113 -> 0.19316541 | ... AL113: =AL23*$E113 -> 0.24861246
B114: =B24 -> Refrigeration and air-conditioning | C114: =C24 -> HFC | D114: =D24 -> HFC-134a | E114: =_xlfn.XLOOKUP(D114,B$73:B$101,E$73:E$101) -> 1.1769231 | F114: =F24*$E114 -> 8.6202584e-08 | G114: =G24*$E114 -> 2.1233367e-07 | H114: =H24*$E114 -> 0.020367205 | I114: =I24*$E114 -> 0.088181791 | J114: =J24*$E114 -> 0.21436912 | K114: =K24*$E114 -> 0.33949977 | L114: =L24*$E114 -> 0.49204989 | M114: =M24*$E114 -> 0.6510603 | ... AL114: =AL24*$E114 -> 0.73800505
B115: =B25 -> Refrigeration and air-conditioning | C115: =C25 -> HFC | D115: =D25 -> HFC-143a | E115: =_xlfn.XLOOKUP(D115,B$73:B$101,E$73:E$101) -> 1.2104167 | F115: =F25*$E115 -> 4.5076941e-06 | G115: =G25*$E115 -> 1.1103324e-05 | H115: =H25*$E115 -> 2.12887e-05 | I115: =I25*$E115 -> 0.0015961702 | J115: =J25*$E115 -> 0.0044472268 | K115: =K25*$E115 -> 0.011107737 | L115: =L25*$E115 -> 0.02065997 | M115: =M25*$E115 -> 0.034206586 | ... AL115: =AL25*$E115 -> 0.73678877
B116: =B26 -> Fire protection | C116: =C26 -> HFC | D116: =D26 -> HFC-23 | E116: =_xlfn.XLOOKUP(D116,B$73:B$101,E$73:E$101) -> 1.1774194 | F116: =F26*$E116 -> 0 | G116: =G26*$E116 -> 0 | H116: =H26*$E116 -> 0 | I116: =I26*$E116 -> 0 | J116: =J26*$E116 -> 0 | K116: =K26*$E116 -> 1.0954256e-05 | L116: =L26*$E116 -> 2.4564705e-05 | M116: =M26*$E116 -> 4.6255212e-05 | ... AL116: =AL26*$E116 -> 0.00067059374
B117: =B27 -> Fire protection | C117: =C27 -> HFC | D117: =D27 -> HFC-236fa | E117: =_xlfn.XLOOKUP(D117,B$73:B$101,E$73:E$101) -> 1.0781638 | F117: =F27*$E117 -> 0 | G117: =G27*$E117 -> 0 | H117: =H27*$E117 -> 0 | I117: =I27*$E117 -> 0 | J117: =J27*$E117 -> 0 | K117: =K27*$E117 -> 0 | L117: =L27*$E117 -> 0 | M117: =M27*$E117 -> 0.00021215339 | ... AL117: =AL27*$E117 -> 0.0072831318
... B139: =B49 -> Fire protection | C139: =C49 -> PFC | D139: =D49 -> PFC-14 (Perfluoromethane) | E139: =_xlfn.XLOOKUP(D139,B$73:B$101,E$73:E$101) -> 1.1131222 | F139: =F49*$E139 -> 0 | G139: =G49*$E139 -> 0 | H139: =H49*$E139 -> 0 | I139: =I49*$E139 -> 0 | J139: =J49*$E139 -> 4.996156e-07 | K139: =K49*$E139 -> 1.6057739e-06 | L139: =L49*$E139 -> 1.4514039e-05 | M139: =M49*$E139 -> 3.9830322e-05 | ... AL139: =AL49*$E139 -> 0.0005069715
B141: Emissions by Gas
B143: AR5 100-yr GWP
D144: GHG | F144: Y1990 | G144: Y1991 | H144: Y1992 | I144: Y1993 | J144: Y1994 | K144: Y1995 | L144: Y1996 | M144: Y1997 | N144: Y1998 | O144: Y1999 | P144: Y2000 | Q144: Y2001 | R144: Y2002 | S144: Y2003 | T144: Y2004 | U144: Y2005 | V144: Y2006 | W144: Y2007 | X144: Y2008 | Y144: Y2009 | Z144: Y2010 | AA144: Y2011 | AB144: Y2012 | AC144: Y2013 | AD144: Y2014 | AE144: Y2015 | AF144: Y2016 | AG144: Y2017 | AH144: Y2018 | AI144: Y2019 | AJ144: Y2020 | AK144: Y2021 | AL144: Y2022
D145: Carbon Dioxide | F145: =SUMIF($D$16:$D$49,$D145,F$16:F$49) -> 2.6131015e-07 | G145: =SUMIF($D$16:$D$49,$D145,G$16:G$49) -> 4.1898125e-07 | H145: =SUMIF($D$16:$D$49,$D145,H$16:H$49) -> 5.8111867e-07 | I145: =SUMIF($D$16:$D$49,$D145,I$16:I$49) -> 7.4840461e-07 | J145: =SUMIF($D$16:$D$49,$D145,J$16:J$49) -> 9.220172e-07 | K145: =SUMIF($D$16:$D$49,$D145,K$16:K$49) -> 2.3052706e-06 | L145: =SUMIF($D$16:$D$49,$D145,L$16:L$49) -> 4.4136082e-06 | M145: =SUMIF($D$16:$D$49,$D145,M$16:M$49) -> 6.594629e-06 | ... AL145: =SUMIF($D$16:$D$49,$D145,AL$16:AL$49) -> 7.263817e-05
D146: HFC-125 | F146: =SUMIF($D$16:$D$49,$D146,F$16:F$49) -> 2.0830798e-06 | G146: =SUMIF($D$16:$D$49,$D146,G$16:G$49) -> 5.1310291e-06 | H146: =SUMIF($D$16:$D$49,$D146,H$16:H$49) -> 9.8378592e-06 | I146: =SUMIF($D$16:$D$49,$D146,I$16:I$49) -> 0.0018322801 | J146: =SUMIF($D$16:$D$49,$D146,J$16:J$49) -> 0.0048728701 | K146: =SUMIF($D$16:$D$49,$D146,K$16:K$49) -> 0.010327908 | L146: =SUMIF($D$16:$D$49,$D146,L$16:L$49) -> 0.017579837 | M146: =SUMIF($D$16:$D$49,$D146,M$16:M$49) -> 0.027162326 | ... AL146: =SUMIF($D$16:$D$49,$D146,AL$16:AL$49) -> 1.3102715
D147: HFC-134a | F147: =SUMIF($D$16:$D$49,$D147,F$16:F$49) -> 7.3244025e-08 | G147: =SUMIF($D$16:$D$49,$D147,G$16:G$49) -> 1.8041423e-07 | H147: =SUMIF($D$16:$D$49,$D147,H$16:H$49) -> 0.017305468 | I147: =SUMIF($D$16:$D$49,$D147,I$16:I$49) -> 0.074925705 | J147: =SUMIF($D$16:$D$49,$D147,J$16:J$49) -> 0.19437243 | K147: =SUMIF($D$16:$D$49,$D147,K$16:K$49) -> 0.4204399 | L147: =SUMIF($D$16:$D$49,$D147,L$16:L$49) -> 0.57077895 | M147: =SUMIF($D$16:$D$49,$D147,M$16:M$49) -> 0.7186123 | ... AL147: =SUMIF($D$16:$D$49,$D147,AL$16:AL$49) -> 0.93120199
D148: HFC-143a | F148: =SUMIF($D$16:$D$49,$D148,F$16:F$49) -> 3.7240846e-06 | G148: =SUMIF($D$16:$D$49,$D148,G$16:G$49) -> 9.173142e-06 | H148: =SUMIF($D$16:$D$49,$D148,H$16:H$49) -> 1.758791e-05 | I148: =SUMIF($D$16:$D$49,$D148,I$16:I$49) -> 0.0013186948 | J148: =SUMIF($D$16:$D$49,$D148,J$16:J$49) -> 0.0036741288 | K148: =SUMIF($D$16:$D$49,$D148,K$16:K$49) -> 0.0091767881 | L148: =SUMIF($D$16:$D$49,$D148,L$16:L$49) -> 0.017068478 | M148: =SUMIF($D$16:$D$49,$D148,M$16:M$49) -> 0.028260174 | ... AL148: =SUMIF($D$16:$D$49,$D148,AL$16:AL$49) -> 0.60870673
D149: HFC-23 | F149: =SUMIF($D$16:$D$49,$D149,F$16:F$49) -> 0 | G149: =SUMIF($D$16:$D$49,$D149,G$16:G$49) -> 0 | H149: =SUMIF($D$16:$D$49,$D149,H$16:H$49) -> 0 | I149: =SUMIF($D$16:$D$49,$D149,I$16:I$49) -> 0 | J149: =SUMIF($D$16:$D$49,$D149,J$16:J$49) -> 0 | K149: =SUMIF($D$16:$D$49,$D149,K$16:K$49) -> 9.3036146e-06 | L149: =SUMIF($D$16:$D$49,$D149,L$16:L$49) -> 2.0863174e-05 | M149: =SUMIF($D$16:$D$49,$D149,M$16:M$49) -> 3.9285248e-05 | ... AL149: =SUMIF($D$16:$D$49,$D149,AL$16:AL$49) -> 0.00056954537
D150: HFC-236fa | F150: =SUMIF($D$16:$D$49,$D150,F$16:F$49) -> 0 | G150: =SUMIF($D$16:$D$49,$D150,G$16:G$49) -> 0 | H150: =SUMIF($D$16:$D$49,$D150,H$16:H$49) -> 0 | I150: =SUMIF($D$16:$D$49,$D150,I$16:I$49) -> 0.0010949582 | J150: =SUMIF($D$16:$D$49,$D150,J$16:J$49) -> 0.0033027021 | K150: =SUMIF($D$16:$D$49,$D150,K$16:K$49) -> 0.0054743631 | L150: =SUMIF($D$16:$D$49,$D150,L$16:L$49) -> 0.0068121741 | M150: =SUMIF($D$16:$D$49,$D150,M$16:M$49) -> 0.008341067 | ... AL150: =SUMIF($D$16:$D$49,$D150,AL$16:AL$49) -> 0.010679883
D151: HFC-32 | F151: =SUMIF($D$16:$D$49,$D151,F$16:F$49) -> 0 | G151: =SUMIF($D$16:$D$49,$D151,G$16:G$49) -> 0 | H151: =SUMIF($D$16:$D$49,$D151,H$16:H$49) -> 0 | I151: =SUMIF($D$16:$D$49,$D151,I$16:I$49) -> 0 | J151: =SUMIF($D$16:$D$49,$D151,J$16:J$49) -> 0 | K151: =SUMIF($D$16:$D$49,$D151,K$16:K$49) -> 0 | L151: =SUMIF($D$16:$D$49,$D151,L$16:L$49) -> 3.0469017e-06 | M151: =SUMIF($D$16:$D$49,$D151,M$16:M$49) -> 8.651811e-06 | ... AL151: =SUMIF($D$16:$D$49,$D151,AL$16:AL$49) -> 0.18850129
D152: Other HFC | F152: =SUMIF($D$16:$D$49,$D152,F$16:F$49) -> 0.0047799061 | G152: =SUMIF($D$16:$D$49,$D152,G$16:G$49) -> 0.010063064 | H152: =SUMIF($D$16:$D$49,$D152,H$16:H$49) -> 0.010121953 | I152: =SUMIF($D$16:$D$49,$D152,I$16:I$49) -> 0.010277569 | J152: =SUMIF($D$16:$D$49,$D152,J$16:J$49) -> 0.011054365 | K152: =SUMIF($D$16:$D$49,$D152,K$16:K$49) -> 0.024079612 | L152: =SUMIF($D$16:$D$49,$D152,L$16:L$49) -> 0.039032626 | M152: =SUMIF($D$16:$D$49,$D152,M$16:M$49) -> 0.048525527 | ... AL152: =SUMIF($D$16:$D$49,$D152,AL$16:AL$49) -> 0.30845443
D153: PFC-14 (Perfluoromethane) | F153: =SUMIF($D$16:$D$49,$D153,F$16:F$49) -> 0 | G153: =SUMIF($D$16:$D$49,$D153,G$16:G$49) -> 0 | H153: =SUMIF($D$16:$D$49,$D153,H$16:H$49) -> 0 | I153: =SUMIF($D$16:$D$49,$D153,I$16:I$49) -> 0 | J153: =SUMIF($D$16:$D$49,$D153,J$16:J$49) -> 4.4884166e-07 | K153: =SUMIF($D$16:$D$49,$D153,K$16:K$49) -> 1.4425855e-06 | L153: =SUMIF($D$16:$D$49,$D153,L$16:L$49) -> 1.3039035e-05 | M153: =SUMIF($D$16:$D$49,$D153,M$16:M$49) -> 3.5782525e-05 | ... AL153: =SUMIF($D$16:$D$49,$D153,AL$16:AL$49) -> 0.00045545001
D154: Other PFC | F154: =SUMIF($D$16:$D$49,$D154,F$16:F$49) -> 0 | G154: =SUMIF($D$16:$D$49,$D154,G$16:G$49) -> 0 | H154: =SUMIF($D$16:$D$49,$D154,H$16:H$49) -> 0 | I154: =SUMIF($D$16:$D$49,$D154,I$16:I$49) -> 0 | J154: =SUMIF($D$16:$D$49,$D154,J$16:J$49) -> 1.7300751e-06 | K154: =SUMIF($D$16:$D$49,$D154,K$16:K$49) -> 0.0084656947 | L154: =SUMIF($D$16:$D$49,$D154,L$16:L$49) -> 0.020348099 | M154: =SUMIF($D$16:$D$49,$D154,M$16:M$49) -> 0.023912308 | ... AL154: =SUMIF($D$16:$D$49,$D154,AL$16:AL$49) -> 0.00040573062
D156: CO2 | F156: =F145 -> 2.6131015e-07 | G156: =G145 -> 4.1898125e-07 | H156: =H145 -> 5.8111867e-07 | I156: =I145 -> 7.4840461e-07 | J156: =J145 -> 9.220172e-07 | K156: =K145 -> 2.3052706e-06 | L156: =L145 -> 4.4136082e-06 | M156: =M145 -> 6.594629e-06 | ... AL156: =AL145 -> 7.263817e-05
D157: HFC | F157: =SUM(F146:F152) -> 0.0047857865 | G157: =SUM(G146:G152) -> 0.010077549 | H157: =SUM(H146:H152) -> 0.027454847 | I157: =SUM(I146:I152) -> 0.089449207 | J157: =SUM(J146:J152) -> 0.2172765 | K157: =SUM(K146:K152) -> 0.46950788 | L157: =SUM(L146:L152) -> 0.65129598 | M157: =SUM(M146:M152) -> 0.83094933 | ... AL157: =SUM(AL146:AL152) -> 3.3583854
D158: PFC | F158: =SUM(F153:F154) -> 0 | G158: =SUM(G153:G154) -> 0 | H158: =SUM(H153:H154) -> 0 | I158: =SUM(I153:I154) -> 0 | J158: =SUM(J153:J154) -> 2.1789168e-06 | K158: =SUM(K153:K154) -> 0.0084671373 | L158: =SUM(L153:L154) -> 0.020361138 | M158: =SUM(M153:M154) -> 0.023948091 | ... AL158: =SUM(AL153:AL154) -> 0.00086118063
D160: Total MMTCO2e | F160: =SUM(F156:F158) -> 0.0047860478 | G160: =SUM(G156:G158) -> 0.010077968 | H160: =SUM(H156:H158) -> 0.027455428 | I160: =SUM(I156:I158) -> 0.089449955 | J160: =SUM(J156:J158) -> 0.2172796 | K160: =SUM(K156:K158) -> 0.47797732 | L160: =SUM(L156:L158) -> 0.67166153 | M160: =SUM(M156:M158) -> 0.85490402 | ... AL160: =SUM(AL156:AL158) -> 3.3593192
B162: AR6 100-yr GWP
D163: GHG | F163: Y1990 | G163: Y1991 | H163: Y1992 | I163: Y1993 | J163: Y1994 | K163: Y1995 | L163: Y1996 | M163: Y1997 | N163: Y1998 | O163: Y1999 | P163: Y2000 | Q163: Y2001 | R163: Y2002 | S163: Y2003 | T163: Y2004 | U163: Y2005 | V163: Y2006 | W163: Y2007 | X163: Y2008 | Y163: Y2009 | Z163: Y2010 | AA163: Y2011 | AB163: Y2012 | AC163: Y2013 | AD163: Y2014 | AE163: Y2015 | AF163: Y2016 | AG163: Y2017 | AH163: Y2018 | AI163: Y2019 | AJ163: Y2020 | AK163: Y2021 | AL163: Y2022
...

Sheet ODSSubs 20-yr
B2: Maryland GHG Emissions from the Product Use of Substitutes for Ozone Depleting Substances
B5: EPA State-Level Data
B6: Data source entity | C6: U.S. Environmental Protection Agency
B7: Data source name | C7: Inventory of U.S. Greenhouse Gas Emissions and Sinks by State: 1990-2022
B8: Data source product | C8: 2024 All State GHG Inventory Data Workbook (AllStateGHGData90-22_v082924.xlsx)
B9: sector | C9: Industrial Processes and Product Use
B10: subsector | C10: Product uses as substitutes for ODS
B11: category | C11: Substitution of Ozone Depleting Substances
B12: geo_ref | C12: MD
B13: units | C13: Tg (MMTCO2e, GWP=100-yr AR5)
B15: sub_category_1 | C15: ghg_category | D15: ghg | E15: gwp | F15: Y1990 | G15: Y1991 | H15: Y1992 | I15: Y1993 | J15: Y1994 | K15: Y1995 | L15: Y1996 | M15: Y1997 | N15: Y1998 | O15: Y1999 | P15: Y2000 | Q15: Y2001 | R15: Y2002 | S15: Y2003 | T15: Y2004 | U15: Y2005 | V15: Y2006 | W15: Y2007 | X15: Y2008 | Y15: Y2009 | Z15: Y2010 | AA15: Y2011 | AB15: Y2012 | AC15: Y2013 | AD15: Y2014 | AE15: Y2015 | AF15: Y2016 | AG15: Y2017 | AH15: Y2018 | AI15: Y2019 | AJ15: Y2020 | AK15: Y2021 | AL15: Y2022
B16: Fire protection | C16: CO2 | D16: Carbon Dioxide | E16: 1 | F16: 0 | G16: 0 | H16: 0 | I16: 0 | J16: 0 | K16: 0 | L16: 0 | M16: 0 | N16: 9.8519299e-09 | O16: 3.1540939e-08 | P16: 6.2501429e-08 | Q16: 1.0185117e-07 | R16: 1.4894637e-07 | S16: 2.0074601e-07 | T16: 2.6107618e-07 | U16: 3.2987329e-07 | V16: 4.071129e-07 | W16: 4.8314337e-07 | X16: 5.5882771e-07 | Y16: 6.3589657e-07 | Z16: 7.166005e-07 | AA16: 7.9894556e-07 | AB16: 8.8522101e-07 | AC16: 9.744079e-07 | AD16: 1.0670013e-06 | AE16: 1.1630521e-06 | AF16: 1.2612901e-06 | AG16: 1.3659551e-06 | AH16: 1.4755734e-06 | AI16: 1.5902748e-06 | AJ16: 1.6681446e-06 | AK16: 1.7298704e-06 | AL16: 1.7856393e-06
B17: Foam blowing agents | C17: CO2 | D17: Carbon Dioxide | E17: 1 | F17: 2.6131015e-07 | G17: 4.1898125e-07 | H17: 5.8111867e-07 | I17: 7.4840461e-07 | J17: 9.220172e-07 | K17: 2.3052706e-06 | L17: 4.4136082e-06 | M17: 6.594629e-06 | N17: 8.8466613e-06 | O17: 1.1478304e-05 | P17: 1.2507148e-05 | Q17: 1.3145306e-05 | R17: 1.7139737e-05 | S17: 2.1744247e-05 | T17: 2.3069012e-05 | U17: 2.4384036e-05 | V17: 2.5685309e-05 | W17: 2.6988e-05 | X17: 2.8364564e-05 | Y17: 3.1166397e-05 | Z17: 3.4618546e-05 | AA17: 3.6918482e-05 | AB17: 3.8676693e-05 | AC17: 4.0727677e-05 | AD17: 4.3031867e-05 | AE17: 4.5313002e-05 | AF17: 4.8376348e-05 | AG17: 5.1409483e-05 | AH17: 5.5067013e-05 | AI17: 5.8640585e-05 | AJ17: 6.3052901e-05 | AK17: 6.6892769e-05 | AL17: 7.0764145e-05
B18: Refrigeration and air-conditioning | C18: CO2 | D18: Carbon Dioxide | E18: 1 | F18: 0 | G18: 0 | H18: 0 | I18: 0 | J18: 0 | K18: 0 | L18: 0 | M18: 0 | N18: 0 | O18: 0 | P18: 0 | Q18: 0 | R18: 0 | S18: 0 | T18: 0 | U18: 0 | V18: 0 | W18: 0 | X18: 0 | Y18: 0 | Z18: 0 | AA18: 0 | AB18: 3.7046286e-10 | AC18: 1.1108583e-09 | AD18: 1.2944557e-09 | AE18: 2.398426e-09 | AF18: 2.9404986e-09 | AG18: 6.4163775e-09 | AH18: 1.3532337e-08 | AI18: 2.4263686e-08 | AJ18: 3.923096e-08 | AK18: 5.8312307e-08 | AL18: 8.8385301e-08
B19: Fire protection | C19: HFC | D19: HFC-125 | E19: 3170 | F19: 0 | G19: 0 | H19: 0 | I19: 0 | J19: 0 | K19: 0 | L19: 0 | M19: 2.7077627e-05 | N19: 8.6931551e-05 | O19: 0.00018630404 | P19: 0.00031273548 | Q19: 0.00051983172 | R19: 0.00080178754 | S19: 0.001083461 | T19: 0.0013939861 | U19: 0.0017327705 | V19: 0.0020952358 | W19: 0.0024518461 | X19: 0.0028027344 | Y19: 0.0025626719 | Z19: 0.0027523802 | AA19: 0.0032288386 | AB19: 0.0038244972 | AC19: 0.0042703372 | AD19: 0.0053506684 | AE19: 0.0052407328 | AF19: 0.0061727424 | AG19: 0.0055345313 | AH19: 0.0064767103 | AI19: 0.0061203556 | AJ19: 0.0069972373 | AK19: 0.0072624296 | AL19: 0.0075245277
B20: Refrigeration and air-conditioning | C20: HFC | D20: HFC-125 | E20: 3170 | F20: 2.0830798e-06 | G20: 5.1310291e-06 | H20: 9.8378592e-06 | I20: 0.0018322801 | J20: 0.0048728701 | K20: 0.010327908 | L20: 0.017579837 | M20: 0.027135249 | N20: 0.035481955 | O20: 0.046437792 | P20: 0.055499793 | Q20: 0.067528539 | R20: 0.081966989 | S20: 0.097832896 | T20: 0.1141724 | U20: 0.1435341 | V20: 0.18096797 | W20: 0.22928928 | X20: 0.28110161 | Y20: 0.27603704 | Z20: 0.31935177 | AA20: 0.39418765 | AB20: 0.48079929 | AC20: 0.55078411 | AD20: 0.70366761 | AE20: 0.69749797 | AF20: 0.83328893 | AG20: 0.75152261 | AH20: 0.89051179 | AI20: 0.86712905 | AJ20: 1.0418143 | AK20: 1.1979654 | AL20: 1.302747
B21: Foam blowing agents | C21: HFC | D21: HFC-134a | E21: 1300 | F21: 0 | G21: 0 | H21: 0 | I21: 0 | J21: 0 | K21: 0 | L21: 0.00047083012 | M21: 0.00097398562 | N21: 0.0015172377 | O21: 0.0020890454 | P21: 0.0022597234 | Q21: 0.0024499313 | R21: 0.009671933 | S21: 0.017987115 | T21: 0.020047648 | U21: 0.022196068 | V21: 0.024372084 | W21: 0.026622561 | X21: 0.028829089 | Y21: 0.049818769 | Z21: 0.06451806 | AA21: 0.069924118 | AB21: 0.075492316 | AC21: 0.10291084 | AD21: 0.12581849 | AE21: 0.12643396 | AF21: 0.12240325 | AG21: 0.10682382 | AH21: 0.12017952 | AI21: 0.117278 | AJ21: 0.12873841 | AK21: 0.068501507 | AL21: 0.07314416
B22: Metered does inhalers | C22: HFC | D22: HFC-134a | E22: 1300 | F22: 0 | G22: 0 | H22: 0 | I22: 0 | J22: 0 | K22: 0 | L22: 0 | M22: 0.00032235782 | N22: 0.00065270642 | O22: 0.00099047932 | P22: 0.0013715671 | Q22: 0.0031367205 | R22: 0.0049577196 | S22: 0.0068239834 | T22: 0.0087482455 | U22: 0.010728317 | V22: 0.012740752 | W22: 0.014772572 | X22: 0.016454568 | Y22: 0.017865365 | Z22: 0.017039986 | AA22: 0.018568296 | AB22: 0.017419657 | AC22: 0.020422721 | AD22: 0.021296317 | AE22: 0.017987546 | AF22: 0.02099184 | AG22: 0.022168836 | AH22: 0.028629317 | AI22: 0.028196491 | AJ22: 0.031926112 | AK22: 0.032440101 | AL22: 0.019755372
B23: Other Aerosols | C23: HFC | D23: HFC-134a | E23: 1300 | F23: 0 | G23: 0 | H23: 0 | I23: 0 | J23: 0.012228733 | K23: 0.13197605 | L23: 0.15222652 | M23: 0.16412747 | N23: 0.1640113 | O23: 0.1691402 | P23: 0.17177958 | Q23: 0.16325329 | R23: 0.15334836 | S23: 0.14300346 | T23: 0.13129687 | U23: 0.11920599 | V23: 0.12879916 | W23: 0.13938226 | X23: 0.14890156 | Y23: 0.16524919 | Z23: 0.16121869 | AA23: 0.17243091 | AB23: 0.18256599 | AC23: 0.24235496 | AD23: 0.28728774 | AE23: 0.28008392 | AF23: 0.23625239 | AG23: 0.1853182 | AH23: 0.17912986 | AI23: 0.17753733 | AJ23: 0.20229141 | AK23: 0.20684834 | AL23: 0.21123935
B24: Refrigeration and air-conditioning | C24: HFC | D24: HFC-134a | E24: 1300 | F24: 7.3244025e-08 | G24: 1.8041423e-07 | H24: 0.017305468 | I24: 0.074925705 | J24: 0.1821437 | K24: 0.28846386 | L24: 0.4180816 | M24: 0.55318849 | N24: 0.64919731 | O24: 0.74618482 | P24: 0.8384812 | Q24: 0.93108188 | R24: 0.97507845 | S24: 1.0075033 | T24: 1.0436907 | U24: 1.0678293 | V24: 1.0892686 | W24: 1.1057765 | X24: 1.1283151 | Y24: 1.1090757 | Z24: 0.92797689 | AA24: 0.85749333 | AB24: 0.79206011 | AC24: 0.90959076 | AD24: 0.97963123 | AE24: 0.87464999 | AF24: 0.77006584 | AG24: 0.62989016 | AH24: 0.67060516 | AI24: 0.62800888 | AJ24: 0.67523393 | AK24: 0.65433657 | AL24: 0.62706311
B25: Refrigeration and air-conditioning | C25: HFC | D25: HFC-143a | E25: 4800 | F25: 3.7240846e-06 | G25: 9.173142e-06 | H25: 1.758791e-05 | I25: 0.0013186948 | J25: 0.0036741288 | K25: 0.0091767881 | L25: 0.017068478 | M25: 0.028260174 | N25: 0.040974399 | O25: 0.05851173 | P25: 0.072150615 | Q25: 0.089370066 | R25: 0.10878281 | S25: 0.12880728 | T25: 0.14725207 | U25: 0.17825235 | V25: 0.21186199 | W25: 0.24965077 | X25: 0.292543 | Y25: 0.32544677 | Z25: 0.33349639 | AA25: 0.41388764 | AB25: 0.49996887 | AC25: 0.56678411 | AD25: 0.65334286 | AE25: 0.65542007 | AF25: 0.6741416 | AG25: 0.50404953 | AH25: 0.63209378 | AI25: 0.55417967 | AJ25: 0.60943852 | AK25: 0.61154888 | AL25: 0.60870673
B26: Fire protection | C26: HFC | D26: HFC-23 | E26: 12400 | F26: 0 | G26: 0 | H26: 0 | I26: 0 | J26: 0 | K26: 9.3036146e-06 | L26: 2.0863174e-05 | M26: 3.9285248e-05 | N26: 5.7624496e-05 | O26: 8.2822796e-05 | P26: 0.00010808852 | Q26: 0.00013136571 | R26: 0.00015256284 | S26: 0.00016903748 | T26: 0.00018525577 | U26: 0.000203596 | V26: 0.00021908588 | W26: 0.00023642556 | X26: 0.00025156469 | Y26: 0.00026969387 | Z26: 0.00029085115 | AA26: 0.0003097348 | AB26: 0.00033304611 | AC26: 0.00035354918 | AD26: 0.00037605786 | AE26: 0.00040035265 | AF26: 0.00042387288 | AG26: 0.00045009971 | AH26: 0.00047619198 | AI26: 0.00050446574 | AJ26: 0.00053214126 | AK26: 0.00055199864 | AL26: 0.00056954537
B27: Fire protection | C27: HFC | D27: HFC-236fa | E27: 8060 | F27: 0 | G27: 0 | H27: 0 | I27: 0 | J27: 0 | K27: 0 | L27: 0 | M27: 0.00019677288 | N27: 0.00059929476 | O27: 0.0012202559 | P27: 0.0018595826 | Q27: 0.0025241805 | R27: 0.0032153774 | S27: 0.0037282026 | T27: 0.0040489965 | U27: 0.0041671244 | V27: 0.0042781707 | W27: 0.0043864975 | X27: 0.0045011783 | Y27: 0.0046335922 | Z27: 0.0047814097 | AA27: 0.0049347636 | AB27: 0.0050880259 | AC27: 0.0052378081 | AD27: 0.0053880608 | AE27: 0.0055376779 | AF27: 0.0056821755 | AG27: 0.0058379979 | AH27: 0.0059974113 | AI27: 0.0061625128 | AJ27: 0.006408648 | AK27: 0.0065918218 | AL27: 0.0067551257
... B49: Fire protection | C49: PFC | D49: PFC-14 (Perfluoromethane) | E49: 6630 | F49: 0 | G49: 0 | H49: 0 | I49: 0 | J49: 4.4884166e-07 | K49: 1.4425855e-06 | L49: 1.3039035e-05 | M49: 3.5782525e-05 | N49: 7.0346572e-05 | O49: 0.00011730201 | P49: 0.00017716473 | Q49: 0.00023890872 | R49: 0.00029247235 | S49: 0.00033651268 | T49: 0.00037015762 | U49: 0.00039282961 | V49: 0.00040335712 | W49: 0.0004135003 | X49: 0.00042435407 | Y49: 0.00043680145 | Z49: 0.00045081205 | AA49: 0.00046517504 | AB49: 0.00047968976 | AC49: 0.00049384718 | AD49: 0.00050801963 | AE49: 0.0005220606 | AF49: 0.00053563903 | AG49: 0.00055035359 | AH49: 0.00056542619 | AI49: 0.00058101252 | AJ49: 0.00054511363 | AK49: 0.00050178884 | AL49: 0.00045545001
B51: Notes About Other HFC and Other PFC
B53: Data source entity | C53: U.S. Environmental Protection Agency
B54: Data source name | C54: Inventory of U.S. Greenhouse Gas Emissions and Sinks: 1990-2022
B55: Data source product | C55: 2024 Chapter 4: Industrial Processes and Product Use (pdf) (2.23 MB, April 11, 2024, 430R24004)
B57: Table 4-125
B58: "Other Saturated HFCs represents an unspecified mix of saturated HFCs, which includes HFC-152a, HFC227ea, HFC-245fa, HFC-365mfc, and HFC-43-10mee
B59: Other PFCs and HFOs represents an unspecified mix of PFCs and HFOs, which includes HCFO-1233zd(E), HFO-1234yf, HFO-1234ze(E), HFO-1336mzz(Z), C4F10, and PFC/PFPEs, the latter being a proxy for a diverse
B60: collection of PFCs and perfluoropolyethers (PFPEs) employed for solvent applications. For estimating purposes, the GWP value used for PFC/PFPEs was based upon n-C6F14."
B62: Data source product | C62: Annex 3.9
B64: Other HFC and Other PFC are reported in aggregate due to confidentiality.
B66: Calculation of GWP Conversion Ratio
B68: Data source entity | C68: Intergovernmental Panel on Climate Change
B69: Data source name | C69: Fifth Assessment Report; Sixth Assessment Report
B70: Data source product | C70: Chapter 8, Anthropogenic and Natural Radiative Forcing (AR5); Chapter 7, The Earth’s Energy Budget, Climate Feedbacks and Climate Sensitivity (AR6)
B72: Gas | C72: AR5 100-yr GWP | D72: AR6 20-yr GWP | E72: Ratio of 20-yr GWP : 100-yr GWP
B73: Carbon Dioxide | C73: 1 | D73: 1 | E73: =D73/C73 -> 1
B74: HFC-125 | C74: 3170 | D74: 6740 | E74: =D74/C74 -> 2.126183
B75: HFC-134a | C75: 1300 | D75: 4140 | E75: =D75/C75 -> 3.1846154
B76: HFC-143a | C76: 4800 | D76: 7840 | E76: =D76/C76 -> 1.6333333
B77: HFC-23 | C77: 12400 | D77: 12400 | E77: =D77/C77 -> 1
B78: HFC-236fa | C78: 8060 | D78: 7450 | E78: =D78/C78 -> 0.92431762
B79: HFC-32 | C79: 677 | D79: 2690 | E79: =D79/C79 -> 3.9734121
B80: PFC-14 (Perfluoromethane) | C80: 6630 | D80: 5300 | E80: =D80/C80 -> 0.79939668
B82: Gas | C82: AR5 100-yr GWP | D82: AR6 20-yr GWP | E82: Ratio of 20-yr GWP : 100-yr GWP
B83: HFC-152a | C83: 138 | D83: 591 | E83: =D83/C83 -> 4.2826087
B84: HFC227ea | C84: 3350 | D84: 5850 | E84: =D84/C84 -> 1.7462687
B85: HFC-245fa | C85: 858 | D85: 3170 | E85: =D85/C85 -> 3.6946387
B86: HFC-365mfc | C86: 804 | D86: 2920 | E86: =D86/C86 -> 3.6318408
B87: HFC-43-10mee | C87: 1650 | D87: 3960 | E87: =D87/C87 -> 2.4
B88: Other HFC | E88: =AVERAGE(E83:E87) -> 3.1510714
B90: Gas | C90: AR5 100-yr GWP | D90: AR6 20-yr GWP | E90: Ratio of 20-yr GWP : 100-yr GWP
B91: C4F10 | C91: 9200 | D91: 7300 | E91: =D91/C91 -> 0.79347826
B92: n-C6F14 | C92: 7910 | D92: 6260 | E92: =D92/C92 -> 0.79140329
B93: Data source entity | C93: Intergovernmental Panel on Climate Change
B94: Data source name | C94: Sixth Assessment Report
B95: Data source product | C95: The Physical Science Basis, Chapter 7 Supplementary Material, Table 7.SM.7 | H95: AR6 | M95: AR5
B96: Gas | C96: AR6 100-yr GWP | D96: AR6 20-yr GWP | E96: Ratio of 20-yr GWP : 100-yr GWP | H96: Name | I96: Formula | J96: lifetime (yrs) | K96: lifetime (days) | M96: Name | N96: Formula | O96: lifetime (days) | P96: GWP20 | Q96: GWP100 | R96: ratio
B97: HCFO-1233zd(E) | C97: 3.88 | D97: 14 | E97: =D97/C97 -> 3.6082474 | H97: HCFO-1233zd(E) | I97: (E)-CF3CH=CHCl | J97: 0.116 | K97: 42 | M97: (E)-1-Chloro-3,3,3trifluoroprop-1-ene | N97: trans-CF3 CH=CHCl | O97: 26 | P97: 5 | Q97: 1 | R97: =P97/Q97 -> 5
B98: HFO-1234yf | C98: 0.501 | D98: 1.81 | E98: =D98/C98 -> 3.6127745 | H98: HFO-1234yf | I98: CF3CF=CH2 | J98: 0.033 | K98: 12 | M98: HFC-1234yf | N98: CF3 CF=CH2 | O98: 10.5 | P98: 1 | Q98: <1 | R98: =P98/Q98 -> #VALUE!
B99: HFO-1234ze(E) | C99: 1.37 | D99: 4.94 | E99: =D99/C99 -> 3.6058394 | H99: HFO-1234ze(E) | I99: (E)-CF3CH=CHF | J99: 0.052 | K99: 19 | M99: (E)-HFC-1234ze | N99: trans-CF3 CH=CHF | O99: 16.4 | P99: 4 | Q99: <1 | R99: =P99/Q99 -> #VALUE!
B100: HFO-1336mzz(Z) | C100: 2.08 | D100: 7.48 | E100: =D100/C100 -> 3.5961538 | H100: HFO-1336mzz(Z) | I100: (Z)-CF3CH=CHCF3 | J100: 0.074 | K100: 27 | M100: (Z)-HFC-1336 | N100: CF3 CH=CHCF3 (Z) | O100: 22 | P100: 6 | Q100: 2 | R100: =P100/Q100 -> 3
B101: Other PFC | E101: =AVERAGE(E91:E100) -> 2.6679828
B103: Conversion From AR5 100-yr GWP to AR6 20-yr GWP
B105: =B15 -> sub_category_1 | C105: =C15 -> ghg_category | D105: =D15 -> ghg | E105: GWP Conversion Ratio | F105: =F15 -> Y1990 | G105: =G15 -> Y1991 | H105: =H15 -> Y1992 | I105: =I15 -> Y1993 | J105: =J15 -> Y1994 | K105: =K15 -> Y1995 | L105: =L15 -> Y1996 | M105: =M15 -> Y1997 | ... AL105: =AL15 -> Y2022
B106: =B16 -> Fire protection | C106: =C16 -> CO2 | D106: =D16 -> Carbon Dioxide | E106: =_xlfn.XLOOKUP(D106,B$73:B$101,E$73:E$101) -> 1 | F106: =F16*$E106 -> 0 | G106: =G16*$E106 -> 0 | H106: =H16*$E106 -> 0 | I106: =I16*$E106 -> 0 | J106: =J16*$E106 -> 0 | K106: =K16*$E106 -> 0 | L106: =L16*$E106 -> 0 | M106: =M16*$E106 -> 0 | ... AL106: =AL16*$E106 -> 1.7856393e-06
B107: =B17 -> Foam blowing agents | C107: =C17 -> CO2 | D107: =D17 -> Carbon Dioxide | E107: =_xlfn.XLOOKUP(D107,B$73:B$101,E$73:E$101) -> 1 | F107: =F17*$E107 -> 2.6131015e-07 | G107: =G17*$E107 -> 4.1898125e-07 | H107: =H17*$E107 -> 5.8111867e-07 | I107: =I17*$E107 -> 7.4840461e-07 | J107: =J17*$E107 -> 9.220172e-07 | K107: =K17*$E107 -> 2.3052706e-06 | L107: =L17*$E107 -> 4.4136082e-06 | M107: =M17*$E107 -> 6.594629e-06 | ... AL107: =AL17*$E107 -> 7.0764145e-05
B108: =B18 -> Refrigeration and air-conditioning | C108: =C18 -> CO2 | D108: =D18 -> Carbon Dioxide | E108: =_xlfn.XLOOKUP(D108,B$73:B$101,E$73:E$101) -> 1 | F108: =F18*$E108 -> 0 | G108: =G18*$E108 -> 0 | H108: =H18*$E108 -> 0 | I108: =I18*$E108 -> 0 | J108: =J18*$E108 -> 0 | K108: =K18*$E108 -> 0 | L108: =L18*$E108 -> 0 | M108: =M18*$E108 -> 0 | ... AL108: =AL18*$E108 -> 8.8385301e-08
B109: =B19 -> Fire protection | C109: =C19 -> HFC | D109: =D19 -> HFC-125 | E109: =_xlfn.XLOOKUP(D109,B$73:B$101,E$73:E$101) -> 2.126183 | F109: =F19*$E109 -> 0 | G109: =G19*$E109 -> 0 | H109: =H19*$E109 -> 0 | I109: =I19*$E109 -> 0 | J109: =J19*$E109 -> 0 | K109: =K19*$E109 -> 0 | L109: =L19*$E109 -> 0 | M109: =M19*$E109 -> 5.757199e-05 | ... AL109: =AL19*$E109 -> 0.015998523
B110: =B20 -> Refrigeration and air-conditioning | C110: =C20 -> HFC | D110: =D20 -> HFC-125 | E110: =_xlfn.XLOOKUP(D110,B$73:B$101,E$73:E$101) -> 2.126183 | F110: =F20*$E110 -> 4.4290087e-06 | G110: =G20*$E110 -> 1.0909507e-05 | H110: =H20*$E110 -> 2.0917089e-05 | I110: =I20*$E110 -> 0.0038957628 | J110: =J20*$E110 -> 0.010360613 | K110: =K20*$E110 -> 0.021959022 | L110: =L20*$E110 -> 0.037377949 | M110: =M20*$E110 -> 0.057694503 | ... AL110: =AL20*$E110 -> 2.7698784
B111: =B21 -> Foam blowing agents | C111: =C21 -> HFC | D111: =D21 -> HFC-134a | E111: =_xlfn.XLOOKUP(D111,B$73:B$101,E$73:E$101) -> 3.1846154 | F111: =F21*$E111 -> 0 | G111: =G21*$E111 -> 0 | H111: =H21*$E111 -> 0 | I111: =I21*$E111 -> 0 | J111: =J21*$E111 -> 0 | K111: =K21*$E111 -> 0 | L111: =L21*$E111 -> 0.0014994128 | M111: =M21*$E111 -> 0.0031017696 | ... AL111: =AL21*$E111 -> 0.23293602
B112: =B22 -> Metered does inhalers | C112: =C22 -> HFC | D112: =D22 -> HFC-134a | E112: =_xlfn.XLOOKUP(D112,B$73:B$101,E$73:E$101) -> 3.1846154 | F112: =F22*$E112 -> 0 | G112: =G22*$E112 -> 0 | H112: =H22*$E112 -> 0 | I112: =I22*$E112 -> 0 | J112: =J22*$E112 -> 0 | K112: =K22*$E112 -> 0 | L112: =L22*$E112 -> 0 | M112: =M22*$E112 -> 0.0010265857 | ... AL112: =AL22*$E112 -> 0.062913263
B113: =B23 -> Other Aerosols | C113: =C23 -> HFC | D113: =D23 -> HFC-134a | E113: =_xlfn.XLOOKUP(D113,B$73:B$101,E$73:E$101) -> 3.1846154 | F113: =F23*$E113 -> 0 | G113: =G23*$E113 -> 0 | H113: =H23*$E113 -> 0 | I113: =I23*$E113 -> 0 | J113: =J23*$E113 -> 0.03894381 | K113: =K23*$E113 -> 0.42029296 | L113: =L23*$E113 -> 0.4847829 | M113: =M23*$E113 -> 0.52268286 | ... AL113: =AL23*$E113 -> 0.67271607
B114: =B24 -> Refrigeration and air-conditioning | C114: =C24 -> HFC | D114: =D24 -> HFC-134a | E114: =_xlfn.XLOOKUP(D114,B$73:B$101,E$73:E$101) -> 3.1846154 | F114: =F24*$E114 -> 2.3325405e-07 | G114: =G24*$E114 -> 5.7454992e-07 | H114: =H24*$E114 -> 0.055111261 | I114: =I24*$E114 -> 0.23860955 | J114: =J24*$E114 -> 0.58005762 | K114: =K24*$E114 -> 0.91864643 | L114: =L24*$E114 -> 1.3314291 | M114: =M24*$E114 -> 1.7616926 | ... AL114: =AL24*$E114 -> 1.9969548
B115: =B25 -> Refrigeration and air-conditioning | C115: =C25 -> HFC | D115: =D25 -> HFC-143a | E115: =_xlfn.XLOOKUP(D115,B$73:B$101,E$73:E$101) -> 1.6333333 | F115: =F25*$E115 -> 6.0826715e-06 | G115: =G25*$E115 -> 1.4982799e-05 | H115: =H25*$E115 -> 2.872692e-05 | I115: =I25*$E115 -> 0.0021538682 | J115: =J25*$E115 -> 0.0060010771 | K115: =K25*$E115 -> 0.014988754 | L115: =L25*$E115 -> 0.027878514 | M115: =M25*$E115 -> 0.046158285 | ... AL115: =AL25*$E115 -> 0.99422099
B116: =B26 -> Fire protection | C116: =C26 -> HFC | D116: =D26 -> HFC-23 | E116: =_xlfn.XLOOKUP(D116,B$73:B$101,E$73:E$101) -> 1 | F116: =F26*$E116 -> 0 | G116: =G26*$E116 -> 0 | H116: =H26*$E116 -> 0 | I116: =I26*$E116 -> 0 | J116: =J26*$E116 -> 0 | K116: =K26*$E116 -> 9.3036146e-06 | L116: =L26*$E116 -> 2.0863174e-05 | M116: =M26*$E116 -> 3.9285248e-05 | ... AL116: =AL26*$E116 -> 0.00056954537
B117: =B27 -> Fire protection | C117: =C27 -> HFC | D117: =D27 -> HFC-236fa | E117: =_xlfn.XLOOKUP(D117,B$73:B$101,E$73:E$101) -> 0.92431762 | F117: =F27*$E117 -> 0 | G117: =G27*$E117 -> 0 | H117: =H27*$E117 -> 0 | I117: =I27*$E117 -> 0 | J117: =J27*$E117 -> 0 | K117: =K27*$E117 -> 0 | L117: =L27*$E117 -> 0 | M117: =M27*$E117 -> 0.00018188064 | ... AL117: =AL27*$E117 -> 0.0062438817
... B139: =B49 -> Fire protection | C139: =C49 -> PFC | D139: =D49 -> PFC-14 (Perfluoromethane) | E139: =_xlfn.XLOOKUP(D139,B$73:B$101,E$73:E$101) -> 0.79939668 | F139: =F49*$E139 -> 0 | G139: =G49*$E139 -> 0 | H139: =H49*$E139 -> 0 | I139: =I49*$E139 -> 0 | J139: =J49*$E139 -> 3.5880253e-07 | K139: =K49*$E139 -> 1.153198e-06 | L139: =L49*$E139 -> 1.0423361e-05 | M139: =M49*$E139 -> 2.8604432e-05 | ... AL139: =AL49*$E139 -> 0.00036408522
B141: Emissions by Gas
B143: AR5 100-yr GWP
D144: GHG | F144: Y1990 | G144: Y1991 | H144: Y1992 | I144: Y1993 | J144: Y1994 | K144: Y1995 | L144: Y1996 | M144: Y1997 | N144: Y1998 | O144: Y1999 | P144: Y2000 | Q144: Y2001 | R144: Y2002 | S144: Y2003 | T144: Y2004 | U144: Y2005 | V144: Y2006 | W144: Y2007 | X144: Y2008 | Y144: Y2009 | Z144: Y2010 | AA144: Y2011 | AB144: Y2012 | AC144: Y2013 | AD144: Y2014 | AE144: Y2015 | AF144: Y2016 | AG144: Y2017 | AH144: Y2018 | AI144: Y2019 | AJ144: Y2020 | AK144: Y2021 | AL144: Y2022
D145: Carbon Dioxide | F145: =SUMIF($D$16:$D$49,$D145,F$16:F$49) -> 2.6131015e-07 | G145: =SUMIF($D$16:$D$49,$D145,G$16:G$49) -> 4.1898125e-07 | H145: =SUMIF($D$16:$D$49,$D145,H$16:H$49) -> 5.8111867e-07 | I145: =SUMIF($D$16:$D$49,$D145,I$16:I$49) -> 7.4840461e-07 | J145: =SUMIF($D$16:$D$49,$D145,J$16:J$49) -> 9.220172e-07 | K145: =SUMIF($D$16:$D$49,$D145,K$16:K$49) -> 2.3052706e-06 | L145: =SUMIF($D$16:$D$49,$D145,L$16:L$49) -> 4.4136082e-06 | M145: =SUMIF($D$16:$D$49,$D145,M$16:M$49) -> 6.594629e-06 | ... AL145: =SUMIF($D$16:$D$49,$D145,AL$16:AL$49) -> 7.263817e-05
D146: HFC-125 | F146: =SUMIF($D$16:$D$49,$D146,F$16:F$49) -> 2.0830798e-06 | G146: =SUMIF($D$16:$D$49,$D146,G$16:G$49) -> 5.1310291e-06 | H146: =SUMIF($D$16:$D$49,$D146,H$16:H$49) -> 9.8378592e-06 | I146: =SUMIF($D$16:$D$49,$D146,I$16:I$49) -> 0.0018322801 | J146: =SUMIF($D$16:$D$49,$D146,J$16:J$49) -> 0.0048728701 | K146: =SUMIF($D$16:$D$49,$D146,K$16:K$49) -> 0.010327908 | L146: =SUMIF($D$16:$D$49,$D146,L$16:L$49) -> 0.017579837 | M146: =SUMIF($D$16:$D$49,$D146,M$16:M$49) -> 0.027162326 | ... AL146: =SUMIF($D$16:$D$49,$D146,AL$16:AL$49) -> 1.3102715
D147: HFC-134a | F147: =SUMIF($D$16:$D$49,$D147,F$16:F$49) -> 7.3244025e-08 | G147: =SUMIF($D$16:$D$49,$D147,G$16:G$49) -> 1.8041423e-07 | H147: =SUMIF($D$16:$D$49,$D147,H$16:H$49) -> 0.017305468 | I147: =SUMIF($D$16:$D$49,$D147,I$16:I$49) -> 0.074925705 | J147: =SUMIF($D$16:$D$49,$D147,J$16:J$49) -> 0.19437243 | K147: =SUMIF($D$16:$D$49,$D147,K$16:K$49) -> 0.4204399 | L147: =SUMIF($D$16:$D$49,$D147,L$16:L$49) -> 0.57077895 | M147: =SUMIF($D$16:$D$49,$D147,M$16:M$49) -> 0.7186123 | ... AL147: =SUMIF($D$16:$D$49,$D147,AL$16:AL$49) -> 0.93120199
D148: HFC-143a | F148: =SUMIF($D$16:$D$49,$D148,F$16:F$49) -> 3.7240846e-06 | G148: =SUMIF($D$16:$D$49,$D148,G$16:G$49) -> 9.173142e-06 | H148: =SUMIF($D$16:$D$49,$D148,H$16:H$49) -> 1.758791e-05 | I148: =SUMIF($D$16:$D$49,$D148,I$16:I$49) -> 0.0013186948 | J148: =SUMIF($D$16:$D$49,$D148,J$16:J$49) -> 0.0036741288 | K148: =SUMIF($D$16:$D$49,$D148,K$16:K$49) -> 0.0091767881 | L148: =SUMIF($D$16:$D$49,$D148,L$16:L$49) -> 0.017068478 | M148: =SUMIF($D$16:$D$49,$D148,M$16:M$49) -> 0.028260174 | ... AL148: =SUMIF($D$16:$D$49,$D148,AL$16:AL$49) -> 0.60870673
D149: HFC-23 | F149: =SUMIF($D$16:$D$49,$D149,F$16:F$49) -> 0 | G149: =SUMIF($D$16:$D$49,$D149,G$16:G$49) -> 0 | H149: =SUMIF($D$16:$D$49,$D149,H$16:H$49) -> 0 | I149: =SUMIF($D$16:$D$49,$D149,I$16:I$49) -> 0 | J149: =SUMIF($D$16:$D$49,$D149,J$16:J$49) -> 0 | K149: =SUMIF($D$16:$D$49,$D149,K$16:K$49) -> 9.3036146e-06 | L149: =SUMIF($D$16:$D$49,$D149,L$16:L$49) -> 2.0863174e-05 | M149: =SUMIF($D$16:$D$49,$D149,M$16:M$49) -> 3.9285248e-05 | ... AL149: =SUMIF($D$16:$D$49,$D149,AL$16:AL$49) -> 0.00056954537
D150: HFC-236fa | F150: =SUMIF($D$16:$D$49,$D150,F$16:F$49) -> 0 | G150: =SUMIF($D$16:$D$49,$D150,G$16:G$49) -> 0 | H150: =SUMIF($D$16:$D$49,$D150,H$16:H$49) -> 0 | I150: =SUMIF($D$16:$D$49,$D150,I$16:I$49) -> 0.0010949582 | J150: =SUMIF($D$16:$D$49,$D150,J$16:J$49) -> 0.0033027021 | K150: =SUMIF($D$16:$D$49,$D150,K$16:K$49) -> 0.0054743631 | L150: =SUMIF($D$16:$D$49,$D150,L$16:L$49) -> 0.0068121741 | M150: =SUMIF($D$16:$D$49,$D150,M$16:M$49) -> 0.008341067 | ... AL150: =SUMIF($D$16:$D$49,$D150,AL$16:AL$49) -> 0.010679883
D151: HFC-32 | F151: =SUMIF($D$16:$D$49,$D151,F$16:F$49) -> 0 | G151: =SUMIF($D$16:$D$49,$D151,G$16:G$49) -> 0 | H151: =SUMIF($D$16:$D$49,$D151,H$16:H$49) -> 0 | I151: =SUMIF($D$16:$D$49,$D151,I$16:I$49) -> 0 | J151: =SUMIF($D$16:$D$49,$D151,J$16:J$49) -> 0 | K151: =SUMIF($D$16:$D$49,$D151,K$16:K$49) -> 0 | L151: =SUMIF($D$16:$D$49,$D151,L$16:L$49) -> 3.0469017e-06 | M151: =SUMIF($D$16:$D$49,$D151,M$16:M$49) -> 8.651811e-06 | ... AL151: =SUMIF($D$16:$D$49,$D151,AL$16:AL$49) -> 0.18850129
D152: Other HFC | F152: =SUMIF($D$16:$D$49,$D152,F$16:F$49) -> 0.0047799061 | G152: =SUMIF($D$16:$D$49,$D152,G$16:G$49) -> 0.010063064 | H152: =SUMIF($D$16:$D$49,$D152,H$16:H$49) -> 0.010121953 | I152: =SUMIF($D$16:$D$49,$D152,I$16:I$49) -> 0.010277569 | J152: =SUMIF($D$16:$D$49,$D152,J$16:J$49) -> 0.011054365 | K152: =SUMIF($D$16:$D$49,$D152,K$16:K$49) -> 0.024079612 | L152: =SUMIF($D$16:$D$49,$D152,L$16:L$49) -> 0.039032626 | M152: =SUMIF($D$16:$D$49,$D152,M$16:M$49) -> 0.048525527 | ... AL152: =SUMIF($D$16:$D$49,$D152,AL$16:AL$49) -> 0.30845443
D153: PFC-14 (Perfluoromethane) | F153: =SUMIF($D$16:$D$49,$D153,F$16:F$49) -> 0 | G153: =SUMIF($D$16:$D$49,$D153,G$16:G$49) -> 0 | H153: =SUMIF($D$16:$D$49,$D153,H$16:H$49) -> 0 | I153: =SUMIF($D$16:$D$49,$D153,I$16:I$49) -> 0 | J153: =SUMIF($D$16:$D$49,$D153,J$16:J$49) -> 4.4884166e-07 | K153: =SUMIF($D$16:$D$49,$D153,K$16:K$49) -> 1.4425855e-06 | L153: =SUMIF($D$16:$D$49,$D153,L$16:L$49) -> 1.3039035e-05 | M153: =SUMIF($D$16:$D$49,$D153,M$16:M$49) -> 3.5782525e-05 | ... AL153: =SUMIF($D$16:$D$49,$D153,AL$16:AL$49) -> 0.00045545001
D154: Other PFC | F154: =SUMIF($D$16:$D$49,$D154,F$16:F$49) -> 0 | G154: =SUMIF($D$16:$D$49,$D154,G$16:G$49) -> 0 | H154: =SUMIF($D$16:$D$49,$D154,H$16:H$49) -> 0 | I154: =SUMIF($D$16:$D$49,$D154,I$16:I$49) -> 0 | J154: =SUMIF($D$16:$D$49,$D154,J$16:J$49) -> 1.7300751e-06 | K154: =SUMIF($D$16:$D$49,$D154,K$16:K$49) -> 0.0084656947 | L154: =SUMIF($D$16:$D$49,$D154,L$16:L$49) -> 0.020348099 | M154: =SUMIF($D$16:$D$49,$D154,M$16:M$49) -> 0.023912308 | ... AL154: =SUMIF($D$16:$D$49,$D154,AL$16:AL$49) -> 0.00040573062
D156: CO2 | F156: =F145 -> 2.6131015e-07 | G156: =G145 -> 4.1898125e-07 | H156: =H145 -> 5.8111867e-07 | I156: =I145 -> 7.4840461e-07 | J156: =J145 -> 9.220172e-07 | K156: =K145 -> 2.3052706e-06 | L156: =L145 -> 4.4136082e-06 | M156: =M145 -> 6.594629e-06 | ... AL156: =AL145 -> 7.263817e-05
D157: HFC | F157: =SUM(F146:F152) -> 0.0047857865 | G157: =SUM(G146:G152) -> 0.010077549 | H157: =SUM(H146:H152) -> 0.027454847 | I157: =SUM(I146:I152) -> 0.089449207 | J157: =SUM(J146:J152) -> 0.2172765 | K157: =SUM(K146:K152) -> 0.46950788 | L157: =SUM(L146:L152) -> 0.65129598 | M157: =SUM(M146:M152) -> 0.83094933 | ... AL157: =SUM(AL146:AL152) -> 3.3583854
D158: PFC | F158: =SUM(F153:F154) -> 0 | G158: =SUM(G153:G154) -> 0 | H158: =SUM(H153:H154) -> 0 | I158: =SUM(I153:I154) -> 0 | J158: =SUM(J153:J154) -> 2.1789168e-06 | K158: =SUM(K153:K154) -> 0.0084671373 | L158: =SUM(L153:L154) -> 0.020361138 | M158: =SUM(M153:M154) -> 0.023948091 | ... AL158: =SUM(AL153:AL154) -> 0.00086118063
D160: Total MMTCO2e | F160: =SUM(F156:F158) -> 0.0047860478 | G160: =SUM(G156:G158) -> 0.010077968 | H160: =SUM(H156:H158) -> 0.027455428 | I160: =SUM(I156:I158) -> 0.089449955 | J160: =SUM(J156:J158) -> 0.2172796 | K160: =SUM(K156:K158) -> 0.47797732 | L160: =SUM(L156:L158) -> 0.67166153 | M160: =SUM(M156:M158) -> 0.85490402 | ... AL160: =SUM(AL156:AL158) -> 3.3593192
B162: AR6 20-yr GWP
D163: GHG | F163: Y1990 | G163: Y1991 | H163: Y1992 | I163: Y1993 | J163: Y1994 | K163: Y1995 | L163: Y1996 | M163: Y1997 | N163: Y1998 | O163: Y1999 | P163: Y2000 | Q163: Y2001 | R163: Y2002 | S163: Y2003 | T163: Y2004 | U163: Y2005 | V163: Y2006 | W163: Y2007 | X163: Y2008 | Y163: Y2009 | Z163: Y2010 | AA163: Y2011 | AB163: Y2012 | AC163: Y2013 | AD163: Y2014 | AE163: Y2015 | AF163: Y2016 | AG163: Y2017 | AH163: Y2018 | AI163: Y2019 | AJ163: Y2020 | AK163: Y2021 | AL163: Y2022
...

Sheet Agriculture
B2: Agricultural Emissions in Maryland
C9: Color Legend:
D10: EPA SIT Default (2023 data)
D11: EPA SIT Default (2022 data)
D12: USDA
B14: Enteric Fermentation Emissions | N14: Global Warming Potential
C15: Number of Animals ('000 head) | E15: Emission Factor (kg CH4/head) | G15: CH4 Emissions (kg) | I15: CH4 Emissions (metric tons) | K15: CH4 Emissions (MMTCO2e) | O15: =Summary!E3 -> AR6 100-yr GWP
B16: Dairy Cattle | N16: =Summary!C4 -> CO2 | O16: =Summary!E4 -> 1
B17: Dairy Cows | C17: 40 | D17: x | E17: 145.7 | F17: = | G17: =C17*E17*1000 -> 5828000 | H17: = | I17: =G17/1000 -> 5828 | J17: = | K17: =I17*O$17/1000000 -> 0.1626012 | N17: =Summary!C5 -> CH4 | O17: =Summary!E5 -> 27.9
B18: Dairy Replacement Heifers | C18: 23 | D18: x | E18: 60.3 | F18: = | G18: =C18*E18*1000 -> 1386900 | H18: = | I18: =G18/1000 -> 1386.9 | J18: = | K18: =I18*O$17/1000000 -> 0.03869451 | N18: =Summary!C6 -> N2O | O18: =Summary!E6 -> 273
B19: Replacements 0-12 mos. | C19: 0 | D19: x | E19: 48 | F19: = | G19: =C19*E19*1000 -> 0 | H19: = | I19: =G19/1000 -> 0 | J19: = | K19: =I19*O$17/1000000 -> 0 | N19: =Summary!C7 -> SF6 | O19: =Summary!E7 -> 24300
B20: Replacements 12-24 mos. | C20: 0 | D20: x | E20: 72.5 | F20: = | G20: =C20*E20*1000 -> 0 | H20: = | I20: =G20/1000 -> 0 | J20: = | K20: =I20*O$17/1000000 -> 0
B21: Beef Cattle
B22: Beef Cows | C22: 40 | D22: x | E22: 94.4 | F22: = | G22: =C22*E22*1000 -> 3776000 | H22: = | I22: =G22/1000 -> 3776 | J22: = | K22: =I22*O$17/1000000 -> 0.1053504
B23: Beef Replacement Heifers | C23: 8 | D23: x | E23: 64.7 | F23: = | G23: =C23*E23*1000 -> 517600 | H23: = | I23: =G23/1000 -> 517.6 | J23: = | K23: =I23*O$17/1000000 -> 0.01444104
B24: Replacements 0-12 mos. | C24: 0 | D24: x | E24: 60 | F24: = | G24: =C24*E24*1000 -> 0 | H24: = | I24: =G24/1000 -> 0 | J24: = | K24: =I24*O$17/1000000 -> 0
B25: Replacements 12-24 mos. | C25: 0 | D25: x | E25: 69.4 | F25: = | G25: =C25*E25*1000 -> 0 | H25: = | I25: =G25/1000 -> 0 | J25: = | K25: =I25*O$17/1000000 -> 0
B26: Heifer Stockers | C26: 6 | D26: x | E26: 60.2 | F26: = | G26: =C26*E26*1000 -> 361200 | H26: = | I26: =G26/1000 -> 361.2 | J26: = | K26: =I26*O$17/1000000 -> 0.01007748
B27: Steer Stockers | C27: 12 | D27: x | E27: 58.1 | F27: = | G27: =C27*E27*1000 -> 697200 | H27: = | I27: =G27/1000 -> 697.2 | J27: = | K27: =I27*O$17/1000000 -> 0.01945188
B28: Feedlot Heifers | C28: 2.1 | D28: x | E28: 43.2 | F28: = | G28: =C28*E28*1000 -> 90720 | H28: = | I28: =G28/1000 -> 90.72 | J28: = | K28: =I28*O$17/1000000 -> 0.002531088
B29: Feedlot Steer | C29: 3.9 | D29: x | E29: 42 | F29: = | G29: =C29*E29*1000 -> 163800 | H29: = | I29: =G29/1000 -> 163.8 | J29: = | K29: =I29*O$17/1000000 -> 0.00457002
B30: Bulls | C30: 3 | D30: x | E30: 97.6 | F30: = | G30: =C30*E30*1000 -> 292800 | H30: = | I30: =G30/1000 -> 292.8 | J30: = | K30: =I30*O$17/1000000 -> 0.00816912
B31: Other
B32: Sheep | C32: 10.8 | D32: x | E32: 9 | F32: = | G32: =C32*E32*1000 -> 97200 | H32: = | I32: =G32/1000 -> 97.2 | J32: = | K32: =I32*O$17/1000000 -> 0.00271188
B33: Goats | C33: 16.9 | D33: x | E33: 9 | F33: = | G33: =C33*E33*1000 -> 152100 | H33: = | I33: =G33/1000 -> 152.1 | J33: = | K33: =I33*O$17/1000000 -> 0.00424359
B34: Swine | C34: 21 | D34: x | E34: 1.5 | F34: = | G34: =C34*E34*1000 -> 31500 | H34: = | I34: =G34/1000 -> 31.5 | J34: = | K34: =I34*O$17/1000000 -> 0.00087885
B35: Horses | C35: 26.6 | D35: x | E35: 18 | F35: = | G35: =C35*E35*1000 -> 478800 | H35: = | I35: =G35/1000 -> 478.8 | J35: = | K35: =I35*O$17/1000000 -> 0.01335852
B36: TOTAL | G36: =SUM(G17:G35) -> 13873820 | I36: =SUM(I17:I35) -> 13873.82 | K36: =SUM(K17:K35) -> 0.38707958
B39: Manure Management - Methane Emissions
C40: Number of Animals ('000 head) | E40: Typical Animal Mass (TAM) (kg) | G40: Volatile Solids (VS) production per animal or animal mass (kg VS/head/year, for cattle excluding calves) (kg VS/1000 kg animal mass/day, for calves and all else) | I40: Total Volatile Solids (VS) (kg/yr) | K40: Methane producing capacity (volume of methane per mass of VS) (m^3 CH4 / kg VS) | M40: Methane conversion factor (MCF) | O40: CH4 Emissions (m^3) | Q40: Methane Density (kg/m^3) | S40: CH4 Emissions (metric tons) | U40: CH4 Emissions (MMTCO2e)
B41: Dairy Cattle
B42: Dairy Cows | C42: 40 | E42: x | G42: =2635.3 -> 2635.3 | H42: = | I42: =C42*1000*G42 -> 105412000 | J42: x | K42: 0.24 | L42: x | M42: 0.279 | N42: = | O42: =(I42*K42)*M42 -> 7058387.5 | P42: x | Q42: 0.67606 | R42: = | S42: =O42*Q42/1000 -> 4771.8935 | T42: = | U42: =S42*O$17/1000000 -> 0.13313583
B43: Dairy Replacement Heifers | C43: 23 | E43: x | G43: =1255.2 -> 1255.2 | H43: = | I43: =C43*1000*G43 -> 28869600 | J43: x | K43: 0.17 | L43: x | M43: 0.012 | N43: = | O43: =(I43*K43)*M43 -> 58893.984 | P43: x | Q43: 0.67606 | R43: = | S43: =O43*Q43/1000 -> 39.815867 | T43: = | U43: =S43*O$17/1000000 -> 0.0011108627
B44: Beef Cattle
B45: Feedlot Heifers | C45: 2.1 | E45: x | G45: =636.9 -> 636.9 | H45: = | I45: =C45*1000*G45 -> 1337490 | J45: x | K45: 0.33 | L45: x | M45: 0.006 | N45: = | O45: =(I45*K45)*M45 -> 2648.2302 | P45: x | Q45: 0.67606 | R45: = | S45: =O45*Q45/1000 -> 1.7903625 | T45: = | U45: =S45*O$17/1000000 -> 4.9951114e-05
B46: Feedlot Steer | C46: 3.9 | E46: x | G46: =621.4 -> 621.4 | H46: = | I46: =C46*1000*G46 -> 2423460 | J46: x | K46: 0.33 | L46: x | M46: 0.006 | N46: = | O46: =(I46*K46)*M46 -> 4798.4508 | P46: x | Q46: 0.67606 | R46: = | S46: =O46*Q46/1000 -> 3.2440406 | T46: = | U46: =S46*O$17/1000000 -> 9.0508734e-05
B47: Bulls | C47: 3 | E47: x | G47: =1730.7 -> 1730.7 | H47: = | I47: =C47*1000*G47 -> 5192100 | J47: x | K47: 0.17 | L47: x | M47: 0.011 | N47: = | O47: =(I47*K47)*M47 -> 9709.227 | P47: x | Q47: 0.67606 | R47: = | S47: =O47*Q47/1000 -> 6.56402 | T47: = | U47: =S47*O$17/1000000 -> 0.00018313616
B48: Calves | C48: 25 | D48: x | E48: 122.53 | F48: x | G48: =7.7 -> 7.7 | H48: = | I48: =C48*E48*G48*365 -> 8609264.1 | J48: x | K48: 0.17 | L48: x | M48: 0.011 | N48: = | O48: =(I48*K48)*M48 -> 16099.324 | P48: x | Q48: 0.67606 | R48: = | S48: =O48*Q48/1000 -> 10.884109 | T48: = | U48: =S48*O$17/1000000 -> 0.00030366664
B49: Beef Cows | C49: 40 | E49: x | G49: =1674.1 -> 1674.1 | H49: = | I49: =C49*1000*G49 -> 66964000 | J49: x | K49: 0.17 | L49: x | M49: 0.011 | N49: = | O49: =(I49*K49)*M49 -> 125222.68 | P49: x | Q49: 0.67606 | R49: = | S49: =O49*Q49/1000 -> 84.658045 | T49: = | U49: =S49*O$17/1000000 -> 0.0023619595
B50: Beef Replacement Heifers | C50: 8 | E50: x | G50: =1095.3 -> 1095.3 | H50: = | I50: =C50*1000*G50 -> 8762400 | J50: x | K50: 0.17 | L50: x | M50: 0.011 | N50: = | O50: =(I50*K50)*M50 -> 16385.688 | P50: x | Q50: 0.67606 | R50: = | S50: =O50*Q50/1000 -> 11.077708 | T50: = | U50: =S50*O$17/1000000 -> 0.00030906806
B51: Steer Stockers | C51: 12 | E51: x | G51: =980.4 -> 980.4 | H51: = | I51: =C51*1000*G51 -> 11764800 | J51: x | K51: 0.17 | L51: x | M51: 0.011 | N51: = | O51: =(I51*K51)*M51 -> 22000.176 | P51: x | Q51: 0.67606 | R51: = | S51: =O51*Q51/1000 -> 14.873439 | T51: = | U51: =S51*O$17/1000000 -> 0.00041496895
B52: Heifer Stockers | C52: 6 | E52: x | G52: =1095.3 -> 1095.3 | H52: = | I52: =C52*1000*G52 -> 6571800 | J52: x | K52: 0.17 | L52: x | M52: 0.011 | N52: = | O52: =(I52*K52)*M52 -> 12289.266 | P52: x | Q52: 0.67606 | R52: = | S52: =O52*Q52/1000 -> 8.3082812 | T52: = | U52: =S52*O$17/1000000 -> 0.00023180104
B53: Swine
B54: Breeding Swine | C54: 2.3 | D54: x | E54: 198 | F54: x | G54: =2.7 -> 2.7 | H54: = | I54: =C54*E54*G54*365 -> 448796.7 | J54: x | K54: 0.48 | L54: x | M54: 0.213 | N54: = | O54: =(I54*K54)*M54 -> 45884.975 | P54: x | Q54: 0.67606 | R54: = | S54: =O54*Q54/1000 -> 31.020996 | T54: = | U54: =S54*O$17/1000000 -> 0.00086548579
B55: Market Under 60 lbs | C55: 5 | D55: x | E55: 15.88 | F55: x | G55: =8.8 -> 8.8 | H55: = | I55: =C55*E55*G55*365 -> 255032.8 | J55: x | K55: 0.48 | L55: x | M55: 0.213 | N55: = | O55: =(I55*K55)*M55 -> 26074.553 | P55: x | Q55: 0.67606 | R55: = | S55: =O55*Q55/1000 -> 17.627963 | T55: = | U55: =S55*O$17/1000000 -> 0.00049182016
B56: Market 60-119 lbs | C56: 4.7 | D56: x | E56: 40.6 | F56: x | G56: =5.4 -> 5.4 | H56: = | I56: =C56*E56*G56*365 -> 376106.22 | J56: x | K56: 0.48 | L56: x | M56: 0.213 | N56: = | O56: =(I56*K56)*M56 -> 38453.1 | P56: x | Q56: 0.67606 | R56: = | S56: =O56*Q56/1000 -> 25.996603 | T56: = | U56: =S56*O$17/1000000 -> 0.00072530522
B57: Market 120-179 lbs | C57: 3 | D57: x | E57: 67.82 | F57: x | G57: =5.4 -> 5.4 | H57: = | I57: =C57*E57*G57*365 -> 401019.66 | J57: x | K57: 0.48 | L57: x | M57: 0.213 | N57: = | O57: =(I57*K57)*M57 -> 41000.25 | P57: x | Q57: 0.67606 | R57: = | S57: =O57*Q57/1000 -> 27.718629 | T57: = | U57: =S57*O$17/1000000 -> 0.00077334975
B58: Market over 180 lbs | C58: 6 | D58: x | E58: 90.75 | F58: x | G58: =5.4 -> 5.4 | H58: = | I58: =C58*E58*G58*365 -> 1073209.5 | J58: x | K58: 0.48 | L58: x | M58: 0.213 | N58: = | O58: =(I58*K58)*M58 -> 109724.94 | P58: x | Q58: 0.67606 | R58: = | S58: =O58*Q58/1000 -> 74.180642 | T58: = | U58: =S58*O$17/1000000 -> 0.0020696399
B59: Poultry
B60: Layers
B61: Hens > 1 yr | C61: 2289 | D61: x | E61: 1.8 | F61: x | G61: =10.2 -> 10.2 | H61: = | I61: =C61*E61*G61*365 -> 15339505 | J61: x | K61: 0.39 | L61: x | M61: 0.007 | N61: = | O61: =(I61*K61)*M61 -> 41876.848 | P61: x | Q61: 0.67606 | R61: = | S61: =O61*Q61/1000 -> 28.311262 | T61: = | U61: =S61*O$17/1000000 -> 0.0007898842
B62: Pullets | C62: 1242 | D62: x | E62: 1.8 | F62: x | G62: =10.2 -> 10.2 | H62: = | I62: =C62*E62*G62*365 -> 8323138.8 | J62: x | K62: 0.39 | L62: x | M62: 0.007 | N62: = | O62: =(I62*K62)*M62 -> 22722.169 | P62: x | Q62: 0.67606 | R62: = | S62: =O62*Q62/1000 -> 15.36155 | T62: = | U62: =S62*O$17/1000000 -> 0.00042858723
B63: Chickens | C63: 10 | D63: x | E63: 1.8 | F63: x | G63: =11 -> 11 | H63: = | I63: =C63*E63*G63*365 -> 72270 | J63: x | K63: 0.39 | L63: x | M63: 0.007 | N63: = | O63: =(I63*K63)*M63 -> 197.2971 | P63: x | Q63: 0.67606 | R63: = | S63: =O63*Q63/1000 -> 0.13338468 | T63: = | U63: =S63*O$17/1000000 -> 3.7214325e-06
B64: Broilers | C64: 55600 | D64: x | E64: 0.9 | F64: x | G64: =17 -> 17 | H64: = | I64: =C64*E64*G64*365 -> 310498200 | J64: x | K64: 0.36 | L64: x | M64: =0.015 -> 0.015 | N64: = | O64: =(I64*K64)*M64 -> 1676690.3 | P64: x | Q64: 0.67606 | R64: = | S64: =O64*Q64/1000 -> 1133.5432 | T64: = | U64: =S64*O$17/1000000 -> 0.031625856
B65: Turkeys | C65: 25.6 | D65: x | E65: 6.8 | F65: x | G65: =8.5 -> 8.5 | H65: = | I65: =C65*E65*G65*365 -> 540083.2 | J65: x | K65: 0.36 | L65: x | M65: 0.015 | N65: = | O65: =(I65*K65)*M65 -> 2916.4493 | P65: x | Q65: 0.67606 | R65: = | S65: =O65*Q65/1000 -> 1.9716947 | T65: = | U65: =S65*O$17/1000000 -> 5.5010282e-05
B66: Other
B67: Sheep on Feed | C67: 5.4 | D67: x | E67: 25 | F67: x | G67: =8.3 -> 8.3 | H67: = | I67: =C67*E67*G67*365 -> 408982.5 | J67: x | K67: 0.36056372 | L67: x | M67: =0.011 -> 0.011 | N67: = | O67: =(I67*K67)*M67 -> 1622.1068 | P67: x | Q67: 0.67606 | R67: = | S67: =O67*Q67/1000 -> 1.0966415 | T67: = | U67: =S67*O$17/1000000 -> 3.0596298e-05
B68: Sheep Not on Feed | C68: 5.4 | D68: x | E68: 80 | F68: x | G68: =8.3 -> 8.3 | H68: = | I68: =C68*E68*G68*365 -> 1308744 | J68: x | K68: 0.18996771 | L68: x | M68: 0.003 | N68: = | O68: =(I68*K68)*M68 -> 745.85732 | P68: x | Q68: 0.67606 | R68: = | S68: =O68*Q68/1000 -> 0.5042443 | T68: = | U68: =S68*O$17/1000000 -> 1.4068416e-05
B69: Goats | C69: 16.9 | D69: x | E69: 64 | F69: x | G69: =9.5 -> 9.5 | H69: = | I69: =C69*E69*G69*365 -> 3750448 | J69: x | K69: 0.16997111 | L69: x | M69: =0.011 -> 0.011 | N69: = | O69: =(I69*K69)*M69 -> 7012.146 | P69: x | Q69: 0.67606 | R69: = | S69: =O69*Q69/1000 -> 4.7406314 | T69: = | U69: =S69*O$17/1000000 -> 0.00013226362
B70: Horses | C70: 26.6 | D70: x | E70: 450 | F70: x | G70: =6.1 -> 6.1 | H70: = | I70: =C70*E70*G70*365 -> 26651205 | J70: x | K70: 0.33056882 | L70: x | M70: =0.011 -> 0.011 | N70: = | O70: =(I70*K70)*M70 -> 96910.631 | P70: x | Q70: 0.67606 | R70: = | S70: =O70*Q70/1000 -> 65.517401 | T70: = | U70: =S70*O$17/1000000 -> 0.0018279355
B71: TOTAL | S71: =SUM(S42:S70) -> 6380.8342 | U71: =SUM(U42:U70) -> 0.17802527
B74: Manure Management - N20 Emissions
C75: Number of Animals ('000 head) | E75: Total K-Nitrogen Excreted (kg) | G75: Unvolatilized N from Manure in Anaerobic Lagoons and Liquid Systems (kg) | I75: Unvolatilized N from Manure in Solid Storage, Drylot & Other Systems (kg) | K75: Emissions from Anaerobic Lagoons and Liquid Systems (kg N2O-N) | M75: Emissions from Solid Storage, Drylot, & Other Systems (kg N2O-N) | O75: Total N2O Emissions (kg N2O) | Q75: N2O Emissions (metric tons) | S75: N2O Emissions (MMTCO2e)
B76: Dairy
B77: Dairy Cows | C77: 40 | E77: 5990917 | G77: 1735211 | I77: 2746043.3 | K77: =I77*0 -> 0 | L77: + | M77: =I77*0.02 -> 54920.866 | N77: = | O77: =(K77+M77)*(44/28) -> 86304.218 | P77: = | Q77: =O77/1000 -> 86.304218 | R77: = | S77: =Q77*O$18/1000000 -> 0.023561051
B78: Dairy Replacement Heifers | C78: 23 | E78: 1588949 | G78: 460224 | I78: 1588948.7 | K78: =I78*0 -> 0 | L78: + | M78: =I78*0.02 -> 31778.973 | N78: = | O78: =(K78+M78)*(44/28) -> 49938.386 | P78: = | Q78: =O78/1000 -> 49.938386 | R78: = | S78: =Q78*O$18/1000000 -> 0.013633179
B79: Beef Cattle
B80: Feedlot Heifers | C80: 2.1 | E80: 125586 | G80: NA | I80: 125586.41 | K80: NA | L80: + | M80: =I80*0.02 -> 2511.7282 | N80: = | O80: =M80*(44/28) -> 3947.0015 | P80: = | Q80: =O80/1000 -> 3.9470015 | R80: = | S80: =Q80*O$18/1000000 -> 0.0010775314
B81: Feedlot Steer | C81: 3.9 | E81: 234068 | G81: NA | I81: 234068.31 | K81: NA | L81: + | M81: =I81*0.02 -> 4681.3662 | N81: = | O81: =M81*(44/28) -> 7356.4326 | P81: = | Q81: =O81/1000 -> 7.3564326 | R81: = | S81: =Q81*O$18/1000000 -> 0.0020083061
B82: Swine
B83: Breeding Swine | C83: 2.3 | E83: 33660 | G83: =19154 -> 19154 | I83: 0 | K83: =I83*0 -> 0 | L83: + | M83: 0 | N83: = | O83: =(K83+M83)*(44/28) -> 0 | P83: = | Q83: =O83/1000 -> 0 | R83: = | S83: =Q83*O$18/1000000 -> 0
B84: Market Under 60 lbs | C84: 5 | E84: 26663 | G84: =15172 -> 15172 | I84: 0 | K84: =I84*0 -> 0 | L84: + | M84: 0 | N84: = | O84: =(K84+M84)*(44/28) -> 0 | P84: = | Q84: =O84/1000 -> 0 | R84: = | S84: =Q84*O$18/1000000 -> 0
B85: Market 60-119 lbs | C85: 4.7 | E85: 37611 | G85: =21402 -> 21402 | I85: 0 | K85: =I85*0 -> 0 | L85: + | M85: 0 | N85: = | O85: =(K85+M85)*(44/28) -> 0 | P85: = | Q85: =O85/1000 -> 0 | R85: = | S85: =Q85*O$18/1000000 -> 0
B86: Market 120-179 lbs | C86: 3 | E86: 40102 | G86: =22820 -> 22820 | I86: 0 | K86: =I86*0 -> 0 | L86: + | M86: 0 | N86: = | O86: =(K86+M86)*(44/28) -> 0 | P86: = | Q86: =O86/1000 -> 0 | R86: = | S86: =Q86*O$18/1000000 -> 0
B87: Market over 180 lbs | C87: 6 | E87: 107321 | G87: =61070 -> 61070 | I87: 0 | K87: =I87*0 -> 0 | L87: + | M87: 0 | N87: = | O87: =(K87+M87)*(44/28) -> 0 | P87: = | Q87: =O87/1000 -> 0 | R87: = | S87: =Q87*O$18/1000000 -> 0
B88: Poultry
B89: Layers
B90: Hens > 1 yr | C90: 2289 | E90: 1188060 | G90: =124746 -> 124746 | I90: 571552.69 | K90: =I90*0 -> 0 | L90: + | M90: 7521 | N90: = | O90: =(K90+M90)*(44/28) -> 11818.714 | P90: = | Q90: =O90/1000 -> 11.818714 | R90: = | S90: =Q90*O$18/1000000 -> 0.003226509
B91: Pullets | C91: 1242 | E91: 644635 | G91: =67687 -> 67687 | I91: 310121.64 | K91: =I91*0 -> 0 | L91: + | M91: 4081 | N91: = | O91: =(K91+M91)*(44/28) -> 6413 | P91: = | Q91: =O91/1000 -> 6.413 | R91: = | S91: =Q91*O$18/1000000 -> 0.001750749
B92: Chickens | C92: 10 | E92: 7227 | G92: =759 -> 759 | I92: 3476.7709 | K92: =I92*0 -> 0 | L92: + | M92: 46 | N92: = | O92: =(K92+M92)*(44/28) -> 72.285714 | P92: = | Q92: =O92/1000 -> 0.072285714 | R92: = | S92: =Q92*O$18/1000000 -> 1.9734e-05
B93: Broilers | C93: 55600 | E93: 17534016 | G93: NA | I93: 17534016 | K93: NA | L93: + | M93: =I93*0.02 -> 350680.32 | N93: = | O93: =M93*(44/28) -> 551069.07 | P93: = | Q93: =O93/1000 -> 551.06907 | R93: = | S93: =Q93*O$18/1000000 -> 0.15044186
B94: Turkeys | C94: 25.6 | E94: 39712 | G94: NA | I94: 39712 | K94: NA | L94: + | M94: =I94*0.02 -> 794.24 | N94: = | O94: =M94*(44/28) -> 1248.0914 | P94: = | Q94: =O94/1000 -> 1.2480914 | R94: = | S94: =Q94*O$18/1000000 -> 0.00034072896
B95: Other
B96: Sheep on Feed | C96: 5.4 | E96: 22242 | G96: NA | I96: 5862.8384 | K96: NA | L96: + | M96: =I96*0.02 -> 117.25677 | N96: = | O96: =M96*(44/28) -> 184.26064 | P96: = | Q96: =O96/1000 -> 0.18426064 | R96: = | S96: =Q96*O$18/1000000 -> 5.0303154e-05
B97: Sheep Not on Feed | C97: 5.4 | E97: 71175 | G97: NA | I97: 52413.917 | K97: NA | L97: + | M97: =I97*0.02 -> 1048.2783 | N97: = | O97: =M97*(44/28) -> 1647.2945 | P97: = | Q97: =O97/1000 -> 1.6472945 | R97: = | S97: =Q97*O$18/1000000 -> 0.00044971141
B98: TOTAL | E98: =SUM(E77:E97) -> 27691944 | G98: =SUM(G77:G97) -> 2528245 | I98: =SUM(I77:I97) -> 23211803 | K98: =K77+K78+K83+K84+K85+K86+K87+K90+K91 -> 0 | M98: =SUM(M77:M97) -> 458181.03 | O98: =SUM(O77:O97) -> 719998.76 | Q98: =SUM(Q77:Q97) -> 719.99876 | S98: =SUM(S77:S97) -> 0.19655966
B101: Agriculture Soils - Plant Residues & Legumes
B102: Legumes and Crop Residue Calculations
B103: Crop | C103: Crop Units | E103: Crop Production (in specified units) | G103: Conversion Factor (metric tons / crop units) (e.g., metric tons/1,000 bushels) | I103: Crop Production (metric tons) | K103: Residue : Crop Mass Ratio | M103: Residue Dry Matter Fraction | O103: Fraction Residue Applied | Q103: Nitrogen Content of Residue | S103: Nitrogen Returned to Soil (kg) | U103: N Content of Aboveground Biomass for N-fixing Crop Production | W103: N-Fixed by Crops (kg) | Z103: Emission Factor (kg N2O-N/kg N) | AA103: Direct N2O Emissions (metric tons) | AC103: Direct N2O Emissions (MMTCO2e)
B104: Alfalfa | C104: '000 tons | E104: =135 -> 135 | G104: =1000*0.907185 -> 907.185 | I104: =E104*G104 -> 122469.98 | K104: 0 | M104: 0.85 | O104: 0 | Q104: NA | S104: NA | U104: 0.03 | W104: =(I104*1000)*(1+K104)*M104*U104 -> 3122984.4 | Y104: Residues | Z104: 0.01 | AA104: =S125/1000*Z104*44/28 -> 542.64371 | AB104: = | AC104: =AA104*O$18/1000000 -> 0.14814173
B105: Corn for Grain | C105: '000 bushels | E105: =72600 -> 72600 | G105: =1000*0.025401147108 -> 25.401147 | I105: =E105*G105 -> 1844123.3 | K105: 1 | M105: 0.91 | O105: 0.9 | Q105: 0.0058 | S105: =(I105*1000)*K105*M105*O105*Q105 -> 8759954.4 | U105: 0.03 | W105: NA | Y105: Legumes | Z105: 0.01 | AA105: =W125/1000*Z105*44/28 -> 797.19659 | AB105: = | AC105: =AA105*O$18/1000000 -> 0.21763467
B106: All Wheat | C106: '000 bushels | E106: =16575 -> 16575 | G106: =1000*0.027215442853 -> 27.215443 | I106: =E106*G106 -> 451095.97 | K106: 1.3 | M106: 0.93 | O106: 0.9 | Q106: 0.0062 | S106: =(I106*1000)*K106*M106*O106*Q106 -> 3043192.6 | U106: 0.03 | W106: NA
B107: Barley | C107: '000 bushels | E107: =1248 -> 1248 | G107: =1000*0.021772 -> 21.772 | I107: =E107*G107 -> 27171.456 | K107: 1.2 | M107: 0.93 | O107: 0.9 | Q107: 0.0077 | S107: =(I107*1000)*K107*M107*O107*Q107 -> 210140.78 | U107: 0.03 | W107: NA
B108: Sorghum for Grain | C108: '000 bushels | E108: 727 | G108: =1000*0.0254011695127524 -> 25.40117 | I108: =E108*G108 -> 18466.65 | K108: 1.4 | M108: 0.91 | O108: 0.9 | Q108: 0.0108 | S108: =(I108*1000)*K108*M108*O108*Q108 -> 228677.7 | U108: 0.03 | W108: NA
B109: Oats | C109: '000 bushels | E109: =94 -> 94 | G109: =1000*0.0145149592222233 -> 14.514959 | I109: =E109*G109 -> 1364.4062 | K109: 1.3 | M109: 0.92 | O109: 0.9 | Q109: 0.007 | S109: =(I109*1000)*K109*M109*O109*Q109 -> 10280.528 | U109: 0.03 | W109: NA
B110: Rye | C110: '000 bushels | E110: =170 -> 170 | G110: =1000*0.0254010464940368 -> 25.401046 | I110: =E110*G110 -> 4318.1779 | K110: 1.6 | M110: 0.9 | O110: 0.9 | Q110: 0.0048 | S110: =(I110*1000)*K110*M110*O110*Q110 -> 26862.521 | U110: 0.03 | W110: NA
B111: Millet | C111: '000 bushels | E111: 0 | G111: =1000*0.027215 -> 27.215 | I111: =E111*G111 -> 0 | K111: 1.4 | M111: 0.89 | O111: 0.89 | Q111: 0.007 | S111: =(I111*1000)*K111*M111*O111*Q111 -> 0 | U111: 0.03 | W111: NA
B112: Rice | C112: '000 hundred weight | E112: 0 | G112: =1000*100/2000*0.907185 -> 45.35925 | I112: =E112*G112 -> 0 | K112: 1.4 | M112: 0.91 | O112: 1 | Q112: 0.0072 | S112: =(I112*1000)*K112*M112*O112*Q112 -> 0 | U112: 0.03 | W112: NA
B113: Soybeans | C113: '000 bushels | E113: =21620 -> 21620 | G113: =1000*0.027215692075 -> 27.215692 | I113: =E113*G113 -> 588403.26 | K113: 2.1 | M113: 0.87 | O113: 0.9 | Q113: 0.023 | S113: =(I113*1000)*K113*M113*O113*Q113 -> 22252764 | U113: 0.03 | W113: =(I113*1000)*(1+K113)*M113*U113 -> 47607708
B114: Peanuts | C114: '000 lbs | E114: 0 | G114: =1000/2000*0.907185 -> 0.4535925 | I114: =E114*G114 -> 0 | K114: 1 | M114: 0.86 | O114: 0.9 | Q114: 0.0106 | S114: =(I114*1000)*K114*M114*O114*Q114 -> 0 | U114: 0.03 | W114: =(I114*1000)*(1+K114)*M114*U114 -> 0
...

Sheet Incinerators
B2: Incinerator Emissions
B5: Wheelabrator Baltimore | H5: Montgomery County Resource Recovery Facility
C6: Unit 1 | D6: Unit 2 | E6: Unit 3 | F6: Total | I6: Unit 1 | J6: Unit 2 | K6: Unit 3 | L6: Total | N6: Global Warming Potential
B7: Emissions and MSW tonnage from Emissions Certification Report (ECR) (CO2 emissions measured by CEMS) | H7: Emissions and MSW tonnage from Emissions Certification Report (ECR) (CO2 emissions measured by CEMS) | O7: =Summary!E3 -> AR6 100-yr GWP
B8: MSW Processed (short tons) | C8: 162653 | D8: 234935 | E8: 221204 | F8: =SUM(C8:E8) -> 618792 | H8: MSW Processed (tons) | I8: 182266 | J8: 171432 | K8: 168500 | L8: =SUM(I8:K8) -> 522198 | N8: =Summary!C4 -> CO2 | O8: =Summary!E4 -> 1
B9: CO2 Emissions (short tons) | C9: 184550 | D9: 276434 | E9: 251955 | F9: =C9+D9+E9 -> 712939 | H9: CO2 Emissions (short tons) | I9: =204198.91 -> 204198.91 | J9: =198366.72 -> 198366.72 | K9: =193154.44 -> 193154.44 | L9: =SUM(I9:K9) -> 595720.07 | N9: =Summary!C5 -> CH4 | O9: =Summary!E5 -> 27.9
B10: CH4 Emissions (short tons) | C10: 0.5 | D10: 0.7 | E10: 0.6 | F10: =SUM(C10:E10) -> 1.8 | H10: CH4 Emissions (short tons) | I10: =0.0279 -> 0.0279 | J10: =0.0258 -> 0.0258 | K10: =0.0295 -> 0.0295 | L10: =SUM(I10:K10) -> 0.0832 | N10: =Summary!C6 -> N2O | O10: =Summary!E6 -> 273
B11: N2O Emissions (short tons) | C11: 8.3 | D11: 12.2 | E11: 11.5 | F11: =SUM(C11:E11) -> 32 | H11: N2O Emissions (short tons) | I11: =0.0267 -> 0.0267 | J11: =0.0247 -> 0.0247 | K11: =0.0282 -> 0.0282 | L11: =SUM(I11:K11) -> 0.0796 | N11: =Summary!C7 -> SF6 | O11: =Summary!E7 -> 24300
B13: Emissions calculated from MSW tonnage and emissions factors for confirmation (informational) | H13: Emissions calculated from MSW tonnage and emissions factors for confirmation (informational) | N13: Heat Content and Emissions Factors for Stationary Combustion of Municipal Solid Waste
B14: MSW Heat Input (MMBTU) | C14: =C8*$O$14 -> 1618397.3 | D14: =D8*$O$14 -> 2337603.2 | E14: =E8*$O$14 -> 2200979.8 | H14: MSW Heat Input (MMBTU) | I14: =I8*$O$14 -> 1813546.7 | J14: =J8*$O$14 -> 1705748.4 | K14: =K8*$O$14 -> 1676575 | N14: Heat Content (HHV) | O14: 9.95 | P14: (MMBTU/short ton)
B15: CO2 Emissions (short tons) | C15: =C$14*$O15/1000/0.907185 -> 161806.73 | D15: =D$14*$O15/1000/0.907185 -> 233712.65 | E15: =E$14*$O15/1000/0.907185 -> 220053.1 | F15: =C15+D15+E15 -> 615572.48 | H15: CO2 Emissions (short tons) | I15: =I$14*$O15/1000/0.907185 -> 181317.69 | J15: =J$14*$O15/1000/0.907185 -> 170540.06 | K15: =K$14*$O15/1000/0.907185 -> 167623.31 | L15: =I15+J15+K15 -> 519481.05 | N15: CO2 Emission Factor | O15: 90.7 | P15: kg CO2/MMBTU | R15: U.S. EPA GHG Emission Factors Hub, Emission Factors for Greenhouse Gas Inventories
