Workbook
Name _Key1: #REF!
Name _Sort: #REF!
Name _Toc284401718: Graphs!$I$45
Name _Toc352228849: Graphs!$I$22
Name CementCorrectionFactor: #REF!
Name CH4GWP: #REF!
Name CoalCCs: #REF!
Name CoalGrowth: #REF!
Name data: #REF!
Name ElecProj: #REF!
Name EntFermEFs: #REF!
Name EntFermEFs2: #REF!
Name EPS: #REF!
Name EPSFraction: #REF!
Name FCFchoice: #REF!
Name FertData: #REF!
Name FertTypes: #REF!
Name FFFactors: #REF!
Name FullName: #REF!
Name GasProj: #REF!
Name GWP: #REF!
Name GWPCH4: #REF!
Name GWPN2O: #REF!
Name IndustrialPercent: #REF!
Name kg.MT: #REF!
Name LiquidEF: #REF!
Name MCFs: #REF!
Name MMFactors: #REF!
Name MT_per_T: #REF!
Name N20GWP: #REF!
Name N2OGWP: #REF!
Name NetOutElecExports: #REF!
Name NEU: #REF!
Name NGCH4meth: #REF!
Name nobedEF: #REF!
Name open: #REF!
Name OxidationFactor: #REF!
Name PopGrid: #REF!
Name SelectedState: #REF!
Name Short_metric: #REF!
Name SolidEF: #REF!
Name State: #REF!
Name StateChoice: #REF!
Name StateList: #REF!
Name States: #REF!
Name StatFactors: #REF!
Name StorageFactors: #REF!
Name TransData: #REF!
Name TransProj: #REF!
Name UFactor: #REF!
Name Units: #REF!
Name VersionDate: #REF!
Name VersionNumber: #REF!
Name VolPercent: #REF!
Name VS_BeefReplace: #REF!
Name VS_BeefReplace2: #REF!
Name VS_feedlotheifer: #REF!
Name VS_feedlotheifer2: #REF!
Name VS_feedlotsteer: #REF!
Name VS_feedlotsteer2: #REF!

Sheet Summary
B1: Maryland 2011 GHG Emissions by Sector
D2: Global Warming Potential
D3: AR6 20-yr GWP | E3: AR6 100-yr GWP
C4: CO2 | D4: 1 | E4: 1
C5: CH4 | D5: 81.2 | E5: 27.9
C6: N2O | D6: 273 | E6: 273
C7: SF6 | D7: 18200 | E7: 24300
C8: HFCs & PFCs | D8: see note
B9: MMTCO2e | D9: 20-year GWP | E9: 100-yr GWP
B10: Energy Use (CO2, CH4, N2O) | D10: =D11+D30+D47+D80 -> 93.399153 | E10: =E11+E30+E47+E80 -> 90.937513
B11: Electricity Use (Consumption) | D11: =D12+D29 -> 37.878481 | E11: =E12+E29 -> 37.853675
C12: Electricity Production (in-state) | D12: =D13+D17+D21+D25 -> 24.569448 | E12: =E13+E17+E21+E25 -> 24.544642
C13: Coal | D13: =SUM(D14:D16) -> 21.947727 | E13: =SUM(E14:E16) -> 21.925436
C14: CO2 | D14: =E14/_xlfn.XLOOKUP(C14,C$4:C$7,E$4:E$7,"ERROR")*_xlfn.XLOOKUP(C14,C$4:C$7,D$4:D$7,"ERROR") -> 21.847713 | E14: ='EGU Production ALL Units'!K57 -> 21.847713
C15: CH4 | D15: =E15/_xlfn.XLOOKUP(C15,C$4:C$7,E$4:E$7,"ERROR")*_xlfn.XLOOKUP(C15,C$4:C$7,D$4:D$7,"ERROR") -> 0.033958241 | E15: ='EGU Production ALL Units'!L57 -> 0.011667918
C16: N2O | D16: =E16/_xlfn.XLOOKUP(C16,C$4:C$7,E$4:E$7,"ERROR")*_xlfn.XLOOKUP(C16,C$4:C$7,D$4:D$7,"ERROR") -> 0.066055553 | E16: ='EGU Production ALL Units'!M57 -> 0.066055553
C17: Natural Gas | D17: =SUM(D18:D20) -> 2.4207936 | E17: =SUM(E18:E20) -> 2.4185637
C18: CO2 | D18: =E18/_xlfn.XLOOKUP(C18,C$4:C$7,E$4:E$7,"ERROR")*_xlfn.XLOOKUP(C18,C$4:C$7,D$4:D$7,"ERROR") -> 2.4133302 | E18: ='EGU Production ALL Units'!K395 -> 2.4133302
C19: CH4 | D19: =E19/_xlfn.XLOOKUP(C19,C$4:C$7,E$4:E$7,"ERROR")*_xlfn.XLOOKUP(C19,C$4:C$7,D$4:D$7,"ERROR") -> 0.0033972204 | E19: ='EGU Production ALL Units'!L395 -> 0.0011672715
C20: N2O | D20: =E20/_xlfn.XLOOKUP(C20,C$4:C$7,E$4:E$7,"ERROR")*_xlfn.XLOOKUP(C20,C$4:C$7,D$4:D$7,"ERROR") -> 0.0040661356 | E20: ='EGU Production ALL Units'!M395 -> 0.0040661356
C21: Oil | D21: =SUM(D22:D24) -> 0.19619202 | E21: =SUM(E22:E24) -> 0.19593585
C22: CO2 | D22: =E22/_xlfn.XLOOKUP(C22,C$4:C$7,E$4:E$7,"ERROR")*_xlfn.XLOOKUP(C22,C$4:C$7,D$4:D$7,"ERROR") -> 0.1946278 | E22: ='EGU Production ALL Units'!K293 -> 0.1946278
C23: CH4 | D23: =E23/_xlfn.XLOOKUP(C23,C$4:C$7,E$4:E$7,"ERROR")*_xlfn.XLOOKUP(C23,C$4:C$7,D$4:D$7,"ERROR") -> 0.00039026925 | E23: ='EGU Production ALL Units'!L293 -> 0.00013409498
C24: N2O | D24: =E24/_xlfn.XLOOKUP(C24,C$4:C$7,E$4:E$7,"ERROR")*_xlfn.XLOOKUP(C24,C$4:C$7,D$4:D$7,"ERROR") -> 0.0011739593 | E24: ='EGU Production ALL Units'!M293 -> 0.0011739593
C25: Wood | D25: =SUM(D26:D28) -> 0.004735585 | E25: =SUM(E26:E28) -> 0.0047060093
C26: CO2 | D26: =E26/_xlfn.XLOOKUP(C26,C$4:C$7,E$4:E$7,"ERROR")*_xlfn.XLOOKUP(C26,C$4:C$7,D$4:D$7,"ERROR") -> 0.0046682247 | E26: ='EGU Production ALL Units'!K64 -> 0.0046682247
C27: CH4 | D27: =E27/_xlfn.XLOOKUP(C27,C$4:C$7,E$4:E$7,"ERROR")*_xlfn.XLOOKUP(C27,C$4:C$7,D$4:D$7,"ERROR") -> 4.5057193e-05 | E27: ='EGU Production ALL Units'!L64 -> 1.5481474e-05
C28: N2O | D28: =E28/_xlfn.XLOOKUP(C28,C$4:C$7,E$4:E$7,"ERROR")*_xlfn.XLOOKUP(C28,C$4:C$7,D$4:D$7,"ERROR") -> 2.2303104e-05 | E28: ='EGU Production ALL Units'!M64 -> 2.2303104e-05
C29: Net Imported Electricity | D29: =E29 -> 13.309033 | E29: ='Imported Electricity'!N78 -> 13.309033
B30: Residential/Commercial/Industrial (RCI) Fuel Use | D30: =D31+D35+D39+D43 -> 15.360409 | E30: =E31+E35+E39+E43 -> 15.084988
C31: Coal | D31: =SUM(D32:D34) -> 2.1328766 | E31: =SUM(E32:E34) -> 2.1210996
C32: CO2 | D32: =E32/_xlfn.XLOOKUP(C32,C$4:C$7,E$4:E$7,"ERROR")*_xlfn.XLOOKUP(C32,C$4:C$7,D$4:D$7,"ERROR") -> 2.1058867 | E32: =Residential!C48+Commercial!D54+Industrial!E103 -> 2.1058867
C33: CH4 | D33: =E33/_xlfn.XLOOKUP(C33,C$4:C$7,E$4:E$7,"ERROR")*_xlfn.XLOOKUP(C33,C$4:C$7,D$4:D$7,"ERROR") -> 0.017941766 | E33: =Residential!E48+Commercial!E54+Industrial!F103 -> 0.0061647201
C34: N2O | D34: =E34/_xlfn.XLOOKUP(C34,C$4:C$7,E$4:E$7,"ERROR")*_xlfn.XLOOKUP(C34,C$4:C$7,D$4:D$7,"ERROR") -> 0.0090482182 | E34: =Residential!D48+Commercial!F54+Industrial!G103 -> 0.0090482182
C35: Natural Gas & LPG | D35: =SUM(D36:D38) -> 9.8749283 | E35: =SUM(E36:E38) -> 9.8299315
C36: CO2 | D36: =E36/_xlfn.XLOOKUP(C36,C$4:C$7,E$4:E$7,"ERROR")*_xlfn.XLOOKUP(C36,C$4:C$7,D$4:D$7,"ERROR") -> 9.800052 | E36: =Residential!C51+Residential!C52+Commercial!D57+Commercial!D60+Industrial!E111+Industrial!E123 -> 9.800052
C37: CH4 | D37: =E37/_xlfn.XLOOKUP(C37,C$4:C$7,E$4:E$7,"ERROR")*_xlfn.XLOOKUP(C37,C$4:C$7,D$4:D$7,"ERROR") -> 0.068550431 | E37: =Residential!E51+Residential!E52+Commercial!E57+Commercial!E60+Industrial!F111+Industrial!F123 -> 0.023553658
C38: N2O | D38: =E38/_xlfn.XLOOKUP(C38,C$4:C$7,E$4:E$7,"ERROR")*_xlfn.XLOOKUP(C38,C$4:C$7,D$4:D$7,"ERROR") -> 0.0063259133 | E38: =Residential!D51+Residential!D52+Commercial!F57+Commercial!F60+Industrial!G111+Industrial!G123 -> 0.0063259133
C39: Petroleum | D39: =SUM(D40:D42) -> 3.0203001 | E39: =SUM(E40:E42) -> 3.0050027
C40: CO2 | D40: =E40/_xlfn.XLOOKUP(C40,C$4:C$7,E$4:E$7,"ERROR")*_xlfn.XLOOKUP(C40,C$4:C$7,D$4:D$7,"ERROR") -> 2.9907987 | E40: =Residential!C49+Residential!C50+Commercial!D55+Commercial!D56+Commercial!D58+Commercial!D59+Industrial!E107+Industrial!E108+Industrial!E109+Industrial!E110+Industrial!E112+Industrial!E113+Industrial!E115+Industrial!E117+Industrial!E118+Industrial!E120+Industrial!E122 -> 2.9907987
...

Sheet EGU Production ALL Units
A1: Electric Power Production and CO2 Emissions in Maryland
B3: COAL COMBUSTION BY UNIT | O3: ECMPS data | P3: EPA Emissions Collection and Monitoring Plan System (ECMPS) data in accordance to 40 CFR Part 75
O4: Calculation: | P4: Usage X Heat Content
B7: Plant ID | C7: Plant Name | D7: Equipment Description | E7: Fuel Type | F7: Usage | G7: Usage Unit | H7: Heat Content | I7: Heat Content Unit | J7: Fuel Heat Input | K7: CO2 Emmission | L7: CH4 Emission | M7: N2O Emission | O7: Heat Input Ref: | P7: CO2 Emissions Ref
J8: (MMBTU) | K8: (tons) | L8: (tons) | M8: (tons) | O8: (MMBTU) | P8: (short tons)
B10: 001-0203 | C10: AES WARRIOR RUN COGEN
C11: 001-3-0127 | D11: ACF Boiler | E11: Coal | F11: 711214 | G11: tons | H11: 11080 | I11: Btu/lb | J11: 15857480 | K11: 1624579.1 | L11: 192.13747 | M11: 27.951991 | O11: ECMPS data
B13: 003-0468 | C13: Brandon Shores
C14: 3-0015 | D14: Unit 1 | E14: P-Coal | F14: 1246119 | G14: tons | H14: 11356 | I14: Btu/lb | J14: 28301855 | K14: 3333229.3 | L14: 24.999867 | M14: 18.7999 | O14: Apportion from ECMPS data
C16: 3-0016 | D16: Unit 2 | E16: P-Coal | F16: 1390302 | G16: tons | H16: 11356 | I16: Btu/lb | J16: 31576539 | K16: 3277154.5 | L16: 27.899842 | M16: 20.999881 | O16: Apportion from ECMPS data
B18: 24-005-0079 | C18: C.P.Crane
C19: 3-0108 | D19: Boiler Unit 1 | E19: P-Coal | F19: 292475 | G19: tons | H19: 11356 | I19: Btu/lb | J19: 5451461 | K19: 571745.73 | L19: 1.52855 | M19: 13.056775 | O19: Apportion from ECMPS data
C21: 3-0109 | D21: Boiler Unit 2 | E21: P-Coal | F21: 296297 | G21: tons | H21: 11356 | I21: Btu/lb | J21: 6257182 | K21: 656254.33 | L21: 1.5349867 | M21: 13.270207 | O21: Apportion from ECMPS data
B23: 033-00014 | C23: Chalk Point
C25: 1600-14-30004 | D25: Unit 1 | E25: Coal | F25: 575093 | G25: tons | H25: 12971 | I25: Btu/ lb | J25: 14919063 | K25: 1609435.7 | L25: 11.762628 | M25: 9.4140659 | O25: Apportion from ECMPS data
C27: 1600-14-30005 | D27: Unit 2 | E27: Coal | F27: 781584 | G27: tons | H27: 12976 | I27: Btu/ lb | J27: 20283668 | K27: 2177032.2 | L27: 15.912165 | M27: 12.729732 | O27: Apportion from ECMPS data
B29: 003-0014 | C29: HERBERT A WAGNER
C30: 4-0308 | D30: Unit 2 | E30: P-Coal | F30: 199564 | G30: tons | H30: 24 | I30: MMBtu/ tons | J30: 4789536 | K30: 525116.27 | L30: 3.9634557 | M30: 3.0122263 | O30: Apportion from ECMPS data
C32: 3-0003 | D32: Unit 3 | E32: P-Coal | F32: 466140 | G32: tons | H32: 24 | I32: MMBtu/ tons | J32: 11187360 | K32: 1164559.7 | L32: 9.204074 | M32: 0.045755888 | O32: Apportion from ECMPS data
B34: 043-0005 | C34: R P SMITH
C35: 043-0005-3-0005 | D35: Unit 3 (9) | E35: Coal | F35: 6836 | G35: tons | H35: 11260 | I35: Btu/lb | J35: 153946.72 | K35: 18404.817 | L35: 0.096204158 | M35: 0.096204158 | O35: Apportion from ECMPS data
C37: 043-0005-3-0006 | D37: Unit 4 (11) | E37: Coal | F37: 39204 | G37: tons | H37: 11260 | I37: Btu/lb | J37: 882874.08 | K37: 87436 | L37: 0.79 | M37: 1.57 | O37: Apportion from ECMPS data
B39: 031-0019 | C39: Mirant Dickerson
C40: 1500-19-30001 | D40: Boiler 1 | E40: Coal | F40: 161730 | G40: tons | H40: 12900 | I40: Btu/lb | J40: 4172634 | K40: 406756.9 | L40: 2.9739851 | M40: 6.3445015 | O40: Apportion from ECMPS data
C42: 1500-19-30002 | D42: Boiler 2 | E42: Coal | F42: 198171 | G42: tons | H42: 12891 | I42: Btu/lb | J42: 5109244.7 | K42: 520348.9 | L42: 3.8009416 | M42: 8.1377862 | O42: Apportion from ECMPS data
C44: 1500-19-30003 | D44: Boiler 3 | E44: Coal | F44: 197128 | G44: tons | H44: 12895 | I44: Btu/lb | J44: 5083931.1 | K44: 512116.5 | L44: 3.7435054 | M44: 7.943778 | O44: Apportion from ECMPS data
B46: 017-0014 | C46: Mirant Morgantown
C47: 0800-14-30002 | D47: 1 | E47: Coal | F47: 1141923 | G47: tons | H47: 13025 | I47: Btu/lb | J47: 29747094 | K47: 3377171.1 | L47: 24.684831 | M47: 52.660972 | O47: Apportion from ECMPS data
C49: 080-14-30003 | D49: 2 | E49: Coal | F49: 1248983 | G49: tons | H49: 13025 | I49: Btu/lb | J49: 32536007 | K49: 3292474.5 | L49: 25.513668 | M49: 54.422502 | O49: Apportion from ECMPS data
B52: 001-0011 | C52: Luke (New Page)
C53: 01-0011-3-0018 | D53: Nos. 24,25 & 26 Boiler | E53: Coal | F53: 425900 | G53: tons | H53: 10862 | I53: Btu/ib | J53: =Luke!D16 -> 9252251.6 | K53: =(Luke!D18+Luke!D22+Luke!D26) -> 929165.5 | L53: =Luke!D19+Luke!D23+Luke!D27 -> 110.44585 | M53: =Luke!D20+Luke!D24+Luke!D28 -> 16.260878 | O53: Apportion from ECMPS data
E55: Coal (Total) | F55: =SUM(F11:F53) -> 9378663 | J55: =SUM(J11:J53) -> 2.2556213e+08 | K55: =SUM(K11:K53) -> 24082981 | L55: =SUM(L11:L53) -> 460.99203 | M55: =SUM(M11:M53) -> 266.71716
E57: Coal (MMTCO2E) | K57: =(K55*0.90718474)/1000000 -> 21.847713 | L57: =(L55*$J$425*0.90718474)/1000000 -> 0.011667918 | M57: =(M55*$J$426*0.90718474)/1000000 -> 0.066055553
B60: 001-0011 | C60: Luke (New Page)
C61: 01-0011-3-0019
C62: 01-0011-5-0170 | D62: Nos. 24,25 & 26 Boiler | E62: Biomass | F62: 5518 | G62: tons | H62: 4643 | I62: Btu/lb | J62: =Luke!G16 -> 51240.148 | K62: =Luke!G18+Luke!G22+Luke!G26 -> 5145.8369 | L62: =Luke!G19+Luke!G23+Luke!G27 -> 0.61166321 | M62: =Luke!G20+Luke!G24+Luke!G28 -> 0.090054811 | O62: Apportion from ECMPS data
E64: Biomass (MMTCO2E) | K64: =(K62*0.90718474)/1000000 -> 0.0046682247 | L64: =(L62*$J$425*0.90718474)/1000000 -> 1.5481474e-05 | M64: =(M62*$J$426*0.90718474)/1000000 -> 2.2303104e-05
B71: OIL COMBUSTION BY UNIT
B73: Plant ID | C73: Plant Name | D73: Equipment Description | E73: Fuel Type | F73: Usage | G73: Usage Unit | H73: Heat Content | I73: Heat Content Unit | J73: Fuel Heat Input | K73: CO2 Emmission | L73: CH4 Emission | M73: N2O Emission
E74: #2 Oil | J74: (MMBTU) | K74: (tons) | L74: (tons) | M74: (tons)
...

Sheet EGU Details
B3: Plant ID | C3: Plant Name | D3: Equipment Description | E3: Fuel Type | F3: Usage | G3: Usage | H3: Heat | I3: Heat Content | J3: Heat Input | K3: CO2 Emmission | L3: CH4 Emission | M3: N2O Emission
G4: Units | H4: Content | I4: Unit | J4: (MMBTU) | K4: (tons) | L4: (tons) | M4: (tons)
B6: 001-0203 | C6: AES WARRIOR RUN COGEN
C7: 001-3-0127 | D7: ACF Boiler | E7: Coal | F7: 711214 | G7: tons | H7: 11080 | I7: Btu/lb | J7: 15857480 | K7: =J7/($J$7+$J$8)*K$9 -> 1624579.1 | L7: =J7/($J$7+$J$8)*L$9 -> 192.13747 | M7: =J7/($J$7+$J$8)*M$9 -> 27.951991
C8: 001-3-0127 | D8: ACF Boiler | E8: Diesel | F8: 113500 | G8: gallons | H8: 140000 | I8: Btu/gal | J8: =(F8*H8)/1000000 -> 15890 | K8: =J8/($J$7+$J$8)*K$9 -> 1627.9107 | L8: =J8/($J$7+$J$8)*L$9 -> 0.1925315 | M8: =J8/($J$7+$J$8)*M$9 -> 0.028009314
J9: =SUM(J7:J8) -> 15873370 | K9: 1626207 | L9: 192.33 | M9: 27.98
C10: 001-9-0081 | D10: Emergency Engine (Boiler Feed Pump) | E10: Diesel | F10: 665 | G10: gallons | H10: 140000 | I10: Btu/gal | J10: =(F10*H10)/1000000 -> 93.1 | K10: 7.48 | L10: 0 | M10: 0
C11: 001-6-0136 | D11: Limestone Dryer | E11: Natural Gas | F11: 2767100 | G11: scf | H11: 1020 | I11: Btu/scf | J11: =(F11*H11)/1000000 -> 2822.442 | K11: 166.25 | L11: 0 | M11: 0
B13: 003-0468 | C13: Brandon Shores
C15: 3-4-0081 | D15: Temp Boiler
C16: 3-0015 | D16: Unit 1 | E16: S-No. 2 Oil | F16: 1080 | G16: 10E3 gallons | H16: 139 | I16: MMBtu/ 1E+03 gal | J16: =(F16*H16)/1000 -> 150.12 | K16: =(+J16/(J16+J17))*K18 -> 17.680268 | L16: =(J16/(J16+J17))*L18 -> 0.00013260545 | M16: =(J16/(J16+J17))*M18 -> 9.9719296e-05
D17: Unit 1 | E17: P-Coal | F17: 1246119 | G17: tons | H17: 11356 | I17: Btu/lb | J17: =(F17*H17*2000)/1000000 -> 28301855 | K17: =(+J17/(J16+J17))*K18 -> 3333229.3 | L17: =(J17/(J16+J17))*L18 -> 24.999867 | M17: =(K17/(K16+K17))*M18 -> 18.7999
J18: 32487813 | K18: 3333247 | L18: 25 | M18: 18.8
C19: 3-0016 | D19: Unit 2 | E19: S-No. 2 Oil | F19: 1284 | G19: gallons | H19: 139 | I19: MMBtu/ 1E+03 gal | J19: =(F19*H19)/1000 -> 178.476 | K19: =(J19/(J$20+J$19))*K$21 -> 18.523038 | L19: =(J19/(J$19+J$20))*L$21 -> 0.00015769468 | M19: =(J19/(J$19+J$20))*M$21 -> 0.00011869492
D20: Unit 2 | E20: P-Coal | F20: 1390302 | G20: tons | H20: 11356 | I20: Btu/lb | J20: =(F20*H20*2000)/1000000 -> 31576539 | K20: =(J20/(J$20+J$19))*K$21 -> 3277154.5 | L20: =(J20/(J$19+J$20))*L$21 -> 27.899842 | M20: =(J20/(J$19+J$20))*M$21 -> 20.999881
J21: 31941293 | K21: 3277173 | L21: 27.9 | M21: 21
B23: 24-005-0079 | C23: C.P.Crane
C24: 3-0108 | D24: Boiler Unit 1 | E24: S-Gas | F24: 75000000 | G24: scf | H24: 1020 | I24: MMBtu/1E+06 scf | J24: =(F24*H24)/1000000 -> 76500 | K24: =(+J24/J26)*K26 -> 8023.2709 | L24: =(+J24/J26)*L26 -> 0.021450043 | M24: =(+J24/J26)*M26 -> 0.18322488
D25: Boiler Unit 1 | E25: P-Coal | F25: 292475 | G25: tons | H25: 11356 | I25: Btu/lb | J25: =J26-J24 -> 5451461 | K25: =(+J25/J26)*K26 -> 571745.73 | L25: =(+J25/J26)*L26 -> 1.52855 | M25: =(+J25/J26)*M26 -> 13.056775
J26: 5527961 | K26: 579769 | L26: 1.55 | M26: 13.24
C27: 3-0109 | D27: Boiler Unit 2 | E27: S-Gas | F27: 60000000 | G27: scf | H27: 1020 | I27: MMBtu/1E+06 scf | J27: =(F27*H27)/1000000 -> 61200 | K27: =(+J27/J29)*K29 -> 6418.6666 | L27: =(+J27/J29)*L29 -> 0.015013337 | M27: =(+J27/J29)*M29 -> 0.12979272
D28: Boiler Unit 2 | E28: P-Coal | F28: 296297 | G28: tons | H28: 11356 | I28: Btu/lb | J28: =J29-J27 -> 6257182 | K28: =(+J28/J29)*K29 -> 656254.33 | L28: =(+J28/J29)*L29 -> 1.5349867 | M28: =(+J28/J29)*M29 -> 13.270207
J29: 6318382 | K29: 662673 | L29: 1.55 | M29: 13.4
C31: 4-0091 | D31: Aux Boiler # 2 | E31: S-No. 2 Oil | F31: 121000 | G31: gallons | H31: 139 | I31: MMBtu/ 1E+03 gal | J31: =(F31*H31)/1000 -> 16819 | K31: 1320 | L31: 0.013 | M31: 0.016
C33: 4-1107 | D33: Aux Boiler # 3 | E33: S-No. 2 Oil | F33: 15000 | G33: gallons | H33: 139 | I33: MMBtu/ 1E+03 gal | J33: =(F33*H33)/1000 -> 2085 | K33: 164 | L33: 0.002 | M33: 0.002
C35: 4-0089 | D35: CT (14 MW) | E35: S-No. 2 Oil | F35: 89000 | G35: gallons | H35: 139 | I35: MMBtu/ 1E+03 gal | J35: =(F35*H35)/1000 -> 12371 | K35: 968 | L35: 0.01 | M35: 0.012
B37: 033-00014 | C37: Chalk Point
C39: 1600-14-30004 | D39: Unit 1 | E39: Coal | F39: 575093 | G39: tons | H39: 12971 | I39: Btu/ lb | J39: =(F39*H39*2000)/1000000 -> 14919063 | K39: =(J39/(J$39+J$40+J$41))*K$42 -> 1609435.7 | L39: =(J39/(J$39+J$40+J$41))*L$42 -> 11.762628 | M39: =(J39/(J$39+J$40+J$41))*M$42 -> 9.4140659
E40: #2 Oli | F40: 757726 | G40: gallons | H40: 137572 | I40: Btu/gal | J40: =(F40*H40)/1000000 -> 104241.88 | K40: =(J40/(J$39+J$40+J$41))*K$42 -> 11245.385 | L40: =(J40/(J$39+J$40+J$41))*L$42 -> 0.082187364 | M40: =(J40/(J$39+J$40+J$41))*M$42 -> 0.065777587
E41: Gas | F41: 30893 | G41: scf | H41: 1034 | I41: MMBtu/1E+06 scf | J41: =(F41*H41)/1000 -> 31943.362 | K41: =(J41/(J$39+J$40+J$41))*K$42 -> 3445.9798 | L41: =(J41/(J$39+J$40+J$41))*L$42 -> 0.025185086 | M41: =(J41/(J$39+J$40+J$41))*M$42 -> 0.020156556
J42: 15831379 | K42: 1624127.1 | L42: 11.87 | M42: 9.5
C43: 1600-14-30005 | D43: Unit 2 | E43: Coal | F43: 781584 | G43: tons | H43: 12976 | I43: Btu/ lb | J43: =(F43*H43*2000)/1000000 -> 20283668 | K43: =(J43/(J$43+J$44+J$45))*K$46 -> 2177032.2 | L43: =(J43/(J$43+J$44+J$45))*L$46 -> 15.912165 | M43: =(J43/(J$43+J$44+J$45))*M$46 -> 12.729732
E44: #2 Oli | F44: 47448 | G44: gallons | H44: 137658 | I44: Btu/gal | J44: =(F44*H44)/1000000 -> 6531.5968 | K44: =(J44/(J$43+J$44+J$45))*K$46 -> 701.0318 | L44: =(J44/(J$43+J$44+J$45))*L$46 -> 0.0051239178 | M44: =(J44/(J$43+J$44+J$45))*M$46 -> 0.0040991343
E45: Gas | F45: 163134 | G45: scf | H45: 1037 | I45: MMBtu/1E+06 scf | J45: =(F45*H45)/1000 -> 169169.96 | K45: =(J45/(J$43+J$44+J$45))*K$46 -> 18156.896 | L45: =(J45/(J$43+J$44+J$45))*L$46 -> 0.13271073 | M45: =(J45/(J$43+J$44+J$45))*M$46 -> 0.10616858
J46: 21404540 | K46: 2195890.1 | L46: 16.05 | M46: 12.84
C48: 1600-14-40998 | D48: Unit 3 | E48: #6 Oil | F48: 620224 | G48: gallons | H48: 151598 | I48: Btu/gal | J48: =(F48*H48)/1000000 -> 94024.718 | K48: =(J48/(J$48+J$49+J$50))*K$51 -> 5852.9094 | L48: =(J48/(J$48+J$49+J$50))*L$51 -> 0.11209005 | M48: =(J48/(J$48+J$49+J$50))*M$51 -> 0.037591175
E49: #2 Oli | F49: 0 | G49: gallons | H49: 132252 | I49: Btu/gal | J49: =(F49*H49)/1000000 -> 0 | K49: ` | L49: =(J49/(J$48+J$49+J$50))*L$51 -> 0 | M49: =(J49/(J$48+J$49+J$50))*M$51 -> 0
E50: Gas | F50: 3911764 | G50: scf | H50: 1031 | I50: MMBtu/1E+06 scf | J50: =(F50*H50)/1000 -> 4033028.7 | K50: =(J50/(J$48+J$49+J$50))*K$51 -> 251050.49 | L50: =(J50/(J$48+J$49+J$50))*L$51 -> 4.80791 | M50: =(J50/(J$48+J$49+J$50))*M$51 -> 1.6124088
J51: 4294455 | K51: 256903.4 | L51: 4.92 | M51: 1.65
C53: 1600-14-40999 | D53: Unit 4 | E53: #6 Oil | F53: 563476 | G53: gallons | H53: 151673 | I53: Btu/gal | J53: =(F53*H53)/1000000 -> 85464.095 | K53: =(J53/(J$53+J$54+J$55))*K$56 -> 6041.7196 | L53: =(J53/(J$53+J$54+J$55))*L$56 -> 0.11592272 | M53: =(J53/(J$53+J$54+J$55))*M$56 -> 0.038017666
...

Sheet Severstal
D2: POWER BOILERS (Severstal) 2011
E4: 2011 | I4: Emissions
E5: # 6 Oil | F5: BFG | G5: NG | H5: Total | I5: (short tons)
E6: (gal) | F6: (scf) | G6: (mcf)
D7: Qty | E7: 1039 | F7: 13373 | G7: 412
D8: btus/unit
C9: Pennwood #1 | D9: mmbtus | E9: 158 | F9: 1163447 | G9: 428257 | H9: =SUM(E9:G9) -> 1591862
D11: CO2 emissions in metric tons | E11: 3.4 | F11: 332077.6 | G11: 22696.1 | H11: =(E11+F11+G11) -> 354777.1 | I11: =H11*1.1023 -> 391070.8
D12: CH4 emissions in metric tons | E12: 0 | F12: 0.03 | G12: 0.43 | H12: =(E12+F12+G12) -> 0.46 | I12: =H12*1.1023 -> 0.507058
D13: N2O emissions in metric tons | E13: 0 | F13: 0.13 | G13: 0.043 | H13: =(E13+F13+G13) -> 0.173 | I13: =H13*1.1023 -> 0.1906979
E15: # 6 Oil | F15: BFG | G15: NG
E16: (gal) | F16: (scf) | G16: (mcf)
D17: Qty | E17: 538 | F17: 16027 | G17: 640
D18: btus/unit
C19: Pennwood #2 | D19: mmbtus | E19: 82 | F19: 1394381 | G19: 666042 | H19: =SUM(E19:G19) -> 2060505
D21: CO2 emissions in metric tons | E21: 1.8 | F21: 402051.9 | G21: 35299.6 | H21: =(E21+F21+G21) -> 437353.3 | I21: =H21*1.1023 -> 482094.54
D22: CH4 emissions in metric tons | E22: 0 | F22: 0.03 | G22: 0.67 | H22: =(E22+F22+G22) -> 0.7 | I22: =H22*1.1023 -> 0.77161
D23: N2O emissions in metric tons | E23: 0 | F23: 0.158 | G23: 0.067 | H23: =(E23+F23+G23) -> 0.225 | I23: =H23*1.1023 -> 0.2480175
E25: # 6 Oil | F25: BFG | G25: NG
E26: (gal) | F26: (scf) | G26: (mcf)
D27: Qty | F27: 11025 | G27: 818
D28: btus/unit
C29: Pennwood #3 | D29: mmbtus | F29: 959161 | G29: 850818 | H29: =SUM(E29:G29) -> 1809979
D31: CO2 emissions in metric tons | E31: 0 | F31: 280034.7 | G31: 45101.2 | H31: =(E31+F31+G31) -> 325135.9 | I31: =H31*1.1023 -> 358397.3
D32: CH4 emissions in metric tons | E32: 0 | F32: 0.02 | G32: 0.85 | H32: =(E32+F32+G32) -> 0.87 | I32: =H32*1.1023 -> 0.959001
D33: N2O emissions in metric tons | E33: 0 | F33: 0.11 | G33: 0.085 | H33: =(E33+F33+G33) -> 0.195 | I33: =H33*1.1023 -> 0.2149485
E35: # 6 Oil | F35: BFG | G35: NG
E36: (gal) | F36: (scf) | G36: (mcf)
D37: Qty | E37: 2238 | F37: 6297 | G37: 388
D38: btus/unit
C39: Pennwood #4 | D39: mmbtus | E39: 340 | F39: 547854 | G39: 403783 | H39: =SUM(E39:G39) -> 951977
D41: CO2 emissions in metric tons | E41: 12.5 | F41: 156972.9 | G41: 21414.5 | H41: =(E41+F41+G41) -> 178399.9 | I41: =H41*1.1023 -> 196650.21
D42: CH4 emissions in metric tons | E42: 0 | F42: 0.01 | G42: 0.4 | H42: =(E42+F42+G42) -> 0.41 | I42: =H42*1.1023 -> 0.451943
D43: N2O emissions in metric tons | E43: 0 | F43: 0.062 | G43: 0.04 | H43: =(E43+F43+G43) -> 0.102 | I43: =H43*1.1023 -> 0.1124346
E46: # 6 Oil | F46: BFG | G46: NG
D47: Summary Fossil Fuel Combustion | E47: (gal) | F47: (scf) | G47: (mcf)
E48: =E7+E17+E27+E37 -> 3815 | F48: =F7+F17+F27+F37 -> 46722 | G48: =G7+G17+G27+G37 -> 2258
D53: MMBTU | E53: CO2 Emission | F53: CO2 Emission | G53: CO2 Emission | I53: Global Warming Potential
E54: (short tons) | F54: (metric tons) | G54: (MMTCO2)
I55: CO2_GWP= | J55: =Summary!E4 -> 1
...

Sheet Luke
G3: kg/mmBTU
C4: POWER BOILERS (LUKE) 2011 | F4: CO2 | G4: CEM | H4: CEM | I4: CEM | J4: CEM | K4: CEM
F5: CH4 | G5: 0.011 | H5: 0.003 | I5: 0.003 | J5: 0.001 | K5: 0.032
F6: N2O | G6: 0.0016 | H6: 0.0006 | I6: 0.006 | J6: 0.001 | K6: 0.0042
G7: Coal | H7: Oil(2,4) | I7: Oil(6) | J7: Gas | K7: Biomass
D10: 2011 | I10: Total | J10: % of Heat | K10: Share
D11: Coal | E11: # 2 Oil | F11: # 4 Oil | G11: Biomass | H11: NG
D12: (tons) | E12: (gal) | F12: (gal) | G12: (tons) | H12: (mcf)
C14: Qty | D14: 425900 | E14: 47886 | F14: 487145 | G14: 5518 | H14: 196372000
C15: btus/unit | D15: 10862 | E15: 141324 | F15: 140001 | G15: 4643 | H15: 1053
C16: mmbtus | D16: =+D14*D15*2000/1000000 -> 9252251.6 | E16: =+E14*E15/1000000 -> 6767.4411 | F16: =+F14*F15/1000000 -> 68200.787 | G16: =+G14*G15*2000/1000000 -> 51240.148 | H16: =+H14*H15/1000000 -> 206779.72 | I16: =SUM(D16:H16) -> 9585239.7
C18: CO2 emissions (short tons) | D18: =(+D$16/I$16)*K18 -> 358790.15 | E18: =(+E$16/I$16)*K18 -> 262.43246 | F18: =(+F$16/I$16)*K18 -> 2644.7368 | G18: =(+G$16/I$16)*K18 -> 1987.0255 | H18: =(+H$16/I$16)*K18 -> 8018.6454 | I18: 962604 | J18: 0.3861432 | K18: =I18*J18 -> 371702.99
B19: No. 24 | C19: CH4 emissions (short tons) | D19: =(+D$16/I$16)*K19 -> 42.647822 | E19: =(+E$16/I$16)*K19 -> 0.031194204 | F19: =(+F$16/I$16)*K19 -> 0.31436835 | G19: =(+G$16/I$16)*K19 -> 0.23618907 | H19: =(+H$16/I$16)*K19 -> 0.95314145 | I19: 114.42054 | J19: 0.3861432 | K19: =I19*J19 -> 44.182715
C20: N2O emissions (short tons) | D20: =(+D$16/I$16)*K20 -> 6.2790135 | E20: =(+E$16/I$16)*K20 -> 0.0045927041 | F20: =(+F$16/I$16)*K20 -> 0.046284265 | G20: =(+G$16/I$16)*K20 -> 0.034773977 | H20: =(+H$16/I$16)*K20 -> 0.14033045 | I20: 16.846069 | J20: 0.3861432 | K20: =I20*J20 -> 6.5049949
C22: CO2 emissions (short tons) | D22: =(+D$16/I$16)*K22 -> 559374.05 | E22: =(+E$16/I$16)*K22 -> 409.14699 | F22: =(+F$16/I$16)*K22 -> 4123.2937 | G22: =(+G$16/I$16)*K22 -> 3097.8848 | H22: =(+H$16/I$16)*K22 -> 12501.52 | I22: 962604 | J22: 0.602019 | K22: =I22*J22 -> 579505.9
B23: No. 25 | C23: CH4 emissions (short tons) | D23: =(+D$16/I$16)*K23 -> 66.490357 | E23: =(+E$16/I$16)*K23 -> 0.048633521 | F23: =(+F$16/I$16)*K23 -> 0.49011796 | G23: =(+G$16/I$16)*K23 -> 0.36823207 | H23: =(+H$16/I$16)*K23 -> 1.4860012 | I23: 114.42054 | J23: 0.602019 | K23: =I23*J23 -> 68.883342
C24: N2O emissions (short tons) | D24: =(+D$16/I$16)*K24 -> 9.7893357 | E24: =(+E$16/I$16)*K24 -> 0.0071602844 | F24: =(+F$16/I$16)*K24 -> 0.072159776 | G24: =(+G$16/I$16)*K24 -> 0.054214588 | H24: =(+H$16/I$16)*K24 -> 0.21878308 | I24: 16.846069 | J24: 0.602019 | K24: =I24*J24 -> 10.141653
C26: CO2 emissions (short tons) | D26: =(+D$16/I$16)*K26 -> 11001.295 | E26: =(+E$16/I$16)*K26 -> 8.0467567 | F26: =(+F$16/I$16)*K26 -> 81.093449 | G26: =(+G$16/I$16)*K26 -> 60.926575 | H26: =(+H$16/I$16)*K26 -> 245.86931 | I26: 962604 | J26: 0.01184 | K26: =I26*J26 -> 11397.231
B27: No. 26 | C27: CH4 emissions (short tons) | D27: =(+D$16/I$16)*K27 -> 1.307676 | E27: =(+E$16/I$16)*K27 -> 0.00095648291 | F27: =(+F$16/I$16)*K27 -> 0.0096392251 | G27: =(+G$16/I$16)*K27 -> 0.0072420765 | H27: =(+H$16/I$16)*K27 -> 0.029225414 | I27: 114.42054 | J27: 0.01184 | K27: =I27*J27 -> 1.3547392
C28: N2O emissions (short tons) | D28: =(+D$16/I$16)*K28 -> 0.19252837 | E28: =(+E$16/I$16)*K28 -> 0.00014082241 | F28: =(+F$16/I$16)*K28 -> 0.0014191774 | G28: =(+G$16/I$16)*K28 -> 0.0010662466 | H28: =(+H$16/I$16)*K28 -> 0.0043028403 | I28: 16.846069 | J28: 0.01184 | K28: =I28*J28 -> 0.19945745
D33: MMBTU | E33: CO2 Emission | F33: CO2 Emission | G33: CO2 Emission | I33: Global Warming Potential
E34: (short tons) | F34: (metric tons) | G34: (MMTCO2)
I35: CO2_GWP= | J35: =Summary!E4 -> 1
C36: Coal | D36: =+D16+G16 -> 9303491.7 | E36: =+D18+G18+D22+G22+D26+G26 -> 934311.33 | F36: =E36*0.90718474 -> 847592.98 | G36: =F36/1000000 -> 0.84759298 | I36: CH4_GWP = | J36: =Summary!E5 -> 27.9
I37: N2O_GWP= | J37: =Summary!E6 -> 273
C38: Petroleum | D38: =+E16+F16 -> 74968.228 | E38: =+E18+F18+E22+F22+E26+F26 -> 7528.7502 | F38: =E38*0.90718474 -> 6829.9673 | G38: =F38/1000000 -> 0.0068299673 | I38: SF6_GWP = | J38: =Summary!E7 -> 24300
C40: Natural Gas | D40: =+H16 -> 206779.72 | E40: =+H18+H22+H26 -> 20766.035 | F40: =E40*0.90718474 -> 18838.63 | G40: =F40/1000000 -> 0.01883863
C42: Total | D42: =SUM(D36:D41) -> 9585239.7 | E42: =SUM(E36:E41) -> 962606.12 | F42: =SUM(F36:F41) -> 873261.58 | G42: =SUM(G36:G41) -> 0.87326158
D47: MMBTU | E47: CH4 Emission | F47: CH4 Emission | G47: CH4 Emission
E48: (short tons) | F48: (metric tons) | G48: (MMTCO2)
C50: Coal | D50: =+D16+G16 -> 9303491.7 | E50: =+D19+G19+D23+G23+D27+G27 -> 111.05752 | F50: =E50*0.90718474 -> 100.74969 | G50: =(+F50*$J$36)/1000000 -> 0.0028109162
C52: Petroleum | D52: =+E16+F16 -> 74968.228 | E52: =+E19+F19+E23+F23+E27+F27 -> 0.89490974 | F52: =E52*0.90718474 -> 0.81184846 | G52: =(+F52*$J$36)/1000000 -> 2.2650572e-05
C54: Natural Gas | D54: =+H16 -> 206779.72 | E54: =+H19+H23+H27 -> 2.4683681 | F54: =E54*0.90718474 -> 2.2392659 | G54: =(+F54*$J$36)/1000000 -> 6.2475517e-05
C56: Total | E56: =SUM(E50:E55) -> 114.4208 | F56: =SUM(F50:F55) -> 103.8008 | G56: =SUM(G50:G55) -> 0.0028960423
D60: MMBTU | E60: N2O Emission | F60: N2O Emission | G60: N2O Emission
E61: (short tons) | F61: (metric tons) | G61: (MMTCO2)
C63: Coal | D63: =+D16+G16 -> 9303491.7 | E63: =+D20+G20+D24+G24+D28+G28 -> 16.350932 | F63: =E63*0.90718474 -> 14.833316 | G63: =(+F63*$J$37)/1000000 -> 0.0040494954
C65: Petroleum | D65: =+E16+F16 -> 74968.228 | E65: =+E20+F20+E24+F24+E28+F28 -> 0.13175703 | F65: =E65*0.90718474 -> 0.11952797 | G65: =(+F65*$J$37)/1000000 -> 3.2631135e-05
C67: Natural Gas | D67: =+H16 -> 206779.72 | E67: =+H20+H24+H28 -> 0.36341636 | F67: =E67*0.90718474 -> 0.32968578 | G67: =(+F67*$J$37)/1000000 -> 9.0004218e-05
C69: Total | D69: =SUM(D63:D68) -> 9585239.7 | E69: =SUM(E63:E68) -> 16.846106 | F69: =SUM(F63:F68) -> 15.28253 | G69: =SUM(G63:G68) -> 0.0041721307

Sheet Imported Electricity
A1: Electric Consumption (Imported Electricity) Emissions for Maryland
E3: Fuel Consumption For Electricity Generation
C5: 1991 | D5: 1992 | E5: 1993 | F5: 1994 | G5: 1995 | H5: 1996 | I5: 1997 | J5: 1998 | K5: 1999 | L5: 2000 | M5: 2001 | N5: 2002 | O5: 2003 | P5: 2004 | Q5: 2005 | R5: 2006 | S5: 2007 | T5: 2008 | U5: 2009 | V5: 2010 | W5: 2011
B7: Coal (Short Tons) | L7: 11420038 | M7: 11135140 | N7: 11364983 | O7: 11852129 | P7: 11608446 | Q7: 11745248 | R7: 11687603 | S7: 11937518 | T7: 11098391 | U7: 9846698 | V7: 9885858 | W7: 9003261
B8: Petroleum (Barrels) | L8: 4143417 | M8: 5514960 | N8: 4108104 | O8: 6164252 | P8: 5672819.2 | Q8: 6574936.7 | R8: 1050222 | S8: 1790746 | T8: 791418 | U8: 624050 | V8: 658767 | W8: 438683
B9: Natural Gas (Mcf) | L9: 29023288 | M9: 17985486 | N9: 22627073 | O9: 11162538 | P9: 9994238 | Q9: 18619350 | R9: 16620796 | S9: 21481869 | T9: 17563616 | U9: 15742992 | V9: 28629884 | W9: 21840074
B10: Other Gases (MMBTU) | L10: 758 | M10: 7537 | N10: 9278 | O10: 6717 | P10: 5127.03 | Q10: 4266.24 | R10: 4141.31 | S10: 4703.42 | T10: 4194.02 | U10: 3340 | V10: 2663 | W10: 1921
E14: MD In-State Gross Generation (MWh)
C16: 1991 | D16: 1992 | E16: 1993 | F16: 1994 | G16: 1995 | H16: 1996 | I16: 1997 | J16: 1998 | K16: 1999 | L16: 2000 | M16: 2001 | N16: 2002 | O16: 2003 | P16: 2004 | Q16: 2005 | R16: 2006 | S16: 2007 | T16: 2008 | U16: 2009 | V16: 2010 | W16: 2011
B17: Coal | C17: 22835671 | D17: 23850470 | E17: 25126979 | F17: 25624758 | G17: 27595256 | H17: 27992005 | I17: 27620925 | J17: 29294727 | K17: 29687655 | L17: 29451065 | M17: 28379409 | N17: 28712053 | O17: 29939086 | P17: 29195458 | Q17: 29302792 | R17: 29408022 | S17: 29699186 | T17: 27218239 | U17: 24162345 | V17: 23668204 | W17: 21186919
B18: Petroleum | C18: 4078506 | D18: 2749511 | E18: 4164790 | F18: 4275226 | G18: 1479469 | H18: 1472027 | I18: 1565010 | J18: 3454350 | K18: 4290788 | L18: 2388595 | M18: 3021639 | N18: 2282432 | O18: 3572183 | P18: 3296842 | Q18: 3805569 | R18: 580726 | S18: 984831 | T18: 405840 | U18: 329901 | V18: 322438 | W18: 219804
B19: Natural Gas | C19: 1517463 | D19: 1077542 | E19: 772304 | F19: 1172042 | G19: 1548884 | H19: 987627 | I19: 1412585 | J19: 1990596 | K19: 2125193 | L19: 2852876 | M19: 1760812 | N19: 2214431 | O19: 1195642 | P19: 1183301 | Q19: 1886986 | R19: 1770206 | S19: 2240927 | T19: 1848147 | U19: 1767844 | V19: 2896978 | W19: 2236976
B20: Other Gases | C20: 478704 | D20: 506572 | E20: 475788 | F20: 501762 | G20: 685721 | H20: 539335 | I20: 564036 | J20: 82316 | K20: 59891 | L20: 74572 | M20: 439980 | N20: 504513 | O20: 325355 | P20: 411565 | Q20: 342466 | R20: 332444 | S20: 377560 | T20: 337823 | U20: 269182 | V20: 214727 | W20: 154641
B21: Nuclear | C21: 9036100 | D21: 10663950 | E21: 12300816 | F21: 11235408 | G21: 12937971 | H21: 12092768 | I21: 13212967 | J21: 13330598 | K21: 13312335 | L21: 13827243 | M21: 13656267 | N21: 12128005 | O21: 13690713 | P21: 14580260 | Q21: 14703221 | R21: 13830411 | S21: 14353192 | T21: 14678695 | U21: 14550119 | V21: 13993948 | W21: 14397437
B22: Hydroelectric Conventional | C22: 1407287 | D22: 1824659 | E22: 1658271 | F22: 2009536 | G22: 1442006 | H22: 2457463 | I22: 1588375 | J22: 1739737 | K22: 1424197 | L22: 1732619 | M22: 1183518 | N22: 1660989 | O22: 2646984 | P22: 2507521 | Q22: 1703639 | R22: 2104275 | S22: 1652216 | T22: 1974078 | U22: 1888769 | V22: 1667397 | W22: 2540908
B23: Wind | V23: 1494 | W23: 319254
B24: Solar Thermal and Photovoltaic | V24: 80 | W24: 2070
B25: Wood and Wood Derived Fuels | C25: 160602 | D25: 174801 | E25: 175122 | F25: 168822 | G25: 175144 | H25: 167554 | I25: 155906 | J25: 155647 | K25: 171088 | L25: 179580 | M25: 11939 | N25: 182904 | O25: 225240 | P25: 192384 | Q25: 205985 | R25: 218066 | S25: 203097 | T25: 197704 | U25: 175058 | V25: 164688 | W25: 167437
B26: Other Biomass | C26: 336551 | D26: 329854 | E26: 303818 | F26: 352064 | G26: 501192 | H26: 565838 | I26: 587592 | J26: 605046 | K26: 614474 | L26: 638830 | M26: 361076 | N26: 338727 | O26: 370811 | P26: 396824 | Q26: 417380 | R26: 408095 | S26: 400364 | T26: 414781 | U26: 375721 | V26: 407402 | W26: 420114
B27: Other | M27: 247700 | N27: 255034 | O27: 278224 | P27: 288616 | Q27: 293561 | R27: 304635 | S27: 286550 | T27: 285645 | U27: 255893 | V27: 269907 | W27: 267727
B28: Total | C28: 39850884 | D28: 41177359 | E28: 44977888 | F28: 45339618 | G28: 46365643 | H28: 46274617 | I28: 46707396 | J28: 50653017 | K28: 51685621 | L28: 51145380 | M28: 49062340 | N28: 48279088 | O28: 52244237 | P28: 52052770 | Q28: 52661600 | R28: 48956880 | S28: 50197924 | T28: 47360953 | U28: =SUM(U17:U27) -> 43774832 | V28: 43607266 | W28: =SUM(W17:W27) -> 41913287
C30: MD -Electricity Losses (MWh) (Transmission and Distribution) Assume 6.25 %
C32: 1991 | D32: 1992 | E32: 1993 | F32: 1994 | G32: 1995 | H32: 1996 | I32: 1997 | J32: 1998 | K32: 1999 | L32: 2000 | M32: 2001 | N32: 2002 | O32: 2003 | P32: 2004 | Q32: 2005 | R32: 2006 | S32: 2007 | T32: 2008 | U32: 2009 | V32: 2010 | W32: 2011
B33: T &D Losses | C33: =C28*0.0625 -> 2490680.2 | D33: =D28*0.0625 -> 2573584.9 | E33: =E28*0.0625 -> 2811118 | F33: =F28*0.0625 -> 2833726.1 | G33: =G28*0.0625 -> 2897852.7 | H33: =H28*0.0625 -> 2892163.6 | I33: =I28*0.0625 -> 2919212.2 | J33: =J28*0.0625 -> 3165813.6 | ... W33: =W28*0.0625 -> 2619580.4
C36: Net MD In-State Electricity Generation (MWh) = MD In-State Electricity Generated - T &D Losses
C39: 1991 | D39: 1992 | E39: 1993 | F39: 1994 | G39: 1995 | H39: 1996 | I39: 1997 | J39: 1998 | K39: 1999 | L39: 2000 | M39: 2001 | N39: 2002 | O39: 2003 | P39: 2004 | Q39: 2005 | R39: 2006 | S39: 2007 | T39: 2008 | U39: 2009 | V39: 2010 | W39: 2011
B40: Net In -State Generated Electricity | C40: =C28-C33 -> 37360204 | D40: =D28-D33 -> 38603774 | E40: =E28-E33 -> 42166770 | F40: =F28-F33 -> 42505892 | G40: =G28-G33 -> 43467790 | H40: =H28-H33 -> 43382453 | I40: =I28-I33 -> 43788184 | J40: =J28-J33 -> 47487203 | ... W40: =W28-W33 -> 39293707
C43: Electricity Consumption (MWh) (MD Retail Sales)
C45: 1991 | D45: 1992 | E45: 1993 | F45: 1994 | G45: 1995 | H45: 1996 | I45: 1997 | J45: 1998 | K45: 1999 | L45: 2000 | M45: 2001 | N45: 2002 | O45: 2003 | P45: 2004 | Q45: 2005 | R45: 2006 | S45: 2007 | T45: 2008 | U45: 2009 | V45: 2010 | W45: 2011
B46: Residential | C46: 20295448 | D46: 19762032 | E46: 21546122 | F46: 21666119 | G46: 22233807 | H46: 22985772 | I46: 21936662 | J46: 22406855 | K46: 23342423 | L46: 24294096 | M46: 25489053 | N46: 26671274 | O46: 27951978 | P46: 28439645 | Q46: 26905386 | R46: 28194802 | S46: 27144255 | T46: 26839241 | U46: 26944566 | V46: 28934074 | W46: 27296000
B47: Commercial | C47: 10667414 | D47: 10769686 | E47: 11316964 | F47: 13253588 | G47: 23096405 | H47: 23126094 | I47: 23418552 | J47: 24284167 | K47: 24988489 | L47: 26243614 | M47: 21044289 | N47: 16950347 | O47: 17264135 | P47: 17931771 | Q47: 29729030 | R47: 30691159 | S47: 30002993 | T47: 29755144 | U47: 29806001 | V47: 30771317 | W47: 30750000
B48: Industrial | C48: 19448114 | D48: 19768026 | E48: 20200630 | F48: 19037490 | G48: 10057219 | H48: 10098447 | I48: 10127852 | J48: 10343675 | K48: 9936115 | L48: 10176724 | M48: 20874507 | N48: 27175526 | O48: 21194572 | P48: 21516638 | Q48: 6057030 | R48: 5980358 | S48: 5649943 | T48: 5255976 | U48: 5285833 | V48: 5083115 | W48: 5007000
B49: Transportation | C49: 0 | D49: 0 | E49: 0 | F49: 0 | G49: 0 | H49: 0 | I49: 0 | J49: 0 | K49: 0 | L49: 0 | M49: 0 | N49: 461436 | O49: 481015 | P49: 477331 | Q49: 481697 | R49: 524341 | S49: 528586 | T49: 552743 | U49: 552743 | V49: 546992 | W49: 547000
B50: Others | C50: 696831 | D50: 689042 | E50: 808686 | F50: 794428 | G50: 770615 | H50: 787207 | I50: 781420 | J50: 798935 | K50: 819198 | L50: 925586 | M50: 972057 | N50: 0 | O50: 0 | P50: 0 | Q50: 0 | R50: 0 | S50: 0 | T50: 0 | U50: 0 | V50: 0 | W50: 0
B51: Total Electric Consumption (Mwh) Net | C51: 51107809 | D51: 50988788 | E51: 53872404 | F51: 54751623 | G51: 56158046 | H51: 56997520 | I51: 56264486 | J51: 57833638 | K51: 59086225 | L51: 60677801 | M51: 61640020 | N51: 68379906 | O51: 71258583 | P51: 66891700 | Q51: 68365385 | R51: 63173143 | S51: 65390660 | T51: 63325777 | U51: =SUM(U46:U50) -> 62589143 | V51: =SUM(V46:V50) -> 65335498 | W51: 63600000
B52: Total Electric Consumption (Mwh) Gross | C52: =C51*1.0625 -> 54302047 | D52: =D51*1.0625 -> 54175587 | E52: =E51*1.0625 -> 57239429 | F52: =F51*1.0625 -> 58173599 | G52: =G51*1.0625 -> 59667924 | H52: =H51*1.0625 -> 60559865 | I52: =I51*1.0625 -> 59781016 | J52: =J51*1.0625 -> 61448240 | ... W52: =W51*1.0625 -> 67575000
C56: Electricity Imported (MWh) = MD Gross Retail Sales - Gross In-state Generation
C58: 1991 | D58: 1992 | E58: 1993 | F58: 1994 | G58: 1995 | H58: 1996 | I58: 1997 | J58: 1998 | K58: 1999 | L58: 2000 | M58: 2001 | N58: 2002 | O58: 2003 | P58: 2004 | Q58: 2005 | R58: 2006 | S58: 2007 | T58: 2008 | U58: 2009 | V58: 2010 | W58: 2011
B59: Imported Electricity to Meet MD Demand (MWh) | C59: =C52-C28 -> 14451163 | D59: =D52-D28 -> 12998228 | E59: =E52-E28 -> 12261541 | F59: =F52-F28 -> 12833981 | G59: =G52-G28 -> 13302281 | H59: =H52-H28 -> 14285248 | I59: =I52-I28 -> 13073620 | J59: =J52-J28 -> 10795223 | ... W59: =W52-W28 -> 25661713
E62: GHG Associated with Imported Electricity | I62: CO2 Emission
...

Sheet Residential
A2: Residential Consumption and CO2 Emissions in Maryland
B5: Residential Sector CO2 | E5: 2011
C7: Consumption | D7: Emission Factor | E7: Combustion | F7: Emissions | G7: Emissions | I7: Global Warming Potential
B8: Fuel Type | C8: (Billion Btu) | D8: (lbs C/Million Btu) | E8: Efficiency (%) | F8: (short tons carbon) | G8: (MMTCO2E)
B9: Coal | C9: 0 | D9: 56.672727 | E9: 1 | F9: =C9*1000*D9*E9/2000 -> 0 | G9: =F9*(44/12)*0.90718474/1000000 -> 0 | I9: CO2_GWP= | J9: =Summary!E4 -> 1
B10: Distillate Fuel | C10: 15596 | D10: 44.43 | E10: 1 | F10: =C10*1000*D10*E10/2000 -> 346465.14 | G10: =F10*(44/12)*0.90718474/1000000 -> 1.1524623 | I10: CH4_GWP = | J10: =Summary!E5 -> 27.9
B11: Kerosene | C11: 436 | D11: 43.97 | E11: 1 | F11: =C11*1000*D11*E11/2000 -> 9585.46 | G11: =F11*(44/12)*0.90718474/1000000 -> 0.031884538 | I11: N2O_GWP= | J11: =Summary!E6 -> 273
B12: LPG | C12: 8139 | D12: 37.110284 | E12: 1 | F12: =C12*1000*D12*E12/2000 -> 151020.3 | G12: =F12*(44/12)*0.90718474/1000000 -> 0.50234547 | I12: SF6_GWP = | J12: =Summary!E7 -> 24300
B13: Natural Gas | C13: 79993 | D13: 31.87 | E13: 1 | F13: =C13*1000*D13*E13/2000 -> 1274688.5 | G13: =F13*(44/12)*0.90718474/1000000 -> 4.2400524
E14: Total | G14: =SUM(G9:G13) -> 5.9267446
B16: Residential Sector N2O | E16: 2011
C18: Consumption | D18: Emission Factor | E18: Emissions | F18: GWP | G18: Emissions
B19: Fuel Type | C19: (Billion Btu) | D19: (metric tons N2O/BBtu) | E19: (metric tons N2O) | G19: (MMTCO2E)
B20: Coal | C20: 0 | D20: 0.0015034546 | E20: =C20*D20 -> 0 | F20: =$J$11 -> 273 | G20: =E20*F20/1000000 -> 0
B21: Distillate Fuel | C21: 15596 | D21: 0.00060138184 | E21: =C21*D21 -> 9.3791511 | F21: =$J$11 -> 273 | G21: =E21*F21/1000000 -> 0.0025605083
B22: Kerosene | C22: 436 | D22: 0.00060138184 | E22: =C22*D22 -> 0.26220248 | F22: =$J$11 -> 273 | G22: =E22*F22/1000000 -> 7.1581277e-05
B23: LPG | C23: 8139 | D23: 0.00060138184 | E23: =C23*D23 -> 4.8946468 | F23: =$J$11 -> 273 | G23: =E23*F23/1000000 -> 0.0013362386
B24: Natural Gas | C24: 79993 | D24: 9.4955027e-05 | E24: =C24*D24 -> 7.5957375 | F24: =$J$11 -> 273 | G24: =E24*F24/1000000 -> 0.0020736363
B25: Wood | C25: 8913 | D25: 0.0037982011 | E25: =C25*D25 -> 33.853366 | F25: =$J$11 -> 273 | G25: =E25*F25/1000000 -> 0.009241969
F26: Total | G26: =SUM(G20:G25) -> 0.015283933
B29: Residential Sector CH4 | E29: 2011
C31: Consumption | D31: Emission Factor | E31: Emissions | F31: GWP | G31: Emissions
B32: Fuel Type | C32: (Billion Btu) | D32: (metric tons CH4 /BBtu) | E32: (metric tons CH4) | G32: (MMTCO2E)
B33: Coal | C33: 0 | D33: 0.30069092 | E33: =C33*D33 -> 0 | F33: =$J$10 -> 27.9 | G33: =E33*F33/1000000 -> 0
B34: Distillate Fuel | C34: 15596 | D34: 0.010023031 | E34: =C34*D34 -> 156.31919 | F34: =$J$10 -> 27.9 | G34: =E34*F34/1000000 -> 0.0043613053
B35: Kerosene | C35: 436 | D35: 0.010023031 | E35: =C35*D35 -> 4.3700413 | F35: =$J$10 -> 27.9 | G35: =E35*F35/1000000 -> 0.00012192415
B36: LPG | C36: 8139 | D36: 0.010023031 | E36: =C36*D36 -> 81.577446 | F36: =$J$10 -> 27.9 | G36: =E36*F36/1000000 -> 0.0022760107
B37: Natural Gas | C37: 79993 | D37: 0.0047477513 | E37: =C37*D37 -> 379.78687 | F37: =$J$10 -> 27.9 | G37: =E37*F37/1000000 -> 0.010596054
B38: Wood | C38: 8913 | D38: 0.28486508 | E38: =C38*D38 -> 2539.0025 | F38: =$J$10 -> 27.9 | G38: =E38*F38/1000000 -> 0.070838169
F39: Total | G39: =SUM(G33:G38) -> 0.088193463
B43: Residential Sector 2011 GHG Emissions
C45: Emissions | D45: Emissions | E45: Emissions | F45: Emissions
C46: CO2 | D46: N2O | E46: CH4 | F46: Total
B47: Fuel Type | C47: (MMTCO2E) | D47: (MMTCO2E) | E47: (MMTCO2E) | F47: (MMTCO2E)
B48: Coal | C48: =G9 -> 0 | D48: =G20 -> 0 | E48: =G33 -> 0 | F48: =C48+D48+E48 -> 0
B49: Distillate Fuel | C49: =G10 -> 1.1524623 | D49: =G21 -> 0.0025605083 | E49: =G34 -> 0.0043613053 | F49: =C49+D49+E49 -> 1.1593841
B50: Kerosene | C50: =G11 -> 0.031884538 | D50: =G22 -> 7.1581277e-05 | E50: =G35 -> 0.00012192415 | F50: =C50+D50+E50 -> 0.032078043
B51: LPG | C51: =G12 -> 0.50234547 | D51: =G23 -> 0.0013362386 | E51: =G36 -> 0.0022760107 | F51: =C51+D51+E51 -> 0.50595772
B52: Natural Gas | C52: =G13 -> 4.2400524 | D52: =G24 -> 0.0020736363 | E52: =G37 -> 0.010596054 | F52: =C52+D52+E52 -> 4.252722
B53: Wood | C53: 0 | D53: =G25 -> 0.009241969 | E53: =G38 -> 0.070838169 | F53: =C53+D53+E53 -> 0.080080138
...

Sheet Commercial
A1: Commercial Consumption and CO2 Emissions in Maryland
B4: Commercial Sector CO2 | E4: 2011
I5: Global Warming Potential
C6: Consumption | D6: Emission Factor | E6: Combustion | F6: Emissions | G6: Emissions
B7: Fuel Type | C7: (Billion Btu) | D7: (lbs C/Million Btu) | E7: Efficiency (%) | F7: (short tons carbon) | G7: (MMTCO2E) | I7: CO2_GWP= | J7: =Summary!E4 -> 1
B8: Coal | C8: 617 | D8: 56.792727 | E8: 1 | F8: =C8*1000*D8*E8/2000 -> 17520.556 | G8: =F8*(44/12)*0.90718474/1000000 -> 0.058279398 | I8: CH4_GWP = | J8: =Summary!E5 -> 27.9
B9: Distillate Fuel | C9: 8363 | D9: 44.43 | E9: 1 | F9: =C9*1000*D9*E9/2000 -> 185784.05 | G9: =F9*(44/12)*0.90718474/1000000 -> 0.61798165 | I9: N2O_GWP= | J9: =Summary!E6 -> 273
B10: Kerosene | C10: 132 | D10: 43.97 | E10: 1 | F10: =C10*1000*D10*E10/2000 -> 2902.02 | G10: =F10*(44/12)*0.90718474/1000000 -> 0.009653117 | I10: SF6_GWP = | J10: =Summary!E7 -> 24300
B11: LPG | C11: 3276 | D11: 37.110284 | E11: 1 | F11: =C11*1000*D11*E11/2000 -> 60786.644 | G11: =F11*(44/12)*0.90718474/1000000 -> 0.20219729
B12: Motor Gasoline | C12: 176 | D12: 42.900741 | E12: 1 | F12: =C12*1000*D12*E12/2000 -> 3775.2652 | G12: =F12*(44/12)*0.90718474/1000000 -> 0.012557831
B13: Residual Fuel | C13: 28 | D13: 45.11 | E13: 1 | F13: =C13*1000*D13*E13/2000 -> 631.54 | G13: =F13*(44/12)*0.90718474/1000000 -> 0.0021007193
B14: Natural Gas | C14: 69374 | D14: 31.87 | E14: 1 | F14: =C14*1000*D14*E14/2000 -> 1105474.7 | G14: =F14*(44/12)*0.90718474/1000000 -> 3.6771892
F15: Total | G15: =SUM(G8:G14) -> 4.5799592
B18: Commercial Sector N2O | E18: 2011
C20: Consumption | D20: Emission Factor | E20: Emissions | F20: GWP | G20: Emissions
B21: Fuel Type | C21: (Billion Btu) | D21: (metric tons N2O/BBtu) | E21: (metric tons N2O) | G21: (MMTCO2E)
B22: Coal | C22: 617 | D22: 0.0015034546 | E22: =C22*D22 -> 0.92763148 | F22: =$J$9 -> 273 | G22: =E22*F22/1000000 -> 0.00025324339
B23: Distillate Fuel | C23: 8363 | D23: 0.00060138184 | E23: =C23*D23 -> 5.0293563 | F23: =$J$9 -> 273 | G23: =E23*F23/1000000 -> 0.0013730143
B24: Kerosene | C24: 132 | D24: 0.00060138184 | E24: =C24*D24 -> 0.079382402 | F24: =$J$9 -> 273 | G24: =E24*F24/1000000 -> 2.1671396e-05
B25: LPG | C25: 3276 | D25: 0.00060138184 | E25: =C25*D25 -> 1.9701269 | F25: =$J$9 -> 273 | G25: =E25*F25/1000000 -> 0.00053784464
B26: Motor Gasoline | C26: 176 | D26: 0.00060138184 | E26: =C26*D26 -> 0.1058432 | F26: =$J$9 -> 273 | G26: =E26*F26/1000000 -> 2.8895194e-05
B27: Residual Fuel | C27: 28 | D27: 0.00060138184 | E27: =C27*D27 -> 0.016838691 | F27: =$J$9 -> 273 | G27: =E27*F27/1000000 -> 4.5969628e-06
B28: Natural Gas | C28: 69374 | D28: 9.4955027e-05 | E28: =C28*D28 -> 6.58741 | F28: =$J$9 -> 273 | G28: =E28*F28/1000000 -> 0.0017983629
B29: Wood | C29: 3556 | D29: 0.0037982011 | E29: =C29*D29 -> 13.506403 | F29: =$J$9 -> 273 | G29: =E29*F29/1000000 -> 0.003687248
F30: Total | G30: =SUM(G22:G29) -> 0.0077048768
B33: Commercial Sector CH4 | E33: 2011
C35: Consumption | D35: Emission Factor | E35: Emissions | F35: GWP | G35: Emissions
B36: Fuel Type | C36: (Billion Btu) | D36: (metric tons CH4 /BBtu) | E36: (metric tons CH4) | G36: (MMTCO2E)
B37: Coal | C37: 617 | D37: 0.010023031 | E37: =C37*D37 -> 6.1842099 | F37: =$J$8 -> 27.9 | G37: =E37*F37/1000000 -> 0.00017253946
B38: Distillate Fuel | C38: 8363 | D38: 0.010023031 | E38: =C38*D38 -> 83.822605 | F38: =$J$8 -> 27.9 | G38: =E38*F38/1000000 -> 0.0023386507
B39: Kerosene | C39: 132 | D39: 0.010023031 | E39: =C39*D39 -> 1.32304 | F39: =$J$8 -> 27.9 | G39: =E39*F39/1000000 -> 3.6912817e-05
B40: LPG | C40: 3276 | D40: 0.010023031 | E40: =C40*D40 -> 32.835448 | F40: =$J$8 -> 27.9 | G40: =E40*F40/1000000 -> 0.00091610901
B41: Motor Gasoline | C41: 176 | D41: 0.010023031 | E41: =C41*D41 -> 1.7640534 | F41: =$J$8 -> 27.9 | G41: =E41*F41/1000000 -> 4.9217089e-05
B42: Residual Fuel | C42: 28 | D42: 0.010023031 | E42: =C42*D42 -> 0.28064486 | F42: =$J$8 -> 27.9 | G42: =E42*F42/1000000 -> 7.8299915e-06
B43: Natural Gas | C43: 69374 | D43: 0.0047477513 | E43: =C43*D43 -> 329.3705 | F43: =$J$8 -> 27.9 | G43: =E43*F43/1000000 -> 0.009189437
B44: Wood | C44: 3556 | D44: 0.28486508 | E44: =C44*D44 -> 1012.9802 | F44: =$J$8 -> 27.9 | G44: =E44*F44/1000000 -> 0.028262148
F45: Total | G45: =SUM(G37:G44) -> 0.040972844
B48: Commercial Sector 2011 GHG Emission
D51: CO2 | E51: CH4 | F51: N2O | G51: GHG
C52: Consumption | D52: Emissions | E52: Emissions | F52: Emissions | G52: Emissions
...

Sheet Industrial
B2: Industrial Consumption and CO2 Emissions in Maryland
F5: FINAL
B8: Industrial Sector CO2 | D8: 2011
C9: Total | D9: Non-Energy | F9: Net combustible | L9: Global Warming Potential
C10: Consumption | D10: Consumption | F10: Consumption | G10: Emission Factor | H10: Combustion | I10: Emissions | J10: Emissions
B11: Fuel Type | C11: (Billion Btu) | D11: (Billion Btu) | E11: Storage Factor (%) | F11: (Billion Btu) | G11: (lbs C/Million Btu) | H11: Efficiency (%) | I11: (short tons carbon) | J11: (MMTCO2E) | L11: CO2_GWP= | M11: =Summary!E4 -> 1
B12: Coking Coal | C12: 0 | D12: 0 | E12: 0.1 | F12: =C12-(D12*E12) -> 0 | G12: 56.195455 | H12: 1 | I12: =(F12*1000*G12*H12)/2000 -> 0 | J12: 0 | L12: CH4_GWP = | M12: =Summary!E5 -> 27.9
B13: Other Coal | C13: 21655 | D13: 227 | E13: 0 | F13: =C13-(D13*E13) -> 21655 | G13: 56.852727 | H13: 1 | I13: =(F13*1000*G13*H13)/2000 -> 615572.9 | J13: =I13*(44/12)*0.90718474/1000000 -> 2.0476073 | L13: N2O_GWP= | M13: =Summary!E6 -> 273
B14: Asphalt and Road Oil | C14: 19835 | D14: 22046 | E14: 1 | F14: =C14-(D14*E14) -> -2211 | G14: 45.27 | H14: 1 | I14: =(F14*1000*G14*H14)/2000 -> -50045.985 | J14: 0 | L14: SF6_GWP = | M14: =Summary!E7 -> 24300
B15: Aviation Gasoline Blending Components | C15: 0 | D15: 0 | E15: 0 | F15: =C15-(D15*E15) -> 0 | G15: 41.56 | H15: 1 | I15: =F15*G15*H15/2000 -> 0 | J15: =I15*(44/12)*0.90718474/1000000 -> 0
B16: Crude Oil | C16: 0 | D16: 0 | E16: 0 | F16: =C16-(D16*E16) -> 0 | G16: 44.773662 | H16: 1 | I16: =F16*G16*H16/2000 -> 0 | J16: =I16*(44/12)*0.90718474/1000000 -> 0
B17: Distillate Fuel | C17: 7382 | D17: 96 | E17: 0.5 | F17: =C17-(D17*E17) -> 7334 | G17: 44.43 | H17: 1 | I17: =(F17*1000*G17*H17)/2000 -> 162924.81 | J17: =I17*(44/12)*0.90718474/1000000 -> 0.54194397
B18: Feedstocks, Naphtha less than 401 F | C18: 0 | E18: 0.61918626 | F18: =C18-(D18*E18) -> 0 | G18: 40.86 | H18: 1 | I18: =(F18*1000*G18*H18)/2000 -> 0 | J18: =I18*(44/12)*0.90718474/1000000 -> 0
B19: Feedstocks, Other Oils greater than 401 F | C19: 0 | E19: 0.61918626 | F19: =C19-(D19*E19) -> 0 | G19: 44.43 | H19: 1 | I19: =(F19*1000*G19*H19)/2000 -> 0 | J19: =I19*(44/12)*0.90718474/1000000 -> 0
B20: Kerosene | C20: 7 | D20: 0 | E20: 0 | F20: =C20-(D20*E20) -> 7 | G20: 43.97 | H20: 1 | I20: =(F20*1000*G20*H20)/2000 -> 153.895 | J20: =I20*(44/12)*0.90718474/1000000 -> 0.00051190772
B21: LPG | C21: 1582 | D21: 1385 | E21: 0.61918626 | F21: =C21-(D21*E21) -> 724.42704 | G21: 37.273236 | H21: 1 | I21: =(F21*1000*G21*H21)/2000 -> 13500.87 | J21: =I21*(44/12)*0.90718474/1000000 -> 0.044908539
B22: Lubricants | C22: 1957 | D22: 2063 | E22: 0.092393733 | F22: =C22-(D22*E22) -> 1766.3917 | G22: 43.97 | H22: 1 | I22: =(F22*1000*G22*H22)/2000 -> 38834.122 | J22: =I22*(44/12)*0.90718474/1000000 -> 0.12917565
B23: Motor Gasoline | C23: 4129 | D23: 0 | E23: 0 | F23: =C23-(D23*E23) -> 4129 | G23: 42.900741 | H23: 1 | I23: =(F23*1000*G23*H23)/2000 -> 88568.58 | J23: =I23*(44/12)*0.90718474/1000000 -> 0.29460957
B24: Motor Gasoline Blending Components | C24: 0 | D24: 0 | E24: 0 | F24: =C24-(D24*E24) -> 0 | G24: 42.900741 | H24: 1 | I24: =F24*G24*H24/2000 -> 0 | J24: =I24*(44/12)*0.90718474/1000000 -> 0
B25: Misc. Petro Products | C25: 501 | D25: 483 | E25: 0 | F25: =C25-(D25*E25) -> 501 | G25: 44.773662 | H25: 1 | I25: =(F25*1000*G25*H25)/2000 -> 11215.802 | J25: =I25*(44/12)*0.90718474/1000000 -> 0.037307617
B26: Petroleum Coke | C26: 0 | D26: 0 | E26: 0.3 | F26: =C26-(D26*E26) -> 0 | G26: 61.34 | H26: 1 | I26: =F26*G26*H26/2000 -> 0 | J26: =I26*(44/12)*0.90718474/1000000 -> 0
B27: Pentanes Plus | E27: 0.61918626 | F27: =C27-(D27*E27) -> 0 | G27: 42.06 | H27: 1 | I27: =(F27*1000*G27*H27)/2000 -> 0 | J27: =I27*(44/12)*0.90718474/1000000 -> 0
B28: Residual Fuel | C28: 1590 | D28: 0 | E28: 0.5 | F28: =C28-(D28*E28) -> 1590 | G28: 45.11 | H28: 1 | I28: =(F28*1000*G28*H28)/2000 -> 35862.45 | J28: =I28*(44/12)*0.90718474/1000000 -> 0.11929085
B29: Still Gas | C29: 0 | D29: 0 | E29: 0.8 | F29: =C29-(D29*E29) -> 0 | G29: 40.08 | H29: 1 | I29: =F29*G29*H29/2000 -> 0 | J29: =I29*(44/12)*0.90718474/1000000 -> 0
B30: Special Naphthas | C30: 535 | D30: 596 | E30: 0 | F30: =C30-(D30*E30) -> 535 | G30: 43.47 | H30: 1 | I30: =(F30*1000*G30*H30)/2000 -> 11628.225 | J30: =I30*(44/12)*0.90718474/1000000 -> 0.038679477
B31: Unfinished Oils | C31: 0 | D31: 0 | E31: 0 | F31: =C31-(D31*E31) -> 0 | G31: 44.773662 | H31: 1 | I31: =F31*G31*H31/2000 -> 0 | J31: =I31*(44/12)*0.90718474/1000000 -> 0
B32: Waxes | C32: 106 | D32: 120 | E32: 0.58 | F32: =C32-(D32*E32) -> 36.4 | G32: 43.6 | H32: 1 | I32: =(F32*1000*G32*H32)/2000 -> 793.52 | J32: =I32*(44/12)*0.90718474/1000000 -> 0.0026395205
B33: Natural Gas | C33: 21808 | D33: 688 | E33: 0.61918626 | F33: =C33-(D33*E33) -> 21382 | G33: 31.87 | H33: 1 | I33: =(F33*1000*G33*H33)/2000 -> 340722.17 | J33: =I33*(44/12)*0.90718474/1000000 -> 1.1333592
H34: Total | J34: =SUM(J12:J33) -> 4.3900335
B37: Industrial Sector N2O | D37: 2011
C38: Total | D38: Non-Energy
C39: Consumption | D39: Consumption | E39: Emission Factor | F39: Emissions | G39: GWP | H39: Emissions
B40: Fuel Type | C40: (Billion Btu) | D40: (Billion Btu) | E40: (metric tons N2O/BBtu) | F40: (metric tons N2O) | H40: (MMTCO2E)
B41: Coking Coal | C41: 0 | D41: 0 | E41: 0.0015034546 | F41: =(C41-D41)*E41 -> 0 | G41: =$M$13 -> 273 | H41: =F41*G41/1000000 -> 0
B42: Other Coal | C42: 21655 | D42: 227 | E42: 0.0015034546 | F42: =(C42-D42)*E42 -> 32.216025 | G42: =$M$13 -> 273 | H42: =F42*G42/1000000 -> 0.0087949748
B43: Asphalt and Road Oil | C43: 19835 | D43: 22046 | E43: 0.00060138184 | F43: =(C43-D43)*E43 -> -1.3296552 | G43: =$M$13 -> 273 | H43: =0 -> 0
B44: Aviation Gasoline Blending Components | C44: 0 | D44: 0 | E44: 0.00060138184 | F44: =(C44-D44)*E44 -> 0 | G44: =$M$13 -> 273 | H44: =F44*G44/1000000 -> 0
B45: Crude Oil | C45: 0 | D45: 0 | E45: 0.00060138184 | F45: =(C45-D45)*E45 -> 0 | G45: =$M$13 -> 273 | H45: =F45*G45/1000000 -> 0
B46: Distillate Fuel | C46: 7382 | D46: 96 | E46: 0.00060138184 | F46: =(C46-D46)*E46 -> 4.3816681 | G46: =$M$13 -> 273 | H46: =F46*G46/1000000 -> 0.0011961954
B47: Feedstocks, Naphtha less than 401 F | C47: 0 | E47: 0.00060138184 | F47: =(C47-D47)*E47 -> 0 | G47: =$M$13 -> 273 | H47: =F47*G47/1000000 -> 0
...

Sheet Transportation
A1: Transportation Consumption and GHG Emissions
B3: Activity Data (Consumption)
B4: State Energy Data 2011 | C4: (Thousand Barrels) | E4: (Gallons) | G4: (Billion Btu)
B5: Aviation Gasoline | C5: 42 | E5: =C5*42*1000 -> 1764000 | G5: 210
B6: Distillate Fuel Oil | C6: 13581 | E6: =C6*42*1000 -> 570402000 | G6: 80358 | O6: Global Warming Potential
B7: Jet Fuel Naphtha | C7: 0 | G7: 0
B8: Jet Fuel Kerosene Type | C8: 5903 | E8: =C8*42*1000 -> 247926000 | G8: 33468 | O8: CO2_GWP= | P8: =Summary!E4 -> 1
B9: Liquidfied Petroleum Gases | C9: 76 | E9: =C9*42*1000 -> 3192000 | G9: 293 | O9: CH4_GWP = | P9: =Summary!E5 -> 27.9
B10: Lubricant | C10: 242 | E10: =C10*42*1000 -> 10164000 | G10: 1466 | O10: N2O_GWP= | P10: =Summary!E6 -> 273
B11: Motor Gasoline | C11: =E11/(42*1000) -> 63427.315 | E11: =2663947214 -> 2663947214 | G11: =E11*C47/1000000000 -> 330963.47 | O11: SF6_GWP = | P11: =Summary!E7 -> 24300
B12: Ethanol | C12: 5639 | E12: =C12*42*1000 -> 236838000 | G12: 19558
B13: Natural Gases - (Million Cubic Feet) | C13: 6235 | E13: =C13*42*1000 -> 261870000 | G13: 6408
B14: Residual Fuel Oil | C14: 255 | E14: =C14*42*1000 -> 10710000 | G14: 1603
B17: Gasoline Fuel Usage
B18: Source | C18: Year | D18: Subsource | F18: Vehicle / Fuel Type | I18: Amount (gal) | K18: Percentage | M18: Percentage of NR Gasoline
B19: FHWA Data MF-24 | C19: 2011 | D19: Farm Equipment | F19: Gasoline Tractor | I19: 9437000 | K19: =I19/$I$24 -> 0.0035358968 | M19: =I19/SUM($I$19:$I$23) -> 0.1249924 | U19: 9702000
B20: FHWA Data MF-24 | C20: 2011 | D20: Construction | F20: Gasoline Construction | I20: 13677000 | K20: =I20/$I$24 -> 0.0051245587 | M20: =I20/SUM($I$19:$I$23) -> 0.1811509 | U20: 8297000
B21: FHWA Data MF-24 | C21: 2011 | D21: Non-Highway Industrial | F21: Gasoline HD Utility | I21: 10338000 | K21: =I21/$I$24 -> 0.0038734875 | M21: =I21/SUM($I$19:$I$23) -> 0.13692608 | U21: 24818000
B22: EPA NonRoad Model Output | C22: 2011 | D22: Non-Highway Industrial | F22: Gasoline Small Utility | I22: 21138593 | K22: =I22/$I$24 -> 0.0079203014 | M22: =I22/SUM($I$19:$I$23) -> 0.27997917 | U22: 16130243
B23: FHWA Data MF-24 | C23: 2011 | D23: Boat (Marine Gasoline) | F23: Gasoline | I23: 20910000 | K23: =I23/$I$24 -> 0.0078346511 | M23: =I23/SUM($I$19:$I$23) -> 0.27695147 | U23: 24070000
B24: MD Comptroller | C24: 2011 | D24: Motor Gasoline (Total Sold) | F24: All | I24: 2668912714 | K24: =I24/$I$24 -> 1
B25: MOVES Output | C25: 2011 | D25: Motor Gasoline (On-Road Mobile) | F25: All | I25: 2405394000 | K25: =I25/$I$24 -> 0.90126364
B26: Calculation | C26: 2011 | D26: Motor Gasoline (Non-Road Mobile) | F26: All | I26: =I24-I25 -> 263518714 | K26: =I26/$I$24 -> 0.098736355 | M26: =SUM(M19:M23) -> 1
I28: =I21+I22 -> 31476593
B29: Diesel Fuel Usage
B31: Source | C31: Year | D31: Subsource | F31: Vehicle / Fuel Type | I31: Amount (gal) | K31: Percentage | M31: Percentage of NR Diesel
B32: EIA Adjusted Distillate Fuel Oil and Kerosene Sales By End-Use | C32: 2011 | D32: Farm Equipment | F32: Diesel Tractor | I32: 11621000 | K32: =I32/$I$37 -> 0.020373351 | M32: =I32/SUM($I$32:$I$36) -> 0.050390451
B33: EIA Adjusted Distillate Fuel Oil and Kerosene Sales By End-Use | C33: 2011 | D33: Construction | F33: Diesel Construction | I33: 1.8970306e+08 | K33: =I33/$I$37 -> 0.33257784 | M33: =I33/SUM($I$32:$I$36) -> 0.82258179
B34: EIA Adjusted Distillate Fuel Oil and Kerosene Sales By End-Use | C34: 2011 | D34: Non-Highway Industrial | F34: Diesel HD Utility | I34: 6818999 | K34: =I34/$I$37 -> 0.011954725 | M34: =I34/SUM($I$32:$I$36) -> 0.029568233
B35: MDE Survey | C35: 2011 | D35: Locomotive | F35: Diesel Fuel | I35: 18081260 | K35: =I35/$I$37 -> 0.031699153 | M35: =I35/SUM($I$32:$I$36) -> 0.078403137
B36: EIA Adjusted Distillate Fuel Oil and Kerosene Sales By End-Use | C36: 2011 | D36: Boat (Marine) | F36: Distillate Fuel Oil** | I36: 4394766 | K36: =I36/$I$37 -> 0.007704682 | M36: =I36/SUM($I$32:$I$36) -> 0.019056384
B37: EIA State Energy Data | C37: 2011 | D37: Distillate Fuel Oil (Total Sold) | F37: All | I37: =C6*42*1000 -> 570402000 | K37: =I37/$I$37 -> 1
B38: MOVES Output | C38: 2011 | D38: Motor Diesel (On-Road) | F38: All | I38: 528232000 | K38: =I38/$I$37 -> 0.92606968
B39: Calculated | C39: 2011 | D39: Motor Diesel (Non-Road) | F39: All | I39: =I37-I38 -> 42170000 | K39: =I39/$I$37 -> 0.073930316 | M39: =SUM(M32:M36) -> 1
C42: 2011 | D42: Diesel (gallons) | F42: Total | I42: =SUM(I32:I35) -> 2.2622432e+08
C43: 2011 | D43: Locomotive | F43: Residual Fuel Oil | I43: 0
B44: EIA State Energy Data | C44: 2011 | D44: Boat (Marine) | F44: Residual Fuel Oil** | I44: =C14*42*1000 -> 10710000
D45: Residual Fuel (gallons) | F45: Total | I45: =SUM(I43:I44) -> 10710000
B46: CONSTANTS
B47: Gasoline | C47: 124238 | D47: Btu/Gallon
...

Sheet Natural Gas and Oil
A1: Emissions from Natural Gas Activities in MD
B4: Natural Gas - Production | D4: 2011
C6: Activity Data | D6: Emission Factor | E6: Metric Tons CH4 | F6: MMTCO2E
D7: metric tons CH4 per year per activity unit
B8: Total number of wells | C8: 8 | D8: 4.1021718 | E8: =C8*D8 -> 32.817374 | F8: =E8*$I$26/1000000 -> 0.00091560475
B9: Number of off-shore platforms not in the Gulf of Mexico | C9: 0 | D9: 13.055797 | E9: 0 | F9: =E9*$I$26/1000000 -> 0
B10: Total | E10: 21.095018 | F10: =F8+F9 -> 0.00091560475
B13: Number of Wells from EIA, " Natural Gas Navigator- Maryland Natural Gas Number of Gas and Gas Condensate Wells" acccessed from: http://tonto.eia.doe.gov/dnav/ng/hist/na1170_smd_8a.htm
C14: http://www.eia.gov/naturalgas/annual/pdf/table_005.pdf
B15: Emission factor from US EPA, Emissions Inventory Improvements Program, Volume VII: Chpater 5. Methods for Estimating Methane Emissions from Natural Gas and Oil Systems. This factor represents emissions not just from wells but also from pneumatic devices, dehydrator vents, Kimray pumps, gas engines, and well clean-ups
B20: Natural Gas - Distribution
C22: Activity Data | D22: Emission Factor | E22: Metric Tons CH4 | F22: MMTCO2E
B23: Distribution pipeline | D23: (metric tons CH4 per year per activity unit) | H23: Global Warming Potential
B25: Miles of cast iron distribution pipeline | C25: 1422.17 | D25: 5.8037236 | E25: =C25*D25 -> 8253.8815 | F25: =E25*$I$26/1000000 -> 0.2302833 | H25: CO2_GWP= | I25: =Summary!E4 -> 1
B26: Miles of unprotected steel distribution pipeline | C26: 491.27 | D26: 2.1221754 | E26: =C26*D26 -> 1042.5611 | F26: =E26*$I$26/1000000 -> 0.029087455 | H26: CH4_GWP = | I26: =Summary!E5 -> 27.9
B27: Miles of protected steel distribution pipeline | C27: 5263.38 | D27: 0.060046884 | E27: =C27*D27 -> 316.04957 | F27: =E27*$I$26/1000000 -> 0.008817783 | H27: N2O_GWP= | I27: =Summary!E6 -> 273
B28: Miles of plastic distribution pipeline | C28: 7165.39 | D28: 0.3716476 | E28: =C28*D28 -> 2663 | F28: =E28*$I$26/1000000 -> 0.0742977 | H28: SF6_GWP = | I28: =Summary!E7 -> 24300
B30: Services
B31: Total number of services | C31: 999889 | D31: 0.01526714 | E31: =C31*D31 -> 15265.445 | F31: =E31*$I$26/1000000 -> 0.42590593
B32: Number of unprotected steel services | C32: 109801 | D32: 0.0327503 | E32: =C32*D32 -> 3596.0157 | F32: =E32*$I$26/1000000 -> 0.10032884
