Workbook
Name _Key1: #REF!
Name _Sort: #REF!
Name _Toc284401718: Graphs!$I$45
Name _Toc352228849: Graphs!$I$22
Name CementCorrectionFactor: #REF!
Name CH4GWP: #REF!
Name CoalCCs: #REF!
Name CoalGrowth: #REF!
Name data: #REF!
Name ElecProj: #REF!
Name EntFermEFs: #REF!
Name EntFermEFs2: #REF!
Name EPS: #REF!
Name EPSFraction: #REF!
Name FCFchoice: #REF!
Name FertData: #REF!
Name FertTypes: #REF!
Name FFFactors: #REF!
Name FullName: #REF!
Name GasProj: #REF!
Name GWP: #REF!
Name GWPCH4: #REF!
Name GWPN2O: #REF!
Name IndustrialPercent: #REF!
Name kg.MT: #REF!
Name LiquidEF: #REF!
Name MCFs: #REF!
Name MMFactors: #REF!
Name MT_per_T: #REF!
Name N20GWP: #REF!
Name N2OGWP: #REF!
Name NetOutElecExports: #REF!
Name NEU: #REF!
Name NGCH4meth: #REF!
Name nobedEF: #REF!
Name open: #REF!
Name OxidationFactor: #REF!
Name PopGrid: #REF!
Name SelectedState: #REF!
Name Short_metric: #REF!
Name SolidEF: #REF!
Name State: #REF!
Name StateChoice: #REF!
Name StateList: #REF!
Name States: #REF!
Name StatFactors: #REF!
Name StorageFactors: #REF!
Name TransData: #REF!
Name TransProj: #REF!
Name UFactor: #REF!
Name Units: #REF!
Name VersionDate: #REF!
Name VersionNumber: #REF!
Name VolPercent: #REF!
Name VS_BeefReplace: #REF!
Name VS_BeefReplace2: #REF!
Name VS_feedlotheifer: #REF!
Name VS_feedlotheifer2: #REF!
Name VS_feedlotsteer: #REF!
Name VS_feedlotsteer2: #REF!

Sheet Summary
B1: Maryland 2011 GHG Emissions by Sector
D2: Global Warming Potential
D3: AR6 20-yr GWP | E3: AR6 100-yr GWP
C4: CO2 | D4: 1 | E4: 1
C5: CH4 | D5: 81.2 | E5: 27.9
C6: N2O | D6: 273 | E6: 273
C7: SF6 | D7: 18200 | E7: 24300
C8: HFCs & PFCs | D8: see note
B9: MMTCO2e | D9: 20-year GWP | E9: 100-yr GWP
B10: Energy Use (CO2, CH4, N2O) | D10: =D11+D30+D47+D80 -> 93.399153 | E10: =E11+E30+E47+E80 -> 90.937513
B11: Electricity Use (Consumption) | D11: =D12+D29 -> 37.878481 | E11: =E12+E29 -> 37.853675
C12: Electricity Production (in-state) | D12: =D13+D17+D21+D25 -> 24.569448 | E12: =E13+E17+E21+E25 -> 24.544642
C13: Coal | D13: =SUM(D14:D16) -> 21.947727 | E13: =SUM(E14:E16) -> 21.925436
C14: CO2 | D14: =E14/_xlfn.XLOOKUP(C14,C$4:C$7,E$4:E$7,"ERROR")*_xlfn.XLOOKUP(C14,C$4:C$7,D$4:D$7,"ERROR") -> 21.847713 | E14: ='EGU Production ALL Units'!K57 -> 21.847713
C15: CH4 | D15: =E15/_xlfn.XLOOKUP(C15,C$4:C$7,E$4:E$7,"ERROR")*_xlfn.XLOOKUP(C15,C$4:C$7,D$4:D$7,"ERROR") -> 0.033958241 | E15: ='EGU Production ALL Units'!L57 -> 0.011667918
C16: N2O | D16: =E16/_xlfn.XLOOKUP(C16,C$4:C$7,E$4:E$7,"ERROR")*_xlfn.XLOOKUP(C16,C$4:C$7,D$4:D$7,"ERROR") -> 0.066055553 | E16: ='EGU Production ALL Units'!M57 -> 0.066055553
C17: Natural Gas | D17: =SUM(D18:D20) -> 2.4207936 | E17: =SUM(E18:E20) -> 2.4185637
C18: CO2 | D18: =E18/_xlfn.XLOOKUP(C18,C$4:C$7,E$4:E$7,"ERROR")*_xlfn.XLOOKUP(C18,C$4:C$7,D$4:D$7,"ERROR") -> 2.4133302 | E18: ='EGU Production ALL Units'!K395 -> 2.4133302
C19: CH4 | D19: =E19/_xlfn.XLOOKUP(C19,C$4:C$7,E$4:E$7,"ERROR")*_xlfn.XLOOKUP(C19,C$4:C$7,D$4:D$7,"ERROR") -> 0.0033972204 | E19: ='EGU Production ALL Units'!L395 -> 0.0011672715
C20: N2O | D20: =E20/_xlfn.XLOOKUP(C20,C$4:C$7,E$4:E$7,"ERROR")*_xlfn.XLOOKUP(C20,C$4:C$7,D$4:D$7,"ERROR") -> 0.0040661356 | E20: ='EGU Production ALL Units'!M395 -> 0.0040661356
C21: Oil | D21: =SUM(D22:D24) -> 0.19619202 | E21: =SUM(E22:E24) -> 0.19593585
C22: CO2 | D22: =E22/_xlfn.XLOOKUP(C22,C$4:C$7,E$4:E$7,"ERROR")*_xlfn.XLOOKUP(C22,C$4:C$7,D$4:D$7,"ERROR") -> 0.1946278 | E22: ='EGU Production ALL Units'!K293 -> 0.1946278
C23: CH4 | D23: =E23/_xlfn.XLOOKUP(C23,C$4:C$7,E$4:E$7,"ERROR")*_xlfn.XLOOKUP(C23,C$4:C$7,D$4:D$7,"ERROR") -> 0.00039026925 | E23: ='EGU Production ALL Units'!L293 -> 0.00013409498
C24: N2O | D24: =E24/_xlfn.XLOOKUP(C24,C$4:C$7,E$4:E$7,"ERROR")*_xlfn.XLOOKUP(C24,C$4:C$7,D$4:D$7,"ERROR") -> 0.0011739593 | E24: ='EGU Production ALL Units'!M293 -> 0.0011739593
C25: Wood | D25: =SUM(D26:D28) -> 0.004735585 | E25: =SUM(E26:E28) -> 0.0047060093
C26: CO2 | D26: =E26/_xlfn.XLOOKUP(C26,C$4:C$7,E$4:E$7,"ERROR")*_xlfn.XLOOKUP(C26,C$4:C$7,D$4:D$7,"ERROR") -> 0.0046682247 | E26: ='EGU Production ALL Units'!K64 -> 0.0046682247
C27: CH4 | D27: =E27/_xlfn.XLOOKUP(C27,C$4:C$7,E$4:E$7,"ERROR")*_xlfn.XLOOKUP(C27,C$4:C$7,D$4:D$7,"ERROR") -> 4.5057193e-05 | E27: ='EGU Production ALL Units'!L64 -> 1.5481474e-05
C28: N2O | D28: =E28/_xlfn.XLOOKUP(C28,C$4:C$7,E$4:E$7,"ERROR")*_xlfn.XLOOKUP(C28,C$4:C$7,D$4:D$7,"ERROR") -> 2.2303104e-05 | E28: ='EGU Production ALL Units'!M64 -> 2.2303104e-05
C29: Net Imported Electricity | D29: =E29 -> 13.309033 | E29: ='Imported Electricity'!N78 -> 13.309033
B30: Residential/Commercial/Industrial (RCI) Fuel Use | D30: =D31+D35+D39+D43 -> 15.360409 | E30: =E31+E35+E39+E43 -> 15.084988
C31: Coal | D31: =SUM(D32:D34) -> 2.1328766 | E31: =SUM(E32:E34) -> 2.1210996
C32: CO2 | D32: =E32/_xlfn.XLOOKUP(C32,C$4:C$7,E$4:E$7,"ERROR")*_xlfn.XLOOKUP(C32,C$4:C$7,D$4:D$7,"ERROR") -> 2.1058867 | E32: =Residential!C48+Commercial!D54+Industrial!E103 -> 2.1058867
C33: CH4 | D33: =E33/_xlfn.XLOOKUP(C33,C$4:C$7,E$4:E$7,"ERROR")*_xlfn.XLOOKUP(C33,C$4:C$7,D$4:D$7,"ERROR") -> 0.017941766 | E33: =Residential!E48+Commercial!E54+Industrial!F103 -> 0.0061647201
C34: N2O | D34: =E34/_xlfn.XLOOKUP(C34,C$4:C$7,E$4:E$7,"ERROR")*_xlfn.XLOOKUP(C34,C$4:C$7,D$4:D$7,"ERROR") -> 0.0090482182 | E34: =Residential!D48+Commercial!F54+Industrial!G103 -> 0.0090482182
C35: Natural Gas & LPG | D35: =SUM(D36:D38) -> 9.8749283 | E35: =SUM(E36:E38) -> 9.8299315
C36: CO2 | D36: =E36/_xlfn.XLOOKUP(C36,C$4:C$7,E$4:E$7,"ERROR")*_xlfn.XLOOKUP(C36,C$4:C$7,D$4:D$7,"ERROR") -> 9.800052 | E36: =Residential!C51+Residential!C52+Commercial!D57+Commercial!D60+Industrial!E111+Industrial!E123 -> 9.800052
C37: CH4 | D37: =E37/_xlfn.XLOOKUP(C37,C$4:C$7,E$4:E$7,"ERROR")*_xlfn.XLOOKUP(C37,C$4:C$7,D$4:D$7,"ERROR") -> 0.068550431 | E37: =Residential!E51+Residential!E52+Commercial!E57+Commercial!E60+Industrial!F111+Industrial!F123 -> 0.023553658
C38: N2O | D38: =E38/_xlfn.XLOOKUP(C38,C$4:C$7,E$4:E$7,"ERROR")*_xlfn.XLOOKUP(C38,C$4:C$7,D$4:D$7,"ERROR") -> 0.0063259133 | E38: =Residential!D51+Residential!D52+Commercial!F57+Commercial!F60+Industrial!G111+Industrial!G123 -> 0.0063259133
C39: Petroleum | D39: =SUM(D40:D42) -> 3.0203001 | E39: =SUM(E40:E42) -> 3.0050027
C40: CO2 | D40: =E40/_xlfn.XLOOKUP(C40,C$4:C$7,E$4:E$7,"ERROR")*_xlfn.XLOOKUP(C40,C$4:C$7,D$4:D$7,"ERROR") -> 2.9907987 | E40: =Residential!C49+Residential!C50+Commercial!D55+Commercial!D56+Commercial!D58+Commercial!D59+Industrial!E107+Industrial!E108+Industrial!E109+Industrial!E110+Industrial!E112+Industrial!E113+Industrial!E115+Industrial!E117+Industrial!E118+Industrial!E120+Industrial!E122 -> 2.9907987
C41: CH4 | D41: =E41/_xlfn.XLOOKUP(C41,C$4:C$7,E$4:E$7,"ERROR")*_xlfn.XLOOKUP(C41,C$4:C$7,D$4:D$7,"ERROR") -> 0.023304844 | E41: =Residential!E49+Residential!E50+Commercial!E55+Commercial!E56+Commercial!E58+Commercial!E59+Industrial!F107+Industrial!F108+Industrial!F109+Industrial!F110+Industrial!F113+Industrial!F117+Industrial!F118+Industrial!F120 -> 0.0080074527
C42: N2O | D42: =E42/_xlfn.XLOOKUP(C42,C$4:C$7,E$4:E$7,"ERROR")*_xlfn.XLOOKUP(C42,C$4:C$7,D$4:D$7,"ERROR") -> 0.0061965416 | E42: =Residential!D49+Residential!D50+Commercial!F55+Commercial!F56+Commercial!F58+Commercial!F59+Industrial!G107+Industrial!G108+Industrial!G109+Industrial!G110+Industrial!G113+Industrial!G117+Industrial!G118+Industrial!G120 -> 0.0061965416
C43: Wood | D43: =SUM(D44:D46) -> 0.33230433 | E43: =SUM(E44:E46) -> 0.12895428
C44: CO2 | D44: =E44/_xlfn.XLOOKUP(C44,C$4:C$7,E$4:E$7,"ERROR")*_xlfn.XLOOKUP(C44,C$4:C$7,D$4:D$7,"ERROR") -> 0 | E44: =Residential!C53+Commercial!D61+Industrial!E124 -> 0
C45: CH4 | D45: =E45/_xlfn.XLOOKUP(C45,C$4:C$7,E$4:E$7,"ERROR")*_xlfn.XLOOKUP(C45,C$4:C$7,D$4:D$7,"ERROR") -> 0.30979408 | E45: =Residential!E53+Commercial!E61+Industrial!F124 -> 0.10644402
C46: N2O | D46: =E46/_xlfn.XLOOKUP(C46,C$4:C$7,E$4:E$7,"ERROR")*_xlfn.XLOOKUP(C46,C$4:C$7,D$4:D$7,"ERROR") -> 0.022510255 | E46: =Residential!D53+Commercial!F61+Industrial!G124 -> 0.022510255
B47: Transportation | D47: =D48+D52+D56+D60+D64+D68+D72+D76 -> 36.632398 | E47: =E48+E52+E56+E60+E64+E68+E72+E76 -> 36.591775
C48: Onroad Gasoline | D48: =SUM(D49:D51) -> 22.544405 | E48: =SUM(E49:E51) -> 22.528248
C49: CO2 | D49: =E49/_xlfn.XLOOKUP(C49,C$4:C$7,E$4:E$7,"ERROR")*_xlfn.XLOOKUP(C49,C$4:C$7,D$4:D$7,"ERROR") -> 22.519055 | E49: =Transportation!O107 -> 22.519055
C50: CH4 | D50: =E50/_xlfn.XLOOKUP(C50,C$4:C$7,E$4:E$7,"ERROR")*_xlfn.XLOOKUP(C50,C$4:C$7,D$4:D$7,"ERROR") -> 0.024614572 | E50: =Transportation!AE107/1000000 -> 0.0084574699
C51: N2O | D51: =E51/_xlfn.XLOOKUP(C51,C$4:C$7,E$4:E$7,"ERROR")*_xlfn.XLOOKUP(C51,C$4:C$7,D$4:D$7,"ERROR") -> 0.0007356079 | E51: =Transportation!X107/1000000 -> 0.0007356079
C52: Nonroad Gasoline | D52: =SUM(D53:D55) -> 2.7388869 | E52: =SUM(E53:E55) -> 2.7364883
C53: CO2 | D53: =E53/_xlfn.XLOOKUP(C53,C$4:C$7,E$4:E$7,"ERROR")*_xlfn.XLOOKUP(C53,C$4:C$7,D$4:D$7,"ERROR") -> 2.7318933 | E53: =Transportation!O66+Transportation!O67+Transportation!O68+Transportation!O69 -> 2.7318933
C54: CH4 | D54: =E54/_xlfn.XLOOKUP(C54,C$4:C$7,E$4:E$7,"ERROR")*_xlfn.XLOOKUP(C54,C$4:C$7,D$4:D$7,"ERROR") -> 0.003654187 | E54: =(Transportation!AE66+Transportation!AE67+Transportation!AE68+Transportation!AE69)/1000000 -> 0.0012555643
C55: N2O | D55: =E55/_xlfn.XLOOKUP(C55,C$4:C$7,E$4:E$7,"ERROR")*_xlfn.XLOOKUP(C55,C$4:C$7,D$4:D$7,"ERROR") -> 0.003339397 | E55: =SUM(Transportation!X66:X69)/1000000 -> 0.003339397
C56: Onroad Diesel | D56: =SUM(D57:D59) -> 5.721028 | E56: =SUM(E57:E59) -> 5.7208212
C57: CO2 | D57: =E57/_xlfn.XLOOKUP(C57,C$4:C$7,E$4:E$7,"ERROR")*_xlfn.XLOOKUP(C57,C$4:C$7,D$4:D$7,"ERROR") -> 5.7205287 | E57: =Transportation!O106 -> 5.7205287
C58: CH4 | D58: =E58/_xlfn.XLOOKUP(C58,C$4:C$7,E$4:E$7,"ERROR")*_xlfn.XLOOKUP(C58,C$4:C$7,D$4:D$7,"ERROR") -> 0.00031506893 | E58: =Transportation!AE106/1000000 -> 0.00010825644
C59: N2O | D59: =E59/_xlfn.XLOOKUP(C59,C$4:C$7,E$4:E$7,"ERROR")*_xlfn.XLOOKUP(C59,C$4:C$7,D$4:D$7,"ERROR") -> 0.00018422321 | E59: =Transportation!X106/1000000 -> 0.00018422321
C60: Nonroad Diesel | D60: =SUM(D61:D63) -> 2.171456 | E60: =SUM(E61:E63) -> 2.1558338
C61: CO2 | D61: =E61/_xlfn.XLOOKUP(C61,C$4:C$7,E$4:E$7,"ERROR")*_xlfn.XLOOKUP(C61,C$4:C$7,D$4:D$7,"ERROR") -> 2.133146 | E61: =SUM(Transportation!O58:O60) -> 2.133146
C62: CH4 | D62: =E62/_xlfn.XLOOKUP(C62,C$4:C$7,E$4:E$7,"ERROR")*_xlfn.XLOOKUP(C62,C$4:C$7,D$4:D$7,"ERROR") -> 0.023799705 | E62: =SUM(Transportation!AE58:AE60)/1000000 -> 0.0081774847
C63: N2O | D63: =E63/_xlfn.XLOOKUP(C63,C$4:C$7,E$4:E$7,"ERROR")*_xlfn.XLOOKUP(C63,C$4:C$7,D$4:D$7,"ERROR") -> 0.014510336 | E63: =SUM(Transportation!X58:X60)/1000000 -> 0.014510336
C64: Rail | D64: =SUM(D65:D67) -> 0.18773721 | E64: =SUM(E65:E67) -> 0.18696815
C65: CO2 | D65: =E65/_xlfn.XLOOKUP(C65,C$4:C$7,E$4:E$7,"ERROR")*_xlfn.XLOOKUP(C65,C$4:C$7,D$4:D$7,"ERROR") -> 0.18530508 | E65: =Transportation!O61 -> 0.18530508
C66: CH4 | D66: =E66/_xlfn.XLOOKUP(C66,C$4:C$7,E$4:E$7,"ERROR")*_xlfn.XLOOKUP(C66,C$4:C$7,D$4:D$7,"ERROR") -> 0.0011716223 | E66: =Transportation!AE61/1000000 -> 0.00040256479
C67: N2O | D67: =E67/_xlfn.XLOOKUP(C67,C$4:C$7,E$4:E$7,"ERROR")*_xlfn.XLOOKUP(C67,C$4:C$7,D$4:D$7,"ERROR") -> 0.0012605039 | E67: =Transportation!X61/1000000 -> 0.0012605039
C68: Marine Vessels | D68: =SUM(D69:D71) -> 0.35515593 | E68: =SUM(E69:E71) -> 0.35379661
C69: CO2 | D69: =E69/_xlfn.XLOOKUP(C69,C$4:C$7,E$4:E$7,"ERROR")*_xlfn.XLOOKUP(C69,C$4:C$7,D$4:D$7,"ERROR") -> 0.35066339 | E69: =Transportation!O62+Transportation!O70+Transportation!O71 -> 0.35066339
C70: CH4 | D70: =E70/_xlfn.XLOOKUP(C70,C$4:C$7,E$4:E$7,"ERROR")*_xlfn.XLOOKUP(C70,C$4:C$7,D$4:D$7,"ERROR") -> 0.0020708539 | E70: =(Transportation!AE62+Transportation!AE70+Transportation!AE71)/1000000 -> 0.00071153725
C71: N2O | D71: =E71/_xlfn.XLOOKUP(C71,C$4:C$7,E$4:E$7,"ERROR")*_xlfn.XLOOKUP(C71,C$4:C$7,D$4:D$7,"ERROR") -> 0.0024216883 | E71: =(Transportation!X62+Transportation!X70+Transportation!X71)/1000000 -> 0.0024216883
C72: Lubricants, Natural Gas, and LPG | D72: =SUM(D73:D75) -> 0.45504485 | E72: =SUM(E73:E75) -> 0.45504485
C73: CO2 | D73: =E73/_xlfn.XLOOKUP(C73,C$4:C$7,E$4:E$7,"ERROR")*_xlfn.XLOOKUP(C73,C$4:C$7,D$4:D$7,"ERROR") -> 0.45504485 | E73: =Transportation!O65+Transportation!O72+Transportation!S82 -> 0.45504485
C74: CH4 | D74: =E74/_xlfn.XLOOKUP(C74,C$4:C$7,E$4:E$7,"ERROR")*_xlfn.XLOOKUP(C74,C$4:C$7,D$4:D$7,"ERROR") -> 0 | E74: 0
C75: N2O | D75: =E75/_xlfn.XLOOKUP(C75,C$4:C$7,E$4:E$7,"ERROR")*_xlfn.XLOOKUP(C75,C$4:C$7,D$4:D$7,"ERROR") -> 0 | E75: 0
C76: Jet Fuel and Aviation Gasoline | D76: =SUM(D77:D79) -> 2.4586835 | E76: =SUM(E77:E79) -> 2.4545743
C77: CO2 | D77: =E77/_xlfn.XLOOKUP(C77,C$4:C$7,E$4:E$7,"ERROR")*_xlfn.XLOOKUP(C77,C$4:C$7,D$4:D$7,"ERROR") -> 2.4320521 | E77: =Transportation!O57+Transportation!O63+Transportation!O64 -> 2.4320521
C78: CH4 | D78: =E78/_xlfn.XLOOKUP(C78,C$4:C$7,E$4:E$7,"ERROR")*_xlfn.XLOOKUP(C78,C$4:C$7,D$4:D$7,"ERROR") -> 0.0062602276 | E78: =(Transportation!AE57+Transportation!AE63+Transportation!AE64)/1000000 -> 0.0021509895
C79: N2O | D79: =E79/_xlfn.XLOOKUP(C79,C$4:C$7,E$4:E$7,"ERROR")*_xlfn.XLOOKUP(C79,C$4:C$7,D$4:D$7,"ERROR") -> 0.020371205 | E79: =(Transportation!X57+Transportation!X63+Transportation!X64)/1000000 -> 0.020371205
B80: Fossil Fuel Industry | D80: =D81+D85+D89 -> 3.5278651 | E80: =E81+E85+E89 -> 1.4070749
C81: Natural Gas Industry | D81: =SUM(D82:D84) -> 2.9795816 | E81: =SUM(E82:E84) -> 1.2186869
C82: CO2 | D82: =E82/_xlfn.XLOOKUP(C82,C$4:C$7,E$4:E$7,"ERROR")*_xlfn.XLOOKUP(C82,C$4:C$7,D$4:D$7,"ERROR") -> 0.29678273 | E82: ='Natural Gas and Oil'!H70 -> 0.29678273
C83: CH4 | D83: =E83/_xlfn.XLOOKUP(C83,C$4:C$7,E$4:E$7,"ERROR")*_xlfn.XLOOKUP(C83,C$4:C$7,D$4:D$7,"ERROR") -> 2.6826388 | E83: ='Natural Gas and Oil'!J70+'Natural Gas and Oil'!F51+'Natural Gas and Oil'!F34+'Natural Gas and Oil'!F10 -> 0.92174413
C84: N2O | D84: =E84/_xlfn.XLOOKUP(C84,C$4:C$7,E$4:E$7,"ERROR")*_xlfn.XLOOKUP(C84,C$4:C$7,D$4:D$7,"ERROR") -> 0.00015999504 | E84: ='Natural Gas and Oil'!I70 -> 0.00015999504
C85: Oil Industry | D85: =SUM(D86:D88) -> 0 | E85: =SUM(E86:E88) -> 0
C86: CO2 | D86: =E86/_xlfn.XLOOKUP(C86,C$4:C$7,E$4:E$7,"ERROR")*_xlfn.XLOOKUP(C86,C$4:C$7,D$4:D$7,"ERROR") -> 0 | E86: 0
C87: CH4 | D87: =E87/_xlfn.XLOOKUP(C87,C$4:C$7,E$4:E$7,"ERROR")*_xlfn.XLOOKUP(C87,C$4:C$7,D$4:D$7,"ERROR") -> 0 | E87: 0
C88: N2O | D88: =E88/_xlfn.XLOOKUP(C88,C$4:C$7,E$4:E$7,"ERROR")*_xlfn.XLOOKUP(C88,C$4:C$7,D$4:D$7,"ERROR") -> 0 | E88: 0
C89: Coal Mining | D89: =SUM(D90:D92) -> 0.54828354 | E89: =SUM(E90:E92) -> 0.18838806
C90: CO2 | D90: =E90/_xlfn.XLOOKUP(C90,C$4:C$7,E$4:E$7,"ERROR")*_xlfn.XLOOKUP(C90,C$4:C$7,D$4:D$7,"ERROR") -> 0 | E90: 0
C91: CH4 | D91: =E91/_xlfn.XLOOKUP(C91,C$4:C$7,E$4:E$7,"ERROR")*_xlfn.XLOOKUP(C91,C$4:C$7,D$4:D$7,"ERROR") -> 0.54828354 | E91: =Mining!C35+Mining!C36 -> 0.18838806
C92: N2O | D92: =E92/_xlfn.XLOOKUP(C92,C$4:C$7,E$4:E$7,"ERROR")*_xlfn.XLOOKUP(C92,C$4:C$7,D$4:D$7,"ERROR") -> 0 | E92: 0
B93: Industrial Processes and Product Use | D93: =D94+D98+D102+D106+D110+D114+D118+D122+D126 -> 7.9028098 | E93: =E94+E98+E102+E106+E110+E114+E118+E122+E126 -> 4.6771567
C94: Cement Manufacture | D94: =SUM(D95:D97) -> 0.91825561 | E94: =SUM(E95:E97) -> 0.91825561
C95: CO2 | D95: =E95/_xlfn.XLOOKUP(C95,C$4:C$7,E$4:E$7,"ERROR")*_xlfn.XLOOKUP(C95,C$4:C$7,D$4:D$7,"ERROR") -> 0.91825561 | E95: =Cement!G80 -> 0.91825561
C96: CH4 | D96: =E96/_xlfn.XLOOKUP(C96,C$4:C$7,E$4:E$7,"ERROR")*_xlfn.XLOOKUP(C96,C$4:C$7,D$4:D$7,"ERROR") -> 0 | E96: 0
C97: N2O | D97: =E97/_xlfn.XLOOKUP(C97,C$4:C$7,E$4:E$7,"ERROR")*_xlfn.XLOOKUP(C97,C$4:C$7,D$4:D$7,"ERROR") -> 0 | E97: 0
C98: Limestone and Dolomite | D98: =SUM(D99:D101) -> 0.08560464 | E98: =SUM(E99:E101) -> 0.08560464
C99: CO2 | D99: =E99/_xlfn.XLOOKUP(C99,C$4:C$7,E$4:E$7,"ERROR")*_xlfn.XLOOKUP(C99,C$4:C$7,D$4:D$7,"ERROR") -> 0.08560464 | E99: ='LimeT&DSoda'!D38/1000000 -> 0.08560464
C100: CH4 | D100: =E100/_xlfn.XLOOKUP(C100,C$4:C$7,E$4:E$7,"ERROR")*_xlfn.XLOOKUP(C100,C$4:C$7,D$4:D$7,"ERROR") -> 0 | E100: 0
...

Sheet EGU Production ALL Units
A1: Electric Power Production and CO2 Emissions in Maryland
B3: COAL COMBUSTION BY UNIT | O3: ECMPS data | P3: EPA Emissions Collection and Monitoring Plan System (ECMPS) data in accordance to 40 CFR Part 75
O4: Calculation: | P4: Usage X Heat Content
B7: Plant ID | C7: Plant Name | D7: Equipment Description | E7: Fuel Type | F7: Usage | G7: Usage Unit | H7: Heat Content | I7: Heat Content Unit | J7: Fuel Heat Input | K7: CO2 Emmission | L7: CH4 Emission | M7: N2O Emission | O7: Heat Input Ref: | P7: CO2 Emissions Ref
J8: (MMBTU) | K8: (tons) | L8: (tons) | M8: (tons) | O8: (MMBTU) | P8: (short tons)
B10: 001-0203 | C10: AES WARRIOR RUN COGEN
C11: 001-3-0127 | D11: ACF Boiler | E11: Coal | F11: 711214 | G11: tons | H11: 11080 | I11: Btu/lb | J11: 15857480 | K11: 1624579.1 | L11: 192.13747 | M11: 27.951991 | O11: ECMPS data
B13: 003-0468 | C13: Brandon Shores
C14: 3-0015 | D14: Unit 1 | E14: P-Coal | F14: 1246119 | G14: tons | H14: 11356 | I14: Btu/lb | J14: 28301855 | K14: 3333229.3 | L14: 24.999867 | M14: 18.7999 | O14: Apportion from ECMPS data
C16: 3-0016 | D16: Unit 2 | E16: P-Coal | F16: 1390302 | G16: tons | H16: 11356 | I16: Btu/lb | J16: 31576539 | K16: 3277154.5 | L16: 27.899842 | M16: 20.999881 | O16: Apportion from ECMPS data
B18: 24-005-0079 | C18: C.P.Crane
C19: 3-0108 | D19: Boiler Unit 1 | E19: P-Coal | F19: 292475 | G19: tons | H19: 11356 | I19: Btu/lb | J19: 5451461 | K19: 571745.73 | L19: 1.52855 | M19: 13.056775 | O19: Apportion from ECMPS data
C21: 3-0109 | D21: Boiler Unit 2 | E21: P-Coal | F21: 296297 | G21: tons | H21: 11356 | I21: Btu/lb | J21: 6257182 | K21: 656254.33 | L21: 1.5349867 | M21: 13.270207 | O21: Apportion from ECMPS data
B23: 033-00014 | C23: Chalk Point
C25: 1600-14-30004 | D25: Unit 1 | E25: Coal | F25: 575093 | G25: tons | H25: 12971 | I25: Btu/ lb | J25: 14919063 | K25: 1609435.7 | L25: 11.762628 | M25: 9.4140659 | O25: Apportion from ECMPS data
C27: 1600-14-30005 | D27: Unit 2 | E27: Coal | F27: 781584 | G27: tons | H27: 12976 | I27: Btu/ lb | J27: 20283668 | K27: 2177032.2 | L27: 15.912165 | M27: 12.729732 | O27: Apportion from ECMPS data
B29: 003-0014 | C29: HERBERT A WAGNER
C30: 4-0308 | D30: Unit 2 | E30: P-Coal | F30: 199564 | G30: tons | H30: 24 | I30: MMBtu/ tons | J30: 4789536 | K30: 525116.27 | L30: 3.9634557 | M30: 3.0122263 | O30: Apportion from ECMPS data
C32: 3-0003 | D32: Unit 3 | E32: P-Coal | F32: 466140 | G32: tons | H32: 24 | I32: MMBtu/ tons | J32: 11187360 | K32: 1164559.7 | L32: 9.204074 | M32: 0.045755888 | O32: Apportion from ECMPS data
B34: 043-0005 | C34: R P SMITH
C35: 043-0005-3-0005 | D35: Unit 3 (9) | E35: Coal | F35: 6836 | G35: tons | H35: 11260 | I35: Btu/lb | J35: 153946.72 | K35: 18404.817 | L35: 0.096204158 | M35: 0.096204158 | O35: Apportion from ECMPS data
C37: 043-0005-3-0006 | D37: Unit 4 (11) | E37: Coal | F37: 39204 | G37: tons | H37: 11260 | I37: Btu/lb | J37: 882874.08 | K37: 87436 | L37: 0.79 | M37: 1.57 | O37: Apportion from ECMPS data
B39: 031-0019 | C39: Mirant Dickerson
C40: 1500-19-30001 | D40: Boiler 1 | E40: Coal | F40: 161730 | G40: tons | H40: 12900 | I40: Btu/lb | J40: 4172634 | K40: 406756.9 | L40: 2.9739851 | M40: 6.3445015 | O40: Apportion from ECMPS data
C42: 1500-19-30002 | D42: Boiler 2 | E42: Coal | F42: 198171 | G42: tons | H42: 12891 | I42: Btu/lb | J42: 5109244.7 | K42: 520348.9 | L42: 3.8009416 | M42: 8.1377862 | O42: Apportion from ECMPS data
C44: 1500-19-30003 | D44: Boiler 3 | E44: Coal | F44: 197128 | G44: tons | H44: 12895 | I44: Btu/lb | J44: 5083931.1 | K44: 512116.5 | L44: 3.7435054 | M44: 7.943778 | O44: Apportion from ECMPS data
B46: 017-0014 | C46: Mirant Morgantown
C47: 0800-14-30002 | D47: 1 | E47: Coal | F47: 1141923 | G47: tons | H47: 13025 | I47: Btu/lb | J47: 29747094 | K47: 3377171.1 | L47: 24.684831 | M47: 52.660972 | O47: Apportion from ECMPS data
C49: 080-14-30003 | D49: 2 | E49: Coal | F49: 1248983 | G49: tons | H49: 13025 | I49: Btu/lb | J49: 32536007 | K49: 3292474.5 | L49: 25.513668 | M49: 54.422502 | O49: Apportion from ECMPS data
B52: 001-0011 | C52: Luke (New Page)
C53: 01-0011-3-0018 | D53: Nos. 24,25 & 26 Boiler | E53: Coal | F53: 425900 | G53: tons | H53: 10862 | I53: Btu/ib | J53: =Luke!D16 -> 9252251.6 | K53: =(Luke!D18+Luke!D22+Luke!D26) -> 929165.5 | L53: =Luke!D19+Luke!D23+Luke!D27 -> 110.44585 | M53: =Luke!D20+Luke!D24+Luke!D28 -> 16.260878 | O53: Apportion from ECMPS data
E55: Coal (Total) | F55: =SUM(F11:F53) -> 9378663 | J55: =SUM(J11:J53) -> 2.2556213e+08 | K55: =SUM(K11:K53) -> 24082981 | L55: =SUM(L11:L53) -> 460.99203 | M55: =SUM(M11:M53) -> 266.71716
E57: Coal (MMTCO2E) | K57: =(K55*0.90718474)/1000000 -> 21.847713 | L57: =(L55*$J$425*0.90718474)/1000000 -> 0.011667918 | M57: =(M55*$J$426*0.90718474)/1000000 -> 0.066055553
B60: 001-0011 | C60: Luke (New Page)
C61: 01-0011-3-0019
C62: 01-0011-5-0170 | D62: Nos. 24,25 & 26 Boiler | E62: Biomass | F62: 5518 | G62: tons | H62: 4643 | I62: Btu/lb | J62: =Luke!G16 -> 51240.148 | K62: =Luke!G18+Luke!G22+Luke!G26 -> 5145.8369 | L62: =Luke!G19+Luke!G23+Luke!G27 -> 0.61166321 | M62: =Luke!G20+Luke!G24+Luke!G28 -> 0.090054811 | O62: Apportion from ECMPS data
E64: Biomass (MMTCO2E) | K64: =(K62*0.90718474)/1000000 -> 0.0046682247 | L64: =(L62*$J$425*0.90718474)/1000000 -> 1.5481474e-05 | M64: =(M62*$J$426*0.90718474)/1000000 -> 2.2303104e-05
B71: OIL COMBUSTION BY UNIT
B73: Plant ID | C73: Plant Name | D73: Equipment Description | E73: Fuel Type | F73: Usage | G73: Usage Unit | H73: Heat Content | I73: Heat Content Unit | J73: Fuel Heat Input | K73: CO2 Emmission | L73: CH4 Emission | M73: N2O Emission
E74: #2 Oil | J74: (MMBTU) | K74: (tons) | L74: (tons) | M74: (tons)
B76: 001-0203 | C76: AES WARRIOR RUN COGEN
C77: 001-3-0127 | D77: ACF Boiler | E77: Diesel | F77: 113500 | G77: gallons | H77: 140000 | I77: Btu/gal | J77: 15890 | K77: 1627.9107 | L77: 0.1925315 | M77: 0.028009314 | O77: Calculation
C79: 001-9-0081 | D79: Emergency Engine (Boiler Feed Pump) | E79: Diesel | F79: 665 | G79: gallons | H79: 140000 | I79: Btu/gal | J79: 93.1 | K79: 7.48 | L79: 0 | M79: 0 | O79: Calculation
B81: 003-0468 | C81: Brandon Shores
C82: 3-0015 | D82: Unit 1 | E82: S-No. 2 Oil | F82: 1080000 | G82: gallons | H82: 139 | I82: MMBtu/ 1E+03 gal | J82: 150.12 | K82: 17.680268 | L82: 0.00013260545 | M82: 9.9719296e-05 | O82: Calculation
C84: 3-0016 | D84: Unit 2 | E84: S-No. 2 Oil | F84: 1284000 | G84: gallons | H84: 139 | I84: MMBtu/ 1E+03 gal | J84: 178.476 | K84: 18.523038 | L84: 0.00015769468 | M84: 0.00011869492 | O84: Calculation
B86: 24-005-0079 | C86: C.P.Crane
C87: 4-0091 | D87: Aux Boiler # 2 | E87: S-No. 2 Oil | F87: 121000 | G87: gallons | H87: 139 | I87: MMBtu/ 1E+03 gal | J87: 16819 | K87: 1320 | L87: 0.013 | M87: 0.016 | O87: Calculation
C89: 4-1107 | D89: Aux Boiler # 3 | E89: S-No. 2 Oil | F89: 15000 | G89: gallons | H89: 139 | I89: MMBtu/ 1E+03 gal | J89: 2085 | K89: 164 | L89: 0.002 | M89: 0.002 | O89: Calculation
C91: 4-0089 | D91: CT (14 MW) | E91: S-No. 2 Oil | F91: 89000 | G91: gallons | H91: 139 | I91: MMBtu/ 1E+03 gal | J91: 12371 | K91: 968 | L91: 0.01 | M91: 0.012 | O91: Calculation
B93: 033-00014 | C93: Chalk Point
C95: 1600-14-30004 | D95: Unit 1 | E95: #2 Oli | F95: 757726 | G95: gallons | H95: 137572 | I95: Btu/gal | J95: 104241.88 | K95: 11245.385 | L95: 0.082187364 | M95: 0.065777587 | O95: Calculation
C97: 1600-14-30005 | D97: Unit 2 | E97: #2 Oli | F97: 47448 | G97: gallons | H97: 137658 | I97: Btu/gal | J97: 6531.5968 | K97: 701.0318 | L97: 0.0051239178 | M97: 0.0040991343 | O97: Calculation
C99: 1600-14-40778 | D99: CT 1 | E99: #2 Oli | F99: 63080 | G99: gallons | H99: 137630 | I99: Btu/gal | J99: 8681.7004 | K99: 1550 | L99: 0.0002 | M99: 0.035 | O99: Calculation
C101: 1600-14-41145 | D101: CT2 | E101: #2 Oli | F101: 111736 | G101: gallons | H101: 137630 | I101: Btu/gal | J101: 10527 | K101: 854 | L101: 0.0003 | M101: 0.062 | O101: ECMPS data
C103: 1600-14-90752 | D103: CT3** | E103: #2 Oli | F103: 269708 | G103: gallons | H103: 139001 | I103: Btu/gal | J103: 37489.682 | K103: 2444.0176 | L103: 0.014580916 | M103: 0.059111821 | O103: Calculation
C105: 1600-14-90753 | D105: CT4** | E105: #2 Oli | F105: 66485 | G105: gallons | H105: 139001 | I105: Btu/gal | J105: 9241.4815 | K105: 565.31529 | L105: 0.0037826958 | M105: 0.010316443 | O105: Calculation
C107: 1600-14-90754 | D107: CT5** | E107: #2 Oli | F107: 145075 | G107: gallons | H107: 139001 | I107: Btu/gal | J107: 20165.57 | K107: 1167.5516 | L107: 0.0073810337 | M107: 0.020666894 | O107: Calculation
C109: 1600-14-90755 | D109: CT6** | E109: #2 Oli | F109: 209727 | G109: gallons | H109: 139001 | I109: Btu/gal | J109: 29152.263 | K109: 1960.3415 | L109: 0.012381212 | M109: 0.039568821 | O109: Calculation
C111: 1600-14-41156 | D111: CE Aux. Boiler 5 | E111: #2 Oli | F111: 661277 | G111: gallons | H111: 139001 | I111: Btu/gal | J111: 91918.164 | K111: 7510 | L111: 0.24 | M111: 0.37 | O111: Calculation
C112: 1600-14-41157 | D112: CE Aux. Boiler 6 | E112: #2 Oli | F112: 761546 | G112: gallons | H112: 139001 | I112: Btu/gal | J112: 105855.66 | K112: 8648 | L112: 0.28 | M112: 0.42 | O112: Calculation
C113: 1600-14-41158 | D113: CE Aux. Boiler 7 | E113: #2 Oli | F113: 390 | G113: gallons | H113: 139001 | I113: Btu/gal | J113: 54.21039 | K113: 4 | L113: 0.00014 | M113: 0.00022 | O113: Calculation
B116: 033-01827 | C116: Chalkpoint -SMECO
C117: 1827-5-074990 | D117: Combustion Turbine | E117: #2 Oli | F117: 148903 | G117: gallons | H117: 138464 | I117: Btu/gal | J117: 20617.705 | K117: 1208.7966 | L117: 0.019890445 | M117: 0.03978089 | O117: Calculation
B119: 003-0014 | C119: HERBERT A WAGNER
C121: 4-0007 | D121: CT | E121: No.2 Oil | F121: 44000 | G121: gallons | H121: 139 | I121: MMBTU/10E+03 gallons | J121: 6116 | K121: 478.5 | L121: 0 | M121: 0.01 | O121: Calculation
B122: 024-025-0024 | C122: Perryman
C123: 5-0088 | D123: Unit 51 CT | E123: No.2 Oil | F123: 1512000 | G123: gallons | H123: 138 | I123: MMBTU/10E+03 gallons | J123: 208656 | K123: 13718.602 | L123: 0.64750575 | M123: 0.272634 | O123: Calculation
C126: 4-0081 | D126: Unit 1 CT | E126: No.2 Oil | F126: 533000 | G126: gallons | H126: 138 | I126: MMBTU/10E+03 gallons | J126: 73554 | K126: 5773 | L126: 0.06 | M126: 0.07 | O126: Calculation
C128: 4-0082 | D128: Unit 2 CT | E128: No.2 Oil | F128: 517000 | G128: gallons | H128: 138 | I128: MMBTU/10E+03 gallons | J128: 71346 | K128: 5603 | L128: 0.06 | M128: 0.07 | O128: Calculation
C130: 4-0083 | D130: Unit 3 CT | E130: No.2 Oil | F130: 611000 | G130: gallons | H130: 138 | I130: MMBTU/10E+03 gallons | J130: 84318 | K130: 6619 | L130: 0.07 | M130: 0.08 | O130: Calculation
C132: 4-0084 | D132: Unit 4 CT | E132: No.2 Oil | F132: 232000 | G132: gallons | H132: 138 | I132: MMBTU/10E+03 gallons | J132: 32016 | K132: 2509 | L132: 0.03 | M132: 0.03 | O132: Calculation
B134: 043-0005 | C134: R P SMITH
C135: 043-0005-3-0005 | D135: Unit 3 (9) | E135: #2 Oil | F135: 43079 | G135: gallons | H135: 141000 | I135: Btu/ gal | J135: 6074.139 | K135: 726.18254 | L135: 0.003795842 | M135: 0.003795842 | O135: Calculation
C137: 043-0005-3-0006 | D137: Unit 4 (11) | E137: #2 Oil | F137: 111914 | G137: gallons | H137: 141000 | I137: Btu/ gal | J137: 15779.874 | K137: 1562.774 | L137: 0.014047564 | M137: 0.028095129 | O137: Calculation
B139: 005-0078 | C139: Riverside
C141: 4-0658 | D141: Combustion Turbine # 7 | E141: #2 Oil | F141: 97000 | G141: gallons | H141: 139 | I141: MMBTU/10E+03 gallons | J141: 13483 | K141: 1060 | L141: 0.01 | M141: 0.01 | O141: Calculation
C143: 4-0659 | D143: Combustion Turbine #8 | E143: #2 Oil | F143: 105000 | G143: gallons | H143: 139 | I143: MMBTU/10E+03 gallons | J143: 14595 | K143: 1150 | L143: 0.011 | M143: 0.01 | O143: Calculation
B146: 019-0013 | C146: Vienna Generating Station
C147: 4-0065-70 | D147: Unit 8 | E147: #2 Oil | F147: 72528 | G147: gallons | H147: 140208 | I147: Btu/gallons | J147: 10169.006 | K147: 781.712 | L147: 0.0090484903 | M147: 0.016804339 | O147: Calculation
C149: 4-0020-69 | D149: AUX Boiler | E149: #2 Oil | F149: 17927 | G149: gallons | H149: 140163 | I149: Btu/gallons | J149: 2512.7021 | K149: 199.89 | L149: 0 | M149: 0.01 | O149: Calculation
C151: 4-0114-79 | D151: Combustion Turbine | E151: #2 Oil | F151: 36090 | G151: gallons | H151: 140085 | I151: Btu/gallons | J151: 5055.6677 | K151: 396.87 | L151: 0 | M151: 0 | O151: Calculation
B153: 031-0019 | C153: Mirant Dickerson
C154: 1500-19-30001 | D154: Boiler 1 | E154: #2 Oil | F154: 262249 | G154: gallons | H154: 139181 | I154: Btu/gal | J154: 36500.078 | K154: 3558.1023 | L154: 0.026014908 | M154: 0.05549847 | O154: Calculation
C156: 1500-19-30002 | D156: Boiler 2 | E156: #2 Oil | F156: 280645 | G156: gallons | H156: 139181 | I156: Btu/gal | J156: 39060.452 | K156: 3978.0955 | L156: 0.029058404 | M156: 0.062213815 | O156: Calculation
C158: 1500-19-30003 | D158: Boiler 3 | E158: #2 Oil | F158: 258523 | G158: gallons | H158: 139181 | I158: Btu/gal | J158: 35981.49 | K158: 3624.5012 | L158: 0.026494635 | M158: 0.056222037 | O158: Calculation
C160: 1500-19-40907 | D160: Combustion Turbine CT1 | E160: Oil | F160: 25757 | G160: gallons | H160: 139181 | I160: Btu/gal | J160: 3584.885 | K160: 293 | L160: 0.0007 | M160: 0.01 | O160: Calculation
B163: 031-1822 | C163: Mirant Station H
C164: 1518-22-90362 | D164: CT 1 | E164: Oil | F164: 128653 | G164: gallons | H164: 139181 | I164: Btu/gal | J164: 17906.053 | K164: 885.01951 | L164: 0.072305515 | M164: 0.030988078 | O164: Calculation
C166: 158-22-90363 | D166: CT 2 | E166: Oil | F166: 117793 | G166: gallons | H166: 139181 | I166: Btu/gal | J166: 16394.548 | K166: 779.24991 | L166: 0.064247428 | M166: 0.028554412 | O166: Calculation
B168: 017-0014 | C168: Mirant Morgantown
C169: 0800-14-30002 | D169: 1 | E169: #2 Oil | F169: 560730 | G169: gallons | H169: 140057 | I169: Btu/ gallons | J169: 78534.162 | K169: 8915.9397 | L169: 0.065169474 | M169: 0.13902821 | O169: Calculation
C172: 080-14-30003 | D172: 2 | E172: #2 Oil | F172: 330721 | G172: gallons | H172: 140092 | I172: Btu/ gallons | J172: 46331.366 | K172: 4688.493 | L172: 0.036331536 | M172: 0.077497797 | O172: Calculation
C175: 0800-14-40016 | D175: Aux 2 | E175: Oil | F175: 469111 | G175: gallons | H175: 140162 | I175: Btu/ gallons | J175: 65751.536 | K175: 5372 | L175: 0.013 | M175: 0.3 | O175: Calculation
C176: 0800-14-40018 | D176: Aux 4 | E176: Oil | F176: 6581 | G176: gallons | H176: 140162 | I176: Btu/ gallons | J176: 922.40612 | K176: 75 | L176: 0.0002 | M176: 0.004 | O176: Calculation
C177: 0800-14-4-0068 | D177: CT 1 | E177: Oil | F177: 119770 | G177: gallons | H177: 140156 | I177: Btu/ gallons | J177: 16786.484 | K177: 1371 | L177: 0.07 | M177: 0.07 | O177: Calculation
C178: 0800-14-4-0069 | D178: CT 2 | E178: Oil | F178: 115848 | G178: gallons | H178: 140162 | I178: Btu/ gallons | J178: 16237.487 | K178: 1327 | L178: 0.07 | M178: 0.07 | O178: Calculation
C179: 0800-14-4-0070 | D179: CT 3 | E179: No. 2 Fuel Oil | F179: 294735 | G179: gallons | H179: 140152 | I179: Btu/ gallons | J179: 41307.7 | K179: 3750 | L179: 0.2 | M179: 0.2 | O179: Calculation
C180: 0800-14-4-0071 | D180: CT 4 | E180: No. 2 Fuel Oil | F180: 391937 | G180: gallons | H180: 140164 | I180: Btu/ gallons | J180: 54935.458 | K180: 4565 | L180: 0.2 | M180: 0.2 | O180: Calculation
C181: 0800-14-4-0074 | D181: CT 5 | E181: No. 2 Fuel Oil | F181: 259626 | G181: gallons | H181: 140154 | I181: Btu/ gallons | J181: 36387.622 | K181: 2926 | L181: 0.2 | M181: 0.1 | O181: Calculation
...

Sheet EGU Details
B3: Plant ID | C3: Plant Name | D3: Equipment Description | E3: Fuel Type | F3: Usage | G3: Usage | H3: Heat | I3: Heat Content | J3: Heat Input | K3: CO2 Emmission | L3: CH4 Emission | M3: N2O Emission
G4: Units | H4: Content | I4: Unit | J4: (MMBTU) | K4: (tons) | L4: (tons) | M4: (tons)
B6: 001-0203 | C6: AES WARRIOR RUN COGEN
C7: 001-3-0127 | D7: ACF Boiler | E7: Coal | F7: 711214 | G7: tons | H7: 11080 | I7: Btu/lb | J7: 15857480 | K7: =J7/($J$7+$J$8)*K$9 -> 1624579.1 | L7: =J7/($J$7+$J$8)*L$9 -> 192.13747 | M7: =J7/($J$7+$J$8)*M$9 -> 27.951991
C8: 001-3-0127 | D8: ACF Boiler | E8: Diesel | F8: 113500 | G8: gallons | H8: 140000 | I8: Btu/gal | J8: =(F8*H8)/1000000 -> 15890 | K8: =J8/($J$7+$J$8)*K$9 -> 1627.9107 | L8: =J8/($J$7+$J$8)*L$9 -> 0.1925315 | M8: =J8/($J$7+$J$8)*M$9 -> 0.028009314
J9: =SUM(J7:J8) -> 15873370 | K9: 1626207 | L9: 192.33 | M9: 27.98
C10: 001-9-0081 | D10: Emergency Engine (Boiler Feed Pump) | E10: Diesel | F10: 665 | G10: gallons | H10: 140000 | I10: Btu/gal | J10: =(F10*H10)/1000000 -> 93.1 | K10: 7.48 | L10: 0 | M10: 0
C11: 001-6-0136 | D11: Limestone Dryer | E11: Natural Gas | F11: 2767100 | G11: scf | H11: 1020 | I11: Btu/scf | J11: =(F11*H11)/1000000 -> 2822.442 | K11: 166.25 | L11: 0 | M11: 0
B13: 003-0468 | C13: Brandon Shores
C15: 3-4-0081 | D15: Temp Boiler
C16: 3-0015 | D16: Unit 1 | E16: S-No. 2 Oil | F16: 1080 | G16: 10E3 gallons | H16: 139 | I16: MMBtu/ 1E+03 gal | J16: =(F16*H16)/1000 -> 150.12 | K16: =(+J16/(J16+J17))*K18 -> 17.680268 | L16: =(J16/(J16+J17))*L18 -> 0.00013260545 | M16: =(J16/(J16+J17))*M18 -> 9.9719296e-05
D17: Unit 1 | E17: P-Coal | F17: 1246119 | G17: tons | H17: 11356 | I17: Btu/lb | J17: =(F17*H17*2000)/1000000 -> 28301855 | K17: =(+J17/(J16+J17))*K18 -> 3333229.3 | L17: =(J17/(J16+J17))*L18 -> 24.999867 | M17: =(K17/(K16+K17))*M18 -> 18.7999
J18: 32487813 | K18: 3333247 | L18: 25 | M18: 18.8
C19: 3-0016 | D19: Unit 2 | E19: S-No. 2 Oil | F19: 1284 | G19: gallons | H19: 139 | I19: MMBtu/ 1E+03 gal | J19: =(F19*H19)/1000 -> 178.476 | K19: =(J19/(J$20+J$19))*K$21 -> 18.523038 | L19: =(J19/(J$19+J$20))*L$21 -> 0.00015769468 | M19: =(J19/(J$19+J$20))*M$21 -> 0.00011869492
D20: Unit 2 | E20: P-Coal | F20: 1390302 | G20: tons | H20: 11356 | I20: Btu/lb | J20: =(F20*H20*2000)/1000000 -> 31576539 | K20: =(J20/(J$20+J$19))*K$21 -> 3277154.5 | L20: =(J20/(J$19+J$20))*L$21 -> 27.899842 | M20: =(J20/(J$19+J$20))*M$21 -> 20.999881
J21: 31941293 | K21: 3277173 | L21: 27.9 | M21: 21
B23: 24-005-0079 | C23: C.P.Crane
C24: 3-0108 | D24: Boiler Unit 1 | E24: S-Gas | F24: 75000000 | G24: scf | H24: 1020 | I24: MMBtu/1E+06 scf | J24: =(F24*H24)/1000000 -> 76500 | K24: =(+J24/J26)*K26 -> 8023.2709 | L24: =(+J24/J26)*L26 -> 0.021450043 | M24: =(+J24/J26)*M26 -> 0.18322488
D25: Boiler Unit 1 | E25: P-Coal | F25: 292475 | G25: tons | H25: 11356 | I25: Btu/lb | J25: =J26-J24 -> 5451461 | K25: =(+J25/J26)*K26 -> 571745.73 | L25: =(+J25/J26)*L26 -> 1.52855 | M25: =(+J25/J26)*M26 -> 13.056775
J26: 5527961 | K26: 579769 | L26: 1.55 | M26: 13.24
C27: 3-0109 | D27: Boiler Unit 2 | E27: S-Gas | F27: 60000000 | G27: scf | H27: 1020 | I27: MMBtu/1E+06 scf | J27: =(F27*H27)/1000000 -> 61200 | K27: =(+J27/J29)*K29 -> 6418.6666 | L27: =(+J27/J29)*L29 -> 0.015013337 | M27: =(+J27/J29)*M29 -> 0.12979272
D28: Boiler Unit 2 | E28: P-Coal | F28: 296297 | G28: tons | H28: 11356 | I28: Btu/lb | J28: =J29-J27 -> 6257182 | K28: =(+J28/J29)*K29 -> 656254.33 | L28: =(+J28/J29)*L29 -> 1.5349867 | M28: =(+J28/J29)*M29 -> 13.270207
J29: 6318382 | K29: 662673 | L29: 1.55 | M29: 13.4
C31: 4-0091 | D31: Aux Boiler # 2 | E31: S-No. 2 Oil | F31: 121000 | G31: gallons | H31: 139 | I31: MMBtu/ 1E+03 gal | J31: =(F31*H31)/1000 -> 16819 | K31: 1320 | L31: 0.013 | M31: 0.016
C33: 4-1107 | D33: Aux Boiler # 3 | E33: S-No. 2 Oil | F33: 15000 | G33: gallons | H33: 139 | I33: MMBtu/ 1E+03 gal | J33: =(F33*H33)/1000 -> 2085 | K33: 164 | L33: 0.002 | M33: 0.002
C35: 4-0089 | D35: CT (14 MW) | E35: S-No. 2 Oil | F35: 89000 | G35: gallons | H35: 139 | I35: MMBtu/ 1E+03 gal | J35: =(F35*H35)/1000 -> 12371 | K35: 968 | L35: 0.01 | M35: 0.012
B37: 033-00014 | C37: Chalk Point
C39: 1600-14-30004 | D39: Unit 1 | E39: Coal | F39: 575093 | G39: tons | H39: 12971 | I39: Btu/ lb | J39: =(F39*H39*2000)/1000000 -> 14919063 | K39: =(J39/(J$39+J$40+J$41))*K$42 -> 1609435.7 | L39: =(J39/(J$39+J$40+J$41))*L$42 -> 11.762628 | M39: =(J39/(J$39+J$40+J$41))*M$42 -> 9.4140659
E40: #2 Oli | F40: 757726 | G40: gallons | H40: 137572 | I40: Btu/gal | J40: =(F40*H40)/1000000 -> 104241.88 | K40: =(J40/(J$39+J$40+J$41))*K$42 -> 11245.385 | L40: =(J40/(J$39+J$40+J$41))*L$42 -> 0.082187364 | M40: =(J40/(J$39+J$40+J$41))*M$42 -> 0.065777587
E41: Gas | F41: 30893 | G41: scf | H41: 1034 | I41: MMBtu/1E+06 scf | J41: =(F41*H41)/1000 -> 31943.362 | K41: =(J41/(J$39+J$40+J$41))*K$42 -> 3445.9798 | L41: =(J41/(J$39+J$40+J$41))*L$42 -> 0.025185086 | M41: =(J41/(J$39+J$40+J$41))*M$42 -> 0.020156556
J42: 15831379 | K42: 1624127.1 | L42: 11.87 | M42: 9.5
C43: 1600-14-30005 | D43: Unit 2 | E43: Coal | F43: 781584 | G43: tons | H43: 12976 | I43: Btu/ lb | J43: =(F43*H43*2000)/1000000 -> 20283668 | K43: =(J43/(J$43+J$44+J$45))*K$46 -> 2177032.2 | L43: =(J43/(J$43+J$44+J$45))*L$46 -> 15.912165 | M43: =(J43/(J$43+J$44+J$45))*M$46 -> 12.729732
E44: #2 Oli | F44: 47448 | G44: gallons | H44: 137658 | I44: Btu/gal | J44: =(F44*H44)/1000000 -> 6531.5968 | K44: =(J44/(J$43+J$44+J$45))*K$46 -> 701.0318 | L44: =(J44/(J$43+J$44+J$45))*L$46 -> 0.0051239178 | M44: =(J44/(J$43+J$44+J$45))*M$46 -> 0.0040991343
E45: Gas | F45: 163134 | G45: scf | H45: 1037 | I45: MMBtu/1E+06 scf | J45: =(F45*H45)/1000 -> 169169.96 | K45: =(J45/(J$43+J$44+J$45))*K$46 -> 18156.896 | L45: =(J45/(J$43+J$44+J$45))*L$46 -> 0.13271073 | M45: =(J45/(J$43+J$44+J$45))*M$46 -> 0.10616858
J46: 21404540 | K46: 2195890.1 | L46: 16.05 | M46: 12.84
C48: 1600-14-40998 | D48: Unit 3 | E48: #6 Oil | F48: 620224 | G48: gallons | H48: 151598 | I48: Btu/gal | J48: =(F48*H48)/1000000 -> 94024.718 | K48: =(J48/(J$48+J$49+J$50))*K$51 -> 5852.9094 | L48: =(J48/(J$48+J$49+J$50))*L$51 -> 0.11209005 | M48: =(J48/(J$48+J$49+J$50))*M$51 -> 0.037591175
E49: #2 Oli | F49: 0 | G49: gallons | H49: 132252 | I49: Btu/gal | J49: =(F49*H49)/1000000 -> 0 | K49: ` | L49: =(J49/(J$48+J$49+J$50))*L$51 -> 0 | M49: =(J49/(J$48+J$49+J$50))*M$51 -> 0
E50: Gas | F50: 3911764 | G50: scf | H50: 1031 | I50: MMBtu/1E+06 scf | J50: =(F50*H50)/1000 -> 4033028.7 | K50: =(J50/(J$48+J$49+J$50))*K$51 -> 251050.49 | L50: =(J50/(J$48+J$49+J$50))*L$51 -> 4.80791 | M50: =(J50/(J$48+J$49+J$50))*M$51 -> 1.6124088
J51: 4294455 | K51: 256903.4 | L51: 4.92 | M51: 1.65
C53: 1600-14-40999 | D53: Unit 4 | E53: #6 Oil | F53: 563476 | G53: gallons | H53: 151673 | I53: Btu/gal | J53: =(F53*H53)/1000000 -> 85464.095 | K53: =(J53/(J$53+J$54+J$55))*K$56 -> 6041.7196 | L53: =(J53/(J$53+J$54+J$55))*L$56 -> 0.11592272 | M53: =(J53/(J$53+J$54+J$55))*M$56 -> 0.038017666
E54: #2 Oli | F54: 0 | G54: gallons | H54: 132424 | I54: Btu/gal | J54: =(F54*H54)/1000000 -> 0 | K54: =(J54/(J$53+J$54+J$55))*K$56 -> 0 | L54: =(J54/(J$53+J$54+J$55))*L$56 -> 0 | M54: =(J54/(J$53+J$54+J$55))*M$56 -> 0
E55: Gas | F55: 3907269 | G55: scf | H55: 1031 | I55: MMBtu/1E+06 scf | J55: =(F55*H55)/1000 -> 4028394.3 | K55: =(J55/(J$53+J$54+J$55))*K$56 -> 284779.58 | L55: =(J55/(J$53+J$54+J$55))*L$56 -> 5.4640773 | M55: =(J55/(J$53+J$54+J$55))*M$56 -> 1.7919823
J56: 4867186 | K56: 290821.3 | L56: 5.58 | M56: 1.83
C58: 1600-14-40778 | D58: CT 1 | E58: #2 Oli | F58: 63080 | G58: gallons | H58: 137630 | I58: Btu/gal | J58: =(F58*H58)/1000000 -> 8681.7004 | K58: 1550 | L58: 0.0002 | M58: 0.035
C60: 1600-14-41145 | D60: CT2 | E60: #2 Oli | F60: 111736 | G60: gallons | H60: 137630 | I60: Btu/gal | J60: 10527 | K60: 854 | L60: 0.0003 | M60: 0.062
C62: 1600-14-90752 | D62: CT3** | E62: #2 Oli | F62: 269708 | G62: gallons | H62: 139001 | I62: Btu/gal | J62: =(F62*H62)/1000000 -> 37489.682 | K62: =(J62/(J$62+J$63))*K$64 -> 2444.0176 | L62: =(J62/(J$62+J$63))*L$64 -> 0.014580916 | M62: =(J62/(J$62+J$63))*M$64 -> 0.059111821
E63: Gas | F63: 148038 | G63: scf | H63: 1032 | I63: MMBtu/1E+06 scf | J63: =(F63*H63)/1000 -> 152775.22 | K63: =(J63/(J$62+J$63))*K$64 -> 9959.6824 | L63: =(J63/(J$62+J$63))*L$64 -> 0.059419084 | M63: =(J63/(J$62+J$63))*M$64 -> 0.24088818
J64: 193369 | K64: 12403.7 | L64: 0.074 | M64: 0.3
C65: 1600-14-90753 | D65: CT4** | E65: #2 Oli | F65: 66485 | G65: gallons | H65: 139001 | I65: Btu/gal | J65: =(F65*H65)/1000000 -> 9241.4815 | K65: =(J65/(J$65+J$66))*K$67 -> 565.31529 | L65: =(J65/(J$65+J$66))*L$67 -> 0.0037826958 | M65: =(J65/(J$65+J$66))*M$67 -> 0.010316443
E66: Gas | F66: 95208 | G66: scf | H66: 1032 | I66: MMBtu/1E+06 scf | J66: =(F66*H66)/1000 -> 98254.656 | K66: =(J66/(J$65+J$66))*K$67 -> 6010.3847 | L66: =(J66/(J$65+J$66))*L$67 -> 0.040217304 | M66: =(J66/(J$65+J$66))*M$67 -> 0.10968356
J67: 108353 | K67: 6575.7 | L67: 0.044 | M67: 0.12
C68: 1600-14-90754 | D68: CT5** | E68: #2 Oli | F68: 145075 | G68: gallons | H68: 139001 | I68: Btu/gal | J68: =(F68*H68)/1000000 -> 20165.57 | K68: =(J68/(J$68+J$69))*K$70 -> 1167.5516 | L68: =(J68/(J$68+J$69))*L$70 -> 0.0073810337 | M68: =(J68/(J$68+J$69))*M$70 -> 0.020666894
E69: Gas | F69: 179012 | G69: scf | H69: 1032 | I69: MMBtu/1E+06 scf | J69: =(F69*H69)/1000 -> 184740.38 | K69: =(J69/(J$68+J$69))*K$70 -> 10696.148 | L69: =(J69/(J$68+J$69))*L$70 -> 0.067618966 | M69: =(J69/(J$68+J$69))*M$70 -> 0.18933311
J70: 183850 | K70: 11863.7 | L70: 0.075 | M70: 0.21
C71: 1600-14-90755 | D71: CT6** | E71: #2 Oli | F71: 209727 | G71: gallons | H71: 139001 | I71: Btu/gal | J71: =(F71*H71)/1000000 -> 29152.263 | K71: =(J71/(J$71+J$72))*K$73 -> 1960.3415 | L71: =(J71/(J$71+J$72))*L$73 -> 0.012381212 | M71: =(J71/(J$71+J$72))*M$73 -> 0.039568821
E72: Gas | F72: 193249 | G72: scf | H72: 1031 | I72: MMBtu/1E+06 scf | J72: =(F72*H72)/1000 -> 199239.72 | K72: =(J72/(J$71+J$72))*K$73 -> 13397.858 | L72: =(J72/(J$71+J$72))*L$73 -> 0.084618788 | M72: =(J72/(J$71+J$72))*M$73 -> 0.27043118
J73: 242149 | K73: 15358.2 | L73: 0.097 | M73: 0.31
C75: 1600-14-41156 | D75: CE Aux. Boiler 5 | E75: #2 Oli | F75: 661277 | G75: gallons | H75: 139001 | I75: Btu/gal | J75: =(F75*H75)/1000000 -> 91918.164 | K75: 7510 | L75: 0.24 | M75: 0.37
C76: 1600-14-41157 | D76: CE Aux. Boiler 6 | E76: #2 Oli | F76: 761546 | G76: gallons | H76: 139001 | I76: Btu/gal | J76: =(F76*H76)/1000000 -> 105855.66 | K76: 8648 | L76: 0.28 | M76: 0.42
C77: 1600-14-41158 | D77: CE Aux. Boiler 7 | E77: #2 Oli | F77: 390 | G77: gallons | H77: 139001 | I77: Btu/gal | J77: =(F77*H77)/1000000 -> 54.21039 | K77: 4 | L77: 0.00014 | M77: 0.00022
B80: 033-01827 | C80: Chalkpoint -SMECO
C81: 1827-5-074990 | D81: Combustion Turbine | E81: Gas | F81: 90508 | G81: scf | H81: 1032 | I81: Btu/scf | J81: =(F81*H81)/1000 -> 93404.256 | K81: =+J81/(J$81+J$82)*K$83 -> 5476.2034 | L81: =+J81/(J$81+J$82)*L$83 -> 0.090109555 | M81: =+J81/(J$81+J$82)*M$83 -> 0.18021911
E82: #2 Oli | F82: 148903 | G82: gallons | H82: 138464 | I82: Btu/gal | J82: =(F82*H82)/1000000 -> 20617.705 | K82: =+J82/(J$81+J$82)*K$83 -> 1208.7966 | L82: =+J82/(J$81+J$82)*L$83 -> 0.019890445 | M82: =+J82/(J$81+J$82)*M$83 -> 0.03978089
J83: =J81+J82 -> 114021.96 | K83: 6685 | L83: 0.11 | M83: 0.22
B85: 003-0014 | C85: HERBERT A WAGNER
C86: 4-0307 | D86: Unit 1 | E86: Gas | F86: 443 | G86: 10E+06scf | H86: 1027 | I86: MMBTU/ 10E+06 scf | J86: =(F86*H86)/1000 -> 454.961
J87: 503736 | K87: 29944 | L87: 0.5 | M87: 0.49
C88: 4-0308 | D88: Unit 2 | E88: S-Gas | F88: 43 | G88: 10E+06 scf | H88: 1027 | I88: MMBTU/ 10E+06 scf | J88: =(F88*H88) -> 44161 | K88: =(J88/(J$88+J$89))*K$90 -> 4841.734 | L88: =(J88/(J$88+J$89))*L$90 -> 0.036544285 | M88: =(J88/(J$88+J$89))*M$90 -> 0.027773656
D89: Unit 2 | E89: P-Coal | F89: 199564 | G89: tons | H89: 24 | I89: MMBtu/ tons | J89: =(F89*H89) -> 4789536 | K89: =(J89/(J$88+J$89))*K$90 -> 525116.27 | L89: =(J89/(J$88+J$89))*L$90 -> 3.9634557 | M89: =(J89/(J$88+J$89))*M$90 -> 3.0122263
J90: 5165299 | K90: 529958 | L90: 4 | M90: 3.04
C91: 3-0003 | D91: Unit 3 | E91: S-Gas | F91: 72 | G91: 10E+06 scf | H91: 1027 | I91: MMBTU/ 10E+06 scf | J91: =(F91*H91) -> 73944 | K91: =J91/(J$91+J$92)*K$93 -> 7697.2766 | L91: =J91/(J$91+J$92)*L$93 -> 0.061722301 | M91: =J91/(J$91+J$92)*M$93 -> 0.04642305
D92: Unit 3 | E92: P-Coal | F92: 466140 | G92: tons | H92: 24 | I92: MMBtu/ tons | J92: =(F92*H92) -> 11187360 | K92: =J92/(J$91+J$92)*K$93 -> 1164559.7 | L92: =J92/(J$91+J$92)*L$93 -> 9.3382777 | M92: =J92/(J$91+J$92)*M$93 -> 7.0235769
J93: 11425504 | K93: 1172257 | L93: 9.4 | M93: 7.07
C94: 4-0017 | D94: Boiler 2 (Unit 4) | E94: S-Gas | F94: 9 | G94: 10E+06 scf | H94: 1027 | I94: MMBTU/ 10E+06 scf | J94: =(F94*H94) -> 9243 | K94: =(J94/(J94+J95))*K96 -> 737.03881 | L94: =(J94/(J94+J95))*L96 -> 0.0078436198 | M94: =(J94/(J94+J95))*M96 -> 0.015948694
D95: Boiler 2 (Unit 4) | E95: P-No.6 Oil | F95: 2280 | G95: 10E+03 gallons | H95: 151 | I95: MMBTU/10E+03 gallons | J95: =(F95*H95) -> 344280 | K95: =(J95/(J94+J95))*K96 -> 27452.961 | L95: =(J95/(J94+J95))*L96 -> 0.29215638 | M95: =(J95/(J95+J94))*M96 -> 0.59405131
J96: 348684 | K96: 28190 | L96: 0.3 | M96: 0.61
C98: 4-0007 | D98: CT | E98: No.2 Oil | F98: 44 | G98: 10E03 gallons | H98: 139 | I98: MMBTU/10E+03 gallons | J98: =(F98*H98) -> 6116 | K98: 478.5 | L98: 0 | M98: 0.01
B100: 024-025-0024 | C100: Perryman
C101: 5-0088 | D101: Unit 51 CT | E101: Gas | F101: 393000000 | G101: scf | H101: 1027 | I101: MMBTU/ 10E+06 scf | J101: =(F101*H101)/1000000 -> 403611 | K101: =(+J101/(J$101+J$102))*K$103 -> 26536.398 | L101: =(+J101/(J$101+J$102))*L$103 -> 1.2524943 | M101: =(+J101/(J$101+J$102))*M$103 -> 0.527366
D102: Unit 51 CT | E102: No.2 Oil | F102: 1512000 | G102: gallons | H102: 138 | I102: MMBTU/10E+03 gallons | J102: =(F102*H102)/1000 -> 208656 | K102: =(+J102/(J$101+J$102))*K$103 -> 13718.602 | L102: =(+J102/(J$101+J$102))*L$103 -> 0.64750575 | M102: =(+J102/(J$101+J$102))*M$103 -> 0.272634
J103: =J101+J102 -> 612267 | K103: 40255 | L103: 1.9 | M103: 0.8
C105: 4-0081 | D105: Unit 1 CT | E105: No.2 Oil | F105: 533000 | G105: gallons | H105: 138 | I105: MMBTU/10E+03 gallons | J105: =(F105*H105)/1000 -> 73554 | K105: 5773 | L105: 0.06 | M105: 0.07
C107: 4-0082 | D107: Unit 2 CT | E107: No.2 Oil | F107: 517000 | G107: gallons | H107: 138 | I107: MMBTU/10E+03 gallons | J107: =(F107*H107)/1000 -> 71346 | K107: 5603 | L107: 0.06 | M107: 0.07
C109: 4-0083 | D109: Unit 3 CT | E109: No.2 Oil | F109: 611000 | G109: gallons | H109: 138 | I109: MMBTU/10E+03 gallons | J109: =(F109*H109)/1000 -> 84318 | K109: 6619 | L109: 0.07 | M109: 0.08
C111: 4-0084 | D111: Unit 4 CT | E111: No.2 Oil | F111: 232000 | G111: gallons | H111: 138 | I111: MMBTU/10E+03 gallons | J111: =(F111*H111)/1000 -> 32016 | K111: 2509 | L111: 0.03 | M111: 0.03
B113: 043-0005 | C113: R P SMITH
C114: 043-0005-3-0005 | D114: Unit 3 (9) | E114: Coal | F114: 6836 | G114: tons | H114: 11260 | I114: Btu/lb | J114: =(F114*H114*2000)/1000000 -> 153946.72 | K114: =(+J114/(J$114+J$115))*K$116 -> 18404.817 | L114: =(+J114/(J$114+J$115))*L$116 -> 0.096204158 | M114: =(+J114/(J$114+J$115))*M$116 -> 0.096204158
E115: #2 Oil | F115: 43079 | G115: gallons | H115: 141000 | I115: Btu/ gal | J115: =(F115*H115)/1000000 -> 6074.139 | K115: =(+J115/(J$114+J$115))*K$116 -> 726.18254 | L115: =(+J115/(J$114+J$115))*L$116 -> 0.003795842 | M115: =(+J115/(J$114+J$115))*M$116 -> 0.003795842
J116: 186474 | K116: 19131 | L116: 0.1 | M116: 0.1
C117: 043-0005-3-0006 | D117: Unit 4 (11) | E117: Coal | F117: 39204 | G117: tons | H117: 11260 | I117: Btu/lb | J117: =(F117*H117*2000)/1000000 -> 882874.08 | K117: =(+J117/(J117+J118))*K119 -> 87436.226 | L117: =(+J117/(J117+J118))*L119 -> 0.78595244 | M117: =(+J117/(J117+J118))*M119 -> 1.5719049
E118: #2 Oil | F118: 111914 | G118: gallons | H118: 141000 | I118: Btu/ gal | J118: =(F118*H118)/1000000 -> 15779.874 | K118: =(+J118/(J117+J118))*K119 -> 1562.774 | L118: =(+J118/(J117+J118))*L119 -> 0.014047564 | M118: =(+J118/(J117+J118))*M119 -> 0.028095129
J119: 867431 | K119: 88999 | L119: 0.8 | M119: 1.6
B121: 005-0078 | C121: Riverside
C122: 4-1363 | D122: Combustion Turbine # 6 | E122: Gas | F122: 20000000 | G122: scf | H122: 1020 | I122: MMBTU/10E+06 scf | J122: =(F122*H122)/1000000 -> 20400 | K122: 751 | L122: 0.087 | M122: 0.03
C124: 4-1082 | D124: Boiler #4 | E124: Gas | F124: 220000000 | G124: scf | H124: 1020 | I124: MMBTU/10E+06 scf | J124: =(F124*H124)/1000000 -> 224400 | K124: 13289 | L124: 0.252 | M124: 0.24
C126: 4-0658 | D126: Combustion Turbine # 7 | E126: #2 Oil | F126: 97000 | G126: gallons | H126: 139 | I126: MMBTU/10E+03 gallons | J126: =(F126*H126)/1000 -> 13483 | K126: 1060 | L126: 0.01 | M126: 0.01
C128: 4-0659 | D128: Combustion Turbine #8 | E128: #2 Oil | F128: 105000 | G128: gallons | H128: 139 | I128: MMBTU/10E+03 gallons | J128: =(F128*H128)/1000 -> 14595 | K128: 1150 | L128: 0.011 | M128: 0.01
B130: 019-0013 | C130: Vienna Generating Station
C131: 4-0065-70 | D131: Unit 8 | E131: #6 Oil | F131: 1482332 | G131: gallons | H131: 152352 | I131: Btu/gallons | J131: =F131*H131/1000000 -> 225836.24 | K131: =J131/J133*K133 -> 17360.297 | L131: =J131/J133*L133 -> 0.20095151 | M131: =J131/J133*M133 -> 0.37319566
E132: #2 Oil | F132: 72528 | G132: gallons | H132: 140208 | I132: Btu/gallons | J132: =F132*H132/1000000 -> 10169.006 | K132: =J132/J133*K133 -> 781.70339 | L132: =J132/J133*L133 -> 0.0090484903 | M132: =J132/J133*M133 -> 0.016804339
...

Sheet Severstal
D2: POWER BOILERS (Severstal) 2011
E4: 2011 | I4: Emissions
E5: # 6 Oil | F5: BFG | G5: NG | H5: Total | I5: (short tons)
E6: (gal) | F6: (scf) | G6: (mcf)
D7: Qty | E7: 1039 | F7: 13373 | G7: 412
D8: btus/unit
C9: Pennwood #1 | D9: mmbtus | E9: 158 | F9: 1163447 | G9: 428257 | H9: =SUM(E9:G9) -> 1591862
D11: CO2 emissions in metric tons | E11: 3.4 | F11: 332077.6 | G11: 22696.1 | H11: =(E11+F11+G11) -> 354777.1 | I11: =H11*1.1023 -> 391070.8
D12: CH4 emissions in metric tons | E12: 0 | F12: 0.03 | G12: 0.43 | H12: =(E12+F12+G12) -> 0.46 | I12: =H12*1.1023 -> 0.507058
D13: N2O emissions in metric tons | E13: 0 | F13: 0.13 | G13: 0.043 | H13: =(E13+F13+G13) -> 0.173 | I13: =H13*1.1023 -> 0.1906979
E15: # 6 Oil | F15: BFG | G15: NG
E16: (gal) | F16: (scf) | G16: (mcf)
D17: Qty | E17: 538 | F17: 16027 | G17: 640
D18: btus/unit
C19: Pennwood #2 | D19: mmbtus | E19: 82 | F19: 1394381 | G19: 666042 | H19: =SUM(E19:G19) -> 2060505
D21: CO2 emissions in metric tons | E21: 1.8 | F21: 402051.9 | G21: 35299.6 | H21: =(E21+F21+G21) -> 437353.3 | I21: =H21*1.1023 -> 482094.54
D22: CH4 emissions in metric tons | E22: 0 | F22: 0.03 | G22: 0.67 | H22: =(E22+F22+G22) -> 0.7 | I22: =H22*1.1023 -> 0.77161
D23: N2O emissions in metric tons | E23: 0 | F23: 0.158 | G23: 0.067 | H23: =(E23+F23+G23) -> 0.225 | I23: =H23*1.1023 -> 0.2480175
E25: # 6 Oil | F25: BFG | G25: NG
E26: (gal) | F26: (scf) | G26: (mcf)
D27: Qty | F27: 11025 | G27: 818
D28: btus/unit
C29: Pennwood #3 | D29: mmbtus | F29: 959161 | G29: 850818 | H29: =SUM(E29:G29) -> 1809979
D31: CO2 emissions in metric tons | E31: 0 | F31: 280034.7 | G31: 45101.2 | H31: =(E31+F31+G31) -> 325135.9 | I31: =H31*1.1023 -> 358397.3
D32: CH4 emissions in metric tons | E32: 0 | F32: 0.02 | G32: 0.85 | H32: =(E32+F32+G32) -> 0.87 | I32: =H32*1.1023 -> 0.959001
D33: N2O emissions in metric tons | E33: 0 | F33: 0.11 | G33: 0.085 | H33: =(E33+F33+G33) -> 0.195 | I33: =H33*1.1023 -> 0.2149485
E35: # 6 Oil | F35: BFG | G35: NG
E36: (gal) | F36: (scf) | G36: (mcf)
D37: Qty | E37: 2238 | F37: 6297 | G37: 388
D38: btus/unit
C39: Pennwood #4 | D39: mmbtus | E39: 340 | F39: 547854 | G39: 403783 | H39: =SUM(E39:G39) -> 951977
D41: CO2 emissions in metric tons | E41: 12.5 | F41: 156972.9 | G41: 21414.5 | H41: =(E41+F41+G41) -> 178399.9 | I41: =H41*1.1023 -> 196650.21
D42: CH4 emissions in metric tons | E42: 0 | F42: 0.01 | G42: 0.4 | H42: =(E42+F42+G42) -> 0.41 | I42: =H42*1.1023 -> 0.451943
D43: N2O emissions in metric tons | E43: 0 | F43: 0.062 | G43: 0.04 | H43: =(E43+F43+G43) -> 0.102 | I43: =H43*1.1023 -> 0.1124346
E46: # 6 Oil | F46: BFG | G46: NG
D47: Summary Fossil Fuel Combustion | E47: (gal) | F47: (scf) | G47: (mcf)
E48: =E7+E17+E27+E37 -> 3815 | F48: =F7+F17+F27+F37 -> 46722 | G48: =G7+G17+G27+G37 -> 2258
D53: MMBTU | E53: CO2 Emission | F53: CO2 Emission | G53: CO2 Emission | I53: Global Warming Potential
E54: (short tons) | F54: (metric tons) | G54: (MMTCO2)
I55: CO2_GWP= | J55: =Summary!E4 -> 1
C56: Coal | D56: =0 -> 0 | E56: =0 -> 0 | F56: =0 -> 0 | G56: =0 -> 0 | I56: CH4_GWP = | J56: =Summary!E5 -> 27.9
I57: N2O_GWP= | J57: =Summary!E6 -> 273
C58: Petroleum | D58: =E9+E19+E29+E39 -> 580 | E58: =F58*1.1023 -> 19.51071 | F58: =E11+E21+E31+E41 -> 17.7 | G58: =F58/1000000 -> 1.77e-05 | I58: SF6_GWP = | J58: =Summary!E7 -> 24300
C60: Natural Gas | D60: =F9+G9+F19+G19+F29+G29+F39+G39 -> 6413743 | E60: =F60*1.1023 -> 1428193.3 | F60: =F11+G11+F21+G21+F31+G31+F41+G41 -> 1295648.5 | G60: =F60/1000000 -> 1.2956485
C62: Total | D62: =SUM(D56:D61) -> 6414323 | E62: =E56+E58+E60 -> 1428212.9 | F62: =F56+F58+F60 -> 1295666.2 | G62: =F62/1000000 -> 1.2956662
D67: MMBTU | E67: CH4 Emission | F67: CH4 Emission | G67: CH4 Emission
E68: (short tons) | F68: (metric tons) | G68: (MMTCO2)
C70: Coal | D70: 0 | E70: =0 -> 0 | F70: =0 -> 0 | G70: =0 -> 0
C72: Petroleum | D72: 580 | E72: =F72*1.1023 -> 0 | F72: =E12+E22+E32+E42 -> 0 | G72: =(F72/1000000)*$J$56 -> 0
C74: Natural Gas | D74: 6413743 | E74: =F74*1.1023 -> 2.689612 | F74: =G12+F12+G22+F22+G32+F32+G42+F42 -> 2.44 | G74: =(F74/1000000)*$J$56 -> 6.8076e-05
C76: Total | D76: 6414323 | E76: =E70+E72+E74 -> 2.689612 | F76: =E76*0.9072 -> 2.440016 | G76: =(F76/1000000)*$J$56 -> 6.8076447e-05
D80: MMBTU | E80: N2O Emission | F80: N2O Emission | G80: N2O Emission
E81: (short tons) | F81: (metric tons) | G81: (MMTCO2)
C83: Coal | D83: 0 | E83: =0 -> 0 | F83: =0 -> 0 | G83: =0 -> 0
C85: Petroleum | D85: 580 | E85: =F85*1.1023 -> 0 | F85: =E13+E23+E33+E43 -> 0 | G85: =(F85/1000000)*$J$57 -> 0
C87: Natural Gas | D87: 6413743 | E87: =F87*1.1023 -> 0.7660985 | F87: =G13+F13+G23+F23+G33+F33+G43+F43 -> 0.695 | G87: =(F87/1000000)*$J$57 -> 0.000189735
C89: Total | D89: 6414323 | E89: =E83+E85+E87 -> 0.7660985 | F89: =E89*0.9072 -> 0.69500456 | G89: =(F89/1000000)*$J$57 -> 0.00018973624

Sheet Luke
G3: kg/mmBTU
C4: POWER BOILERS (LUKE) 2011 | F4: CO2 | G4: CEM | H4: CEM | I4: CEM | J4: CEM | K4: CEM
F5: CH4 | G5: 0.011 | H5: 0.003 | I5: 0.003 | J5: 0.001 | K5: 0.032
F6: N2O | G6: 0.0016 | H6: 0.0006 | I6: 0.006 | J6: 0.001 | K6: 0.0042
G7: Coal | H7: Oil(2,4) | I7: Oil(6) | J7: Gas | K7: Biomass
D10: 2011 | I10: Total | J10: % of Heat | K10: Share
D11: Coal | E11: # 2 Oil | F11: # 4 Oil | G11: Biomass | H11: NG
D12: (tons) | E12: (gal) | F12: (gal) | G12: (tons) | H12: (mcf)
C14: Qty | D14: 425900 | E14: 47886 | F14: 487145 | G14: 5518 | H14: 196372000
C15: btus/unit | D15: 10862 | E15: 141324 | F15: 140001 | G15: 4643 | H15: 1053
C16: mmbtus | D16: =+D14*D15*2000/1000000 -> 9252251.6 | E16: =+E14*E15/1000000 -> 6767.4411 | F16: =+F14*F15/1000000 -> 68200.787 | G16: =+G14*G15*2000/1000000 -> 51240.148 | H16: =+H14*H15/1000000 -> 206779.72 | I16: =SUM(D16:H16) -> 9585239.7
C18: CO2 emissions (short tons) | D18: =(+D$16/I$16)*K18 -> 358790.15 | E18: =(+E$16/I$16)*K18 -> 262.43246 | F18: =(+F$16/I$16)*K18 -> 2644.7368 | G18: =(+G$16/I$16)*K18 -> 1987.0255 | H18: =(+H$16/I$16)*K18 -> 8018.6454 | I18: 962604 | J18: 0.3861432 | K18: =I18*J18 -> 371702.99
B19: No. 24 | C19: CH4 emissions (short tons) | D19: =(+D$16/I$16)*K19 -> 42.647822 | E19: =(+E$16/I$16)*K19 -> 0.031194204 | F19: =(+F$16/I$16)*K19 -> 0.31436835 | G19: =(+G$16/I$16)*K19 -> 0.23618907 | H19: =(+H$16/I$16)*K19 -> 0.95314145 | I19: 114.42054 | J19: 0.3861432 | K19: =I19*J19 -> 44.182715
C20: N2O emissions (short tons) | D20: =(+D$16/I$16)*K20 -> 6.2790135 | E20: =(+E$16/I$16)*K20 -> 0.0045927041 | F20: =(+F$16/I$16)*K20 -> 0.046284265 | G20: =(+G$16/I$16)*K20 -> 0.034773977 | H20: =(+H$16/I$16)*K20 -> 0.14033045 | I20: 16.846069 | J20: 0.3861432 | K20: =I20*J20 -> 6.5049949
C22: CO2 emissions (short tons) | D22: =(+D$16/I$16)*K22 -> 559374.05 | E22: =(+E$16/I$16)*K22 -> 409.14699 | F22: =(+F$16/I$16)*K22 -> 4123.2937 | G22: =(+G$16/I$16)*K22 -> 3097.8848 | H22: =(+H$16/I$16)*K22 -> 12501.52 | I22: 962604 | J22: 0.602019 | K22: =I22*J22 -> 579505.9
B23: No. 25 | C23: CH4 emissions (short tons) | D23: =(+D$16/I$16)*K23 -> 66.490357 | E23: =(+E$16/I$16)*K23 -> 0.048633521 | F23: =(+F$16/I$16)*K23 -> 0.49011796 | G23: =(+G$16/I$16)*K23 -> 0.36823207 | H23: =(+H$16/I$16)*K23 -> 1.4860012 | I23: 114.42054 | J23: 0.602019 | K23: =I23*J23 -> 68.883342
C24: N2O emissions (short tons) | D24: =(+D$16/I$16)*K24 -> 9.7893357 | E24: =(+E$16/I$16)*K24 -> 0.0071602844 | F24: =(+F$16/I$16)*K24 -> 0.072159776 | G24: =(+G$16/I$16)*K24 -> 0.054214588 | H24: =(+H$16/I$16)*K24 -> 0.21878308 | I24: 16.846069 | J24: 0.602019 | K24: =I24*J24 -> 10.141653
C26: CO2 emissions (short tons) | D26: =(+D$16/I$16)*K26 -> 11001.295 | E26: =(+E$16/I$16)*K26 -> 8.0467567 | F26: =(+F$16/I$16)*K26 -> 81.093449 | G26: =(+G$16/I$16)*K26 -> 60.926575 | H26: =(+H$16/I$16)*K26 -> 245.86931 | I26: 962604 | J26: 0.01184 | K26: =I26*J26 -> 11397.231
B27: No. 26 | C27: CH4 emissions (short tons) | D27: =(+D$16/I$16)*K27 -> 1.307676 | E27: =(+E$16/I$16)*K27 -> 0.00095648291 | F27: =(+F$16/I$16)*K27 -> 0.0096392251 | G27: =(+G$16/I$16)*K27 -> 0.0072420765 | H27: =(+H$16/I$16)*K27 -> 0.029225414 | I27: 114.42054 | J27: 0.01184 | K27: =I27*J27 -> 1.3547392
C28: N2O emissions (short tons) | D28: =(+D$16/I$16)*K28 -> 0.19252837 | E28: =(+E$16/I$16)*K28 -> 0.00014082241 | F28: =(+F$16/I$16)*K28 -> 0.0014191774 | G28: =(+G$16/I$16)*K28 -> 0.0010662466 | H28: =(+H$16/I$16)*K28 -> 0.0043028403 | I28: 16.846069 | J28: 0.01184 | K28: =I28*J28 -> 0.19945745
D33: MMBTU | E33: CO2 Emission | F33: CO2 Emission | G33: CO2 Emission | I33: Global Warming Potential
E34: (short tons) | F34: (metric tons) | G34: (MMTCO2)
I35: CO2_GWP= | J35: =Summary!E4 -> 1
C36: Coal | D36: =+D16+G16 -> 9303491.7 | E36: =+D18+G18+D22+G22+D26+G26 -> 934311.33 | F36: =E36*0.90718474 -> 847592.98 | G36: =F36/1000000 -> 0.84759298 | I36: CH4_GWP = | J36: =Summary!E5 -> 27.9
I37: N2O_GWP= | J37: =Summary!E6 -> 273
C38: Petroleum | D38: =+E16+F16 -> 74968.228 | E38: =+E18+F18+E22+F22+E26+F26 -> 7528.7502 | F38: =E38*0.90718474 -> 6829.9673 | G38: =F38/1000000 -> 0.0068299673 | I38: SF6_GWP = | J38: =Summary!E7 -> 24300
C40: Natural Gas | D40: =+H16 -> 206779.72 | E40: =+H18+H22+H26 -> 20766.035 | F40: =E40*0.90718474 -> 18838.63 | G40: =F40/1000000 -> 0.01883863
C42: Total | D42: =SUM(D36:D41) -> 9585239.7 | E42: =SUM(E36:E41) -> 962606.12 | F42: =SUM(F36:F41) -> 873261.58 | G42: =SUM(G36:G41) -> 0.87326158
D47: MMBTU | E47: CH4 Emission | F47: CH4 Emission | G47: CH4 Emission
E48: (short tons) | F48: (metric tons) | G48: (MMTCO2)
C50: Coal | D50: =+D16+G16 -> 9303491.7 | E50: =+D19+G19+D23+G23+D27+G27 -> 111.05752 | F50: =E50*0.90718474 -> 100.74969 | G50: =(+F50*$J$36)/1000000 -> 0.0028109162
C52: Petroleum | D52: =+E16+F16 -> 74968.228 | E52: =+E19+F19+E23+F23+E27+F27 -> 0.89490974 | F52: =E52*0.90718474 -> 0.81184846 | G52: =(+F52*$J$36)/1000000 -> 2.2650572e-05
C54: Natural Gas | D54: =+H16 -> 206779.72 | E54: =+H19+H23+H27 -> 2.4683681 | F54: =E54*0.90718474 -> 2.2392659 | G54: =(+F54*$J$36)/1000000 -> 6.2475517e-05
C56: Total | E56: =SUM(E50:E55) -> 114.4208 | F56: =SUM(F50:F55) -> 103.8008 | G56: =SUM(G50:G55) -> 0.0028960423
D60: MMBTU | E60: N2O Emission | F60: N2O Emission | G60: N2O Emission
E61: (short tons) | F61: (metric tons) | G61: (MMTCO2)
C63: Coal | D63: =+D16+G16 -> 9303491.7 | E63: =+D20+G20+D24+G24+D28+G28 -> 16.350932 | F63: =E63*0.90718474 -> 14.833316 | G63: =(+F63*$J$37)/1000000 -> 0.0040494954
C65: Petroleum | D65: =+E16+F16 -> 74968.228 | E65: =+E20+F20+E24+F24+E28+F28 -> 0.13175703 | F65: =E65*0.90718474 -> 0.11952797 | G65: =(+F65*$J$37)/1000000 -> 3.2631135e-05
C67: Natural Gas | D67: =+H16 -> 206779.72 | E67: =+H20+H24+H28 -> 0.36341636 | F67: =E67*0.90718474 -> 0.32968578 | G67: =(+F67*$J$37)/1000000 -> 9.0004218e-05
C69: Total | D69: =SUM(D63:D68) -> 9585239.7 | E69: =SUM(E63:E68) -> 16.846106 | F69: =SUM(F63:F68) -> 15.28253 | G69: =SUM(G63:G68) -> 0.0041721307

Sheet Imported Electricity
A1: Electric Consumption (Imported Electricity) Emissions for Maryland
E3: Fuel Consumption For Electricity Generation
C5: 1991 | D5: 1992 | E5: 1993 | F5: 1994 | G5: 1995 | H5: 1996 | I5: 1997 | J5: 1998 | K5: 1999 | L5: 2000 | M5: 2001 | N5: 2002 | O5: 2003 | P5: 2004 | Q5: 2005 | R5: 2006 | S5: 2007 | T5: 2008 | U5: 2009 | V5: 2010 | W5: 2011
B7: Coal (Short Tons) | L7: 11420038 | M7: 11135140 | N7: 11364983 | O7: 11852129 | P7: 11608446 | Q7: 11745248 | R7: 11687603 | S7: 11937518 | T7: 11098391 | U7: 9846698 | V7: 9885858 | W7: 9003261
B8: Petroleum (Barrels) | L8: 4143417 | M8: 5514960 | N8: 4108104 | O8: 6164252 | P8: 5672819.2 | Q8: 6574936.7 | R8: 1050222 | S8: 1790746 | T8: 791418 | U8: 624050 | V8: 658767 | W8: 438683
B9: Natural Gas (Mcf) | L9: 29023288 | M9: 17985486 | N9: 22627073 | O9: 11162538 | P9: 9994238 | Q9: 18619350 | R9: 16620796 | S9: 21481869 | T9: 17563616 | U9: 15742992 | V9: 28629884 | W9: 21840074
B10: Other Gases (MMBTU) | L10: 758 | M10: 7537 | N10: 9278 | O10: 6717 | P10: 5127.03 | Q10: 4266.24 | R10: 4141.31 | S10: 4703.42 | T10: 4194.02 | U10: 3340 | V10: 2663 | W10: 1921
E14: MD In-State Gross Generation (MWh)
C16: 1991 | D16: 1992 | E16: 1993 | F16: 1994 | G16: 1995 | H16: 1996 | I16: 1997 | J16: 1998 | K16: 1999 | L16: 2000 | M16: 2001 | N16: 2002 | O16: 2003 | P16: 2004 | Q16: 2005 | R16: 2006 | S16: 2007 | T16: 2008 | U16: 2009 | V16: 2010 | W16: 2011
B17: Coal | C17: 22835671 | D17: 23850470 | E17: 25126979 | F17: 25624758 | G17: 27595256 | H17: 27992005 | I17: 27620925 | J17: 29294727 | K17: 29687655 | L17: 29451065 | M17: 28379409 | N17: 28712053 | O17: 29939086 | P17: 29195458 | Q17: 29302792 | R17: 29408022 | S17: 29699186 | T17: 27218239 | U17: 24162345 | V17: 23668204 | W17: 21186919
B18: Petroleum | C18: 4078506 | D18: 2749511 | E18: 4164790 | F18: 4275226 | G18: 1479469 | H18: 1472027 | I18: 1565010 | J18: 3454350 | K18: 4290788 | L18: 2388595 | M18: 3021639 | N18: 2282432 | O18: 3572183 | P18: 3296842 | Q18: 3805569 | R18: 580726 | S18: 984831 | T18: 405840 | U18: 329901 | V18: 322438 | W18: 219804
B19: Natural Gas | C19: 1517463 | D19: 1077542 | E19: 772304 | F19: 1172042 | G19: 1548884 | H19: 987627 | I19: 1412585 | J19: 1990596 | K19: 2125193 | L19: 2852876 | M19: 1760812 | N19: 2214431 | O19: 1195642 | P19: 1183301 | Q19: 1886986 | R19: 1770206 | S19: 2240927 | T19: 1848147 | U19: 1767844 | V19: 2896978 | W19: 2236976
B20: Other Gases | C20: 478704 | D20: 506572 | E20: 475788 | F20: 501762 | G20: 685721 | H20: 539335 | I20: 564036 | J20: 82316 | K20: 59891 | L20: 74572 | M20: 439980 | N20: 504513 | O20: 325355 | P20: 411565 | Q20: 342466 | R20: 332444 | S20: 377560 | T20: 337823 | U20: 269182 | V20: 214727 | W20: 154641
B21: Nuclear | C21: 9036100 | D21: 10663950 | E21: 12300816 | F21: 11235408 | G21: 12937971 | H21: 12092768 | I21: 13212967 | J21: 13330598 | K21: 13312335 | L21: 13827243 | M21: 13656267 | N21: 12128005 | O21: 13690713 | P21: 14580260 | Q21: 14703221 | R21: 13830411 | S21: 14353192 | T21: 14678695 | U21: 14550119 | V21: 13993948 | W21: 14397437
B22: Hydroelectric Conventional | C22: 1407287 | D22: 1824659 | E22: 1658271 | F22: 2009536 | G22: 1442006 | H22: 2457463 | I22: 1588375 | J22: 1739737 | K22: 1424197 | L22: 1732619 | M22: 1183518 | N22: 1660989 | O22: 2646984 | P22: 2507521 | Q22: 1703639 | R22: 2104275 | S22: 1652216 | T22: 1974078 | U22: 1888769 | V22: 1667397 | W22: 2540908
B23: Wind | V23: 1494 | W23: 319254
B24: Solar Thermal and Photovoltaic | V24: 80 | W24: 2070
B25: Wood and Wood Derived Fuels | C25: 160602 | D25: 174801 | E25: 175122 | F25: 168822 | G25: 175144 | H25: 167554 | I25: 155906 | J25: 155647 | K25: 171088 | L25: 179580 | M25: 11939 | N25: 182904 | O25: 225240 | P25: 192384 | Q25: 205985 | R25: 218066 | S25: 203097 | T25: 197704 | U25: 175058 | V25: 164688 | W25: 167437
B26: Other Biomass | C26: 336551 | D26: 329854 | E26: 303818 | F26: 352064 | G26: 501192 | H26: 565838 | I26: 587592 | J26: 605046 | K26: 614474 | L26: 638830 | M26: 361076 | N26: 338727 | O26: 370811 | P26: 396824 | Q26: 417380 | R26: 408095 | S26: 400364 | T26: 414781 | U26: 375721 | V26: 407402 | W26: 420114
B27: Other | M27: 247700 | N27: 255034 | O27: 278224 | P27: 288616 | Q27: 293561 | R27: 304635 | S27: 286550 | T27: 285645 | U27: 255893 | V27: 269907 | W27: 267727
B28: Total | C28: 39850884 | D28: 41177359 | E28: 44977888 | F28: 45339618 | G28: 46365643 | H28: 46274617 | I28: 46707396 | J28: 50653017 | K28: 51685621 | L28: 51145380 | M28: 49062340 | N28: 48279088 | O28: 52244237 | P28: 52052770 | Q28: 52661600 | R28: 48956880 | S28: 50197924 | T28: 47360953 | U28: =SUM(U17:U27) -> 43774832 | V28: 43607266 | W28: =SUM(W17:W27) -> 41913287
C30: MD -Electricity Losses (MWh) (Transmission and Distribution) Assume 6.25 %
C32: 1991 | D32: 1992 | E32: 1993 | F32: 1994 | G32: 1995 | H32: 1996 | I32: 1997 | J32: 1998 | K32: 1999 | L32: 2000 | M32: 2001 | N32: 2002 | O32: 2003 | P32: 2004 | Q32: 2005 | R32: 2006 | S32: 2007 | T32: 2008 | U32: 2009 | V32: 2010 | W32: 2011
B33: T &D Losses | C33: =C28*0.0625 -> 2490680.2 | D33: =D28*0.0625 -> 2573584.9 | E33: =E28*0.0625 -> 2811118 | F33: =F28*0.0625 -> 2833726.1 | G33: =G28*0.0625 -> 2897852.7 | H33: =H28*0.0625 -> 2892163.6 | I33: =I28*0.0625 -> 2919212.2 | J33: =J28*0.0625 -> 3165813.6 | ... W33: =W28*0.0625 -> 2619580.4
C36: Net MD In-State Electricity Generation (MWh) = MD In-State Electricity Generated - T &D Losses
C39: 1991 | D39: 1992 | E39: 1993 | F39: 1994 | G39: 1995 | H39: 1996 | I39: 1997 | J39: 1998 | K39: 1999 | L39: 2000 | M39: 2001 | N39: 2002 | O39: 2003 | P39: 2004 | Q39: 2005 | R39: 2006 | S39: 2007 | T39: 2008 | U39: 2009 | V39: 2010 | W39: 2011
B40: Net In -State Generated Electricity | C40: =C28-C33 -> 37360204 | D40: =D28-D33 -> 38603774 | E40: =E28-E33 -> 42166770 | F40: =F28-F33 -> 42505892 | G40: =G28-G33 -> 43467790 | H40: =H28-H33 -> 43382453 | I40: =I28-I33 -> 43788184 | J40: =J28-J33 -> 47487203 | ... W40: =W28-W33 -> 39293707
C43: Electricity Consumption (MWh) (MD Retail Sales)
C45: 1991 | D45: 1992 | E45: 1993 | F45: 1994 | G45: 1995 | H45: 1996 | I45: 1997 | J45: 1998 | K45: 1999 | L45: 2000 | M45: 2001 | N45: 2002 | O45: 2003 | P45: 2004 | Q45: 2005 | R45: 2006 | S45: 2007 | T45: 2008 | U45: 2009 | V45: 2010 | W45: 2011
B46: Residential | C46: 20295448 | D46: 19762032 | E46: 21546122 | F46: 21666119 | G46: 22233807 | H46: 22985772 | I46: 21936662 | J46: 22406855 | K46: 23342423 | L46: 24294096 | M46: 25489053 | N46: 26671274 | O46: 27951978 | P46: 28439645 | Q46: 26905386 | R46: 28194802 | S46: 27144255 | T46: 26839241 | U46: 26944566 | V46: 28934074 | W46: 27296000
B47: Commercial | C47: 10667414 | D47: 10769686 | E47: 11316964 | F47: 13253588 | G47: 23096405 | H47: 23126094 | I47: 23418552 | J47: 24284167 | K47: 24988489 | L47: 26243614 | M47: 21044289 | N47: 16950347 | O47: 17264135 | P47: 17931771 | Q47: 29729030 | R47: 30691159 | S47: 30002993 | T47: 29755144 | U47: 29806001 | V47: 30771317 | W47: 30750000
B48: Industrial | C48: 19448114 | D48: 19768026 | E48: 20200630 | F48: 19037490 | G48: 10057219 | H48: 10098447 | I48: 10127852 | J48: 10343675 | K48: 9936115 | L48: 10176724 | M48: 20874507 | N48: 27175526 | O48: 21194572 | P48: 21516638 | Q48: 6057030 | R48: 5980358 | S48: 5649943 | T48: 5255976 | U48: 5285833 | V48: 5083115 | W48: 5007000
B49: Transportation | C49: 0 | D49: 0 | E49: 0 | F49: 0 | G49: 0 | H49: 0 | I49: 0 | J49: 0 | K49: 0 | L49: 0 | M49: 0 | N49: 461436 | O49: 481015 | P49: 477331 | Q49: 481697 | R49: 524341 | S49: 528586 | T49: 552743 | U49: 552743 | V49: 546992 | W49: 547000
B50: Others | C50: 696831 | D50: 689042 | E50: 808686 | F50: 794428 | G50: 770615 | H50: 787207 | I50: 781420 | J50: 798935 | K50: 819198 | L50: 925586 | M50: 972057 | N50: 0 | O50: 0 | P50: 0 | Q50: 0 | R50: 0 | S50: 0 | T50: 0 | U50: 0 | V50: 0 | W50: 0
B51: Total Electric Consumption (Mwh) Net | C51: 51107809 | D51: 50988788 | E51: 53872404 | F51: 54751623 | G51: 56158046 | H51: 56997520 | I51: 56264486 | J51: 57833638 | K51: 59086225 | L51: 60677801 | M51: 61640020 | N51: 68379906 | O51: 71258583 | P51: 66891700 | Q51: 68365385 | R51: 63173143 | S51: 65390660 | T51: 63325777 | U51: =SUM(U46:U50) -> 62589143 | V51: =SUM(V46:V50) -> 65335498 | W51: 63600000
B52: Total Electric Consumption (Mwh) Gross | C52: =C51*1.0625 -> 54302047 | D52: =D51*1.0625 -> 54175587 | E52: =E51*1.0625 -> 57239429 | F52: =F51*1.0625 -> 58173599 | G52: =G51*1.0625 -> 59667924 | H52: =H51*1.0625 -> 60559865 | I52: =I51*1.0625 -> 59781016 | J52: =J51*1.0625 -> 61448240 | ... W52: =W51*1.0625 -> 67575000
C56: Electricity Imported (MWh) = MD Gross Retail Sales - Gross In-state Generation
C58: 1991 | D58: 1992 | E58: 1993 | F58: 1994 | G58: 1995 | H58: 1996 | I58: 1997 | J58: 1998 | K58: 1999 | L58: 2000 | M58: 2001 | N58: 2002 | O58: 2003 | P58: 2004 | Q58: 2005 | R58: 2006 | S58: 2007 | T58: 2008 | U58: 2009 | V58: 2010 | W58: 2011
B59: Imported Electricity to Meet MD Demand (MWh) | C59: =C52-C28 -> 14451163 | D59: =D52-D28 -> 12998228 | E59: =E52-E28 -> 12261541 | F59: =F52-F28 -> 12833981 | G59: =G52-G28 -> 13302281 | H59: =H52-H28 -> 14285248 | I59: =I52-I28 -> 13073620 | J59: =J52-J28 -> 10795223 | ... W59: =W52-W28 -> 25661713
E62: GHG Associated with Imported Electricity | I62: CO2 Emission
I63: (short tons)
B64: PJM Average CO2 Emission Rate (lbs/MWh) | I64: =(B66*R59)/2000 -> 10408307
B65: (CO2 Emission Rate of Marginal Units)
B66: 1146
B68: Fuel Type | C68: Coal | D68: Nuclear | E68: Natural Gas | F68: Oil | G68: Hydroelectric | H68: Solid Waste | I68: Wind | J68: Captured CH4 | K68: Biomass | L68: Solar | M68: Wood | N68: Actual Total 2011
B70: PJM Electricity Generation Fuel Mix 2011(%) | C70: 47.4379 | D70: 34.8402 | E70: 13.8479 | F70: 0.3839 | G70: 1.0929 | H70: 0.5331 | I70: 1.4627 | J70: 0.2567 | K70: 0.0002 | L70: 0.0079 | M70: 0.1365 | N70: =SUM(C70:M70) -> 99.9999
B72: Maryland 2011 Import Share (MWh) | C72: =(C70/100)*$W$59 -> 12173378 | D72: =(D70/100)*$W$59 -> 8940592.1 | E72: =(E70/100)*$W$59 -> 3553608.4 | F72: =(F70/100)*$W$59 -> 98515.316 | G72: =(G70/100)*$W$59 -> 280456.86 | H72: =(H70/100)*$W$59 -> 136802.59 | I72: =(I70/100)*$W$59 -> 375353.88 | J72: =(J70/100)*$W$59 -> 65873.617 | ... N72: =(N70/100)*$W$59 -> 25661687
B74: Imported Electric CO2 Emissions Factors (tons/MWh) | C74: 0.94 | E74: 0.44 | F74: 0.88599532 | H74: 1.52 | J74: 0.11
B76: Imported Electric CO2 Emissions (metric tons) | C76: =C72*C74 -> 11442975 | E76: =E72*E74 -> 1563587.7 | F76: =F72*F74 -> 87284.109 | H76: =H72*H74 -> 207939.94 | J76: =J72*J74 -> 7246.0979 | N76: =SUM(C76:M76) -> 13309033
B78: Imported Electric CO2 Emissions (MMTCO2) | C78: =C76/1000000 -> 11.442975 | E78: =E76/1000000 -> 1.5635877 | F78: =F76/1000000 -> 0.087284109 | H78: =H76/1000000 -> 0.20793994 | J78: =J76/1000000 -> 0.0072460979 | N78: =SUM(C78:M78) -> 13.309033
E83: Imported Electricity Emissions (MMTCO2E)
C85: 1991 | D85: 1992 | E85: 1993 | F85: 1994 | G85: 1995 | H85: 1996 | I85: 1997 | J85: 1998 | K85: 1999 | L85: 2000 | M85: 2001 | N85: 2002 | O85: 2003 | P85: 2004 | Q85: 2005 | R85: 2006 | S85: 2007 | T85: 2008 | U85: 2009 | V85: 2010 | W85: 2011
B86: Imported Electricity to Meet MD Demand (MWh) | C86: =(C59*$B$66/2204.62)/1000000 -> 7.5119671 | D86: =(D59*$B$66/2204.62)/1000000 -> 6.7567062 | E86: =(E59*$B$66/2204.62)/1000000 -> 6.3737634 | F86: =(F59*$B$66/2204.62)/1000000 -> 6.6713278 | G86: =(G59*$B$66/2204.62)/1000000 -> 6.914758 | H86: =(H59*$B$66/2204.62)/1000000 -> 7.4257215 | I86: =(I59*$B$66/2204.62)/1000000 -> 6.7958963 | J86: =(J59*$B$66/2204.62)/1000000 -> 5.6115457 | ... W86: =(W59*$B$66/2204.62)/1000000 -> 13.339407
R87: =N78 -> 13.309033

Sheet Residential
A2: Residential Consumption and CO2 Emissions in Maryland
B5: Residential Sector CO2 | E5: 2011
C7: Consumption | D7: Emission Factor | E7: Combustion | F7: Emissions | G7: Emissions | I7: Global Warming Potential
B8: Fuel Type | C8: (Billion Btu) | D8: (lbs C/Million Btu) | E8: Efficiency (%) | F8: (short tons carbon) | G8: (MMTCO2E)
B9: Coal | C9: 0 | D9: 56.672727 | E9: 1 | F9: =C9*1000*D9*E9/2000 -> 0 | G9: =F9*(44/12)*0.90718474/1000000 -> 0 | I9: CO2_GWP= | J9: =Summary!E4 -> 1
B10: Distillate Fuel | C10: 15596 | D10: 44.43 | E10: 1 | F10: =C10*1000*D10*E10/2000 -> 346465.14 | G10: =F10*(44/12)*0.90718474/1000000 -> 1.1524623 | I10: CH4_GWP = | J10: =Summary!E5 -> 27.9
B11: Kerosene | C11: 436 | D11: 43.97 | E11: 1 | F11: =C11*1000*D11*E11/2000 -> 9585.46 | G11: =F11*(44/12)*0.90718474/1000000 -> 0.031884538 | I11: N2O_GWP= | J11: =Summary!E6 -> 273
B12: LPG | C12: 8139 | D12: 37.110284 | E12: 1 | F12: =C12*1000*D12*E12/2000 -> 151020.3 | G12: =F12*(44/12)*0.90718474/1000000 -> 0.50234547 | I12: SF6_GWP = | J12: =Summary!E7 -> 24300
B13: Natural Gas | C13: 79993 | D13: 31.87 | E13: 1 | F13: =C13*1000*D13*E13/2000 -> 1274688.5 | G13: =F13*(44/12)*0.90718474/1000000 -> 4.2400524
E14: Total | G14: =SUM(G9:G13) -> 5.9267446
B16: Residential Sector N2O | E16: 2011
C18: Consumption | D18: Emission Factor | E18: Emissions | F18: GWP | G18: Emissions
B19: Fuel Type | C19: (Billion Btu) | D19: (metric tons N2O/BBtu) | E19: (metric tons N2O) | G19: (MMTCO2E)
B20: Coal | C20: 0 | D20: 0.0015034546 | E20: =C20*D20 -> 0 | F20: =$J$11 -> 273 | G20: =E20*F20/1000000 -> 0
B21: Distillate Fuel | C21: 15596 | D21: 0.00060138184 | E21: =C21*D21 -> 9.3791511 | F21: =$J$11 -> 273 | G21: =E21*F21/1000000 -> 0.0025605083
B22: Kerosene | C22: 436 | D22: 0.00060138184 | E22: =C22*D22 -> 0.26220248 | F22: =$J$11 -> 273 | G22: =E22*F22/1000000 -> 7.1581277e-05
B23: LPG | C23: 8139 | D23: 0.00060138184 | E23: =C23*D23 -> 4.8946468 | F23: =$J$11 -> 273 | G23: =E23*F23/1000000 -> 0.0013362386
B24: Natural Gas | C24: 79993 | D24: 9.4955027e-05 | E24: =C24*D24 -> 7.5957375 | F24: =$J$11 -> 273 | G24: =E24*F24/1000000 -> 0.0020736363
B25: Wood | C25: 8913 | D25: 0.0037982011 | E25: =C25*D25 -> 33.853366 | F25: =$J$11 -> 273 | G25: =E25*F25/1000000 -> 0.009241969
F26: Total | G26: =SUM(G20:G25) -> 0.015283933
B29: Residential Sector CH4 | E29: 2011
C31: Consumption | D31: Emission Factor | E31: Emissions | F31: GWP | G31: Emissions
B32: Fuel Type | C32: (Billion Btu) | D32: (metric tons CH4 /BBtu) | E32: (metric tons CH4) | G32: (MMTCO2E)
B33: Coal | C33: 0 | D33: 0.30069092 | E33: =C33*D33 -> 0 | F33: =$J$10 -> 27.9 | G33: =E33*F33/1000000 -> 0
B34: Distillate Fuel | C34: 15596 | D34: 0.010023031 | E34: =C34*D34 -> 156.31919 | F34: =$J$10 -> 27.9 | G34: =E34*F34/1000000 -> 0.0043613053
B35: Kerosene | C35: 436 | D35: 0.010023031 | E35: =C35*D35 -> 4.3700413 | F35: =$J$10 -> 27.9 | G35: =E35*F35/1000000 -> 0.00012192415
B36: LPG | C36: 8139 | D36: 0.010023031 | E36: =C36*D36 -> 81.577446 | F36: =$J$10 -> 27.9 | G36: =E36*F36/1000000 -> 0.0022760107
B37: Natural Gas | C37: 79993 | D37: 0.0047477513 | E37: =C37*D37 -> 379.78687 | F37: =$J$10 -> 27.9 | G37: =E37*F37/1000000 -> 0.010596054
B38: Wood | C38: 8913 | D38: 0.28486508 | E38: =C38*D38 -> 2539.0025 | F38: =$J$10 -> 27.9 | G38: =E38*F38/1000000 -> 0.070838169
F39: Total | G39: =SUM(G33:G38) -> 0.088193463
B43: Residential Sector 2011 GHG Emissions
C45: Emissions | D45: Emissions | E45: Emissions | F45: Emissions
C46: CO2 | D46: N2O | E46: CH4 | F46: Total
B47: Fuel Type | C47: (MMTCO2E) | D47: (MMTCO2E) | E47: (MMTCO2E) | F47: (MMTCO2E)
B48: Coal | C48: =G9 -> 0 | D48: =G20 -> 0 | E48: =G33 -> 0 | F48: =C48+D48+E48 -> 0
B49: Distillate Fuel | C49: =G10 -> 1.1524623 | D49: =G21 -> 0.0025605083 | E49: =G34 -> 0.0043613053 | F49: =C49+D49+E49 -> 1.1593841
B50: Kerosene | C50: =G11 -> 0.031884538 | D50: =G22 -> 7.1581277e-05 | E50: =G35 -> 0.00012192415 | F50: =C50+D50+E50 -> 0.032078043
B51: LPG | C51: =G12 -> 0.50234547 | D51: =G23 -> 0.0013362386 | E51: =G36 -> 0.0022760107 | F51: =C51+D51+E51 -> 0.50595772
B52: Natural Gas | C52: =G13 -> 4.2400524 | D52: =G24 -> 0.0020736363 | E52: =G37 -> 0.010596054 | F52: =C52+D52+E52 -> 4.252722
B53: Wood | C53: 0 | D53: =G25 -> 0.009241969 | E53: =G38 -> 0.070838169 | F53: =C53+D53+E53 -> 0.080080138
E54: Total | F54: =SUM(F48:F53) -> 6.030222
C56: CO2 | D56: N2O | E56: CH4 | F56: Total
B57: Fuel Type Category | C57: (MMTCO2e) | D57: (MMTCO2e) | E57: (MMTCO2e) | F57: (MMTCO2e)
B58: Coal | C58: =C48 -> 0 | D58: =D48 -> 0 | E58: =E48 -> 0 | F58: =F48 -> 0
B59: Natural Gas & LPG | C59: =C52+C51 -> 4.7423978 | D59: =D52+D51 -> 0.0034098749 | E59: =E52+E51 -> 0.012872064 | F59: =F52+F51 -> 4.7586798
B60: Petroleum | C60: =C49+C50 -> 1.1843468 | D60: =D49+D50 -> 0.0026320895 | E60: =E49+E50 -> 0.0044832294 | F60: =F49+F50 -> 1.1914621
B61: Wood | C61: =C53 -> 0 | D61: =D53 -> 0.009241969 | E61: =E53 -> 0.070838169 | F61: =F53 -> 0.080080138
E62: Total | F62: =SUM(F58:F61) -> 6.030222

Sheet Commercial
A1: Commercial Consumption and CO2 Emissions in Maryland
B4: Commercial Sector CO2 | E4: 2011
I5: Global Warming Potential
C6: Consumption | D6: Emission Factor | E6: Combustion | F6: Emissions | G6: Emissions
B7: Fuel Type | C7: (Billion Btu) | D7: (lbs C/Million Btu) | E7: Efficiency (%) | F7: (short tons carbon) | G7: (MMTCO2E) | I7: CO2_GWP= | J7: =Summary!E4 -> 1
B8: Coal | C8: 617 | D8: 56.792727 | E8: 1 | F8: =C8*1000*D8*E8/2000 -> 17520.556 | G8: =F8*(44/12)*0.90718474/1000000 -> 0.058279398 | I8: CH4_GWP = | J8: =Summary!E5 -> 27.9
B9: Distillate Fuel | C9: 8363 | D9: 44.43 | E9: 1 | F9: =C9*1000*D9*E9/2000 -> 185784.05 | G9: =F9*(44/12)*0.90718474/1000000 -> 0.61798165 | I9: N2O_GWP= | J9: =Summary!E6 -> 273
B10: Kerosene | C10: 132 | D10: 43.97 | E10: 1 | F10: =C10*1000*D10*E10/2000 -> 2902.02 | G10: =F10*(44/12)*0.90718474/1000000 -> 0.009653117 | I10: SF6_GWP = | J10: =Summary!E7 -> 24300
B11: LPG | C11: 3276 | D11: 37.110284 | E11: 1 | F11: =C11*1000*D11*E11/2000 -> 60786.644 | G11: =F11*(44/12)*0.90718474/1000000 -> 0.20219729
B12: Motor Gasoline | C12: 176 | D12: 42.900741 | E12: 1 | F12: =C12*1000*D12*E12/2000 -> 3775.2652 | G12: =F12*(44/12)*0.90718474/1000000 -> 0.012557831
B13: Residual Fuel | C13: 28 | D13: 45.11 | E13: 1 | F13: =C13*1000*D13*E13/2000 -> 631.54 | G13: =F13*(44/12)*0.90718474/1000000 -> 0.0021007193
B14: Natural Gas | C14: 69374 | D14: 31.87 | E14: 1 | F14: =C14*1000*D14*E14/2000 -> 1105474.7 | G14: =F14*(44/12)*0.90718474/1000000 -> 3.6771892
F15: Total | G15: =SUM(G8:G14) -> 4.5799592
B18: Commercial Sector N2O | E18: 2011
C20: Consumption | D20: Emission Factor | E20: Emissions | F20: GWP | G20: Emissions
B21: Fuel Type | C21: (Billion Btu) | D21: (metric tons N2O/BBtu) | E21: (metric tons N2O) | G21: (MMTCO2E)
B22: Coal | C22: 617 | D22: 0.0015034546 | E22: =C22*D22 -> 0.92763148 | F22: =$J$9 -> 273 | G22: =E22*F22/1000000 -> 0.00025324339
B23: Distillate Fuel | C23: 8363 | D23: 0.00060138184 | E23: =C23*D23 -> 5.0293563 | F23: =$J$9 -> 273 | G23: =E23*F23/1000000 -> 0.0013730143
B24: Kerosene | C24: 132 | D24: 0.00060138184 | E24: =C24*D24 -> 0.079382402 | F24: =$J$9 -> 273 | G24: =E24*F24/1000000 -> 2.1671396e-05
B25: LPG | C25: 3276 | D25: 0.00060138184 | E25: =C25*D25 -> 1.9701269 | F25: =$J$9 -> 273 | G25: =E25*F25/1000000 -> 0.00053784464
B26: Motor Gasoline | C26: 176 | D26: 0.00060138184 | E26: =C26*D26 -> 0.1058432 | F26: =$J$9 -> 273 | G26: =E26*F26/1000000 -> 2.8895194e-05
B27: Residual Fuel | C27: 28 | D27: 0.00060138184 | E27: =C27*D27 -> 0.016838691 | F27: =$J$9 -> 273 | G27: =E27*F27/1000000 -> 4.5969628e-06
B28: Natural Gas | C28: 69374 | D28: 9.4955027e-05 | E28: =C28*D28 -> 6.58741 | F28: =$J$9 -> 273 | G28: =E28*F28/1000000 -> 0.0017983629
B29: Wood | C29: 3556 | D29: 0.0037982011 | E29: =C29*D29 -> 13.506403 | F29: =$J$9 -> 273 | G29: =E29*F29/1000000 -> 0.003687248
F30: Total | G30: =SUM(G22:G29) -> 0.0077048768
B33: Commercial Sector CH4 | E33: 2011
C35: Consumption | D35: Emission Factor | E35: Emissions | F35: GWP | G35: Emissions
B36: Fuel Type | C36: (Billion Btu) | D36: (metric tons CH4 /BBtu) | E36: (metric tons CH4) | G36: (MMTCO2E)
B37: Coal | C37: 617 | D37: 0.010023031 | E37: =C37*D37 -> 6.1842099 | F37: =$J$8 -> 27.9 | G37: =E37*F37/1000000 -> 0.00017253946
B38: Distillate Fuel | C38: 8363 | D38: 0.010023031 | E38: =C38*D38 -> 83.822605 | F38: =$J$8 -> 27.9 | G38: =E38*F38/1000000 -> 0.0023386507
B39: Kerosene | C39: 132 | D39: 0.010023031 | E39: =C39*D39 -> 1.32304 | F39: =$J$8 -> 27.9 | G39: =E39*F39/1000000 -> 3.6912817e-05
B40: LPG | C40: 3276 | D40: 0.010023031 | E40: =C40*D40 -> 32.835448 | F40: =$J$8 -> 27.9 | G40: =E40*F40/1000000 -> 0.00091610901
B41: Motor Gasoline | C41: 176 | D41: 0.010023031 | E41: =C41*D41 -> 1.7640534 | F41: =$J$8 -> 27.9 | G41: =E41*F41/1000000 -> 4.9217089e-05
B42: Residual Fuel | C42: 28 | D42: 0.010023031 | E42: =C42*D42 -> 0.28064486 | F42: =$J$8 -> 27.9 | G42: =E42*F42/1000000 -> 7.8299915e-06
B43: Natural Gas | C43: 69374 | D43: 0.0047477513 | E43: =C43*D43 -> 329.3705 | F43: =$J$8 -> 27.9 | G43: =E43*F43/1000000 -> 0.009189437
B44: Wood | C44: 3556 | D44: 0.28486508 | E44: =C44*D44 -> 1012.9802 | F44: =$J$8 -> 27.9 | G44: =E44*F44/1000000 -> 0.028262148
F45: Total | G45: =SUM(G37:G44) -> 0.040972844
B48: Commercial Sector 2011 GHG Emission
D51: CO2 | E51: CH4 | F51: N2O | G51: GHG
C52: Consumption | D52: Emissions | E52: Emissions | F52: Emissions | G52: Emissions
B53: Fuel Type | C53: (Billion Btu) | D53: (MMTCO2E) | E53: (MMTCO2E) | F53: (MMTCO2E) | G53: (MMTCO2E)
B54: Coal | C54: 617 | D54: =G8 -> 0.058279398 | E54: =G37 -> 0.00017253946 | F54: =G22 -> 0.00025324339 | G54: =D54+E54+F54 -> 0.058705181
B55: Distillate Fuel | C55: 8363 | D55: =G9 -> 0.61798165 | E55: =G38 -> 0.0023386507 | F55: =G23 -> 0.0013730143 | G55: =D55+E55+F55 -> 0.62169332
B56: Kerosene | C56: 132 | D56: =G10 -> 0.009653117 | E56: =G39 -> 3.6912817e-05 | F56: =G24 -> 2.1671396e-05 | G56: =D56+E56+F56 -> 0.0097117012
B57: LPG | C57: 3276 | D57: =G11 -> 0.20219729 | E57: =G40 -> 0.00091610901 | F57: =G25 -> 0.00053784464 | G57: =D57+E57+F57 -> 0.20365125
B58: Motor Gasoline | C58: 176 | D58: =G12 -> 0.012557831 | E58: =G41 -> 4.9217089e-05 | F58: =G26 -> 2.8895194e-05 | G58: =D58+E58+F58 -> 0.012635943
B59: Residual Fuel | C59: 28 | D59: =G13 -> 0.0021007193 | E59: =G42 -> 7.8299915e-06 | F59: =G27 -> 4.5969628e-06 | G59: =D59+E59+F59 -> 0.0021131463
B60: Natural Gas | C60: 69374 | D60: =G14 -> 3.6771892 | E60: =G43 -> 0.009189437 | F60: =G28 -> 0.0017983629 | G60: =D60+E60+F60 -> 3.688177
B61: Wood | C61: 3556 | D61: 0 | E61: =G44 -> 0.028262148 | F61: =G29 -> 0.003687248 | G61: =D61+E61+F61 -> 0.031949396
F62: Total | G62: =SUM(G54:G61) -> 4.6286369
C64: CO2 | D64: CH4 | E64: N2O | F64: Total
B65: Fuel Type Category | C65: (MMTCO2e) | D65: (MMTCO2e) | E65: (MMTCO2e) | F65: (MMTCO2e)
B66: Coal | C66: =D54 -> 0.058279398 | D66: =E54 -> 0.00017253946 | E66: =F54 -> 0.00025324339 | F66: =G54 -> 0.058705181
B67: Natural Gas & LPG | C67: =D60+D57 -> 3.8793864 | D67: =E60+E57 -> 0.010105546 | E67: =F60+F57 -> 0.0023362076 | F67: =G60+G57 -> 3.8918282
B68: Petroleum | C68: =D55+D56+D58+D59 -> 0.64229332 | D68: =E55+E56+E58+E59 -> 0.0024326106 | E68: =F55+F56+F58+F59 -> 0.0014281778 | F68: =G55+G56+G58+G59 -> 0.64615411
B69: Wood | C69: =D61 -> 0 | D69: =E61 -> 0.028262148 | E69: =F61 -> 0.003687248 | F69: =G61 -> 0.031949396
E70: Total | F70: =SUM(F66:F69) -> 4.6286369

Sheet Industrial
B2: Industrial Consumption and CO2 Emissions in Maryland
F5: FINAL
B8: Industrial Sector CO2 | D8: 2011
C9: Total | D9: Non-Energy | F9: Net combustible | L9: Global Warming Potential
C10: Consumption | D10: Consumption | F10: Consumption | G10: Emission Factor | H10: Combustion | I10: Emissions | J10: Emissions
B11: Fuel Type | C11: (Billion Btu) | D11: (Billion Btu) | E11: Storage Factor (%) | F11: (Billion Btu) | G11: (lbs C/Million Btu) | H11: Efficiency (%) | I11: (short tons carbon) | J11: (MMTCO2E) | L11: CO2_GWP= | M11: =Summary!E4 -> 1
B12: Coking Coal | C12: 0 | D12: 0 | E12: 0.1 | F12: =C12-(D12*E12) -> 0 | G12: 56.195455 | H12: 1 | I12: =(F12*1000*G12*H12)/2000 -> 0 | J12: 0 | L12: CH4_GWP = | M12: =Summary!E5 -> 27.9
B13: Other Coal | C13: 21655 | D13: 227 | E13: 0 | F13: =C13-(D13*E13) -> 21655 | G13: 56.852727 | H13: 1 | I13: =(F13*1000*G13*H13)/2000 -> 615572.9 | J13: =I13*(44/12)*0.90718474/1000000 -> 2.0476073 | L13: N2O_GWP= | M13: =Summary!E6 -> 273
B14: Asphalt and Road Oil | C14: 19835 | D14: 22046 | E14: 1 | F14: =C14-(D14*E14) -> -2211 | G14: 45.27 | H14: 1 | I14: =(F14*1000*G14*H14)/2000 -> -50045.985 | J14: 0 | L14: SF6_GWP = | M14: =Summary!E7 -> 24300
B15: Aviation Gasoline Blending Components | C15: 0 | D15: 0 | E15: 0 | F15: =C15-(D15*E15) -> 0 | G15: 41.56 | H15: 1 | I15: =F15*G15*H15/2000 -> 0 | J15: =I15*(44/12)*0.90718474/1000000 -> 0
B16: Crude Oil | C16: 0 | D16: 0 | E16: 0 | F16: =C16-(D16*E16) -> 0 | G16: 44.773662 | H16: 1 | I16: =F16*G16*H16/2000 -> 0 | J16: =I16*(44/12)*0.90718474/1000000 -> 0
B17: Distillate Fuel | C17: 7382 | D17: 96 | E17: 0.5 | F17: =C17-(D17*E17) -> 7334 | G17: 44.43 | H17: 1 | I17: =(F17*1000*G17*H17)/2000 -> 162924.81 | J17: =I17*(44/12)*0.90718474/1000000 -> 0.54194397
B18: Feedstocks, Naphtha less than 401 F | C18: 0 | E18: 0.61918626 | F18: =C18-(D18*E18) -> 0 | G18: 40.86 | H18: 1 | I18: =(F18*1000*G18*H18)/2000 -> 0 | J18: =I18*(44/12)*0.90718474/1000000 -> 0
B19: Feedstocks, Other Oils greater than 401 F | C19: 0 | E19: 0.61918626 | F19: =C19-(D19*E19) -> 0 | G19: 44.43 | H19: 1 | I19: =(F19*1000*G19*H19)/2000 -> 0 | J19: =I19*(44/12)*0.90718474/1000000 -> 0
B20: Kerosene | C20: 7 | D20: 0 | E20: 0 | F20: =C20-(D20*E20) -> 7 | G20: 43.97 | H20: 1 | I20: =(F20*1000*G20*H20)/2000 -> 153.895 | J20: =I20*(44/12)*0.90718474/1000000 -> 0.00051190772
B21: LPG | C21: 1582 | D21: 1385 | E21: 0.61918626 | F21: =C21-(D21*E21) -> 724.42704 | G21: 37.273236 | H21: 1 | I21: =(F21*1000*G21*H21)/2000 -> 13500.87 | J21: =I21*(44/12)*0.90718474/1000000 -> 0.044908539
B22: Lubricants | C22: 1957 | D22: 2063 | E22: 0.092393733 | F22: =C22-(D22*E22) -> 1766.3917 | G22: 43.97 | H22: 1 | I22: =(F22*1000*G22*H22)/2000 -> 38834.122 | J22: =I22*(44/12)*0.90718474/1000000 -> 0.12917565
B23: Motor Gasoline | C23: 4129 | D23: 0 | E23: 0 | F23: =C23-(D23*E23) -> 4129 | G23: 42.900741 | H23: 1 | I23: =(F23*1000*G23*H23)/2000 -> 88568.58 | J23: =I23*(44/12)*0.90718474/1000000 -> 0.29460957
B24: Motor Gasoline Blending Components | C24: 0 | D24: 0 | E24: 0 | F24: =C24-(D24*E24) -> 0 | G24: 42.900741 | H24: 1 | I24: =F24*G24*H24/2000 -> 0 | J24: =I24*(44/12)*0.90718474/1000000 -> 0
B25: Misc. Petro Products | C25: 501 | D25: 483 | E25: 0 | F25: =C25-(D25*E25) -> 501 | G25: 44.773662 | H25: 1 | I25: =(F25*1000*G25*H25)/2000 -> 11215.802 | J25: =I25*(44/12)*0.90718474/1000000 -> 0.037307617
B26: Petroleum Coke | C26: 0 | D26: 0 | E26: 0.3 | F26: =C26-(D26*E26) -> 0 | G26: 61.34 | H26: 1 | I26: =F26*G26*H26/2000 -> 0 | J26: =I26*(44/12)*0.90718474/1000000 -> 0
B27: Pentanes Plus | E27: 0.61918626 | F27: =C27-(D27*E27) -> 0 | G27: 42.06 | H27: 1 | I27: =(F27*1000*G27*H27)/2000 -> 0 | J27: =I27*(44/12)*0.90718474/1000000 -> 0
B28: Residual Fuel | C28: 1590 | D28: 0 | E28: 0.5 | F28: =C28-(D28*E28) -> 1590 | G28: 45.11 | H28: 1 | I28: =(F28*1000*G28*H28)/2000 -> 35862.45 | J28: =I28*(44/12)*0.90718474/1000000 -> 0.11929085
B29: Still Gas | C29: 0 | D29: 0 | E29: 0.8 | F29: =C29-(D29*E29) -> 0 | G29: 40.08 | H29: 1 | I29: =F29*G29*H29/2000 -> 0 | J29: =I29*(44/12)*0.90718474/1000000 -> 0
B30: Special Naphthas | C30: 535 | D30: 596 | E30: 0 | F30: =C30-(D30*E30) -> 535 | G30: 43.47 | H30: 1 | I30: =(F30*1000*G30*H30)/2000 -> 11628.225 | J30: =I30*(44/12)*0.90718474/1000000 -> 0.038679477
B31: Unfinished Oils | C31: 0 | D31: 0 | E31: 0 | F31: =C31-(D31*E31) -> 0 | G31: 44.773662 | H31: 1 | I31: =F31*G31*H31/2000 -> 0 | J31: =I31*(44/12)*0.90718474/1000000 -> 0
B32: Waxes | C32: 106 | D32: 120 | E32: 0.58 | F32: =C32-(D32*E32) -> 36.4 | G32: 43.6 | H32: 1 | I32: =(F32*1000*G32*H32)/2000 -> 793.52 | J32: =I32*(44/12)*0.90718474/1000000 -> 0.0026395205
B33: Natural Gas | C33: 21808 | D33: 688 | E33: 0.61918626 | F33: =C33-(D33*E33) -> 21382 | G33: 31.87 | H33: 1 | I33: =(F33*1000*G33*H33)/2000 -> 340722.17 | J33: =I33*(44/12)*0.90718474/1000000 -> 1.1333592
H34: Total | J34: =SUM(J12:J33) -> 4.3900335
B37: Industrial Sector N2O | D37: 2011
C38: Total | D38: Non-Energy
C39: Consumption | D39: Consumption | E39: Emission Factor | F39: Emissions | G39: GWP | H39: Emissions
B40: Fuel Type | C40: (Billion Btu) | D40: (Billion Btu) | E40: (metric tons N2O/BBtu) | F40: (metric tons N2O) | H40: (MMTCO2E)
B41: Coking Coal | C41: 0 | D41: 0 | E41: 0.0015034546 | F41: =(C41-D41)*E41 -> 0 | G41: =$M$13 -> 273 | H41: =F41*G41/1000000 -> 0
B42: Other Coal | C42: 21655 | D42: 227 | E42: 0.0015034546 | F42: =(C42-D42)*E42 -> 32.216025 | G42: =$M$13 -> 273 | H42: =F42*G42/1000000 -> 0.0087949748
B43: Asphalt and Road Oil | C43: 19835 | D43: 22046 | E43: 0.00060138184 | F43: =(C43-D43)*E43 -> -1.3296552 | G43: =$M$13 -> 273 | H43: =0 -> 0
B44: Aviation Gasoline Blending Components | C44: 0 | D44: 0 | E44: 0.00060138184 | F44: =(C44-D44)*E44 -> 0 | G44: =$M$13 -> 273 | H44: =F44*G44/1000000 -> 0
B45: Crude Oil | C45: 0 | D45: 0 | E45: 0.00060138184 | F45: =(C45-D45)*E45 -> 0 | G45: =$M$13 -> 273 | H45: =F45*G45/1000000 -> 0
B46: Distillate Fuel | C46: 7382 | D46: 96 | E46: 0.00060138184 | F46: =(C46-D46)*E46 -> 4.3816681 | G46: =$M$13 -> 273 | H46: =F46*G46/1000000 -> 0.0011961954
B47: Feedstocks, Naphtha less than 401 F | C47: 0 | E47: 0.00060138184 | F47: =(C47-D47)*E47 -> 0 | G47: =$M$13 -> 273 | H47: =F47*G47/1000000 -> 0
B48: Feedstocks, Other Oils greater than 401 F | C48: 0 | E48: 0.00060138184 | F48: =(C48-D48)*E48 -> 0 | G48: =$M$13 -> 273 | H48: =F48*G48/1000000 -> 0
B49: Kerosene | C49: 7 | D49: 0 | E49: 0.00060138184 | F49: =(C49-D49)*E49 -> 0.0042096729 | G49: =$M$13 -> 273 | H49: =F49*G49/1000000 -> 1.1492407e-06
B50: LPG | C50: 1582 | D50: 1385 | E50: 0.00060138184 | F50: =(C50-D50)*E50 -> 0.11847222 | G50: =$M$13 -> 273 | H50: =F50*G50/1000000 -> 3.2342917e-05
B51: Lubricants | C51: 1957 | D51: 2063 | E51: 0.00060138184 | F51: =(C51-D51)*E51 -> -0.063746475 | G51: =$M$13 -> 273 | H51: =0 -> 0
B52: Motor Gasoline | C52: 4129 | D52: 0 | E52: 0.00060138184 | F52: =(C52-D52)*E52 -> 2.4831056 | G52: =$M$13 -> 273 | H52: =F52*G52/1000000 -> 0.00067788783
B53: Motor Gasoline Blending Components | C53: 0 | D53: 0 | E53: 0.00060138184 | F53: =(C53-D53)*E53 -> 0 | G53: =$M$13 -> 273 | H53: =F53*G53/1000000 -> 0
B54: Misc. Petro Products | C54: 501 | D54: 483 | E54: 0.00060138184 | F54: =(C54-D54)*E54 -> 0.010824873 | G54: =$M$13 -> 273 | H54: =F54*G54/1000000 -> 2.9551903e-06
B55: Petroleum Coke | C55: 0 | D55: 0 | E55: 0.00060138184 | F55: =(C55-D55)*E55 -> 0 | G55: =$M$13 -> 273 | H55: =F55*G55/1000000 -> 0
B56: Pentanes Plus | E56: 0.00060138184 | F56: =(C56-D56)*E56 -> 0 | G56: =$M$13 -> 273 | H56: =F56*G56/1000000 -> 0
B57: Residual Fuel | C57: 1590 | D57: 0 | E57: 0.00060138184 | F57: =(C57-D57)*E57 -> 0.95619712 | G57: =$M$13 -> 273 | H57: =F57*G57/1000000 -> 0.00026104181
B58: Still Gas | C58: 0 | D58: 0 | E58: 0.00060138184 | F58: =(C58-D58)*E58 -> 0 | G58: =$M$13 -> 273 | H58: =F58*G58/1000000 -> 0
B59: Special Naphthas | C59: 535 | D59: 596 | E59: 0.00060138184 | F59: =(C59-D59)*E59 -> -0.036684292 | G59: =$M$13 -> 273 | H59: =0 -> 0
B60: Unfinished Oils | C60: 0 | D60: 0 | E60: 0.00060138184 | F60: =(C60-D60)*E60 -> 0 | G60: =$M$13 -> 273 | H60: =F60*G60/1000000 -> 0
B61: Waxes | C61: 106 | D61: 120 | E61: 0.00060138184 | F61: =(C61-D61)*E61 -> -0.0084193457 | G61: =$M$13 -> 273 | H61: =0 -> 0
B62: Natural Gas | C62: 21808 | D62: 688 | E62: 9.4955027e-05 | F62: =(C62-D62)*E62 -> 2.0054502 | G62: =$M$13 -> 273 | H62: =F62*G62/1000000 -> 0.00054748789
B63: Wood | C63: 9240 | D63: NA | E63: 0.0037982011 | F63: =C63*E63 -> 35.095378 | G63: =$M$13 -> 273 | H63: =F63*G63/1000000 -> 0.0095810382
G64: Total | H64: =SUM(H41:H63) -> 0.021095073
B67: Industrial Sector CH4 | D67: 2011
C68: Total | D68: Non-Energy
C69: Consumption | D69: Consumption | E69: Emission Factor | F69: Emissions | G69: GWP | H69: Emissions
B70: Fuel Type | C70: (Billion Btu) | D70: (Billion Btu) | E70: (metric tons CH4 /BBtu) | F70: (metric tons CH4) | H70: (MMTCO2E)
B71: Coking Coal | C71: 0 | D71: 0 | E71: 0.010023031 | F71: =(C71-D71)*E71 -> 0 | G71: =$M$12 -> 27.9 | H71: =F71*G71/1000000 -> 0
B72: Other Coal | C72: 21655 | D72: 227 | E72: 0.010023031 | F72: =(C72-D72)*E72 -> 214.7735 | G72: =$M$12 -> 27.9 | H72: =F72*G72/1000000 -> 0.0059921806
B73: Asphalt and Road Oil | C73: 19835 | D73: 22046 | E73: 0.0030069092 | F73: =(C73-D73)*E73 -> -6.6482762 | G73: =$M$12 -> 27.9 | H73: =0 -> 0
B74: Aviation Gasoline Blending Components | C74: 0 | D74: 0 | E74: 0.0030069092 | F74: =(C74-D74)*E74 -> 0 | G74: =$M$12 -> 27.9 | H74: =F74*G74/1000000 -> 0
B75: Crude Oil | C75: 0 | D75: 0 | E75: 0.0030069092 | F75: =(C75-D75)*E75 -> 0 | G75: =$M$12 -> 27.9 | H75: =F75*G75/1000000 -> 0
B76: Distillate Fuel | C76: 7382 | D76: 96 | E76: 0.0030069092 | F76: =(C76-D76)*E76 -> 21.90834 | G76: =$M$12 -> 27.9 | H76: =F76*G76/1000000 -> 0.00061124269
B77: Feedstocks, Naphtha less than 401 F | C77: 0 | E77: 0.0030069092 | F77: =(C77-D77)*E77 -> 0 | G77: =$M$12 -> 27.9 | H77: =F77*G77/1000000 -> 0
B78: Feedstocks, Other Oils greater than 401 F | C78: 0 | E78: 0.0030069092 | F78: =(C78-D78)*E78 -> 0 | G78: =$M$12 -> 27.9 | H78: =F78*G78/1000000 -> 0
B79: Kerosene | C79: 7 | D79: 0 | E79: 0.0030069092 | F79: =(C79-D79)*E79 -> 0.021048364 | G79: =$M$12 -> 27.9 | H79: =F79*G79/1000000 -> 5.8724936e-07
B80: LPG | C80: 1582 | D80: 1385 | E80: 0.0030069092 | F80: =(C80-D80)*E80 -> 0.59236111 | G80: =$M$12 -> 27.9 | H80: =F80*G80/1000000 -> 1.6526875e-05
B81: Lubricants | C81: 1957 | D81: 2063 | E81: 0.0030069092 | F81: =(C81-D81)*E81 -> -0.31873237 | G81: =$M$12 -> 27.9 | H81: =0 -> 0
B82: Motor Gasoline | C82: 4129 | D82: 0 | E82: 0.0030069092 | F82: =(C82-D82)*E82 -> 12.415528 | G82: =$M$12 -> 27.9 | H82: =F82*G82/1000000 -> 0.00034639323
B83: Motor Gasoline Blending Components | C83: 0 | D83: 0 | E83: 0.0030069092 | F83: =(C83-D83)*E83 -> 0 | G83: =$M$12 -> 27.9 | H83: =F83*G83/1000000 -> 0
B84: Misc. Petro Products | C84: 501 | D84: 483 | E84: 0.0030069092 | F84: =(C84-D84)*E84 -> 0.054124365 | G84: =$M$12 -> 27.9 | H84: =F84*G84/1000000 -> 1.5100698e-06
B85: Petroleum Coke | C85: 0 | D85: 0 | E85: 0.0030069092 | F85: =(C85-D85)*E85 -> 0 | G85: =$M$12 -> 27.9 | H85: =F85*G85/1000000 -> 0
B86: Pentanes Plus | E86: 0.0030069092 | F86: =(C86-D86)*E86 -> 0 | G86: =$M$12 -> 27.9 | H86: =F86*G86/1000000 -> 0
B87: Residual Fuel | C87: 1590 | D87: 0 | E87: 0.0030069092 | F87: =(C87-D87)*E87 -> 4.7809856 | G87: =$M$12 -> 27.9 | H87: =F87*G87/1000000 -> 0.0001333895
B88: Still Gas | C88: 0 | D88: 0 | E88: 0.0030069092 | F88: =(C88-D88)*E88 -> 0 | G88: =$M$12 -> 27.9 | H88: =F88*G88/1000000 -> 0
B89: Special Naphthas | C89: 535 | D89: 596 | E89: 0.0030069092 | F89: =(C89-D89)*E89 -> -0.18342146 | G89: =$M$12 -> 27.9 | H89: =0 -> 0
B90: Unfinished Oils | C90: 0 | D90: 0 | E90: 0.0030069092 | F90: =(C90-D90)*E90 -> 0 | G90: =$M$12 -> 27.9 | H90: =F90*G90/1000000 -> 0
B91: Waxes | C91: 106 | D91: 120 | E91: 0.0030069092 | F91: =(C91-D91)*E91 -> -0.042096729 | G91: =$M$12 -> 27.9 | H91: =0 -> 0
B92: Natural Gas | C92: 21808 | D92: 688 | E92: 0.00094955027 | F92: =(C92-D92)*E92 -> 20.054502 | G92: =$M$12 -> 27.9 | H92: =F92*G92/1000000 -> 0.0005595206
B93: Wood | C93: 9240 | D93: NA | E93: 0.028486508 | F93: =C93*E93 -> 263.21533 | G93: =$M$12 -> 27.9 | H93: =F93*G93/1000000 -> 0.0073437078
G94: Total | H94: =SUM(H71:H93) -> 0.015005059
B98: Industrial Sector GHG | D98: 2011
C99: Total | D99: Non-Energy | E99: CO2 | F99: CH4 | G99: N2O | H99: GHG
C100: Consumption | D100: Consumption | E100: Emissions | F100: Emissions | G100: Emissions | H100: Emissions
B101: Fuel Type | C101: (Billion Btu) | D101: (Billion Btu) | E101: (MMTCO2E) | F101: (MMTCO2E) | G101: (MMTCO2E) | H101: (MMTCO2E)
A102: Coal | B102: Coking Coal | C102: =C71 -> 0 | D102: =D71 -> 0 | E102: =J12 -> 0 | F102: =H71 -> 0 | G102: =H41 -> 0 | H102: =SUM(E102:G102) -> 0
A103: Coal | B103: Other Coal | C103: =C72 -> 21655 | D103: =D72 -> 227 | E103: =J13 -> 2.0476073 | F103: =H72 -> 0.0059921806 | G103: =H42 -> 0.0087949748 | H103: =SUM(E103:G103) -> 2.0623944
A104: Petroleum | B104: Asphalt and Road Oil | C104: =C73 -> 19835 | D104: =D73 -> 22046 | E104: =J14 -> 0 | F104: =H73 -> 0 | G104: =H43 -> 0 | H104: =SUM(E104:G104) -> 0
A105: Petroleum | B105: Aviation Gasoline Blending Components | C105: =C74 -> 0 | D105: =D74 -> 0 | E105: =J15 -> 0 | F105: =H74 -> 0 | G105: =H44 -> 0 | H105: =SUM(E105:G105) -> 0
A106: Petroleum | B106: Crude Oil | C106: =C75 -> 0 | D106: =D75 -> 0 | E106: =J16 -> 0 | F106: =H75 -> 0 | G106: =H45 -> 0 | H106: =SUM(E106:G106) -> 0
A107: Petroleum | B107: Distillate Fuel | C107: =C76 -> 7382 | D107: =D76 -> 96 | E107: =J17 -> 0.54194397 | F107: =H76 -> 0.00061124269 | G107: =H46 -> 0.0011961954 | H107: =SUM(E107:G107) -> 0.54375141
A108: Petroleum | B108: Feedstocks, Naphtha less than 401 F | C108: =C77 -> 0 | D108: =D77 -> 0 | E108: =J18 -> 0 | F108: =H77 -> 0 | G108: =H47 -> 0 | H108: =SUM(E108:G108) -> 0
A109: Petroleum | B109: Feedstocks, Other Oils greater than 401 F | C109: =C78 -> 0 | D109: =D78 -> 0 | E109: =J19 -> 0 | F109: =H78 -> 0 | G109: =H48 -> 0 | H109: =SUM(E109:G109) -> 0
A110: Petroleum | B110: Kerosene | C110: =C79 -> 7 | D110: =D79 -> 0 | E110: =J20 -> 0.00051190772 | F110: =H79 -> 5.8724936e-07 | G110: =H49 -> 1.1492407e-06 | H110: =SUM(E110:G110) -> 0.00051364421
A111: Natural Gas & LPG | B111: LPG | C111: =C80 -> 1582 | D111: =D80 -> 1385 | E111: =J21 -> 0.044908539 | F111: =H80 -> 1.6526875e-05 | G111: =H50 -> 3.2342917e-05 | H111: =SUM(E111:G111) -> 0.044957409
A112: Petroleum | B112: Lubricants | C112: =C81 -> 1957 | D112: =D81 -> 2063 | E112: =J22 -> 0.12917565 | F112: =H81 -> 0 | G112: =H51 -> 0 | H112: =SUM(E112:G112) -> 0.12917565
...

Sheet Transportation
A1: Transportation Consumption and GHG Emissions
B3: Activity Data (Consumption)
B4: State Energy Data 2011 | C4: (Thousand Barrels) | E4: (Gallons) | G4: (Billion Btu)
B5: Aviation Gasoline | C5: 42 | E5: =C5*42*1000 -> 1764000 | G5: 210
B6: Distillate Fuel Oil | C6: 13581 | E6: =C6*42*1000 -> 570402000 | G6: 80358 | O6: Global Warming Potential
B7: Jet Fuel Naphtha | C7: 0 | G7: 0
B8: Jet Fuel Kerosene Type | C8: 5903 | E8: =C8*42*1000 -> 247926000 | G8: 33468 | O8: CO2_GWP= | P8: =Summary!E4 -> 1
B9: Liquidfied Petroleum Gases | C9: 76 | E9: =C9*42*1000 -> 3192000 | G9: 293 | O9: CH4_GWP = | P9: =Summary!E5 -> 27.9
B10: Lubricant | C10: 242 | E10: =C10*42*1000 -> 10164000 | G10: 1466 | O10: N2O_GWP= | P10: =Summary!E6 -> 273
B11: Motor Gasoline | C11: =E11/(42*1000) -> 63427.315 | E11: =2663947214 -> 2663947214 | G11: =E11*C47/1000000000 -> 330963.47 | O11: SF6_GWP = | P11: =Summary!E7 -> 24300
B12: Ethanol | C12: 5639 | E12: =C12*42*1000 -> 236838000 | G12: 19558
B13: Natural Gases - (Million Cubic Feet) | C13: 6235 | E13: =C13*42*1000 -> 261870000 | G13: 6408
B14: Residual Fuel Oil | C14: 255 | E14: =C14*42*1000 -> 10710000 | G14: 1603
B17: Gasoline Fuel Usage
B18: Source | C18: Year | D18: Subsource | F18: Vehicle / Fuel Type | I18: Amount (gal) | K18: Percentage | M18: Percentage of NR Gasoline
B19: FHWA Data MF-24 | C19: 2011 | D19: Farm Equipment | F19: Gasoline Tractor | I19: 9437000 | K19: =I19/$I$24 -> 0.0035358968 | M19: =I19/SUM($I$19:$I$23) -> 0.1249924 | U19: 9702000
B20: FHWA Data MF-24 | C20: 2011 | D20: Construction | F20: Gasoline Construction | I20: 13677000 | K20: =I20/$I$24 -> 0.0051245587 | M20: =I20/SUM($I$19:$I$23) -> 0.1811509 | U20: 8297000
B21: FHWA Data MF-24 | C21: 2011 | D21: Non-Highway Industrial | F21: Gasoline HD Utility | I21: 10338000 | K21: =I21/$I$24 -> 0.0038734875 | M21: =I21/SUM($I$19:$I$23) -> 0.13692608 | U21: 24818000
B22: EPA NonRoad Model Output | C22: 2011 | D22: Non-Highway Industrial | F22: Gasoline Small Utility | I22: 21138593 | K22: =I22/$I$24 -> 0.0079203014 | M22: =I22/SUM($I$19:$I$23) -> 0.27997917 | U22: 16130243
B23: FHWA Data MF-24 | C23: 2011 | D23: Boat (Marine Gasoline) | F23: Gasoline | I23: 20910000 | K23: =I23/$I$24 -> 0.0078346511 | M23: =I23/SUM($I$19:$I$23) -> 0.27695147 | U23: 24070000
B24: MD Comptroller | C24: 2011 | D24: Motor Gasoline (Total Sold) | F24: All | I24: 2668912714 | K24: =I24/$I$24 -> 1
B25: MOVES Output | C25: 2011 | D25: Motor Gasoline (On-Road Mobile) | F25: All | I25: 2405394000 | K25: =I25/$I$24 -> 0.90126364
B26: Calculation | C26: 2011 | D26: Motor Gasoline (Non-Road Mobile) | F26: All | I26: =I24-I25 -> 263518714 | K26: =I26/$I$24 -> 0.098736355 | M26: =SUM(M19:M23) -> 1
I28: =I21+I22 -> 31476593
B29: Diesel Fuel Usage
B31: Source | C31: Year | D31: Subsource | F31: Vehicle / Fuel Type | I31: Amount (gal) | K31: Percentage | M31: Percentage of NR Diesel
B32: EIA Adjusted Distillate Fuel Oil and Kerosene Sales By End-Use | C32: 2011 | D32: Farm Equipment | F32: Diesel Tractor | I32: 11621000 | K32: =I32/$I$37 -> 0.020373351 | M32: =I32/SUM($I$32:$I$36) -> 0.050390451
B33: EIA Adjusted Distillate Fuel Oil and Kerosene Sales By End-Use | C33: 2011 | D33: Construction | F33: Diesel Construction | I33: 1.8970306e+08 | K33: =I33/$I$37 -> 0.33257784 | M33: =I33/SUM($I$32:$I$36) -> 0.82258179
B34: EIA Adjusted Distillate Fuel Oil and Kerosene Sales By End-Use | C34: 2011 | D34: Non-Highway Industrial | F34: Diesel HD Utility | I34: 6818999 | K34: =I34/$I$37 -> 0.011954725 | M34: =I34/SUM($I$32:$I$36) -> 0.029568233
B35: MDE Survey | C35: 2011 | D35: Locomotive | F35: Diesel Fuel | I35: 18081260 | K35: =I35/$I$37 -> 0.031699153 | M35: =I35/SUM($I$32:$I$36) -> 0.078403137
B36: EIA Adjusted Distillate Fuel Oil and Kerosene Sales By End-Use | C36: 2011 | D36: Boat (Marine) | F36: Distillate Fuel Oil** | I36: 4394766 | K36: =I36/$I$37 -> 0.007704682 | M36: =I36/SUM($I$32:$I$36) -> 0.019056384
B37: EIA State Energy Data | C37: 2011 | D37: Distillate Fuel Oil (Total Sold) | F37: All | I37: =C6*42*1000 -> 570402000 | K37: =I37/$I$37 -> 1
B38: MOVES Output | C38: 2011 | D38: Motor Diesel (On-Road) | F38: All | I38: 528232000 | K38: =I38/$I$37 -> 0.92606968
B39: Calculated | C39: 2011 | D39: Motor Diesel (Non-Road) | F39: All | I39: =I37-I38 -> 42170000 | K39: =I39/$I$37 -> 0.073930316 | M39: =SUM(M32:M36) -> 1
C42: 2011 | D42: Diesel (gallons) | F42: Total | I42: =SUM(I32:I35) -> 2.2622432e+08
C43: 2011 | D43: Locomotive | F43: Residual Fuel Oil | I43: 0
B44: EIA State Energy Data | C44: 2011 | D44: Boat (Marine) | F44: Residual Fuel Oil** | I44: =C14*42*1000 -> 10710000
D45: Residual Fuel (gallons) | F45: Total | I45: =SUM(I43:I44) -> 10710000
B46: CONSTANTS
B47: Gasoline | C47: 124238 | D47: Btu/Gallon
B48: Diesel | C48: 138690 | D48: Btu/Gallon
B52: Emissions Data (MMTCO2e)
B53: Transportation Sector Emissions: Non-Road Mobile Sources 2011
M54: CO2 Emissions | T54: N2O Emissions | AA54: CH4 Emissions | AG54: CH4 &
C55: Consumption | E55: Consumption | G55: Emission Factor | I55: Combustion | K55: Emissions | M55: Emissions | O55: Emissions | AG55: N2O
B56: Fuel Type | C56: (gallon) | E56: (Billion Btu) | G56: (lbs C/Million Btu) | I56: Efficiency (%) | K56: (short tons carbon) | M56: (MMTCE) | O56: (MMTCO2E) | Q56: Energy Content (kg/Mbtu) | R56: Density (kg/gallon) | S56: N2O EF (g/kg fuel) | T56: N2O EM (Gigagrams) | V56: N2O (MTCE) | X56: N2O (MTCO2E) | Z56: CH4 EF (g/kg fuel) | AA56: CH4 EM (Gigagrams) | AC56: CH4 MTCE | AE56: CH4 MTCO2E | AG56: TOTAL MTCO2E
B57: Aviation Gasoline | C57: =E5 -> 1764000 | E57: =G5 -> 210 | F57: x | G57: 41.53 | H57: x | I57: 1 | J57: = | K57: =E57*1000*G57*I57/2000 -> 4360.65 | L57: = | M57: =K57*0.90718474/1000000 -> 0.0039559151 | N57: = | O57: =M57*44/12 -> 0.014505022 | Q57: 22.258 | S57: 0.04 | T57: =E57*1000*Q57*S57/1000000000 -> 0.0001869672 | U57: = | V57: =T57*$P$10*12/44*1000 -> 13.920558 | W57: = | X57: =V57*44/12 -> 51.042046 | Z57: 2.64 | AA57: =E57*1000*Q57*Z57/1000000000 -> 0.012339835 | AB57: = | AC57: =AA57*$P$9*12/44*1000 -> 93.894928 | AD57: = | AE57: =AC57*44/12 -> 344.2814 | AF57: x | AG57: =X57+AE57 -> 395.32345
B58: Distillate Fuel - Farm | C58: =I32 -> 11621000 | E58: =C58*$C$48/1000000000 -> 1611.7165 | F58: x | G58: 44.43 | H58: x | I58: 1 | J58: = | K58: =E58*1000*G58*I58/2000 -> 35804.282 | L58: = | M58: =K58*0.90718474/1000000 -> 0.032481098 | N58: = | O58: =M58*44/12 -> 0.11909736 | R58: 3.192 | S58: 0.08 | T58: =C58*R58*S58/1000000000 -> 0.0029675386 | U58: = | V58: =T58*$P$10*12/44*1000 -> 220.94673 | W58: = | X58: =V58*44/12 -> 810.13803 | Z58: 0.45 | AA58: =C58*R58*Z58/1000000000 -> 0.016692404 | AB58: = | AC58: =AA58*$P$9*12/44*1000 -> 127.01402 | AD58: = | AE58: =AC58*44/12 -> 465.71808 | AG58: =X58+AE58 -> 1275.8561
B59: Distillate Fuel - Construction | C59: =I33 -> 1.8970306e+08 | E59: =C59*$C$48/1000000000 -> 26309.918 | F59: x | G59: 44.43 | H59: x | I59: 1 | J59: = | K59: =E59*1000*G59*I59/2000 -> 584474.83 | L59: = | M59: =K59*0.90718474/1000000 -> 0.53022664 | N59: = | O59: =M59*44/12 -> 1.9441644 | R59: 3.192 | S59: 0.08 | T59: =C59*R59*S59/1000000000 -> 0.048442574 | U59: = | V59: =T59*$P$10*12/44*1000 -> 3606.7699 | W59: = | X59: =V59*44/12 -> 13224.823 | Z59: 0.45 | AA59: =C59*R59*Z59/1000000000 -> 0.27248948 | AB59: = | AC59: =AA59*$P$9*12/44*1000 -> 2073.3972 | AD59: = | AE59: =AC59*44/12 -> 7602.4565 | AG59: =X59+AE59 -> 20827.279
B60: Distillate Fuel - Ind HD Diesel | C60: =I34 -> 6818999 | E60: =C60*$C$48/1000000000 -> 945.72697 | F60: x | G60: 44.43 | H60: x | I60: 1 | J60: = | K60: =E60*1000*G60*I60/2000 -> 21009.325 | L60: = | M60: =K60*0.90718474/1000000 -> 0.019059339 | N60: = | O60: =M60*44/12 -> 0.069884242 | R60: 3.192 | S60: 0.08 | T60: =C60*R60*S60/1000000000 -> 0.0017412996 | U60: = | V60: =T60*$P$10*12/44*1000 -> 129.64767 | W60: = | X60: =V60*44/12 -> 475.37479 | Z60: 0.18 | AA60: =C60*R60*Z60/1000000000 -> 0.0039179241 | AB60: = | AC60: =AA60*$P$9*12/44*1000 -> 29.81184 | AD60: = | AE60: =AC60*44/12 -> 109.31008 | AG60: =X60+AE60 -> 584.68487
B61: Distillate Fuel - Locomotive | C61: =I35 -> 18081260 | E61: =C61*$C$48/1000000000 -> 2507.6899 | F61: x | G61: 44.43 | H61: x | I61: 1 | J61: = | K61: =E61*1000*G61*I61/2000 -> 55708.332 | L61: = | M61: =K61*0.90718474/1000000 -> 0.050537749 | N61: = | O61: =M61*44/12 -> 0.18530508 | R61: 3.192 | S61: 0.08 | T61: =C61*R61*S61/1000000000 -> 0.0046172306 | U61: = | V61: =T61*$P$10*12/44*1000 -> 343.7738 | W61: = | X61: =V61*44/12 -> 1260.5039 | Z61: 0.25 | AA61: =C61*R61*Z61/1000000000 -> 0.014428845 | AB61: = | AC61: =AA61*$P$9*12/44*1000 -> 109.7904 | AD61: = | AE61: =AC61*44/12 -> 402.56479 | AG61: =X61+AE61 -> 1663.0687
B62: Distillate Fuel - Marine | C62: =I36 -> 4394766 | E62: =C62*$C$48/1000000000 -> 609.5101 | F62: x | G62: 44.43 | H62: x | I62: 1 | J62: = | K62: =E62*1000*G62*I62/2000 -> 13540.267 | L62: = | M62: =K62*0.90718474/1000000 -> 0.012283523 | N62: = | O62: =M62*44/12 -> 0.045039586 | R62: 3.192 | S62: 0.08 | T62: =C62*R62*S62/1000000000 -> 0.0011222474 | U62: = | V62: =T62*$P$10*12/44*1000 -> 83.556423 | W62: = | X62: =V62*44/12 -> 306.37355 | Z62: 0.23 | AA62: =C62*R62*Z62/1000000000 -> 0.0032264614 | AB62: = | AC62: =AA62*$P$9*12/44*1000 -> 24.550438 | AD62: = | AE62: =AC62*44/12 -> 90.018273 | AG62: =X62+AE62 -> 396.39183
B63: Jet Fuel, Kerosene | C63: =C8 -> 5903 | E63: =G8 -> 33468 | F63: x | G63: 43.431818 | H63: x | I63: 1 | J63: = | K63: =E63*1000*G63*I63/2000 -> 726788.05 | L63: = | M63: =K63*0.90718474/1000000 -> 0.65933102 | N63: = | O63: =M63*44/12 -> 2.4175471 | Q63: 22.24 | S63: 0.1 | T63: =E63*1000*Q63*S63/1000000000 -> 0.074432832 | U63: = | V63: =T63*$P$10*12/44*1000 -> 5541.8627 | W63: = | X63: =V63*44/12 -> 20320.163 | Z63: 0.087 | AA63: =E63*1000*Q63*Z63/1000000000 -> 0.064756564 | AB63: = | AC63: =AA63*$P$9*12/44*1000 -> 492.73858 | AD63: = | AE63: =AC63*44/12 -> 1806.7081 | AF63: x | AG63: =X63+AE63 -> 22126.871
B64: Jet Fuel, Naphtha | C64: 0 | E64: 0 | F64: x | G64: 43.39 | H64: x | I64: 1 | J64: = | K64: =E64*1000*G64*I64/2000 -> 0 | L64: = | M64: =K64*0.90718474/1000000 -> 0 | N64: = | O64: =M64*44/12 -> 0 | S64: 0.1 | Z64: 0.087
B65: LPG | C65: =E9 -> 3192000 | E65: =G9 -> 293 | F65: x | G65: 37.110284 | H65: x | I65: 1 | J65: = | K65: =E65*1000*G65*I65/2000 -> 5436.6565 | L65: = | M65: =K65*0.90718474/1000000 -> 0.0049320518 | N65: = | O65: =M65*44/12 -> 0.01808419
B66: Motor Gasoline - Farm | C66: =I19 -> 9437000 | E66: =K26*G11 -> 32678.127 | F66: x | G66: 42.900741 | H66: x | I66: 1 | J66: = | K66: =E66*1000*G66*I66/2000 -> 700957.94 | L66: = | M66: =K66*0.90718474/1000000 -> 0.63589834 | N66: = | O66: =M66*44/12 -> 2.3316273 | R66: 2.8009 | S66: 0.08 | T66: =C66*R66*S66/1000000000 -> 0.0021145675 | U66: = | V66: =T66*$P$10*12/44*1000 -> 157.43916 | W66: = | X66: =V66*44/12 -> 577.27692 | Z66: 0.45 | AA66: =C66*R66*Z66/1000000000 -> 0.011894442 | AB66: = | AC66: =AA66*$P$9*12/44*1000 -> 90.50589 | AD66: = | AE66: =AC66*44/12 -> 331.85493 | AG66: =X66+AE66 -> 909.13185
B67: Motor Gasoline - Construction | C67: =I20 -> 13677000 | E67: =C67*C47/1000000000 -> 1699.2031 | F67: x | G67: 42.900741 | H67: x | I67: 1 | J67: = | K67: =E67*1000*G67*I67/2000 -> 36448.537 | L67: = | M67: =K67*0.90718474/1000000 -> 0.033065556 | N67: = | O67: =M67*44/12 -> 0.12124037 | R67: 2.8009 | S67: 0.08 | T67: =C67*R67*S67/1000000000 -> 0.0030646327 | U67: = | V67: =T67*$P$10*12/44*1000 -> 228.17584 | W67: = | X67: =V67*44/12 -> 836.64474 | Z67: 0.45 | AA67: =C67*R67*Z67/1000000000 -> 0.017238559 | AB67: = | AC67: =AA67*$P$9*12/44*1000 -> 131.16976 | AD67: = | AE67: =AC67*44/12 -> 480.9558 | AG67: =X67+AE67 -> 1317.6005
B68: Motor Gasoline - Ind HD Utility | C68: =I21 -> 10338000 | E68: =C68*C47/1000000000 -> 1284.3724 | F68: x | G68: 42.900741 | H68: x | I68: 1 | J68: = | K68: =E68*1000*G68*I68/2000 -> 27550.265 | L68: = | M68: =K68*0.90718474/1000000 -> 0.02499318 | N68: = | O68: =M68*44/12 -> 0.09164166 | R68: 2.8009 | S68: 0.08 | T68: =C68*R68*S68/1000000000 -> 0.0023164563 | U68: = | V68: =T68*$P$10*12/44*1000 -> 172.4707 | W68: = | X68: =V68*44/12 -> 632.39258 | Z68: 0.18 | AA68: =C68*R68*Z68/1000000000 -> 0.0052120268 | AB68: = | AC68: =AA68*$P$9*12/44*1000 -> 39.658785 | AD68: = | AE68: =AC68*44/12 -> 145.41555 | AG68: =X68+AE68 -> 777.80813
B69: Motor Gasoline - Ind Small Utility | C69: =I22 -> 21138593 | E69: =C69*C47/1000000000 -> 2626.2165 | F69: x | G69: 42.900741 | H69: x | I69: 1 | J69: = | K69: =E69*1000*G69*I69/2000 -> 56333.318 | L69: = | M69: =K69*0.90718474/1000000 -> 0.051104726 | N69: = | O69: =M69*44/12 -> 0.187384 | R69: 2.8009 | S69: 0.08 | T69: =C69*R69*S69/1000000000 -> 0.0047365668 | U69: = | V69: =T69*$P$10*12/44*1000 -> 352.65893 | W69: = | X69: =V69*44/12 -> 1293.0827 | Z69: 0.18 | AA69: =C69*R69*Z69/1000000000 -> 0.010657275 | AB69: = | AC69: =AA69*$P$9*12/44*1000 -> 81.092177 | AD69: = | AE69: =AC69*44/12 -> 297.33798 | AG69: =X69+AE69 -> 1590.4207
B70: Motor Gasoline - Marine | C70: =I23 -> 20910000 | E70: =C70*C47/1000000000 -> 2597.8166 | F70: x | G70: 42.900741 | H70: x | I70: 1 | J70: = | K70: =E70*1000*G70*I70/2000 -> 55724.128 | L70: = | M70: =K70*0.90718474/1000000 -> 0.050552079 | N70: = | O70: =M70*44/12 -> 0.18535762 | R70: 2.8009 | S70: 0.08 | T70: =C70*R70*S70/1000000000 -> 0.0046853455 | U70: = | V70: =T70*$P$10*12/44*1000 -> 348.84527 | W70: = | X70: =V70*44/12 -> 1279.0993 | Z70: 0.23 | AA70: =C70*R70*Z70/1000000000 -> 0.013470368 | AB70: = | AC70: =AA70*$P$9*12/44*1000 -> 102.49726 | AD70: = | AE70: =AC70*44/12 -> 375.82328 | AG70: =X70+AE70 -> 1654.9226
B71: Residual Fuel | C71: =E14 -> 10710000 | E71: =G14 -> 1603 | F71: x | G71: 45.11 | H71: x | I71: 1 | J71: = | K71: =E71*1000*G71*I71/2000 -> 36155.665 | L71: = | M71: =K71*0.90718474/1000000 -> 0.032799868 | N71: = | O71: =M71*44/12 -> 0.12026618 | R71: 3.575 | S71: 0.08 | T71: =C71*R71*S71/1000000000 -> 0.00306306 | U71: = | V71: =T71*$P$10*12/44*1000 -> 228.05874 | W71: = | X71: =V71*44/12 -> 836.21538 | Z71: 0.23 | AA71: =C71*R71*Z71/1000000000 -> 0.0088062975 | AB71: = | AC71: =AA71*$P$9*12/44*1000 -> 67.007918 | AD71: = | AE71: =AC71*44/12 -> 245.6957 | AG71: =X71+AE71 -> 1081.9111
B72: Natural Gas | C72: =E13 -> 261870000 | E72: =G13 -> 6408 | F72: x | G72: 31.87 | H72: x | I72: 1 | J72: = | K72: =E72*1000*G72*I72/2000 -> 102111.48 | L72: = | M72: =K72*0.90718474/1000000 -> 0.092633976 | N72: = | O72: =M72*44/12 -> 0.33965791
B73: Other | F73: x | H73: x | J73: = | K73: =E73*1000*G73*I73/2000 -> 0 | L73: = | M73: =K73*0.90718474/1000000 -> 0 | N73: = | O73: =M73*44/12 -> 0
O74: =SUM(O57:O73) -> 8.1908019
C75: =C66+C67+C68+C69+C70 -> 75500593
E79: Non-Energy | I79: Net combustible
C80: Consumption | E80: Consumption | I80: Consumption | K80: Emission Factor | M80: Combustion | O80: Emissions | Q80: Emissions | S80: Emissions
C81: (Billion Btu) | E81: (Billion Btu) | G81: Storage Factor (%) | I81: (Billion Btu) | K81: (lbs C/Million Btu) | M81: Efficiency (%) | O81: (short tons carbon) | Q81: (MMTCE) | S81: (MMTCO2E)
B82: Lubricants | C82: =G10 -> 1466 | D82: - ( | E82: 1466 | F82: x | G82: 0.092393733 | H82: ) = | I82: =C82-(E82*G82) -> 1330.5508 | J82: x | K82: 43.97 | L82: x | M82: 1 | N82: = | O82: =I82*1000*K82*M82/2000 -> 29252.159 | P82: = | Q82: =O82*0.90718474/1000000 -> 0.026537112 | R82: = | S82: =Q82*44/12 -> 0.097302745
B86: International Bunker Fuels | G86: 2011
C88: Consumption | E88: Emission Factor | G88: Combustion | I88: Emissions | K88: Emissions | M88: Emissions
B89: Fuel Type | C89: (Billion Btu) | E89: (lbs C/Million Btu) | G89: Efficiency (%) | I89: (short tons carbon) | K89: (MMTCE) | M89: (MMTCO2E)
B90: Jet Fuel, Kerosene | C90: 0 | D90: x | E90: 43.431818 | F90: x | G90: 1 | H90: = | I90: =C90*1000*E90*G90/2000 -> 0 | J90: = | K90: =I90*0.90718474/1000000 -> 0 | L90: = | M90: =K90*44/12 -> 0
B91: Distillate Fuel | C91: 18 | D91: x | E91: 44.43 | F91: x | G91: 1 | H91: = | I91: =C91*1000*E91*G91/2000 -> 399.87 | J91: = | K91: =I91*0.90718474/1000000 -> 0.00036275596 | L91: = | M91: =K91*44/12 -> 0.0013301052
B92: Residual Fuel | C92: 0 | D92: x | E92: 45.11 | F92: x | G92: 1 | H92: = | I92: =C92*1000*E92*G92/2000 -> 0 | J92: = | K92: =I92*0.90718474/1000000 -> 0 | L92: = | M92: =K92*44/12 -> 0
B93: Total | K93: =SUM(K90:K92) -> 0.00036275596 | M93: =SUM(M90:M92) -> 0.0013301052
B98: Emissions Data (MMTCO2e)
B100: Transportation Sector: On-Road Mobile Sources 2011
M103: CO2 Emissions | T103: N2O Emissions | AA103: CH4 Emissions | AG103: CH4 &
C104: Consumption | E104: Consumption | G104: Emission Factor | I104: Combustion | K104: Emissions | M104: Emissions | O104: Emissions | AG104: N2O
B105: Fuel Type | C105: (gallon) | E105: (Billion Btu) | G105: (lbs C/Million Btu) | I105: Efficiency (%) | K105: (short tons carbon) | M105: (MMTCE) | O105: (MMTCO2E) | Q105: Energy Content kg/MBtu | R105: Density kg/gallon | S105: N2O EF g/kg fuel | T105: N2O EM Gigagrams | V105: N2O MTCE | X105: N2O MTCO2E | Z105: CH4 EF g/kg fuel | AA105: CH4 EM Gigagrams | AC105: CH4 MTCE | AE105: CH4 MTCO2E | AG105: TOTAL MTCO2E
B106: Motor Diesel (On-Road) | C106: 5.2851684e+08 | E106: =C106*$C$48/1000000000 -> 73300 | F106: x | G106: 46.924 | H106: x | I106: 1 | J106: = | K106: =E106*1000*G106*I106/2000 -> 1719764.6 | L106: = | M106: =K106*0.90718474/1000000 -> 1.5601442 | N106: = | O106: =M106*44/12 -> 5.7205287 | R106: 3.192 | S106: 0.0004 | T106: =C106*R106*S106/1000000000 -> 0.0006748103 | U106: = | V106: =T106*$P$10*12/44*1000 -> 50.242694 | W106: = | X106: =V106*44/12 -> 184.22321 | Z106: 0.0023 | AA106: =C106*R106*Z106/1000000000 -> 0.0038801592 | AB106: = | AC106: =AA106*$P$9*12/44*1000 -> 29.524484 | AD106: = | AE106: =AC106*44/12 -> 108.25644 | AG106: =X106+AE106 -> 292.47965
B107: Motor Gasoline (On Road) | C107: 2405061253 | E107: =C107*$C$47/1000000000 -> 298800 | F107: x | G107: 45.314 | H107: x | I107: 1 | J107: = | K107: =E107*1000*G107*I107/2000 -> 6769911.6 | L107: = | M107: =K107*0.90718474/1000000 -> 6.1415605 | N107: = | O107: =M107*44/12 -> 22.519055 | R107: 2.8009 | S107: 0.0004 | T107: =C107*R107*S107/1000000000 -> 0.0026945344 | U107: = | V107: =T107*$P$10*12/44*1000 -> 200.62034 | W107: = | X107: =V107*44/12 -> 735.6079 | Z107: 0.045 | AA107: =C107*R107*Z107/1000000000 -> 0.30313512 | AB107: = | AC107: =AA107*$P$9*12/44*1000 -> 2306.5827 | AD107: = | AE107: =AC107*44/12 -> 8457.4699 | AG107: =X107+AE107 -> 9193.0778
O108: =SUM(O106:O107) -> 28.239584 | AE108: =SUM(AE106:AE107)/1000000 -> 0.0085657264

Sheet Natural Gas and Oil
A1: Emissions from Natural Gas Activities in MD
B4: Natural Gas - Production | D4: 2011
C6: Activity Data | D6: Emission Factor | E6: Metric Tons CH4 | F6: MMTCO2E
D7: metric tons CH4 per year per activity unit
B8: Total number of wells | C8: 8 | D8: 4.1021718 | E8: =C8*D8 -> 32.817374 | F8: =E8*$I$26/1000000 -> 0.00091560475
B9: Number of off-shore platforms not in the Gulf of Mexico | C9: 0 | D9: 13.055797 | E9: 0 | F9: =E9*$I$26/1000000 -> 0
B10: Total | E10: 21.095018 | F10: =F8+F9 -> 0.00091560475
B13: Number of Wells from EIA, " Natural Gas Navigator- Maryland Natural Gas Number of Gas and Gas Condensate Wells" acccessed from: http://tonto.eia.doe.gov/dnav/ng/hist/na1170_smd_8a.htm
C14: http://www.eia.gov/naturalgas/annual/pdf/table_005.pdf
B15: Emission factor from US EPA, Emissions Inventory Improvements Program, Volume VII: Chpater 5. Methods for Estimating Methane Emissions from Natural Gas and Oil Systems. This factor represents emissions not just from wells but also from pneumatic devices, dehydrator vents, Kimray pumps, gas engines, and well clean-ups
B20: Natural Gas - Distribution
C22: Activity Data | D22: Emission Factor | E22: Metric Tons CH4 | F22: MMTCO2E
B23: Distribution pipeline | D23: (metric tons CH4 per year per activity unit) | H23: Global Warming Potential
B25: Miles of cast iron distribution pipeline | C25: 1422.17 | D25: 5.8037236 | E25: =C25*D25 -> 8253.8815 | F25: =E25*$I$26/1000000 -> 0.2302833 | H25: CO2_GWP= | I25: =Summary!E4 -> 1
B26: Miles of unprotected steel distribution pipeline | C26: 491.27 | D26: 2.1221754 | E26: =C26*D26 -> 1042.5611 | F26: =E26*$I$26/1000000 -> 0.029087455 | H26: CH4_GWP = | I26: =Summary!E5 -> 27.9
B27: Miles of protected steel distribution pipeline | C27: 5263.38 | D27: 0.060046884 | E27: =C27*D27 -> 316.04957 | F27: =E27*$I$26/1000000 -> 0.008817783 | H27: N2O_GWP= | I27: =Summary!E6 -> 273
B28: Miles of plastic distribution pipeline | C28: 7165.39 | D28: 0.3716476 | E28: =C28*D28 -> 2663 | F28: =E28*$I$26/1000000 -> 0.0742977 | H28: SF6_GWP = | I28: =Summary!E7 -> 24300
B30: Services
B31: Total number of services | C31: 999889 | D31: 0.01526714 | E31: =C31*D31 -> 15265.445 | F31: =E31*$I$26/1000000 -> 0.42590593
B32: Number of unprotected steel services | C32: 109801 | D32: 0.0327503 | E32: =C32*D32 -> 3596.0157 | F32: =E32*$I$26/1000000 -> 0.10032884
B33: Number of protected steel services | C33: 146644 | D33: 0.0034007868 | E33: =C33*D33 -> 498.70498 | F33: =E33*$I$26/1000000 -> 0.013913869
B34: Total | E34: =SUM(E25:E33) -> 31635.658 | F34: =SUM(F25:F33) -> 0.88263487
B36: Miles of Distribution pipeline from US Department of Transport, Office of Pipeline Safety, " Distribution and Transmission Annuals data:1990 -2005" . Acess from http://www.phmsa.dot.gov/portal/
B38: All emission factors from US EPA, Emissions Inventory Improvements Program, Volume VII: Chapter 5. Methods for Estimating Methane Emissions from Natural Gas and Oil Systems.
B43: Natural Gas - Transmission
C45: Activity Data | D45: Emission Factor | E45: Metric Tons CH4 | F45: MMTCO2E
D46: metric tons CH4 per year per activity unit
B48: Miles of transmission pipeline | C48: 171.099 | D48: 0.61847933 | E48: =C48*D48 -> 105.82119 | F48: =E48*$I$26/1000000 -> 0.0029524113
B49: Number of gas transmission compressor stations | C49: =C48*0.006 -> 1.026594 | D49: 983.65968 | E49: =C49*D49 -> 1009.8191 | F49: =E49*$I$26/1000000 -> 0.028173953
B50: Number of gas storage compressor stations | C50: =C48*0.0015 -> 0.2566485 | D50: 964.14925 | E50: =C50*D50 -> 247.44746 | F50: =E50*$I$26/1000000 -> 0.0069037841
B51: Total | E51: =SUM(E47:E50) -> 1363.0878 | F51: =SUM(F48:F50) -> 0.038030149
B54: Number of LNG storage compressor stations from EIA, US LNG Markets and Uses, http://www.eia.doe.gov/pub/oil_gas/natural_gas/feature_articles/2003/lng/lng2003.pdf
B55: Miles of transmission pipeline from US Department of Transport, Office of Pipeline Safety, " Distribution and Transmission Annuals data:1990 -2005" . Acess from http://www.phmsa.dot.gov/portal/
B56: Number of gas transmission compressor stations = miles of transmission pipeline x 0.006 -EIIP, Volume VII: Chapter 5,March 2005
B57: Number of gas storage compressor station = miles of transmission pipeline x 0.0015 -EIIP, Volume VII: Chapter 5,March 2005
B58: All emission factors from US EPA, Emissions Inventory Improvements Program, Volume VII: Chapter 5. Methods for Estimating Methane Emissions from Natural Gas and Oil Systems.
B65: Natural Gas - Consumption as Pipeline Fuel
C67: 2011 | D67: Emission Factors: | G67: Combustion | H67: CO2 Emissions | I67: N2O Emissions | J67: CH4 Emissions | K67: GHG Emissions
B68: NG Consumption | C68: (Billion Btus) | D68: Carbon | E68: N2O | F68: CH4 | G68: Efficiency (%) | H68: (MMTCO2E) | I68: (MMTCO2E) | J68: (MMTCO2E)
D69: (lbs/MMBtu) | E69: (Mt/BBtu) | F69: (Mt/BBtu)
B70: NGPZB (Billion Btus) | C70: 6172 | D70: 31.87 | E70: 9.4955027e-05 | F70: 0.00094955027 | G70: 1 | H70: =C70*1000*D70*(44/12)*0.00045359237*0.90718/1000000 -> 0.29678273 | I70: =C70*E70*$I$27*0.000001 -> 0.00015999504 | J70: =C70*F70*$I$26*0.000001 -> 0.00016351142 | K70: =H70+I70+J70 -> 0.29710623
B72: NGPZB (Million Btus) | C72: =C70*1000 -> 6172000
B75: Natural Gas as Pipeline Fuel Activity Data (Billion Btu) was obtained from: http://www.eia.doe.gov/states/sep_fuel/html/csv/fuel_adjust_consum.csv
B77: Number of Gas Producing Wells : http://www.eia.gov/dnav/ng/hist/na1170_smd_8a.htm.
B81: Emissions by Gas (MMTCO2e)
C82: 2011
B83: Natural Gas | C83: =C84+C85+C86+C87 -> 1.2186869
B84: Production | C84: =F10 -> 0.00091560475
B85: Transmission | C85: =F51 -> 0.038030149
B86: Distribution | C86: =F34 -> 0.88263487
B87: Pipeline Fuel | C87: =K70 -> 0.29710623

Sheet Mining
A1: Emissions from Mining in MD
B3: CH4 from Coal Mining in MD
B4: Emissions from: | C4: Coal Basin(s) (if applicable) | D4: Measured Ventilation Emissions (mcf) | F4: Degasification System Emissions (mcf) | H4: Methane Recovered from Degasification Systems and Usef for Energy (mcf) | J4: Emissions (mcf CH4) | L4: Emissions (MTCH4) | N4: Emissions (MTCO2E) | Q4: Constants
B5: Mines | Q5: 19.2 | R5: grams/ft3 CH4
B6: Underground Mines | D6: 0 | E6: + | F6: 0 | G6: - | H6: 0 | I6: = | J6: =D6+F6-H6 -> 0 | K6: = | L6: =J6*1000000*0.0000192 -> 0 | M6: = | N6: =(L6*$R$15) -> 0 | Q6: 1e-06 | R6: metric tons/gram
Q7: 21 | R7: GWP
D8: Surface Coal Production ('000 short tons) | F8: Basin-specific EF (ft3/short ton) | H8: Emissions ('000 ft3 CH4) | J8: Emissions (MTCH4) | L8: Emissions (MTCO2E)
B9: Surface Mines | C9: Northern Appalachian Basin | D9: 2179 | E9: x | F9: 119 | G9: = | H9: =D9*F9 -> 259301 | I9: = | J9: =H9*Q5*Q6*1000 -> 4978.5792 | K9: = | L9: =(J9*$R$15) -> 138902.36
C10: --- | D10: 0 | E10: x | F10: 0 | G10: = | H10: - | I10: = | J10: - | K10: = | L10: -
B12: Post-Mining Activity | D12: Coal Production ('000 short tons) | F12: Basin- & Mine-specific EF (ft3/short ton) | H12: Emissions ('000 ft3 CH4) | J12: Emissions (MTCH4) | L12: Emissions (MTCO2E) | Q12: Global Warming Potential
B13: Underground Mines | C13: Northern Appalachian Basin | D13: 782 | E13: x | F13: 44.98 | G13: = | H13: =D13*F13 -> 35174.36 | I13: = | J13: =H13*Q5*Q6*1000 -> 675.34771 | K13: = | L13: =(J13*$R$15) -> 18842.201
C14: --- | D14: 0 | E14: x | F14: 0 | G14: = | H14: - | I14: = | J14: - | K14: = | L14: - | Q14: CO2_GWP= | R14: =Summary!E4 -> 1
B15: Surface Mines | C15: Northern Appalachian Basin | D15: 2179 | E15: x | F15: 19.3375 | G15: = | H15: =D15*F15 -> 42136.412 | I15: = | J15: =H15*Q5*Q6*1000 -> 809.01912 | K15: = | L15: =(J15*$R$15) -> 22571.633 | Q15: CH4_GWP = | R15: =Summary!E5 -> 27.9
C16: --- | D16: 0 | E16: x | F16: 0 | G16: = | H16: --- | I16: = | J16: --- | K16: = | L16: --- | Q16: N2O_GWP= | R16: =Summary!E6 -> 273
B17: Post-Mining Total | H17: =SUM(H13:H16) -> 77310.772 | I17: = | J17: =SUM(J13:J16) -> 1484.3668 | K17: = | L17: =SUM(L13:L16) -> 41413.835 | Q17: SF6_GWP = | R17: =Summary!E7 -> 24300
B19: Total Coal Mining | C19: (MTCO2E) | D19: =SUM(D20:D22) -> 180316.19
C20: Underground Mines | D20: =N6 -> 0
C21: Surface Mines | D21: =SUM(L9:L10) -> 138902.36
C22: Post-Mining Activity | D22: =L17 -> 41413.835
B25: Maryland Abandoned Coal Mines Emissions Summary
D26: Default MD Abandoned Mine Emissions Gg/Year | F26: Mine Status Percent | H26: Emissions (MTCE) | J26: Emissions (MTCH4) | L26: Emissions (MTCO2E)
C27: Vented | D27: 0.28931433 | E27: x | F27: 0.125 | G27: = | H27: =D27*F27*1000*12/44*21 -> 207.12276 | I27: = | J27: =D27*F27*1000 -> 36.164291 | K27: = | L27: =D27*F27*1000*$R$15 -> 1008.9837
C28: Sealed | D28: 0.28931433 | E28: x | F28: 0.25 | G28: = | H28: =D28*F28*1000*12/44*21 -> 414.24551 | I28: = | J28: =D28*F28*1000 -> 72.328582 | K28: = | L28: =D28*F28*1000*$R$15 -> 2017.9674
C29: Flooded | D29: 0.28931433 | E29: x | F29: 0.625 | G29: = | H29: =D29*F29*1000*12/44*21 -> 1035.6138 | I29: = | J29: =D29*F29*1000 -> 180.82145 | K29: = | L29: =D29*F29*1000*$R$15 -> 5044.9186
B32: Maryland Coal Mines Emissions Summary
B33: Emissions (MMTCO2E)
C34: 2011
B35: Coal Mining | C35: =D19/1000000 -> 0.18031619
B36: Abandoned Coal Mines | C36: =SUM(C37:C39) -> 0.0080718697
B37: Vented | C37: =L27/1000000 -> 0.0010089837
B38: Sealed | C38: =L28/1000000 -> 0.0020179674
B39: Flooded | C39: =L29/1000000 -> 0.0050449186
B43: Emissions (MTCO2E)
C44: 2011
B45: Coal Mining | C45: =D19 -> 180316.19
B46: Abandoned Coal Mines | C46: =SUM(C47:C49) -> 8071.8697
B47: Vented | C47: =L27 -> 1008.9837
B48: Sealed | C48: =L28 -> 2017.9674
B49: Flooded | C49: =L29 -> 5044.9186
B51: Emissions (MTCE) | C51: 2011
B52: Coal Mining | C52: =C45*12/44 -> 49177.144
B53: Abandoned Coal Mines | C53: =SUM(C54:C56) -> 1656.9821
B54: Vented | C54: =H27 -> 207.12276
B55: Sealed | C55: =H28 -> 414.24551
B56: Flooded | C56: =H29 -> 1035.6138
B58: Emissions by Gas (MTCH4) | C58: 2011
B59: Coal Mining | C59: =C45/21 -> 8586.4854
B60: Abandoned Coal Mines | C60: =SUM(C61:C63) -> 289.31433
B61: Vented | C61: =J27 -> 36.164291
B62: Sealed | C62: =J28 -> 72.328582
B63: Flooded | C63: =J29 -> 180.82145
D65: Energy Information Administration, U.S. Department of Energy, Annual Coal Report, Table 1.
D66: Table 1: Coal Production and Number of Mines by State and Mine Type, 2010
D67: http://www.eia.gov/coal/annual/pdf/table1.pdf
D68: Office of Surface Mining Reclamation and Enforcement - Annual Evaluation Report.
D69: Table 1: Coal Produced for sale, Transfer, Or Use
D70: http://odocs.osmre.gov/qdocs.aspx

Sheet Cement
A1: Cement Industry Production Emissions
D3: EPA- Mandatory GHG Rule Reporting Methodology used in Emission Certification Reports.
F6: % Biomass
D7: Consumption | E7: Units | G7: CO2 Emissions (metric tons) | H7: CH4 Emissions (metric tons CH4) | I7: N2O Emissions (metric tons CH4)
B8: (A) | C8: Lehigh Kiln System
C9: -Coal | D9: 247834 | E9: metric tons | G9: 417125.79 | H9: 47.554269 | I9: 6.9169846
C11: - DBS (Preheater/Precalciner Kiln) | D11: 17516 | E11: metric tons | F11: 0.065 | G11: =G19*F11 -> 76644.36 | H11: 0.68406441 | I11: 0.89783454
C13: - #2 Oil | D13: 518485.06 | E13: Gallons | G13: 4778.3351 | H13: 0.21465281 | I13: 0.042930563
C15: - Fly Ash | D15: 208096 | E15: metric tons | G15: 33967.65 | H15: 3.837644 | I15: 0.55820276
C17: Kiln Fossil Fuel Combustion (Calculation) | G17: =G9+G11+G13+G15 -> 532516.14 | H17: =H9+H11+H13+H15 -> 52.29063 | I17: =I9+I11+I13+I15 -> 8.4159525
C19: Kiln System Total CO2 (CEM Measured) | G19: 1179144 | H19: =H17 -> 52.29063 | I19: =I17 -> 8.4159525
C21: Cement Production-Process CO2 (metric tons) = Kiln System Total CO2 - Kiln Fossil Fuel Combustion CO2 | G21: =G19-G17 -> 646627.86
C23: Non Kiln
C24: Finish Mill (#2 Oil) | D24: 54695.38 | E24: gallons | G24: 558.2473 | H24: 0.022643887 | I24: 0.0045287775
C26: Total Facility CO2= Kiln System CO2 + Non-Kiln CO2 | G26: =G19+G24 -> 1179702.2 | H26: =H24+H19 -> 52.313274 | I26: =I24+I19 -> 8.4204813
E28: Emissions (short tons)
C31: Kiln Fossil Fuel Combustion (short tons) | G31: =G17*1.10249937 -> 587098.7 | H31: =H17*1.10249937 -> 57.650387 | I31: =I17*1.10249937 -> 9.2785823
C33: Kiln System Total CO2 (CEM Measured) (short tons) | G33: =G19*1.10249937 -> 1300005.5 | H33: =H19*1.10249937 -> 57.650387 | I33: =I19*1.10249937 -> 9.2785823
C35: Cement Production-Process CO2 (short tons) = Kiln System Total CO2 - Kiln Fossil Fuel Combustion CO2 | G35: =G21*1.10249937 -> 712906.81
C37: Total Facility CO2 (short tons) = Kiln System CO2 + Non-Kiln CO2 | G37: =G26*1.10249937 -> 1300621 | H37: =H26*1.1023 -> 57.664922 | I37: =I26*1.1023 -> 9.2818965
B41: (B) | C41: Holcim Kiln 2011
D42: Consumption | E42: Units | G42: CO2 Emissions (metric tons) | H42: CH4 Emissions (metric tons CH4) | I42: N2O Emissions (metric tons N2O)
C43: Kiln System
C44: -Coal | D44: 90237 | E44: short tons | G44: 183433.32 | H44: 21.604 | I44: 3.142
C46: - #2 Oil | D46: 405324 | E46: Gallons | G46: 1702.7369 | H46: 0.069 | I46: 0.014
C48: - Tire | D48: 4786 | E48: short tons | G48: 11055.727 | H48: 4.1151942 | I48: 0.54011924
C50: Kiln Fossil Fuel Alone CO2 (Calculation) | G50: =G44+G46+G48 -> 196191.78 | H50: =H44+H46+H48 -> 25.788194 | I50: =I44+I46+I48 -> 3.6961192
C52: Non Kiln
C53: Raw Meal - # 2 Oil | D53: 334327.45 | E53: Gallons | G53: 1409.4309 | H53: 0.057169994 | I53: 0.011433999
C55: Kiln System Total CO2 (CEM Measured). | G55: 467712 | H55: 25.788194 | I55: 3.6961192
C57: Kiln Fossil Fuel Alone CO2 (Calculation) | G57: =G50 -> 196191.78 | H57: =H50 -> 25.788194 | I57: =I50 -> 3.6961192
C59: Cement Process CO2 (metric tons) = (Total Kiln CO2) - (Kiln Fossil Fuel Alone CO2) | G59: =G55-G57 -> 271520.22 | H59: 51.633558 | I59: 7.4036725
C61: Total Facility CO2 Emission = (Kiln System Total CO2) + (Non Kiln CO2) | G61: 469121.43 | H61: 25.845364 | I61: 3.7075532
E63: Emissions (short tons)
C66: Kiln System Total CO2 (CEM Measured) (short tons) | G66: =G55*1.1023 -> 515558.94 | H66: =H55*1.1023 -> 28.426327 | I66: =I55*1.1023 -> 4.0742322
C68: Kiln Fossil Fuel Alone CO2 (Calculated) (short tons) | G68: =G50*1.1023 -> 216262.2 | H68: =H50*1.1023 -> 28.426327 | I68: =I50*1.1023 -> 4.0742322
C70: Cement Process CO2 (short tons) = (Total Kiln CO2) - (Kiln Fossil Fuel Alone CO2) | G70: =G59*1.1023 -> 299296.74 | H70: =H59*1.1023 -> 56.915672 | I70: =I59*1.1023 -> 8.1610682
C72: Total Facility CO2 Emission(short tons) = (Kiln System Total CO2) + (Non Kiln CO2) | G72: =G61*1.1023 -> 517112.55 | H72: =H61*1.1023 -> 28.489345 | I72: =I61*1.1023 -> 4.0868359
B76: (A) +(B) | C76: MD Summmary Cement Process CO2 Emissions (short tons) | G76: =G70+G35 -> 1012203.5
C78: MD Summmary Cement Process CO2 Emissions (metric tons) | G78: =G76*0.90718474 -> 918255.61
C80: MD Summmary Cement Process CO2 Emissions (MMTCO2E) | G80: =G78/1000000 -> 0.91825561

Sheet LimeT&DSoda
A1: Limestone & Dolomite; Soda Ash; Ammonia & Urea; Electric Power T&D Summary (MTCO2E)
C3: Limestone and Dolomite Use
D4: Consumption (Metric Tons) | F4: Emission Factor (t CO2/t production) | H4: Emissions (MTCE) | J4: Emissions (MTCO2E) | O4: Global Warming Potential
C5: Limestone | D5: 194556 | E5: x | F5: 0.44 | G5: = | H5: =J5*12/44 -> 23346.72 | I5: = | J5: =IF(ISERROR(D5*F5),0,D5*F5) -> 85604.64
C6: Dolomite | D6: 0 | E6: x | F6: 0.484 | G6: = | H6: =J6*12/44 -> 0 | I6: = | J6: =IF(ISERROR(D6*F6),0,D6*F6) -> 0 | O6: CO2_GWP= | P6: =Summary!E4 -> 1
C7: Magesium Production from Dolomite | E7: x | F7: 1.7966667 | G7: = | H7: =J7*12/44 -> 0 | I7: = | J7: =IF(ISERROR(D7*F7),0,D7*F7) -> 0 | O7: CH4_GWP = | P7: =Summary!E5 -> 27.9
O8: N2O_GWP= | P8: =Summary!E6 -> 273
C9: Soda Ash Use | O9: SF6_GWP = | P9: =Summary!E7 -> 24300
D10: Manufacture and Consumption (Metric tons) | F10: Emission Factor (t CO2/t production) | H10: Emissions (MTCE) | J10: Emissions (MTCO2E)
C11: Manufacture | D11: 0 | E11: x | F11: 0.0974 | G11: = | H11: =J11*12/44 -> 0 | I11: = | J11: =IF(ISERROR(D11*F11),0,D11*F11) -> 0
C12: Consumption | D12: 97265.37 | E12: x | F12: 0.415 | G12: = | H12: =J12*12/44 -> 11008.671 | I12: = | J12: =IF(ISERROR(D12*F12),0,D12*F12) -> 40365.129
C14: Ammonia Production and Urea Consumption
D15: Production & Consumption (Metric Tons) | F15: Emission Factor (mt CO2/mt activity) | H15: Subract emissions from Urea | J15: Emissions (MTCE) | L15: Emissions (MTCO2E)
C16: Ammonia Production | D16: 0 | E16: x | F16: 1.2 | G16: - ( | H16: =D17*F17 -> 951.19 | I16: ) = | J16: =L16*12/44 -> 0 | K16: = | L16: =IF(D16>0,D16*F16-(H16),0) -> 0
C17: Urea Consumption | D17: 1303 | F17: 0.73 | I17: = | J17: =L17*12/44 -> 259.41545 | K17: = | L17: =D17*F17 -> 951.19
C20: Electric Power Transmission & Distribution (T&D)
D21: SF6 Consumption (Metric Tons) | F21: Emission Factor (t SF6/t Consumption) | H21: Emissions (Metric Tons SF6) | J21: Emissions | L21: Emissions (MTCO2E)
C22: 2011 | D22: 7 | E22: x | F22: 1 | G22: = | H22: =IF(ISERROR(D22*F22),0,D22*F22) -> 7 | I22: = | J22: =H22*$P$9*12/44 -> 46390.909 | K22: = | L22: =J22/(12/44) -> 170100
C25: Aluminum Production (EastAlCo Shut Down)
D26: Production (Metric Tons) | F26: Emission Factor (t CE/t Production) | J26: Emissions (MTCE) | L26: Emissions (MTCO2E)
C27: 2011 | D27: 0 | E27: x | F27: 0.42545455 | G27: = | J27: =IF(ISERROR(D27*F27),0,D27*F27) -> 0 | K27: = | L27: =J27/(12/44) -> 0
D34: 2011
C35: Carbon Dioxide Emissions | D35: =D36+D37+D38+D39+D40+D41 -> 126920.96
C36: Cement Manufacture | D36: 0
C37: Lime Manufacture | D37: 0
C38: Limestone and Dolomite Use | D38: =J5 -> 85604.64
C39: Soda Ash | D39: =J12 -> 40365.129
C40: Ammonia & Urea | D40: =L17 -> 951.19
C41: Iron & Steel Production | D41: 0
C42: Nitrous Oxide Emissions | D42: =D43+D44 -> 0
C43: Nitric Acid Production | D43: 0
C44: Adipic Acid Production | D44: 0
C45: HFC, PFC, and SF6 Emissions | D45: =D46+D47+D48+D49+D50 -> 170100
C46: Semiconductor Manufacturing | D46: 0
C47: Magnesium Production | D47: 0
C48: Electric Power Transmission and Distribution Systems | D48: =L22 -> 170100
C49: HCFC-22 Production | D49: 0
C50: Aluminum Production | D50: =L27 -> 0
C51: Total Emissions | D51: =D35+D42+D45 -> 297020.96

Sheet ODSSubs 100-yr
B2: Maryland GHG Emissions from the Product Use of Substitutes for Ozone Depleting Substances
B5: EPA State-Level Data
B6: Data source entity | C6: U.S. Environmental Protection Agency
B7: Data source name | C7: Inventory of U.S. Greenhouse Gas Emissions and Sinks by State: 1990-2022
B8: Data source product | C8: 2024 All State GHG Inventory Data Workbook (AllStateGHGData90-22_v082924.xlsx)
B9: sector | C9: Industrial Processes and Product Use
B10: subsector | C10: Product uses as substitutes for ODS
B11: category | C11: Substitution of Ozone Depleting Substances
B12: geo_ref | C12: MD
B13: units | C13: Tg (MMTCO2e, GWP=100-yr AR5)
B15: sub_category_1 | C15: ghg_category | D15: ghg | E15: gwp | F15: Y1990 | G15: Y1991 | H15: Y1992 | I15: Y1993 | J15: Y1994 | K15: Y1995 | L15: Y1996 | M15: Y1997 | N15: Y1998 | O15: Y1999 | P15: Y2000 | Q15: Y2001 | R15: Y2002 | S15: Y2003 | T15: Y2004 | U15: Y2005 | V15: Y2006 | W15: Y2007 | X15: Y2008 | Y15: Y2009 | Z15: Y2010 | AA15: Y2011 | AB15: Y2012 | AC15: Y2013 | AD15: Y2014 | AE15: Y2015 | AF15: Y2016 | AG15: Y2017 | AH15: Y2018 | AI15: Y2019 | AJ15: Y2020 | AK15: Y2021 | AL15: Y2022
B16: Fire protection | C16: CO2 | D16: Carbon Dioxide | E16: 1 | F16: 0 | G16: 0 | H16: 0 | I16: 0 | J16: 0 | K16: 0 | L16: 0 | M16: 0 | N16: 9.8519299e-09 | O16: 3.1540939e-08 | P16: 6.2501429e-08 | Q16: 1.0185117e-07 | R16: 1.4894637e-07 | S16: 2.0074601e-07 | T16: 2.6107618e-07 | U16: 3.2987329e-07 | V16: 4.071129e-07 | W16: 4.8314337e-07 | X16: 5.5882771e-07 | Y16: 6.3589657e-07 | Z16: 7.166005e-07 | AA16: 7.9894556e-07 | AB16: 8.8522101e-07 | AC16: 9.744079e-07 | AD16: 1.0670013e-06 | AE16: 1.1630521e-06 | AF16: 1.2612901e-06 | AG16: 1.3659551e-06 | AH16: 1.4755734e-06 | AI16: 1.5902748e-06 | AJ16: 1.6681446e-06 | AK16: 1.7298704e-06 | AL16: 1.7856393e-06
B17: Foam blowing agents | C17: CO2 | D17: Carbon Dioxide | E17: 1 | F17: 2.6131015e-07 | G17: 4.1898125e-07 | H17: 5.8111867e-07 | I17: 7.4840461e-07 | J17: 9.220172e-07 | K17: 2.3052706e-06 | L17: 4.4136082e-06 | M17: 6.594629e-06 | N17: 8.8466613e-06 | O17: 1.1478304e-05 | P17: 1.2507148e-05 | Q17: 1.3145306e-05 | R17: 1.7139737e-05 | S17: 2.1744247e-05 | T17: 2.3069012e-05 | U17: 2.4384036e-05 | V17: 2.5685309e-05 | W17: 2.6988e-05 | X17: 2.8364564e-05 | Y17: 3.1166397e-05 | Z17: 3.4618546e-05 | AA17: 3.6918482e-05 | AB17: 3.8676693e-05 | AC17: 4.0727677e-05 | AD17: 4.3031867e-05 | AE17: 4.5313002e-05 | AF17: 4.8376348e-05 | AG17: 5.1409483e-05 | AH17: 5.5067013e-05 | AI17: 5.8640585e-05 | AJ17: 6.3052901e-05 | AK17: 6.6892769e-05 | AL17: 7.0764145e-05
B18: Refrigeration and air-conditioning | C18: CO2 | D18: Carbon Dioxide | E18: 1 | F18: 0 | G18: 0 | H18: 0 | I18: 0 | J18: 0 | K18: 0 | L18: 0 | M18: 0 | N18: 0 | O18: 0 | P18: 0 | Q18: 0 | R18: 0 | S18: 0 | T18: 0 | U18: 0 | V18: 0 | W18: 0 | X18: 0 | Y18: 0 | Z18: 0 | AA18: 0 | AB18: 3.7046286e-10 | AC18: 1.1108583e-09 | AD18: 1.2944557e-09 | AE18: 2.398426e-09 | AF18: 2.9404986e-09 | AG18: 6.4163775e-09 | AH18: 1.3532337e-08 | AI18: 2.4263686e-08 | AJ18: 3.923096e-08 | AK18: 5.8312307e-08 | AL18: 8.8385301e-08
B19: Fire protection | C19: HFC | D19: HFC-125 | E19: 3170 | F19: 0 | G19: 0 | H19: 0 | I19: 0 | J19: 0 | K19: 0 | L19: 0 | M19: 2.7077627e-05 | N19: 8.6931551e-05 | O19: 0.00018630404 | P19: 0.00031273548 | Q19: 0.00051983172 | R19: 0.00080178754 | S19: 0.001083461 | T19: 0.0013939861 | U19: 0.0017327705 | V19: 0.0020952358 | W19: 0.0024518461 | X19: 0.0028027344 | Y19: 0.0025626719 | Z19: 0.0027523802 | AA19: 0.0032288386 | AB19: 0.0038244972 | AC19: 0.0042703372 | AD19: 0.0053506684 | AE19: 0.0052407328 | AF19: 0.0061727424 | AG19: 0.0055345313 | AH19: 0.0064767103 | AI19: 0.0061203556 | AJ19: 0.0069972373 | AK19: 0.0072624296 | AL19: 0.0075245277
B20: Refrigeration and air-conditioning | C20: HFC | D20: HFC-125 | E20: 3170 | F20: 2.0830798e-06 | G20: 5.1310291e-06 | H20: 9.8378592e-06 | I20: 0.0018322801 | J20: 0.0048728701 | K20: 0.010327908 | L20: 0.017579837 | M20: 0.027135249 | N20: 0.035481955 | O20: 0.046437792 | P20: 0.055499793 | Q20: 0.067528539 | R20: 0.081966989 | S20: 0.097832896 | T20: 0.1141724 | U20: 0.1435341 | V20: 0.18096797 | W20: 0.22928928 | X20: 0.28110161 | Y20: 0.27603704 | Z20: 0.31935177 | AA20: 0.39418765 | AB20: 0.48079929 | AC20: 0.55078411 | AD20: 0.70366761 | AE20: 0.69749797 | AF20: 0.83328893 | AG20: 0.75152261 | AH20: 0.89051179 | AI20: 0.86712905 | AJ20: 1.0418143 | AK20: 1.1979654 | AL20: 1.302747
B21: Foam blowing agents | C21: HFC | D21: HFC-134a | E21: 1300 | F21: 0 | G21: 0 | H21: 0 | I21: 0 | J21: 0 | K21: 0 | L21: 0.00047083012 | M21: 0.00097398562 | N21: 0.0015172377 | O21: 0.0020890454 | P21: 0.0022597234 | Q21: 0.0024499313 | R21: 0.009671933 | S21: 0.017987115 | T21: 0.020047648 | U21: 0.022196068 | V21: 0.024372084 | W21: 0.026622561 | X21: 0.028829089 | Y21: 0.049818769 | Z21: 0.06451806 | AA21: 0.069924118 | AB21: 0.075492316 | AC21: 0.10291084 | AD21: 0.12581849 | AE21: 0.12643396 | AF21: 0.12240325 | AG21: 0.10682382 | AH21: 0.12017952 | AI21: 0.117278 | AJ21: 0.12873841 | AK21: 0.068501507 | AL21: 0.07314416
B22: Metered does inhalers | C22: HFC | D22: HFC-134a | E22: 1300 | F22: 0 | G22: 0 | H22: 0 | I22: 0 | J22: 0 | K22: 0 | L22: 0 | M22: 0.00032235782 | N22: 0.00065270642 | O22: 0.00099047932 | P22: 0.0013715671 | Q22: 0.0031367205 | R22: 0.0049577196 | S22: 0.0068239834 | T22: 0.0087482455 | U22: 0.010728317 | V22: 0.012740752 | W22: 0.014772572 | X22: 0.016454568 | Y22: 0.017865365 | Z22: 0.017039986 | AA22: 0.018568296 | AB22: 0.017419657 | AC22: 0.020422721 | AD22: 0.021296317 | AE22: 0.017987546 | AF22: 0.02099184 | AG22: 0.022168836 | AH22: 0.028629317 | AI22: 0.028196491 | AJ22: 0.031926112 | AK22: 0.032440101 | AL22: 0.019755372
B23: Other Aerosols | C23: HFC | D23: HFC-134a | E23: 1300 | F23: 0 | G23: 0 | H23: 0 | I23: 0 | J23: 0.012228733 | K23: 0.13197605 | L23: 0.15222652 | M23: 0.16412747 | N23: 0.1640113 | O23: 0.1691402 | P23: 0.17177958 | Q23: 0.16325329 | R23: 0.15334836 | S23: 0.14300346 | T23: 0.13129687 | U23: 0.11920599 | V23: 0.12879916 | W23: 0.13938226 | X23: 0.14890156 | Y23: 0.16524919 | Z23: 0.16121869 | AA23: 0.17243091 | AB23: 0.18256599 | AC23: 0.24235496 | AD23: 0.28728774 | AE23: 0.28008392 | AF23: 0.23625239 | AG23: 0.1853182 | AH23: 0.17912986 | AI23: 0.17753733 | AJ23: 0.20229141 | AK23: 0.20684834 | AL23: 0.21123935
B24: Refrigeration and air-conditioning | C24: HFC | D24: HFC-134a | E24: 1300 | F24: 7.3244025e-08 | G24: 1.8041423e-07 | H24: 0.017305468 | I24: 0.074925705 | J24: 0.1821437 | K24: 0.28846386 | L24: 0.4180816 | M24: 0.55318849 | N24: 0.64919731 | O24: 0.74618482 | P24: 0.8384812 | Q24: 0.93108188 | R24: 0.97507845 | S24: 1.0075033 | T24: 1.0436907 | U24: 1.0678293 | V24: 1.0892686 | W24: 1.1057765 | X24: 1.1283151 | Y24: 1.1090757 | Z24: 0.92797689 | AA24: 0.85749333 | AB24: 0.79206011 | AC24: 0.90959076 | AD24: 0.97963123 | AE24: 0.87464999 | AF24: 0.77006584 | AG24: 0.62989016 | AH24: 0.67060516 | AI24: 0.62800888 | AJ24: 0.67523393 | AK24: 0.65433657 | AL24: 0.62706311
B25: Refrigeration and air-conditioning | C25: HFC | D25: HFC-143a | E25: 4800 | F25: 3.7240846e-06 | G25: 9.173142e-06 | H25: 1.758791e-05 | I25: 0.0013186948 | J25: 0.0036741288 | K25: 0.0091767881 | L25: 0.017068478 | M25: 0.028260174 | N25: 0.040974399 | O25: 0.05851173 | P25: 0.072150615 | Q25: 0.089370066 | R25: 0.10878281 | S25: 0.12880728 | T25: 0.14725207 | U25: 0.17825235 | V25: 0.21186199 | W25: 0.24965077 | X25: 0.292543 | Y25: 0.32544677 | Z25: 0.33349639 | AA25: 0.41388764 | AB25: 0.49996887 | AC25: 0.56678411 | AD25: 0.65334286 | AE25: 0.65542007 | AF25: 0.6741416 | AG25: 0.50404953 | AH25: 0.63209378 | AI25: 0.55417967 | AJ25: 0.60943852 | AK25: 0.61154888 | AL25: 0.60870673
B26: Fire protection | C26: HFC | D26: HFC-23 | E26: 12400 | F26: 0 | G26: 0 | H26: 0 | I26: 0 | J26: 0 | K26: 9.3036146e-06 | L26: 2.0863174e-05 | M26: 3.9285248e-05 | N26: 5.7624496e-05 | O26: 8.2822796e-05 | P26: 0.00010808852 | Q26: 0.00013136571 | R26: 0.00015256284 | S26: 0.00016903748 | T26: 0.00018525577 | U26: 0.000203596 | V26: 0.00021908588 | W26: 0.00023642556 | X26: 0.00025156469 | Y26: 0.00026969387 | Z26: 0.00029085115 | AA26: 0.0003097348 | AB26: 0.00033304611 | AC26: 0.00035354918 | AD26: 0.00037605786 | AE26: 0.00040035265 | AF26: 0.00042387288 | AG26: 0.00045009971 | AH26: 0.00047619198 | AI26: 0.00050446574 | AJ26: 0.00053214126 | AK26: 0.00055199864 | AL26: 0.00056954537
B27: Fire protection | C27: HFC | D27: HFC-236fa | E27: 8060 | F27: 0 | G27: 0 | H27: 0 | I27: 0 | J27: 0 | K27: 0 | L27: 0 | M27: 0.00019677288 | N27: 0.00059929476 | O27: 0.0012202559 | P27: 0.0018595826 | Q27: 0.0025241805 | R27: 0.0032153774 | S27: 0.0037282026 | T27: 0.0040489965 | U27: 0.0041671244 | V27: 0.0042781707 | W27: 0.0043864975 | X27: 0.0045011783 | Y27: 0.0046335922 | Z27: 0.0047814097 | AA27: 0.0049347636 | AB27: 0.0050880259 | AC27: 0.0052378081 | AD27: 0.0053880608 | AE27: 0.0055376779 | AF27: 0.0056821755 | AG27: 0.0058379979 | AH27: 0.0059974113 | AI27: 0.0061625128 | AJ27: 0.006408648 | AK27: 0.0065918218 | AL27: 0.0067551257
... B49: Fire protection | C49: PFC | D49: PFC-14 (Perfluoromethane) | E49: 6630 | F49: 0 | G49: 0 | H49: 0 | I49: 0 | J49: 4.4884166e-07 | K49: 1.4425855e-06 | L49: 1.3039035e-05 | M49: 3.5782525e-05 | N49: 7.0346572e-05 | O49: 0.00011730201 | P49: 0.00017716473 | Q49: 0.00023890872 | R49: 0.00029247235 | S49: 0.00033651268 | T49: 0.00037015762 | U49: 0.00039282961 | V49: 0.00040335712 | W49: 0.0004135003 | X49: 0.00042435407 | Y49: 0.00043680145 | Z49: 0.00045081205 | AA49: 0.00046517504 | AB49: 0.00047968976 | AC49: 0.00049384718 | AD49: 0.00050801963 | AE49: 0.0005220606 | AF49: 0.00053563903 | AG49: 0.00055035359 | AH49: 0.00056542619 | AI49: 0.00058101252 | AJ49: 0.00054511363 | AK49: 0.00050178884 | AL49: 0.00045545001
B51: Notes About Other HFC and Other PFC
B53: Data source entity | C53: U.S. Environmental Protection Agency
B54: Data source name | C54: Inventory of U.S. Greenhouse Gas Emissions and Sinks: 1990-2022
B55: Data source product | C55: 2024 Chapter 4: Industrial Processes and Product Use (pdf) (2.23 MB, April 11, 2024, 430R24004)
B57: Table 4-125
B58: "Other Saturated HFCs represents an unspecified mix of saturated HFCs, which includes HFC-152a, HFC227ea, HFC-245fa, HFC-365mfc, and HFC-43-10mee
B59: Other PFCs and HFOs represents an unspecified mix of PFCs and HFOs, which includes HCFO-1233zd(E), HFO-1234yf, HFO-1234ze(E), HFO-1336mzz(Z), C4F10, and PFC/PFPEs, the latter being a proxy for a diverse
B60: collection of PFCs and perfluoropolyethers (PFPEs) employed for solvent applications. For estimating purposes, the GWP value used for PFC/PFPEs was based upon n-C6F14."
B62: Data source product | C62: Annex 3.9
B64: Other HFC and Other PFC are reported in aggregate due to confidentiality.
B66: Calculation of GWP Conversion Ratio
B68: Data source entity | C68: Intergovernmental Panel on Climate Change
B69: Data source name | C69: Fifth Assessment Report; Sixth Assessment Report
B70: Data source product | C70: Chapter 8, Anthropogenic and Natural Radiative Forcing (AR5); Chapter 7, The Earth’s Energy Budget, Climate Feedbacks and Climate Sensitivity (AR6)
B72: Gas | C72: AR5 100-yr GWP | D72: AR6 100-yr GWP | E72: Ratio of AR6 100-yr GWP : AR5 100-yr GWP
B73: Carbon Dioxide | C73: 1 | D73: 1 | E73: =D73/C73 -> 1
B74: HFC-125 | C74: 3170 | D74: 3740 | E74: =D74/C74 -> 1.1798107
B75: HFC-134a | C75: 1300 | D75: 1530 | E75: =D75/C75 -> 1.1769231
B76: HFC-143a | C76: 4800 | D76: 5810 | E76: =D76/C76 -> 1.2104167
B77: HFC-23 | C77: 12400 | D77: 14600 | E77: =D77/C77 -> 1.1774194
B78: HFC-236fa | C78: 8060 | D78: 8690 | E78: =D78/C78 -> 1.0781638
B79: HFC-32 | C79: 677 | D79: 771 | E79: =D79/C79 -> 1.1388479
B80: PFC-14 (Perfluoromethane) | C80: 6630 | D80: 7380 | E80: =D80/C80 -> 1.1131222
B82: Gas | C82: AR5 100-yr GWP | D82: AR6 100-yr GWP | E82: Ratio of AR6 100-yr GWP : AR5 100-yr GWP
B83: HFC-152a | C83: 138 | D83: 164 | E83: =D83/C83 -> 1.1884058
B84: HFC227ea | C84: 3350 | D84: 3600 | E84: =D84/C84 -> 1.0746269
B85: HFC-245fa | C85: 858 | D85: 962 | E85: =D85/C85 -> 1.1212121
B86: HFC-365mfc | C86: 804 | D86: 914 | E86: =D86/C86 -> 1.1368159
B87: HFC-43-10mee | C87: 1650 | D87: 1600 | E87: =D87/C87 -> 0.96969697
B88: Other HFC | E88: =AVERAGE(E83:E87) -> 1.0981515
B90: Gas | C90: AR5 100-yr GWP | D90: AR6 100-yr GWP | E90: Ratio of AR6 100-yr GWP : AR5 100-yr GWP
B91: C4F10 | C91: 9200 | D91: 10000 | E91: =D91/C91 -> 1.0869565
B92: n-C6F14 | C92: 7910 | D92: 8620 | E92: =D92/C92 -> 1.0897598
B93: Data source entity | C93: Intergovernmental Panel on Climate Change
B94: Data source name | C94: Sixth Assessment Report
B95: Data source product | C95: The Physical Science Basis, Chapter 7 Supplementary Material, Table 7.SM.7 | H95: AR6 | M95: AR5
B96: Gas | C96: AR5 100-yr GWP | D96: AR6 100-yr GWP | E96: Ratio of AR6 100-yr GWP : AR5 100-yr GWP | H96: Name | I96: Formula | J96: lifetime (yrs) | K96: lifetime (days) | M96: Name | N96: Formula | O96: lifetime (days) | P96: GWP20 | Q96: GWP100 | R96: ratio
B97: HCFO-1233zd(E) | C97: 1 | D97: 3.88 | E97: =D97/C97 -> 3.88 | H97: HCFO-1233zd(E) | I97: (E)-CF3CH=CHCl | J97: 0.116 | K97: 42 | M97: (E)-1-Chloro-3,3,3trifluoroprop-1-ene | N97: trans-CF3 CH=CHCl | O97: 26 | P97: 5 | Q97: 1 | R97: =P97/Q97 -> 5
B98: HFO-1234yf | C98: 0.5 | D98: 0.501 | E98: =D98/C98 -> 1.002 | H98: HFO-1234yf | I98: CF3CF=CH2 | J98: 0.033 | K98: 12 | M98: HFC-1234yf | N98: CF3 CF=CH2 | O98: 10.5 | P98: 1 | Q98: <1 | R98: =P98/Q98 -> #VALUE!
B99: HFO-1234ze(E) | C99: 0.5 | D99: 1.37 | E99: =D99/C99 -> 2.74 | H99: HFO-1234ze(E) | I99: (E)-CF3CH=CHF | J99: 0.052 | K99: 19 | M99: (E)-HFC-1234ze | N99: trans-CF3 CH=CHF | O99: 16.4 | P99: 4 | Q99: <1 | R99: =P99/Q99 -> #VALUE!
B100: HFO-1336mzz(Z) | C100: 2 | D100: 2.08 | E100: =D100/C100 -> 1.04 | H100: HFO-1336mzz(Z) | I100: (Z)-CF3CH=CHCF3 | J100: 0.074 | K100: 27 | M100: (Z)-HFC-1336 | N100: CF3 CH=CHCF3 (Z) | O100: 22 | P100: 6 | Q100: 2 | R100: =P100/Q100 -> 3
B101: Other PFC | E101: =AVERAGE(E91:E100) -> 1.8064527
B103: Conversion From AR5 100-yr GWP to AR6 100-yr GWP
B105: =B15 -> sub_category_1 | C105: =C15 -> ghg_category | D105: =D15 -> ghg | E105: GWP Conversion Ratio | F105: =F15 -> Y1990 | G105: =G15 -> Y1991 | H105: =H15 -> Y1992 | I105: =I15 -> Y1993 | J105: =J15 -> Y1994 | K105: =K15 -> Y1995 | L105: =L15 -> Y1996 | M105: =M15 -> Y1997 | ... AL105: =AL15 -> Y2022
B106: =B16 -> Fire protection | C106: =C16 -> CO2 | D106: =D16 -> Carbon Dioxide | E106: =_xlfn.XLOOKUP(D106,B$73:B$101,E$73:E$101) -> 1 | F106: =F16*$E106 -> 0 | G106: =G16*$E106 -> 0 | H106: =H16*$E106 -> 0 | I106: =I16*$E106 -> 0 | J106: =J16*$E106 -> 0 | K106: =K16*$E106 -> 0 | L106: =L16*$E106 -> 0 | M106: =M16*$E106 -> 0 | ... AL106: =AL16*$E106 -> 1.7856393e-06
B107: =B17 -> Foam blowing agents | C107: =C17 -> CO2 | D107: =D17 -> Carbon Dioxide | E107: =_xlfn.XLOOKUP(D107,B$73:B$101,E$73:E$101) -> 1 | F107: =F17*$E107 -> 2.6131015e-07 | G107: =G17*$E107 -> 4.1898125e-07 | H107: =H17*$E107 -> 5.8111867e-07 | I107: =I17*$E107 -> 7.4840461e-07 | J107: =J17*$E107 -> 9.220172e-07 | K107: =K17*$E107 -> 2.3052706e-06 | L107: =L17*$E107 -> 4.4136082e-06 | M107: =M17*$E107 -> 6.594629e-06 | ... AL107: =AL17*$E107 -> 7.0764145e-05
B108: =B18 -> Refrigeration and air-conditioning | C108: =C18 -> CO2 | D108: =D18 -> Carbon Dioxide | E108: =_xlfn.XLOOKUP(D108,B$73:B$101,E$73:E$101) -> 1 | F108: =F18*$E108 -> 0 | G108: =G18*$E108 -> 0 | H108: =H18*$E108 -> 0 | I108: =I18*$E108 -> 0 | J108: =J18*$E108 -> 0 | K108: =K18*$E108 -> 0 | L108: =L18*$E108 -> 0 | M108: =M18*$E108 -> 0 | ... AL108: =AL18*$E108 -> 8.8385301e-08
B109: =B19 -> Fire protection | C109: =C19 -> HFC | D109: =D19 -> HFC-125 | E109: =_xlfn.XLOOKUP(D109,B$73:B$101,E$73:E$101) -> 1.1798107 | F109: =F19*$E109 -> 0 | G109: =G19*$E109 -> 0 | H109: =H19*$E109 -> 0 | I109: =I19*$E109 -> 0 | J109: =J19*$E109 -> 0 | K109: =K19*$E109 -> 0 | L109: =L19*$E109 -> 0 | M109: =M19*$E109 -> 3.1946475e-05 | ... AL109: =AL19*$E109 -> 0.0088775184
B110: =B20 -> Refrigeration and air-conditioning | C110: =C20 -> HFC | D110: =D20 -> HFC-125 | E110: =_xlfn.XLOOKUP(D110,B$73:B$101,E$73:E$101) -> 1.1798107 | F110: =F20*$E110 -> 2.4576398e-06 | G110: =G20*$E110 -> 6.0536431e-06 | H110: =H20*$E110 -> 1.1606812e-05 | I110: =I20*$E110 -> 0.0021617438 | J110: =J20*$E110 -> 0.0057490644 | K110: =K20*$E110 -> 0.012184977 | L110: =L20*$E110 -> 0.02074088 | M110: =M20*$E110 -> 0.032014457 | ... AL110: =AL20*$E110 -> 1.5369949
B111: =B21 -> Foam blowing agents | C111: =C21 -> HFC | D111: =D21 -> HFC-134a | E111: =_xlfn.XLOOKUP(D111,B$73:B$101,E$73:E$101) -> 1.1769231 | F111: =F21*$E111 -> 0 | G111: =G21*$E111 -> 0 | H111: =H21*$E111 -> 0 | I111: =I21*$E111 -> 0 | J111: =J21*$E111 -> 0 | K111: =K21*$E111 -> 0 | L111: =L21*$E111 -> 0.00055413084 | M111: =M21*$E111 -> 0.0011463062 | ... AL111: =AL21*$E111 -> 0.08608505
B112: =B22 -> Metered does inhalers | C112: =C22 -> HFC | D112: =D22 -> HFC-134a | E112: =_xlfn.XLOOKUP(D112,B$73:B$101,E$73:E$101) -> 1.1769231 | F112: =F22*$E112 -> 0 | G112: =G22*$E112 -> 0 | H112: =H22*$E112 -> 0 | I112: =I22*$E112 -> 0 | J112: =J22*$E112 -> 0 | K112: =K22*$E112 -> 0 | L112: =L22*$E112 -> 0 | M112: =M22*$E112 -> 0.00037939036 | ... AL112: =AL22*$E112 -> 0.023250554
B113: =B23 -> Other Aerosols | C113: =C23 -> HFC | D113: =D23 -> HFC-134a | E113: =_xlfn.XLOOKUP(D113,B$73:B$101,E$73:E$101) -> 1.1769231 | F113: =F23*$E113 -> 0 | G113: =G23*$E113 -> 0 | H113: =H23*$E113 -> 0 | I113: =I23*$E113 -> 0 | J113: =J23*$E113 -> 0.014392278 | K113: =K23*$E113 -> 0.15532566 | L113: =L23*$E113 -> 0.1791589 | M113: =M23*$E113 -> 0.19316541 | ... AL113: =AL23*$E113 -> 0.24861246
B114: =B24 -> Refrigeration and air-conditioning | C114: =C24 -> HFC | D114: =D24 -> HFC-134a | E114: =_xlfn.XLOOKUP(D114,B$73:B$101,E$73:E$101) -> 1.1769231 | F114: =F24*$E114 -> 8.6202584e-08 | G114: =G24*$E114 -> 2.1233367e-07 | H114: =H24*$E114 -> 0.020367205 | I114: =I24*$E114 -> 0.088181791 | J114: =J24*$E114 -> 0.21436912 | K114: =K24*$E114 -> 0.33949977 | L114: =L24*$E114 -> 0.49204989 | M114: =M24*$E114 -> 0.6510603 | ... AL114: =AL24*$E114 -> 0.73800505
B115: =B25 -> Refrigeration and air-conditioning | C115: =C25 -> HFC | D115: =D25 -> HFC-143a | E115: =_xlfn.XLOOKUP(D115,B$73:B$101,E$73:E$101) -> 1.2104167 | F115: =F25*$E115 -> 4.5076941e-06 | G115: =G25*$E115 -> 1.1103324e-05 | H115: =H25*$E115 -> 2.12887e-05 | I115: =I25*$E115 -> 0.0015961702 | J115: =J25*$E115 -> 0.0044472268 | K115: =K25*$E115 -> 0.011107737 | L115: =L25*$E115 -> 0.02065997 | M115: =M25*$E115 -> 0.034206586 | ... AL115: =AL25*$E115 -> 0.73678877
B116: =B26 -> Fire protection | C116: =C26 -> HFC | D116: =D26 -> HFC-23 | E116: =_xlfn.XLOOKUP(D116,B$73:B$101,E$73:E$101) -> 1.1774194 | F116: =F26*$E116 -> 0 | G116: =G26*$E116 -> 0 | H116: =H26*$E116 -> 0 | I116: =I26*$E116 -> 0 | J116: =J26*$E116 -> 0 | K116: =K26*$E116 -> 1.0954256e-05 | L116: =L26*$E116 -> 2.4564705e-05 | M116: =M26*$E116 -> 4.6255212e-05 | ... AL116: =AL26*$E116 -> 0.00067059374
B117: =B27 -> Fire protection | C117: =C27 -> HFC | D117: =D27 -> HFC-236fa | E117: =_xlfn.XLOOKUP(D117,B$73:B$101,E$73:E$101) -> 1.0781638 | F117: =F27*$E117 -> 0 | G117: =G27*$E117 -> 0 | H117: =H27*$E117 -> 0 | I117: =I27*$E117 -> 0 | J117: =J27*$E117 -> 0 | K117: =K27*$E117 -> 0 | L117: =L27*$E117 -> 0 | M117: =M27*$E117 -> 0.00021215339 | ... AL117: =AL27*$E117 -> 0.0072831318
... B139: =B49 -> Fire protection | C139: =C49 -> PFC | D139: =D49 -> PFC-14 (Perfluoromethane) | E139: =_xlfn.XLOOKUP(D139,B$73:B$101,E$73:E$101) -> 1.1131222 | F139: =F49*$E139 -> 0 | G139: =G49*$E139 -> 0 | H139: =H49*$E139 -> 0 | I139: =I49*$E139 -> 0 | J139: =J49*$E139 -> 4.996156e-07 | K139: =K49*$E139 -> 1.6057739e-06 | L139: =L49*$E139 -> 1.4514039e-05 | M139: =M49*$E139 -> 3.9830322e-05 | ... AL139: =AL49*$E139 -> 0.0005069715
B141: Emissions by Gas
B143: AR5 100-yr GWP
D144: GHG | F144: Y1990 | G144: Y1991 | H144: Y1992 | I144: Y1993 | J144: Y1994 | K144: Y1995 | L144: Y1996 | M144: Y1997 | N144: Y1998 | O144: Y1999 | P144: Y2000 | Q144: Y2001 | R144: Y2002 | S144: Y2003 | T144: Y2004 | U144: Y2005 | V144: Y2006 | W144: Y2007 | X144: Y2008 | Y144: Y2009 | Z144: Y2010 | AA144: Y2011 | AB144: Y2012 | AC144: Y2013 | AD144: Y2014 | AE144: Y2015 | AF144: Y2016 | AG144: Y2017 | AH144: Y2018 | AI144: Y2019 | AJ144: Y2020 | AK144: Y2021 | AL144: Y2022
D145: Carbon Dioxide | F145: =SUMIF($D$16:$D$49,$D145,F$16:F$49) -> 2.6131015e-07 | G145: =SUMIF($D$16:$D$49,$D145,G$16:G$49) -> 4.1898125e-07 | H145: =SUMIF($D$16:$D$49,$D145,H$16:H$49) -> 5.8111867e-07 | I145: =SUMIF($D$16:$D$49,$D145,I$16:I$49) -> 7.4840461e-07 | J145: =SUMIF($D$16:$D$49,$D145,J$16:J$49) -> 9.220172e-07 | K145: =SUMIF($D$16:$D$49,$D145,K$16:K$49) -> 2.3052706e-06 | L145: =SUMIF($D$16:$D$49,$D145,L$16:L$49) -> 4.4136082e-06 | M145: =SUMIF($D$16:$D$49,$D145,M$16:M$49) -> 6.594629e-06 | ... AL145: =SUMIF($D$16:$D$49,$D145,AL$16:AL$49) -> 7.263817e-05
D146: HFC-125 | F146: =SUMIF($D$16:$D$49,$D146,F$16:F$49) -> 2.0830798e-06 | G146: =SUMIF($D$16:$D$49,$D146,G$16:G$49) -> 5.1310291e-06 | H146: =SUMIF($D$16:$D$49,$D146,H$16:H$49) -> 9.8378592e-06 | I146: =SUMIF($D$16:$D$49,$D146,I$16:I$49) -> 0.0018322801 | J146: =SUMIF($D$16:$D$49,$D146,J$16:J$49) -> 0.0048728701 | K146: =SUMIF($D$16:$D$49,$D146,K$16:K$49) -> 0.010327908 | L146: =SUMIF($D$16:$D$49,$D146,L$16:L$49) -> 0.017579837 | M146: =SUMIF($D$16:$D$49,$D146,M$16:M$49) -> 0.027162326 | ... AL146: =SUMIF($D$16:$D$49,$D146,AL$16:AL$49) -> 1.3102715
D147: HFC-134a | F147: =SUMIF($D$16:$D$49,$D147,F$16:F$49) -> 7.3244025e-08 | G147: =SUMIF($D$16:$D$49,$D147,G$16:G$49) -> 1.8041423e-07 | H147: =SUMIF($D$16:$D$49,$D147,H$16:H$49) -> 0.017305468 | I147: =SUMIF($D$16:$D$49,$D147,I$16:I$49) -> 0.074925705 | J147: =SUMIF($D$16:$D$49,$D147,J$16:J$49) -> 0.19437243 | K147: =SUMIF($D$16:$D$49,$D147,K$16:K$49) -> 0.4204399 | L147: =SUMIF($D$16:$D$49,$D147,L$16:L$49) -> 0.57077895 | M147: =SUMIF($D$16:$D$49,$D147,M$16:M$49) -> 0.7186123 | ... AL147: =SUMIF($D$16:$D$49,$D147,AL$16:AL$49) -> 0.93120199
D148: HFC-143a | F148: =SUMIF($D$16:$D$49,$D148,F$16:F$49) -> 3.7240846e-06 | G148: =SUMIF($D$16:$D$49,$D148,G$16:G$49) -> 9.173142e-06 | H148: =SUMIF($D$16:$D$49,$D148,H$16:H$49) -> 1.758791e-05 | I148: =SUMIF($D$16:$D$49,$D148,I$16:I$49) -> 0.0013186948 | J148: =SUMIF($D$16:$D$49,$D148,J$16:J$49) -> 0.0036741288 | K148: =SUMIF($D$16:$D$49,$D148,K$16:K$49) -> 0.0091767881 | L148: =SUMIF($D$16:$D$49,$D148,L$16:L$49) -> 0.017068478 | M148: =SUMIF($D$16:$D$49,$D148,M$16:M$49) -> 0.028260174 | ... AL148: =SUMIF($D$16:$D$49,$D148,AL$16:AL$49) -> 0.60870673
D149: HFC-23 | F149: =SUMIF($D$16:$D$49,$D149,F$16:F$49) -> 0 | G149: =SUMIF($D$16:$D$49,$D149,G$16:G$49) -> 0 | H149: =SUMIF($D$16:$D$49,$D149,H$16:H$49) -> 0 | I149: =SUMIF($D$16:$D$49,$D149,I$16:I$49) -> 0 | J149: =SUMIF($D$16:$D$49,$D149,J$16:J$49) -> 0 | K149: =SUMIF($D$16:$D$49,$D149,K$16:K$49) -> 9.3036146e-06 | L149: =SUMIF($D$16:$D$49,$D149,L$16:L$49) -> 2.0863174e-05 | M149: =SUMIF($D$16:$D$49,$D149,M$16:M$49) -> 3.9285248e-05 | ... AL149: =SUMIF($D$16:$D$49,$D149,AL$16:AL$49) -> 0.00056954537
D150: HFC-236fa | F150: =SUMIF($D$16:$D$49,$D150,F$16:F$49) -> 0 | G150: =SUMIF($D$16:$D$49,$D150,G$16:G$49) -> 0 | H150: =SUMIF($D$16:$D$49,$D150,H$16:H$49) -> 0 | I150: =SUMIF($D$16:$D$49,$D150,I$16:I$49) -> 0.0010949582 | J150: =SUMIF($D$16:$D$49,$D150,J$16:J$49) -> 0.0033027021 | K150: =SUMIF($D$16:$D$49,$D150,K$16:K$49) -> 0.0054743631 | L150: =SUMIF($D$16:$D$49,$D150,L$16:L$49) -> 0.0068121741 | M150: =SUMIF($D$16:$D$49,$D150,M$16:M$49) -> 0.008341067 | ... AL150: =SUMIF($D$16:$D$49,$D150,AL$16:AL$49) -> 0.010679883
D151: HFC-32 | F151: =SUMIF($D$16:$D$49,$D151,F$16:F$49) -> 0 | G151: =SUMIF($D$16:$D$49,$D151,G$16:G$49) -> 0 | H151: =SUMIF($D$16:$D$49,$D151,H$16:H$49) -> 0 | I151: =SUMIF($D$16:$D$49,$D151,I$16:I$49) -> 0 | J151: =SUMIF($D$16:$D$49,$D151,J$16:J$49) -> 0 | K151: =SUMIF($D$16:$D$49,$D151,K$16:K$49) -> 0 | L151: =SUMIF($D$16:$D$49,$D151,L$16:L$49) -> 3.0469017e-06 | M151: =SUMIF($D$16:$D$49,$D151,M$16:M$49) -> 8.651811e-06 | ... AL151: =SUMIF($D$16:$D$49,$D151,AL$16:AL$49) -> 0.18850129
D152: Other HFC | F152: =SUMIF($D$16:$D$49,$D152,F$16:F$49) -> 0.0047799061 | G152: =SUMIF($D$16:$D$49,$D152,G$16:G$49) -> 0.010063064 | H152: =SUMIF($D$16:$D$49,$D152,H$16:H$49) -> 0.010121953 | I152: =SUMIF($D$16:$D$49,$D152,I$16:I$49) -> 0.010277569 | J152: =SUMIF($D$16:$D$49,$D152,J$16:J$49) -> 0.011054365 | K152: =SUMIF($D$16:$D$49,$D152,K$16:K$49) -> 0.024079612 | L152: =SUMIF($D$16:$D$49,$D152,L$16:L$49) -> 0.039032626 | M152: =SUMIF($D$16:$D$49,$D152,M$16:M$49) -> 0.048525527 | ... AL152: =SUMIF($D$16:$D$49,$D152,AL$16:AL$49) -> 0.30845443
D153: PFC-14 (Perfluoromethane) | F153: =SUMIF($D$16:$D$49,$D153,F$16:F$49) -> 0 | G153: =SUMIF($D$16:$D$49,$D153,G$16:G$49) -> 0 | H153: =SUMIF($D$16:$D$49,$D153,H$16:H$49) -> 0 | I153: =SUMIF($D$16:$D$49,$D153,I$16:I$49) -> 0 | J153: =SUMIF($D$16:$D$49,$D153,J$16:J$49) -> 4.4884166e-07 | K153: =SUMIF($D$16:$D$49,$D153,K$16:K$49) -> 1.4425855e-06 | L153: =SUMIF($D$16:$D$49,$D153,L$16:L$49) -> 1.3039035e-05 | M153: =SUMIF($D$16:$D$49,$D153,M$16:M$49) -> 3.5782525e-05 | ... AL153: =SUMIF($D$16:$D$49,$D153,AL$16:AL$49) -> 0.00045545001
D154: Other PFC | F154: =SUMIF($D$16:$D$49,$D154,F$16:F$49) -> 0 | G154: =SUMIF($D$16:$D$49,$D154,G$16:G$49) -> 0 | H154: =SUMIF($D$16:$D$49,$D154,H$16:H$49) -> 0 | I154: =SUMIF($D$16:$D$49,$D154,I$16:I$49) -> 0 | J154: =SUMIF($D$16:$D$49,$D154,J$16:J$49) -> 1.7300751e-06 | K154: =SUMIF($D$16:$D$49,$D154,K$16:K$49) -> 0.0084656947 | L154: =SUMIF($D$16:$D$49,$D154,L$16:L$49) -> 0.020348099 | M154: =SUMIF($D$16:$D$49,$D154,M$16:M$49) -> 0.023912308 | ... AL154: =SUMIF($D$16:$D$49,$D154,AL$16:AL$49) -> 0.00040573062
D156: CO2 | F156: =F145 -> 2.6131015e-07 | G156: =G145 -> 4.1898125e-07 | H156: =H145 -> 5.8111867e-07 | I156: =I145 -> 7.4840461e-07 | J156: =J145 -> 9.220172e-07 | K156: =K145 -> 2.3052706e-06 | L156: =L145 -> 4.4136082e-06 | M156: =M145 -> 6.594629e-06 | ... AL156: =AL145 -> 7.263817e-05
D157: HFC | F157: =SUM(F146:F152) -> 0.0047857865 | G157: =SUM(G146:G152) -> 0.010077549 | H157: =SUM(H146:H152) -> 0.027454847 | I157: =SUM(I146:I152) -> 0.089449207 | J157: =SUM(J146:J152) -> 0.2172765 | K157: =SUM(K146:K152) -> 0.46950788 | L157: =SUM(L146:L152) -> 0.65129598 | M157: =SUM(M146:M152) -> 0.83094933 | ... AL157: =SUM(AL146:AL152) -> 3.3583854
D158: PFC | F158: =SUM(F153:F154) -> 0 | G158: =SUM(G153:G154) -> 0 | H158: =SUM(H153:H154) -> 0 | I158: =SUM(I153:I154) -> 0 | J158: =SUM(J153:J154) -> 2.1789168e-06 | K158: =SUM(K153:K154) -> 0.0084671373 | L158: =SUM(L153:L154) -> 0.020361138 | M158: =SUM(M153:M154) -> 0.023948091 | ... AL158: =SUM(AL153:AL154) -> 0.00086118063
D160: Total MMTCO2e | F160: =SUM(F156:F158) -> 0.0047860478 | G160: =SUM(G156:G158) -> 0.010077968 | H160: =SUM(H156:H158) -> 0.027455428 | I160: =SUM(I156:I158) -> 0.089449955 | J160: =SUM(J156:J158) -> 0.2172796 | K160: =SUM(K156:K158) -> 0.47797732 | L160: =SUM(L156:L158) -> 0.67166153 | M160: =SUM(M156:M158) -> 0.85490402 | ... AL160: =SUM(AL156:AL158) -> 3.3593192
B162: AR6 100-yr GWP
D163: GHG | F163: Y1990 | G163: Y1991 | H163: Y1992 | I163: Y1993 | J163: Y1994 | K163: Y1995 | L163: Y1996 | M163: Y1997 | N163: Y1998 | O163: Y1999 | P163: Y2000 | Q163: Y2001 | R163: Y2002 | S163: Y2003 | T163: Y2004 | U163: Y2005 | V163: Y2006 | W163: Y2007 | X163: Y2008 | Y163: Y2009 | Z163: Y2010 | AA163: Y2011 | AB163: Y2012 | AC163: Y2013 | AD163: Y2014 | AE163: Y2015 | AF163: Y2016 | AG163: Y2017 | AH163: Y2018 | AI163: Y2019 | AJ163: Y2020 | AK163: Y2021 | AL163: Y2022
...

Sheet ODSSubs 20-yr
B2: Maryland GHG Emissions from the Product Use of Substitutes for Ozone Depleting Substances
B5: EPA State-Level Data
B6: Data source entity | C6: U.S. Environmental Protection Agency
B7: Data source name | C7: Inventory of U.S. Greenhouse Gas Emissions and Sinks by State: 1990-2022
B8: Data source product | C8: 2024 All State GHG Inventory Data Workbook (AllStateGHGData90-22_v082924.xlsx)
B9: sector | C9: Industrial Processes and Product Use
B10: subsector | C10: Product uses as substitutes for ODS
B11: category | C11: Substitution of Ozone Depleting Substances
B12: geo_ref | C12: MD
B13: units | C13: Tg (MMTCO2e, GWP=100-yr AR5)
B15: sub_category_1 | C15: ghg_category | D15: ghg | E15: gwp | F15: Y1990 | G15: Y1991 | H15: Y1992 | I15: Y1993 | J15: Y1994 | K15: Y1995 | L15: Y1996 | M15: Y1997 | N15: Y1998 | O15: Y1999 | P15: Y2000 | Q15: Y2001 | R15: Y2002 | S15: Y2003 | T15: Y2004 | U15: Y2005 | V15: Y2006 | W15: Y2007 | X15: Y2008 | Y15: Y2009 | Z15: Y2010 | AA15: Y2011 | AB15: Y2012 | AC15: Y2013 | AD15: Y2014 | AE15: Y2015 | AF15: Y2016 | AG15: Y2017 | AH15: Y2018 | AI15: Y2019 | AJ15: Y2020 | AK15: Y2021 | AL15: Y2022
B16: Fire protection | C16: CO2 | D16: Carbon Dioxide | E16: 1 | F16: 0 | G16: 0 | H16: 0 | I16: 0 | J16: 0 | K16: 0 | L16: 0 | M16: 0 | N16: 9.8519299e-09 | O16: 3.1540939e-08 | P16: 6.2501429e-08 | Q16: 1.0185117e-07 | R16: 1.4894637e-07 | S16: 2.0074601e-07 | T16: 2.6107618e-07 | U16: 3.2987329e-07 | V16: 4.071129e-07 | W16: 4.8314337e-07 | X16: 5.5882771e-07 | Y16: 6.3589657e-07 | Z16: 7.166005e-07 | AA16: 7.9894556e-07 | AB16: 8.8522101e-07 | AC16: 9.744079e-07 | AD16: 1.0670013e-06 | AE16: 1.1630521e-06 | AF16: 1.2612901e-06 | AG16: 1.3659551e-06 | AH16: 1.4755734e-06 | AI16: 1.5902748e-06 | AJ16: 1.6681446e-06 | AK16: 1.7298704e-06 | AL16: 1.7856393e-06
B17: Foam blowing agents | C17: CO2 | D17: Carbon Dioxide | E17: 1 | F17: 2.6131015e-07 | G17: 4.1898125e-07 | H17: 5.8111867e-07 | I17: 7.4840461e-07 | J17: 9.220172e-07 | K17: 2.3052706e-06 | L17: 4.4136082e-06 | M17: 6.594629e-06 | N17: 8.8466613e-06 | O17: 1.1478304e-05 | P17: 1.2507148e-05 | Q17: 1.3145306e-05 | R17: 1.7139737e-05 | S17: 2.1744247e-05 | T17: 2.3069012e-05 | U17: 2.4384036e-05 | V17: 2.5685309e-05 | W17: 2.6988e-05 | X17: 2.8364564e-05 | Y17: 3.1166397e-05 | Z17: 3.4618546e-05 | AA17: 3.6918482e-05 | AB17: 3.8676693e-05 | AC17: 4.0727677e-05 | AD17: 4.3031867e-05 | AE17: 4.5313002e-05 | AF17: 4.8376348e-05 | AG17: 5.1409483e-05 | AH17: 5.5067013e-05 | AI17: 5.8640585e-05 | AJ17: 6.3052901e-05 | AK17: 6.6892769e-05 | AL17: 7.0764145e-05
B18: Refrigeration and air-conditioning | C18: CO2 | D18: Carbon Dioxide | E18: 1 | F18: 0 | G18: 0 | H18: 0 | I18: 0 | J18: 0 | K18: 0 | L18: 0 | M18: 0 | N18: 0 | O18: 0 | P18: 0 | Q18: 0 | R18: 0 | S18: 0 | T18: 0 | U18: 0 | V18: 0 | W18: 0 | X18: 0 | Y18: 0 | Z18: 0 | AA18: 0 | AB18: 3.7046286e-10 | AC18: 1.1108583e-09 | AD18: 1.2944557e-09 | AE18: 2.398426e-09 | AF18: 2.9404986e-09 | AG18: 6.4163775e-09 | AH18: 1.3532337e-08 | AI18: 2.4263686e-08 | AJ18: 3.923096e-08 | AK18: 5.8312307e-08 | AL18: 8.8385301e-08
B19: Fire protection | C19: HFC | D19: HFC-125 | E19: 3170 | F19: 0 | G19: 0 | H19: 0 | I19: 0 | J19: 0 | K19: 0 | L19: 0 | M19: 2.7077627e-05 | N19: 8.6931551e-05 | O19: 0.00018630404 | P19: 0.00031273548 | Q19: 0.00051983172 | R19: 0.00080178754 | S19: 0.001083461 | T19: 0.0013939861 | U19: 0.0017327705 | V19: 0.0020952358 | W19: 0.0024518461 | X19: 0.0028027344 | Y19: 0.0025626719 | Z19: 0.0027523802 | AA19: 0.0032288386 | AB19: 0.0038244972 | AC19: 0.0042703372 | AD19: 0.0053506684 | AE19: 0.0052407328 | AF19: 0.0061727424 | AG19: 0.0055345313 | AH19: 0.0064767103 | AI19: 0.0061203556 | AJ19: 0.0069972373 | AK19: 0.0072624296 | AL19: 0.0075245277
B20: Refrigeration and air-conditioning | C20: HFC | D20: HFC-125 | E20: 3170 | F20: 2.0830798e-06 | G20: 5.1310291e-06 | H20: 9.8378592e-06 | I20: 0.0018322801 | J20: 0.0048728701 | K20: 0.010327908 | L20: 0.017579837 | M20: 0.027135249 | N20: 0.035481955 | O20: 0.046437792 | P20: 0.055499793 | Q20: 0.067528539 | R20: 0.081966989 | S20: 0.097832896 | T20: 0.1141724 | U20: 0.1435341 | V20: 0.18096797 | W20: 0.22928928 | X20: 0.28110161 | Y20: 0.27603704 | Z20: 0.31935177 | AA20: 0.39418765 | AB20: 0.48079929 | AC20: 0.55078411 | AD20: 0.70366761 | AE20: 0.69749797 | AF20: 0.83328893 | AG20: 0.75152261 | AH20: 0.89051179 | AI20: 0.86712905 | AJ20: 1.0418143 | AK20: 1.1979654 | AL20: 1.302747
B21: Foam blowing agents | C21: HFC | D21: HFC-134a | E21: 1300 | F21: 0 | G21: 0 | H21: 0 | I21: 0 | J21: 0 | K21: 0 | L21: 0.00047083012 | M21: 0.00097398562 | N21: 0.0015172377 | O21: 0.0020890454 | P21: 0.0022597234 | Q21: 0.0024499313 | R21: 0.009671933 | S21: 0.017987115 | T21: 0.020047648 | U21: 0.022196068 | V21: 0.024372084 | W21: 0.026622561 | X21: 0.028829089 | Y21: 0.049818769 | Z21: 0.06451806 | AA21: 0.069924118 | AB21: 0.075492316 | AC21: 0.10291084 | AD21: 0.12581849 | AE21: 0.12643396 | AF21: 0.12240325 | AG21: 0.10682382 | AH21: 0.12017952 | AI21: 0.117278 | AJ21: 0.12873841 | AK21: 0.068501507 | AL21: 0.07314416
B22: Metered does inhalers | C22: HFC | D22: HFC-134a | E22: 1300 | F22: 0 | G22: 0 | H22: 0 | I22: 0 | J22: 0 | K22: 0 | L22: 0 | M22: 0.00032235782 | N22: 0.00065270642 | O22: 0.00099047932 | P22: 0.0013715671 | Q22: 0.0031367205 | R22: 0.0049577196 | S22: 0.0068239834 | T22: 0.0087482455 | U22: 0.010728317 | V22: 0.012740752 | W22: 0.014772572 | X22: 0.016454568 | Y22: 0.017865365 | Z22: 0.017039986 | AA22: 0.018568296 | AB22: 0.017419657 | AC22: 0.020422721 | AD22: 0.021296317 | AE22: 0.017987546 | AF22: 0.02099184 | AG22: 0.022168836 | AH22: 0.028629317 | AI22: 0.028196491 | AJ22: 0.031926112 | AK22: 0.032440101 | AL22: 0.019755372
B23: Other Aerosols | C23: HFC | D23: HFC-134a | E23: 1300 | F23: 0 | G23: 0 | H23: 0 | I23: 0 | J23: 0.012228733 | K23: 0.13197605 | L23: 0.15222652 | M23: 0.16412747 | N23: 0.1640113 | O23: 0.1691402 | P23: 0.17177958 | Q23: 0.16325329 | R23: 0.15334836 | S23: 0.14300346 | T23: 0.13129687 | U23: 0.11920599 | V23: 0.12879916 | W23: 0.13938226 | X23: 0.14890156 | Y23: 0.16524919 | Z23: 0.16121869 | AA23: 0.17243091 | AB23: 0.18256599 | AC23: 0.24235496 | AD23: 0.28728774 | AE23: 0.28008392 | AF23: 0.23625239 | AG23: 0.1853182 | AH23: 0.17912986 | AI23: 0.17753733 | AJ23: 0.20229141 | AK23: 0.20684834 | AL23: 0.21123935
B24: Refrigeration and air-conditioning | C24: HFC | D24: HFC-134a | E24: 1300 | F24: 7.3244025e-08 | G24: 1.8041423e-07 | H24: 0.017305468 | I24: 0.074925705 | J24: 0.1821437 | K24: 0.28846386 | L24: 0.4180816 | M24: 0.55318849 | N24: 0.64919731 | O24: 0.74618482 | P24: 0.8384812 | Q24: 0.93108188 | R24: 0.97507845 | S24: 1.0075033 | T24: 1.0436907 | U24: 1.0678293 | V24: 1.0892686 | W24: 1.1057765 | X24: 1.1283151 | Y24: 1.1090757 | Z24: 0.92797689 | AA24: 0.85749333 | AB24: 0.79206011 | AC24: 0.90959076 | AD24: 0.97963123 | AE24: 0.87464999 | AF24: 0.77006584 | AG24: 0.62989016 | AH24: 0.67060516 | AI24: 0.62800888 | AJ24: 0.67523393 | AK24: 0.65433657 | AL24: 0.62706311
B25: Refrigeration and air-conditioning | C25: HFC | D25: HFC-143a | E25: 4800 | F25: 3.7240846e-06 | G25: 9.173142e-06 | H25: 1.758791e-05 | I25: 0.0013186948 | J25: 0.0036741288 | K25: 0.0091767881 | L25: 0.017068478 | M25: 0.028260174 | N25: 0.040974399 | O25: 0.05851173 | P25: 0.072150615 | Q25: 0.089370066 | R25: 0.10878281 | S25: 0.12880728 | T25: 0.14725207 | U25: 0.17825235 | V25: 0.21186199 | W25: 0.24965077 | X25: 0.292543 | Y25: 0.32544677 | Z25: 0.33349639 | AA25: 0.41388764 | AB25: 0.49996887 | AC25: 0.56678411 | AD25: 0.65334286 | AE25: 0.65542007 | AF25: 0.6741416 | AG25: 0.50404953 | AH25: 0.63209378 | AI25: 0.55417967 | AJ25: 0.60943852 | AK25: 0.61154888 | AL25: 0.60870673
B26: Fire protection | C26: HFC | D26: HFC-23 | E26: 12400 | F26: 0 | G26: 0 | H26: 0 | I26: 0 | J26: 0 | K26: 9.3036146e-06 | L26: 2.0863174e-05 | M26: 3.9285248e-05 | N26: 5.7624496e-05 | O26: 8.2822796e-05 | P26: 0.00010808852 | Q26: 0.00013136571 | R26: 0.00015256284 | S26: 0.00016903748 | T26: 0.00018525577 | U26: 0.000203596 | V26: 0.00021908588 | W26: 0.00023642556 | X26: 0.00025156469 | Y26: 0.00026969387 | Z26: 0.00029085115 | AA26: 0.0003097348 | AB26: 0.00033304611 | AC26: 0.00035354918 | AD26: 0.00037605786 | AE26: 0.00040035265 | AF26: 0.00042387288 | AG26: 0.00045009971 | AH26: 0.00047619198 | AI26: 0.00050446574 | AJ26: 0.00053214126 | AK26: 0.00055199864 | AL26: 0.00056954537
B27: Fire protection | C27: HFC | D27: HFC-236fa | E27: 8060 | F27: 0 | G27: 0 | H27: 0 | I27: 0 | J27: 0 | K27: 0 | L27: 0 | M27: 0.00019677288 | N27: 0.00059929476 | O27: 0.0012202559 | P27: 0.0018595826 | Q27: 0.0025241805 | R27: 0.0032153774 | S27: 0.0037282026 | T27: 0.0040489965 | U27: 0.0041671244 | V27: 0.0042781707 | W27: 0.0043864975 | X27: 0.0045011783 | Y27: 0.0046335922 | Z27: 0.0047814097 | AA27: 0.0049347636 | AB27: 0.0050880259 | AC27: 0.0052378081 | AD27: 0.0053880608 | AE27: 0.0055376779 | AF27: 0.0056821755 | AG27: 0.0058379979 | AH27: 0.0059974113 | AI27: 0.0061625128 | AJ27: 0.006408648 | AK27: 0.0065918218 | AL27: 0.0067551257
... B49: Fire protection | C49: PFC | D49: PFC-14 (Perfluoromethane) | E49: 6630 | F49: 0 | G49: 0 | H49: 0 | I49: 0 | J49: 4.4884166e-07 | K49: 1.4425855e-06 | L49: 1.3039035e-05 | M49: 3.5782525e-05 | N49: 7.0346572e-05 | O49: 0.00011730201 | P49: 0.00017716473 | Q49: 0.00023890872 | R49: 0.00029247235 | S49: 0.00033651268 | T49: 0.00037015762 | U49: 0.00039282961 | V49: 0.00040335712 | W49: 0.0004135003 | X49: 0.00042435407 | Y49: 0.00043680145 | Z49: 0.00045081205 | AA49: 0.00046517504 | AB49: 0.00047968976 | AC49: 0.00049384718 | AD49: 0.00050801963 | AE49: 0.0005220606 | AF49: 0.00053563903 | AG49: 0.00055035359 | AH49: 0.00056542619 | AI49: 0.00058101252 | AJ49: 0.00054511363 | AK49: 0.00050178884 | AL49: 0.00045545001
B51: Notes About Other HFC and Other PFC
B53: Data source entity | C53: U.S. Environmental Protection Agency
B54: Data source name | C54: Inventory of U.S. Greenhouse Gas Emissions and Sinks: 1990-2022
B55: Data source product | C55: 2024 Chapter 4: Industrial Processes and Product Use (pdf) (2.23 MB, April 11, 2024, 430R24004)
B57: Table 4-125
B58: "Other Saturated HFCs represents an unspecified mix of saturated HFCs, which includes HFC-152a, HFC227ea, HFC-245fa, HFC-365mfc, and HFC-43-10mee
B59: Other PFCs and HFOs represents an unspecified mix of PFCs and HFOs, which includes HCFO-1233zd(E), HFO-1234yf, HFO-1234ze(E), HFO-1336mzz(Z), C4F10, and PFC/PFPEs, the latter being a proxy for a diverse
B60: collection of PFCs and perfluoropolyethers (PFPEs) employed for solvent applications. For estimating purposes, the GWP value used for PFC/PFPEs was based upon n-C6F14."
B62: Data source product | C62: Annex 3.9
B64: Other HFC and Other PFC are reported in aggregate due to confidentiality.
B66: Calculation of GWP Conversion Ratio
B68: Data source entity | C68: Intergovernmental Panel on Climate Change
B69: Data source name | C69: Fifth Assessment Report; Sixth Assessment Report
B70: Data source product | C70: Chapter 8, Anthropogenic and Natural Radiative Forcing (AR5); Chapter 7, The Earth’s Energy Budget, Climate Feedbacks and Climate Sensitivity (AR6)
B72: Gas | C72: AR5 100-yr GWP | D72: AR6 20-yr GWP | E72: Ratio of 20-yr GWP : 100-yr GWP
B73: Carbon Dioxide | C73: 1 | D73: 1 | E73: =D73/C73 -> 1
B74: HFC-125 | C74: 3170 | D74: 6740 | E74: =D74/C74 -> 2.126183
B75: HFC-134a | C75: 1300 | D75: 4140 | E75: =D75/C75 -> 3.1846154
B76: HFC-143a | C76: 4800 | D76: 7840 | E76: =D76/C76 -> 1.6333333
B77: HFC-23 | C77: 12400 | D77: 12400 | E77: =D77/C77 -> 1
B78: HFC-236fa | C78: 8060 | D78: 7450 | E78: =D78/C78 -> 0.92431762
B79: HFC-32 | C79: 677 | D79: 2690 | E79: =D79/C79 -> 3.9734121
B80: PFC-14 (Perfluoromethane) | C80: 6630 | D80: 5300 | E80: =D80/C80 -> 0.79939668
B82: Gas | C82: AR5 100-yr GWP | D82: AR6 20-yr GWP | E82: Ratio of 20-yr GWP : 100-yr GWP
B83: HFC-152a | C83: 138 | D83: 591 | E83: =D83/C83 -> 4.2826087
B84: HFC227ea | C84: 3350 | D84: 5850 | E84: =D84/C84 -> 1.7462687
B85: HFC-245fa | C85: 858 | D85: 3170 | E85: =D85/C85 -> 3.6946387
B86: HFC-365mfc | C86: 804 | D86: 2920 | E86: =D86/C86 -> 3.6318408
B87: HFC-43-10mee | C87: 1650 | D87: 3960 | E87: =D87/C87 -> 2.4
B88: Other HFC | E88: =AVERAGE(E83:E87) -> 3.1510714
B90: Gas | C90: AR5 100-yr GWP | D90: AR6 20-yr GWP | E90: Ratio of 20-yr GWP : 100-yr GWP
B91: C4F10 | C91: 9200 | D91: 7300 | E91: =D91/C91 -> 0.79347826
B92: n-C6F14 | C92: 7910 | D92: 6260 | E92: =D92/C92 -> 0.79140329
B93: Data source entity | C93: Intergovernmental Panel on Climate Change
B94: Data source name | C94: Sixth Assessment Report
B95: Data source product | C95: The Physical Science Basis, Chapter 7 Supplementary Material, Table 7.SM.7 | H95: AR6 | M95: AR5
B96: Gas | C96: AR6 100-yr GWP | D96: AR6 20-yr GWP | E96: Ratio of 20-yr GWP : 100-yr GWP | H96: Name | I96: Formula | J96: lifetime (yrs) | K96: lifetime (days) | M96: Name | N96: Formula | O96: lifetime (days) | P96: GWP20 | Q96: GWP100 | R96: ratio
B97: HCFO-1233zd(E) | C97: 3.88 | D97: 14 | E97: =D97/C97 -> 3.6082474 | H97: HCFO-1233zd(E) | I97: (E)-CF3CH=CHCl | J97: 0.116 | K97: 42 | M97: (E)-1-Chloro-3,3,3trifluoroprop-1-ene | N97: trans-CF3 CH=CHCl | O97: 26 | P97: 5 | Q97: 1 | R97: =P97/Q97 -> 5
B98: HFO-1234yf | C98: 0.501 | D98: 1.81 | E98: =D98/C98 -> 3.6127745 | H98: HFO-1234yf | I98: CF3CF=CH2 | J98: 0.033 | K98: 12 | M98: HFC-1234yf | N98: CF3 CF=CH2 | O98: 10.5 | P98: 1 | Q98: <1 | R98: =P98/Q98 -> #VALUE!
B99: HFO-1234ze(E) | C99: 1.37 | D99: 4.94 | E99: =D99/C99 -> 3.6058394 | H99: HFO-1234ze(E) | I99: (E)-CF3CH=CHF | J99: 0.052 | K99: 19 | M99: (E)-HFC-1234ze | N99: trans-CF3 CH=CHF | O99: 16.4 | P99: 4 | Q99: <1 | R99: =P99/Q99 -> #VALUE!
B100: HFO-1336mzz(Z) | C100: 2.08 | D100: 7.48 | E100: =D100/C100 -> 3.5961538 | H100: HFO-1336mzz(Z) | I100: (Z)-CF3CH=CHCF3 | J100: 0.074 | K100: 27 | M100: (Z)-HFC-1336 | N100: CF3 CH=CHCF3 (Z) | O100: 22 | P100: 6 | Q100: 2 | R100: =P100/Q100 -> 3
B101: Other PFC | E101: =AVERAGE(E91:E100) -> 2.6679828
B103: Conversion From AR5 100-yr GWP to AR6 20-yr GWP
B105: =B15 -> sub_category_1 | C105: =C15 -> ghg_category | D105: =D15 -> ghg | E105: GWP Conversion Ratio | F105: =F15 -> Y1990 | G105: =G15 -> Y1991 | H105: =H15 -> Y1992 | I105: =I15 -> Y1993 | J105: =J15 -> Y1994 | K105: =K15 -> Y1995 | L105: =L15 -> Y1996 | M105: =M15 -> Y1997 | ... AL105: =AL15 -> Y2022
B106: =B16 -> Fire protection | C106: =C16 -> CO2 | D106: =D16 -> Carbon Dioxide | E106: =_xlfn.XLOOKUP(D106,B$73:B$101,E$73:E$101) -> 1 | F106: =F16*$E106 -> 0 | G106: =G16*$E106 -> 0 | H106: =H16*$E106 -> 0 | I106: =I16*$E106 -> 0 | J106: =J16*$E106 -> 0 | K106: =K16*$E106 -> 0 | L106: =L16*$E106 -> 0 | M106: =M16*$E106 -> 0 | ... AL106: =AL16*$E106 -> 1.7856393e-06
B107: =B17 -> Foam blowing agents | C107: =C17 -> CO2 | D107: =D17 -> Carbon Dioxide | E107: =_xlfn.XLOOKUP(D107,B$73:B$101,E$73:E$101) -> 1 | F107: =F17*$E107 -> 2.6131015e-07 | G107: =G17*$E107 -> 4.1898125e-07 | H107: =H17*$E107 -> 5.8111867e-07 | I107: =I17*$E107 -> 7.4840461e-07 | J107: =J17*$E107 -> 9.220172e-07 | K107: =K17*$E107 -> 2.3052706e-06 | L107: =L17*$E107 -> 4.4136082e-06 | M107: =M17*$E107 -> 6.594629e-06 | ... AL107: =AL17*$E107 -> 7.0764145e-05
B108: =B18 -> Refrigeration and air-conditioning | C108: =C18 -> CO2 | D108: =D18 -> Carbon Dioxide | E108: =_xlfn.XLOOKUP(D108,B$73:B$101,E$73:E$101) -> 1 | F108: =F18*$E108 -> 0 | G108: =G18*$E108 -> 0 | H108: =H18*$E108 -> 0 | I108: =I18*$E108 -> 0 | J108: =J18*$E108 -> 0 | K108: =K18*$E108 -> 0 | L108: =L18*$E108 -> 0 | M108: =M18*$E108 -> 0 | ... AL108: =AL18*$E108 -> 8.8385301e-08
B109: =B19 -> Fire protection | C109: =C19 -> HFC | D109: =D19 -> HFC-125 | E109: =_xlfn.XLOOKUP(D109,B$73:B$101,E$73:E$101) -> 2.126183 | F109: =F19*$E109 -> 0 | G109: =G19*$E109 -> 0 | H109: =H19*$E109 -> 0 | I109: =I19*$E109 -> 0 | J109: =J19*$E109 -> 0 | K109: =K19*$E109 -> 0 | L109: =L19*$E109 -> 0 | M109: =M19*$E109 -> 5.757199e-05 | ... AL109: =AL19*$E109 -> 0.015998523
B110: =B20 -> Refrigeration and air-conditioning | C110: =C20 -> HFC | D110: =D20 -> HFC-125 | E110: =_xlfn.XLOOKUP(D110,B$73:B$101,E$73:E$101) -> 2.126183 | F110: =F20*$E110 -> 4.4290087e-06 | G110: =G20*$E110 -> 1.0909507e-05 | H110: =H20*$E110 -> 2.0917089e-05 | I110: =I20*$E110 -> 0.0038957628 | J110: =J20*$E110 -> 0.010360613 | K110: =K20*$E110 -> 0.021959022 | L110: =L20*$E110 -> 0.037377949 | M110: =M20*$E110 -> 0.057694503 | ... AL110: =AL20*$E110 -> 2.7698784
B111: =B21 -> Foam blowing agents | C111: =C21 -> HFC | D111: =D21 -> HFC-134a | E111: =_xlfn.XLOOKUP(D111,B$73:B$101,E$73:E$101) -> 3.1846154 | F111: =F21*$E111 -> 0 | G111: =G21*$E111 -> 0 | H111: =H21*$E111 -> 0 | I111: =I21*$E111 -> 0 | J111: =J21*$E111 -> 0 | K111: =K21*$E111 -> 0 | L111: =L21*$E111 -> 0.0014994128 | M111: =M21*$E111 -> 0.0031017696 | ... AL111: =AL21*$E111 -> 0.23293602
B112: =B22 -> Metered does inhalers | C112: =C22 -> HFC | D112: =D22 -> HFC-134a | E112: =_xlfn.XLOOKUP(D112,B$73:B$101,E$73:E$101) -> 3.1846154 | F112: =F22*$E112 -> 0 | G112: =G22*$E112 -> 0 | H112: =H22*$E112 -> 0 | I112: =I22*$E112 -> 0 | J112: =J22*$E112 -> 0 | K112: =K22*$E112 -> 0 | L112: =L22*$E112 -> 0 | M112: =M22*$E112 -> 0.0010265857 | ... AL112: =AL22*$E112 -> 0.062913263
B113: =B23 -> Other Aerosols | C113: =C23 -> HFC | D113: =D23 -> HFC-134a | E113: =_xlfn.XLOOKUP(D113,B$73:B$101,E$73:E$101) -> 3.1846154 | F113: =F23*$E113 -> 0 | G113: =G23*$E113 -> 0 | H113: =H23*$E113 -> 0 | I113: =I23*$E113 -> 0 | J113: =J23*$E113 -> 0.03894381 | K113: =K23*$E113 -> 0.42029296 | L113: =L23*$E113 -> 0.4847829 | M113: =M23*$E113 -> 0.52268286 | ... AL113: =AL23*$E113 -> 0.67271607
B114: =B24 -> Refrigeration and air-conditioning | C114: =C24 -> HFC | D114: =D24 -> HFC-134a | E114: =_xlfn.XLOOKUP(D114,B$73:B$101,E$73:E$101) -> 3.1846154 | F114: =F24*$E114 -> 2.3325405e-07 | G114: =G24*$E114 -> 5.7454992e-07 | H114: =H24*$E114 -> 0.055111261 | I114: =I24*$E114 -> 0.23860955 | J114: =J24*$E114 -> 0.58005762 | K114: =K24*$E114 -> 0.91864643 | L114: =L24*$E114 -> 1.3314291 | M114: =M24*$E114 -> 1.7616926 | ... AL114: =AL24*$E114 -> 1.9969548
B115: =B25 -> Refrigeration and air-conditioning | C115: =C25 -> HFC | D115: =D25 -> HFC-143a | E115: =_xlfn.XLOOKUP(D115,B$73:B$101,E$73:E$101) -> 1.6333333 | F115: =F25*$E115 -> 6.0826715e-06 | G115: =G25*$E115 -> 1.4982799e-05 | H115: =H25*$E115 -> 2.872692e-05 | I115: =I25*$E115 -> 0.0021538682 | J115: =J25*$E115 -> 0.0060010771 | K115: =K25*$E115 -> 0.014988754 | L115: =L25*$E115 -> 0.027878514 | M115: =M25*$E115 -> 0.046158285 | ... AL115: =AL25*$E115 -> 0.99422099
B116: =B26 -> Fire protection | C116: =C26 -> HFC | D116: =D26 -> HFC-23 | E116: =_xlfn.XLOOKUP(D116,B$73:B$101,E$73:E$101) -> 1 | F116: =F26*$E116 -> 0 | G116: =G26*$E116 -> 0 | H116: =H26*$E116 -> 0 | I116: =I26*$E116 -> 0 | J116: =J26*$E116 -> 0 | K116: =K26*$E116 -> 9.3036146e-06 | L116: =L26*$E116 -> 2.0863174e-05 | M116: =M26*$E116 -> 3.9285248e-05 | ... AL116: =AL26*$E116 -> 0.00056954537
B117: =B27 -> Fire protection | C117: =C27 -> HFC | D117: =D27 -> HFC-236fa | E117: =_xlfn.XLOOKUP(D117,B$73:B$101,E$73:E$101) -> 0.92431762 | F117: =F27*$E117 -> 0 | G117: =G27*$E117 -> 0 | H117: =H27*$E117 -> 0 | I117: =I27*$E117 -> 0 | J117: =J27*$E117 -> 0 | K117: =K27*$E117 -> 0 | L117: =L27*$E117 -> 0 | M117: =M27*$E117 -> 0.00018188064 | ... AL117: =AL27*$E117 -> 0.0062438817
... B139: =B49 -> Fire protection | C139: =C49 -> PFC | D139: =D49 -> PFC-14 (Perfluoromethane) | E139: =_xlfn.XLOOKUP(D139,B$73:B$101,E$73:E$101) -> 0.79939668 | F139: =F49*$E139 -> 0 | G139: =G49*$E139 -> 0 | H139: =H49*$E139 -> 0 | I139: =I49*$E139 -> 0 | J139: =J49*$E139 -> 3.5880253e-07 | K139: =K49*$E139 -> 1.153198e-06 | L139: =L49*$E139 -> 1.0423361e-05 | M139: =M49*$E139 -> 2.8604432e-05 | ... AL139: =AL49*$E139 -> 0.00036408522
B141: Emissions by Gas
B143: AR5 100-yr GWP
D144: GHG | F144: Y1990 | G144: Y1991 | H144: Y1992 | I144: Y1993 | J144: Y1994 | K144: Y1995 | L144: Y1996 | M144: Y1997 | N144: Y1998 | O144: Y1999 | P144: Y2000 | Q144: Y2001 | R144: Y2002 | S144: Y2003 | T144: Y2004 | U144: Y2005 | V144: Y2006 | W144: Y2007 | X144: Y2008 | Y144: Y2009 | Z144: Y2010 | AA144: Y2011 | AB144: Y2012 | AC144: Y2013 | AD144: Y2014 | AE144: Y2015 | AF144: Y2016 | AG144: Y2017 | AH144: Y2018 | AI144: Y2019 | AJ144: Y2020 | AK144: Y2021 | AL144: Y2022
D145: Carbon Dioxide | F145: =SUMIF($D$16:$D$49,$D145,F$16:F$49) -> 2.6131015e-07 | G145: =SUMIF($D$16:$D$49,$D145,G$16:G$49) -> 4.1898125e-07 | H145: =SUMIF($D$16:$D$49,$D145,H$16:H$49) -> 5.8111867e-07 | I145: =SUMIF($D$16:$D$49,$D145,I$16:I$49) -> 7.4840461e-07 | J145: =SUMIF($D$16:$D$49,$D145,J$16:J$49) -> 9.220172e-07 | K145: =SUMIF($D$16:$D$49,$D145,K$16:K$49) -> 2.3052706e-06 | L145: =SUMIF($D$16:$D$49,$D145,L$16:L$49) -> 4.4136082e-06 | M145: =SUMIF($D$16:$D$49,$D145,M$16:M$49) -> 6.594629e-06 | ... AL145: =SUMIF($D$16:$D$49,$D145,AL$16:AL$49) -> 7.263817e-05
D146: HFC-125 | F146: =SUMIF($D$16:$D$49,$D146,F$16:F$49) -> 2.0830798e-06 | G146: =SUMIF($D$16:$D$49,$D146,G$16:G$49) -> 5.1310291e-06 | H146: =SUMIF($D$16:$D$49,$D146,H$16:H$49) -> 9.8378592e-06 | I146: =SUMIF($D$16:$D$49,$D146,I$16:I$49) -> 0.0018322801 | J146: =SUMIF($D$16:$D$49,$D146,J$16:J$49) -> 0.0048728701 | K146: =SUMIF($D$16:$D$49,$D146,K$16:K$49) -> 0.010327908 | L146: =SUMIF($D$16:$D$49,$D146,L$16:L$49) -> 0.017579837 | M146: =SUMIF($D$16:$D$49,$D146,M$16:M$49) -> 0.027162326 | ... AL146: =SUMIF($D$16:$D$49,$D146,AL$16:AL$49) -> 1.3102715
D147: HFC-134a | F147: =SUMIF($D$16:$D$49,$D147,F$16:F$49) -> 7.3244025e-08 | G147: =SUMIF($D$16:$D$49,$D147,G$16:G$49) -> 1.8041423e-07 | H147: =SUMIF($D$16:$D$49,$D147,H$16:H$49) -> 0.017305468 | I147: =SUMIF($D$16:$D$49,$D147,I$16:I$49) -> 0.074925705 | J147: =SUMIF($D$16:$D$49,$D147,J$16:J$49) -> 0.19437243 | K147: =SUMIF($D$16:$D$49,$D147,K$16:K$49) -> 0.4204399 | L147: =SUMIF($D$16:$D$49,$D147,L$16:L$49) -> 0.57077895 | M147: =SUMIF($D$16:$D$49,$D147,M$16:M$49) -> 0.7186123 | ... AL147: =SUMIF($D$16:$D$49,$D147,AL$16:AL$49) -> 0.93120199
D148: HFC-143a | F148: =SUMIF($D$16:$D$49,$D148,F$16:F$49) -> 3.7240846e-06 | G148: =SUMIF($D$16:$D$49,$D148,G$16:G$49) -> 9.173142e-06 | H148: =SUMIF($D$16:$D$49,$D148,H$16:H$49) -> 1.758791e-05 | I148: =SUMIF($D$16:$D$49,$D148,I$16:I$49) -> 0.0013186948 | J148: =SUMIF($D$16:$D$49,$D148,J$16:J$49) -> 0.0036741288 | K148: =SUMIF($D$16:$D$49,$D148,K$16:K$49) -> 0.0091767881 | L148: =SUMIF($D$16:$D$49,$D148,L$16:L$49) -> 0.017068478 | M148: =SUMIF($D$16:$D$49,$D148,M$16:M$49) -> 0.028260174 | ... AL148: =SUMIF($D$16:$D$49,$D148,AL$16:AL$49) -> 0.60870673
D149: HFC-23 | F149: =SUMIF($D$16:$D$49,$D149,F$16:F$49) -> 0 | G149: =SUMIF($D$16:$D$49,$D149,G$16:G$49) -> 0 | H149: =SUMIF($D$16:$D$49,$D149,H$16:H$49) -> 0 | I149: =SUMIF($D$16:$D$49,$D149,I$16:I$49) -> 0 | J149: =SUMIF($D$16:$D$49,$D149,J$16:J$49) -> 0 | K149: =SUMIF($D$16:$D$49,$D149,K$16:K$49) -> 9.3036146e-06 | L149: =SUMIF($D$16:$D$49,$D149,L$16:L$49) -> 2.0863174e-05 | M149: =SUMIF($D$16:$D$49,$D149,M$16:M$49) -> 3.9285248e-05 | ... AL149: =SUMIF($D$16:$D$49,$D149,AL$16:AL$49) -> 0.00056954537
D150: HFC-236fa | F150: =SUMIF($D$16:$D$49,$D150,F$16:F$49) -> 0 | G150: =SUMIF($D$16:$D$49,$D150,G$16:G$49) -> 0 | H150: =SUMIF($D$16:$D$49,$D150,H$16:H$49) -> 0 | I150: =SUMIF($D$16:$D$49,$D150,I$16:I$49) -> 0.0010949582 | J150: =SUMIF($D$16:$D$49,$D150,J$16:J$49) -> 0.0033027021 | K150: =SUMIF($D$16:$D$49,$D150,K$16:K$49) -> 0.0054743631 | L150: =SUMIF($D$16:$D$49,$D150,L$16:L$49) -> 0.0068121741 | M150: =SUMIF($D$16:$D$49,$D150,M$16:M$49) -> 0.008341067 | ... AL150: =SUMIF($D$16:$D$49,$D150,AL$16:AL$49) -> 0.010679883
D151: HFC-32 | F151: =SUMIF($D$16:$D$49,$D151,F$16:F$49) -> 0 | G151: =SUMIF($D$16:$D$49,$D151,G$16:G$49) -> 0 | H151: =SUMIF($D$16:$D$49,$D151,H$16:H$49) -> 0 | I151: =SUMIF($D$16:$D$49,$D151,I$16:I$49) -> 0 | J151: =SUMIF($D$16:$D$49,$D151,J$16:J$49) -> 0 | K151: =SUMIF($D$16:$D$49,$D151,K$16:K$49) -> 0 | L151: =SUMIF($D$16:$D$49,$D151,L$16:L$49) -> 3.0469017e-06 | M151: =SUMIF($D$16:$D$49,$D151,M$16:M$49) -> 8.651811e-06 | ... AL151: =SUMIF($D$16:$D$49,$D151,AL$16:AL$49) -> 0.18850129
D152: Other HFC | F152: =SUMIF($D$16:$D$49,$D152,F$16:F$49) -> 0.0047799061 | G152: =SUMIF($D$16:$D$49,$D152,G$16:G$49) -> 0.010063064 | H152: =SUMIF($D$16:$D$49,$D152,H$16:H$49) -> 0.010121953 | I152: =SUMIF($D$16:$D$49,$D152,I$16:I$49) -> 0.010277569 | J152: =SUMIF($D$16:$D$49,$D152,J$16:J$49) -> 0.011054365 | K152: =SUMIF($D$16:$D$49,$D152,K$16:K$49) -> 0.024079612 | L152: =SUMIF($D$16:$D$49,$D152,L$16:L$49) -> 0.039032626 | M152: =SUMIF($D$16:$D$49,$D152,M$16:M$49) -> 0.048525527 | ... AL152: =SUMIF($D$16:$D$49,$D152,AL$16:AL$49) -> 0.30845443
D153: PFC-14 (Perfluoromethane) | F153: =SUMIF($D$16:$D$49,$D153,F$16:F$49) -> 0 | G153: =SUMIF($D$16:$D$49,$D153,G$16:G$49) -> 0 | H153: =SUMIF($D$16:$D$49,$D153,H$16:H$49) -> 0 | I153: =SUMIF($D$16:$D$49,$D153,I$16:I$49) -> 0 | J153: =SUMIF($D$16:$D$49,$D153,J$16:J$49) -> 4.4884166e-07 | K153: =SUMIF($D$16:$D$49,$D153,K$16:K$49) -> 1.4425855e-06 | L153: =SUMIF($D$16:$D$49,$D153,L$16:L$49) -> 1.3039035e-05 | M153: =SUMIF($D$16:$D$49,$D153,M$16:M$49) -> 3.5782525e-05 | ... AL153: =SUMIF($D$16:$D$49,$D153,AL$16:AL$49) -> 0.00045545001
D154: Other PFC | F154: =SUMIF($D$16:$D$49,$D154,F$16:F$49) -> 0 | G154: =SUMIF($D$16:$D$49,$D154,G$16:G$49) -> 0 | H154: =SUMIF($D$16:$D$49,$D154,H$16:H$49) -> 0 | I154: =SUMIF($D$16:$D$49,$D154,I$16:I$49) -> 0 | J154: =SUMIF($D$16:$D$49,$D154,J$16:J$49) -> 1.7300751e-06 | K154: =SUMIF($D$16:$D$49,$D154,K$16:K$49) -> 0.0084656947 | L154: =SUMIF($D$16:$D$49,$D154,L$16:L$49) -> 0.020348099 | M154: =SUMIF($D$16:$D$49,$D154,M$16:M$49) -> 0.023912308 | ... AL154: =SUMIF($D$16:$D$49,$D154,AL$16:AL$49) -> 0.00040573062
D156: CO2 | F156: =F145 -> 2.6131015e-07 | G156: =G145 -> 4.1898125e-07 | H156: =H145 -> 5.8111867e-07 | I156: =I145 -> 7.4840461e-07 | J156: =J145 -> 9.220172e-07 | K156: =K145 -> 2.3052706e-06 | L156: =L145 -> 4.4136082e-06 | M156: =M145 -> 6.594629e-06 | ... AL156: =AL145 -> 7.263817e-05
D157: HFC | F157: =SUM(F146:F152) -> 0.0047857865 | G157: =SUM(G146:G152) -> 0.010077549 | H157: =SUM(H146:H152) -> 0.027454847 | I157: =SUM(I146:I152) -> 0.089449207 | J157: =SUM(J146:J152) -> 0.2172765 | K157: =SUM(K146:K152) -> 0.46950788 | L157: =SUM(L146:L152) -> 0.65129598 | M157: =SUM(M146:M152) -> 0.83094933 | ... AL157: =SUM(AL146:AL152) -> 3.3583854
D158: PFC | F158: =SUM(F153:F154) -> 0 | G158: =SUM(G153:G154) -> 0 | H158: =SUM(H153:H154) -> 0 | I158: =SUM(I153:I154) -> 0 | J158: =SUM(J153:J154) -> 2.1789168e-06 | K158: =SUM(K153:K154) -> 0.0084671373 | L158: =SUM(L153:L154) -> 0.020361138 | M158: =SUM(M153:M154) -> 0.023948091 | ... AL158: =SUM(AL153:AL154) -> 0.00086118063
D160: Total MMTCO2e | F160: =SUM(F156:F158) -> 0.0047860478 | G160: =SUM(G156:G158) -> 0.010077968 | H160: =SUM(H156:H158) -> 0.027455428 | I160: =SUM(I156:I158) -> 0.089449955 | J160: =SUM(J156:J158) -> 0.2172796 | K160: =SUM(K156:K158) -> 0.47797732 | L160: =SUM(L156:L158) -> 0.67166153 | M160: =SUM(M156:M158) -> 0.85490402 | ... AL160: =SUM(AL156:AL158) -> 3.3593192
B162: AR6 20-yr GWP
D163: GHG | F163: Y1990 | G163: Y1991 | H163: Y1992 | I163: Y1993 | J163: Y1994 | K163: Y1995 | L163: Y1996 | M163: Y1997 | N163: Y1998 | O163: Y1999 | P163: Y2000 | Q163: Y2001 | R163: Y2002 | S163: Y2003 | T163: Y2004 | U163: Y2005 | V163: Y2006 | W163: Y2007 | X163: Y2008 | Y163: Y2009 | Z163: Y2010 | AA163: Y2011 | AB163: Y2012 | AC163: Y2013 | AD163: Y2014 | AE163: Y2015 | AF163: Y2016 | AG163: Y2017 | AH163: Y2018 | AI163: Y2019 | AJ163: Y2020 | AK163: Y2021 | AL163: Y2022
...

Sheet Iron And Steel
A1: Iron & Steel Industry Production Emissions
F6: CO2 Emissions (metric tons) | G6: CO2 Emissions (short tons)
J7: Global Warming Potential
E8: CO2 | F8: 163493.8 | G8: =F8*1.1023 -> 180219.22
D9: Bleeders | E9: CH4 | F9: 0.01 | G9: =F9*1.1023 -> 0.011023 | J9: CO2_GWP= | K9: =Summary!E4 -> 1
E10: N2O | F10: 0.059 | G10: =F10*1.1023 -> 0.0650357 | J10: CH4_GWP = | K10: =Summary!E5 -> 27.9
E11: CO2 | F11: =G11/1.1023 -> 495389.64 | G11: 546068 | J11: N2O_GWP= | K11: =Summary!E6 -> 273
D12: L Blast Furnace | E12: CH4 | F12: =G12/1.1023 -> 0.90719405 | G12: 1 | J12: SF6_GWP = | K12: =Summary!E7 -> 24300
E13: N2O | G13: 0
D14: Sinter Plant | E14: CO2 | F14: 101100.8 | G14: =F14*1.1023 -> 111443.41
D16: BOF | E16: CO2 | F16: 149728.2 | G16: =F16*1.1023 -> 165045.39
E18: CO2 | F18: =F8+F14+F16+F11 -> 909712.44 | G18: =G8+G14+G16+G11 -> 1002776
D19: Total | E19: CH4 | F19: =F9+F12 -> 0.91719405 | G19: =G9+G12 -> 1.011023
E20: N2O | F20: =F10 -> 0.059 | G20: =G10+G13 -> 0.0650357

Sheet Ammonia & Urea Consumption
A1: Ammonia Production and Urea Consumption
D3: Production & Consumption | E3: Emission Factor | G3: Subract emissions | I3: Emissions | J3: Emissions
D4: (Metric Tons) | E4: (mt CO2/mt activity) | G4: from Urea | I4: (MTCO2E) | J4: (MMTCO2E)
B7: 2011 | C7: Ammonia Production | D7: 0 | E7: 1.2 | G7: =D8*E8 -> 951.19 | I7: =IF(D7>0,D7*E7-(G7),0) -> 0
B8: 18 | C8: Urea Consumption | D8: 1303 | E8: 0.73 | I8: =D8*E8 -> 951.19 | J8: =I8/1000000 -> 0.00095119

Sheet Agricultural
A1: Agricultural Emissions in Maryland
B3: Enteric Fermentation Emissions
C4: Number of Animals ('000 head) | E4: Emission Factor (kg CH4/head) | G4: Emissions (kg CH4) | I4: Emissions (MMTCH4) | K4: Emissions (MMTCE) | M4: Emissions (MMTCO2E) | Y4: Global Warming Potential
B5: Dairy Cattle
B6: Dairy Cows | C6: 53 | D6: x | E6: 138.93539 | F6: = | G6: =C6*E6*1000 -> 7363575.9 | H6: = | I6: =G6/1000*10^-6 -> 0.0073635759 | J6: = | K6: =(I6*$Z$7)*(12/44) -> 0.056030118 | L6: = | M6: =K6/(12/44) -> 0.20544377 | Y6: CO2_GWP= | Z6: =Summary!E4 -> 1
B7: Dairy Replacement Heifers | C7: 28 | D7: x | E7: 65.96751 | F7: = | G7: =C7*E7*1000 -> 1847090.3 | H7: = | I7: =G7/1000*10^-6 -> 0.0018470903 | J7: = | K7: =(I7*$Z$7)*(12/44) -> 0.014054678 | L7: = | M7: =K7/(12/44) -> 0.051533819 | Y7: CH4_GWP = | Z7: =Summary!E5 -> 27.9
B8: Replacements 0-12 mos. | C8: 0 | D8: x | E8: 48.578723 | F8: = | G8: =C8*E8*1000 -> 0 | H8: = | I8: =G8/1000*10^-6 -> 0 | J8: = | K8: =(I8*$Z$7)*(12/44) -> 0 | L8: = | M8: =K8/(12/44) -> 0 | Y8: N2O_GWP= | Z8: =Summary!E6 -> 273
B9: Replacements 12-24 mos. | C9: 0 | D9: x | E9: 73.3278 | F9: = | G9: =C9*E9*1000 -> 0 | H9: = | I9: =G9/1000*10^-6 -> 0 | J9: = | K9: =(I9*$Z$7)*(12/44) -> 0 | L9: = | M9: =K9/(12/44) -> 0 | Y9: SF6_GWP = | Z9: =Summary!E7 -> 24300
B10: Beef Cattle
B11: Beef Cows | C11: 42 | D11: x | E11: 94.374201 | F11: = | G11: =C11*E11*1000 -> 3963716.4 | H11: = | I11: =G11/1000*10^-6 -> 0.0039637164 | J11: = | K11: =(I11*$Z$7)*(12/44) -> 0.030160279 | L11: = | M11: =K11/(12/44) -> 0.11058769
B12: Beef Replacement Heifers | C12: 10 | D12: x | E12: 66.696864 | F12: = | G12: =C12*E12*1000 -> 666968.64 | H12: = | I12: =G12/1000*10^-6 -> 0.00066696864 | J12: = | K12: =(I12*$Z$7)*(12/44) -> 0.005075025 | L12: = | M12: =K12/(12/44) -> 0.018608425
B13: Replacements 0-12 mos. | C13: 0 | D13: x | E13: 60.0305 | F13: = | G13: =C13*E13*1000 -> 0 | H13: = | I13: =G13/1000*10^-6 -> 0 | J13: = | K13: =(I13*$Z$7)*(12/44) -> 0 | L13: = | M13: =K13/(12/44) -> 0
B14: Replacements 12-24 mos. | C14: 0 | D14: x | E14: 69.411475 | F14: = | G14: =C14*E14*1000 -> 0 | H14: = | I14: =G14/1000*10^-6 -> 0 | J14: = | K14: =(I14*$Z$7)*(12/44) -> 0 | L14: = | M14: =K14/(12/44) -> 0
B15: Heifer Stockers | C15: 7 | D15: x | E15: 59.813174 | F15: = | G15: =C15*E15*1000 -> 418692.22 | H15: = | I15: =G15/1000*10^-6 -> 0.00041869222 | J15: = | K15: =(I15*$Z$7)*(12/44) -> 0.0031858672 | L15: = | M15: =K15/(12/44) -> 0.011681513
B16: Steer Stockers | C16: 15 | D16: x | E16: 57.866542 | F16: = | G16: =C16*E16*1000 -> 867998.13 | H16: = | I16: =G16/1000*10^-6 -> 0.00086799813 | J16: = | K16: =(I16*$Z$7)*(12/44) -> 0.0066046767 | L16: = | M16: =K16/(12/44) -> 0.024217148
B17: Feedlot Heifers | C17: 3.912 | D17: x | E17: 43.159729 | F17: = | G17: =C17*E17*1000 -> 168840.86 | H17: = | I17: =G17/1000*10^-6 -> 0.00016884086 | J17: = | K17: =(I17*$Z$7)*(12/44) -> 0.0012847254 | L17: = | M17: =K17/(12/44) -> 0.0047106599
B18: Feedlot Steer | C18: 7.395 | D18: x | E18: 41.996093 | F18: = | G18: =C18*E18*1000 -> 310561.11 | H18: = | I18: =G18/1000*10^-6 -> 0.00031056111 | J18: = | K18: =(I18*$Z$7)*(12/44) -> 0.0023630877 | L18: = | M18: =K18/(12/44) -> 0.0086646548
B19: Bulls | C19: 4 | D19: x | E19: 97.583393 | F19: = | G19: =C19*E19*1000 -> 390333.57 | H19: = | I19: =G19/1000*10^-6 -> 0.00039033357 | J19: = | K19: =(I19*$Z$7)*(12/44) -> 0.0029700836 | L19: = | M19: =K19/(12/44) -> 0.010890307
B20: Other
B21: Sheep | C21: 24 | D21: x | E21: 8 | F21: = | G21: =C21*E21*1000 -> 192000 | H21: = | I21: =G21/1000*10^-6 -> 0.000192 | J21: = | K21: =(I21*$Z$7)*(12/44) -> 0.0014609455 | L21: = | M21: =K21/(12/44) -> 0.0053568
B22: Goats | C22: 12 | D22: x | E22: 5 | F22: = | G22: =C22*E22*1000 -> 60000 | H22: = | I22: =G22/1000*10^-6 -> 6e-05 | J22: = | K22: =(I22*$Z$7)*(12/44) -> 0.00045654545 | L22: = | M22: =K22/(12/44) -> 0.001674
B23: Swine | C23: 23 | D23: x | E23: 1.5 | F23: = | G23: =C23*E23*1000 -> 34500 | H23: = | I23: =G23/1000*10^-6 -> 3.45e-05 | J23: = | K23: =(I23*$Z$7)*(12/44) -> 0.00026251364 | L23: = | M23: =K23/(12/44) -> 0.00096255
B24: Horses | C24: 79.1 | D24: x | E24: 18 | F24: = | G24: =C24*E24*1000 -> 1423800 | H24: = | I24: =G24/1000*10^-6 -> 0.0014238 | J24: = | K24: =(I24*$Z$7)*(12/44) -> 0.010833824 | L24: = | M24: =K24/(12/44) -> 0.03972402
B25: TOTAL | G25: =SUM(G6:G24) -> 17708077 | I25: =SUM(I6:I24) -> 0.017708077 | K25: =SUM(K6:K24) -> 0.13474237 | M25: =SUM(M6:M24) -> 0.49405535
B29: Manure Management Methane Emissions
C30: Number of Animals ('000 head) | E30: Typical Animal Mass (TAM) (kg) | G30: Volatile Solids (VS) [kg VS/1000 kg animal mass/day] | I30: Total VS (kg/yr) | K30: Max Pot. Emissions (m3 CH4/ kg VS) | M30: Weighted MCF | O30: Emissions (m3 CH4) | Q30: Emissions (Metric Tons CH4) | S30: Emissions (MMTCH4) | U30: Emissions (MMTCE) | W30: Emissions (MMTCO2E)
B31: Dairy Cattle
B32: Dairy Cows | C32: 53 | D32: x | E32: 680 | F32: x | G32: 9.995158 | H32: = | I32: =C32*E32*G32*365 -> 1.3148231e+08 | J32: x | K32: 0.24 | L32: x | M32: 0.1181829 | N32: = | O32: =(I32*K32)*M32 -> 3729350.4 | P32: = | Q32: =O32*0.000662 -> 2468.83 | R32: = | S32: =Q32/1000000 -> 0.00246883 | T32: = | U32: =(S32*$Z$7)*12/44 -> 0.018785552 | V32: = | W32: =U32/(12/44) -> 0.068880357
B33: Dairy Replacement Heifers | C33: 28 | D33: x | E33: 476 | F33: x | G33: 8.4220348 | H33: = | I33: =C33*E33*G33*365 -> 40970841 | J33: x | K33: 0.17 | L33: x | M33: 0.01246766 | N33: = | O33: =(I33*K33)*M33 -> 86837.789 | P33: = | Q33: =O33*0.000662 -> 57.486616 | R33: = | S33: =Q33/1000000 -> 5.7486616e-05 | T33: = | U33: =(S33*$Z$7)*12/44 -> 0.00043742089 | V33: = | W33: =U33/(12/44) -> 0.0016038766
B34: Beef Cattle
B35: Feedlot Heifers | C35: 3.912 | D35: x | E35: 420 | F35: x | G35: 4.351467 | H35: = | I35: =C35*E35*G35*365 -> 2609616.5 | J35: x | K35: 0.33 | L35: x | M35: 0.013123459 | N35: = | O35: =(I35*K35)*M35 -> 11301.575 | P35: = | Q35: =O35*0.000662 -> 7.4816424 | R35: = | S35: =Q35/1000000 -> 7.4816424e-06 | T35: = | U35: =(S35*$Z$7)*12/44 -> 5.6928497e-05 | V35: = | W35: =U35/(12/44) -> 0.00020873782
B36: Feedlot Steer | C36: 7.395 | D36: x | E36: 420 | F36: x | G36: 3.9703541 | H36: = | I36: =C36*E36*G36*365 -> 4501005.9 | J36: x | K36: 0.33 | L36: x | M36: 0.012974018 | N36: = | O36: =(I36*K36)*M36 -> 19270.723 | P36: = | Q36: =O36*0.000662 -> 12.757219 | R36: = | S36: =Q36/1000000 -> 1.2757219e-05 | T36: = | U36: =(S36*$Z$7)*12/44 -> 9.7070836e-05 | V36: = | W36: =U36/(12/44) -> 0.0003559264
B37: Bulls | C37: 4 | D37: x | E37: 750 | F37: x | G37: 5.1662195 | H37: = | I37: =C37*E37*G37*365 -> 5657010.3 | J37: x | K37: 0.17 | L37: x | M37: 0.011 | N37: = | O37: =(I37*K37)*M37 -> 10578.609 | P37: = | Q37: =O37*0.000662 -> 7.0030394 | R37: = | S37: =Q37/1000000 -> 7.0030394e-06 | T37: = | U37: =(S37*$Z$7)*12/44 -> 5.3286763e-05 | V37: = | W37: =U37/(12/44) -> 0.0001953848
B38: Calves | C38: 36.1 | D38: x | E38: 118 | F38: x | G38: 6.41 | H38: = | I38: =C38*E38*G38*365 -> 9966441.1 | J38: x | K38: 0.17 | L38: x | M38: 0.011 | N38: = | O38: =(I38*K38)*M38 -> 18637.245 | P38: = | Q38: =O38*0.000662 -> 12.337856 | R38: = | S38: =Q38/1000000 -> 1.2337856e-05 | T38: = | U38: =(S38*$Z$7)*12/44 -> 9.3879868e-05 | V38: = | W38: =U38/(12/44) -> 0.00034422618
B39: Beef Cows | C39: 42 | D39: x | E39: 533 | F39: x | G39: 7.4944796 | H39: = | I39: =C39*E39*G39*365 -> 61236569 | J39: x | K39: 0.17 | L39: x | M39: 0.011 | N39: = | O39: =(I39*K39)*M39 -> 114512.38 | P39: = | Q39: =O39*0.000662 -> 75.807198 | R39: = | S39: =Q39/1000000 -> 7.5807198e-05 | T39: = | U39: =(S39*$Z$7)*12/44 -> 0.00057682386 | V39: = | W39: =U39/(12/44) -> 0.0021150208
B40: Beef Replacement Heifers | C40: 10 | D40: x | E40: 420 | F40: x | G40: 7.5819828 | H40: = | I40: =C40*E40*G40*365 -> 11623180 | J40: x | K40: 0.17 | L40: x | M40: 0.011 | N40: = | O40: =(I40*K40)*M40 -> 21735.346 | P40: = | Q40: =O40*0.000662 -> 14.388799 | R40: = | S40: =Q40/1000000 -> 1.4388799e-05 | T40: = | U40: =(S40*$Z$7)*12/44 -> 0.00010948568 | V40: = | W40: =U40/(12/44) -> 0.00040144749
B41: Steer Stockers | C41: 15 | D41: x | E41: 318 | F41: x | G41: 8.1348402 | H41: = | I41: =C41*E41*G41*365 -> 14163164 | J41: x | K41: 0.17 | L41: x | M41: 0.011 | N41: = | O41: =(I41*K41)*M41 -> 26485.116 | P41: = | Q41: =O41*0.000662 -> 17.533147 | R41: = | S41: =Q41/1000000 -> 1.7533147e-05 | T41: = | U41: =(S41*$Z$7)*12/44 -> 0.00013341131 | V41: = | W41: =U41/(12/44) -> 0.00048917479
