Workbook
Name _Key1: #REF!
Name _Sort: #REF!
Name CementCorrectionFactor: #REF!
Name CH4GWP: #REF!
Name CoalCCs: #REF!
Name CoalGrowth: #REF!
Name data: #REF!
Name ElecProj: #REF!
Name EntFermEFs: #REF!
Name EntFermEFs2: #REF!
Name EPS: #REF!
Name EPSFraction: #REF!
Name FCFchoice: #REF!
Name FertData: #REF!
Name FertTypes: #REF!
Name FFFactors: #REF!
Name FullName: #REF!
Name GasProj: #REF!
Name GWP: #REF!
Name GWPCH4: #REF!
Name GWPN2O: #REF!
Name HTML1_1: #REF!
Name HTML1_12: #REF!
Name HTML1_3: #REF!
Name HTML1_4: #REF!
Name IndustrialPercent: #REF!
Name kg.MT: #REF!
Name LiquidEF: #REF!
Name MCFs: #REF!
Name MMFactors: #REF!
Name MT_per_T: #REF!
Name N20GWP: #REF!
Name N2OGWP: #REF!
Name NetOutElecExports: #REF!
Name NEU: #REF!
Name NGCH4meth: #REF!
Name nobedEF: #REF!
Name open: #REF!
Name OxidationFactor: #REF!
Name PopGrid: #REF!
Name SelectedState: #REF!
Name Short_metric: #REF!
Name SolidEF: #REF!
Name State: #REF!
Name StateChoice: #REF!
Name StateList: #REF!
Name States: #REF!
Name StatFactors: #REF!
Name StorageFactors: #REF!
Name TransData: #REF!
Name TransProj: #REF!
Name UFactor: #REF!
Name Units: #REF!
Name VersionDate: #REF!
Name VersionNumber: #REF!
Name VolPercent: #REF!
Name VS_BeefReplace: #REF!
Name VS_BeefReplace2: #REF!
Name VS_feedlotheifer: #REF!
Name VS_feedlotheifer2: #REF!

Sheet Summary
B1: Maryland 2006 GHG Emissions by Sector
D2: Global Warming Potential
D3: AR6 20-yr GWP | E3: AR6 100-yr GWP
C4: CO2 | D4: 1 | E4: 1
C5: CH4 | D5: 81.2 | E5: 27.9
C6: N2O | D6: 273 | E6: 273
C7: SF6 | D7: 18200 | E7: 24300
C8: HFCs & PFCs | D8: see note
B9: MMTCO2e | D9: 20-year GWP | E9: 100-year GWP
B10: Energy Use (CO2, CH4, N2O) | D10: =D11+D30+D47+D80 -> 98.929658 | E10: =E11+E30+E47+E80 -> 96.146049
B11: Electricity Use (Consumption) | D11: =D12+D29 -> 42.479139 | E11: =E12+E29 -> 42.461049
C12: Electricity Production (in-state) | D12: =D13+D17+D21+D25 -> 32.168313 | E12: =E13+E17+E21 -> 32.150222
C13: Coal | D13: =SUM(D14:D16) -> 28.279114 | E13: =SUM(E14:E16) -> 28.262979
C14: CO2 | D14: =E14/_xlfn.XLOOKUP(C14,C$4:C$7,E$4:E$7,"ERROR")*_xlfn.XLOOKUP(C14,C$4:C$7,D$4:D$7,"ERROR") -> 28.130574 | E14: ='EGU Production RGGI Units'!F261 -> 28.130574
C15: CH4 | D15: =E15/_xlfn.XLOOKUP(C15,C$4:C$7,E$4:E$7,"ERROR")*_xlfn.XLOOKUP(C15,C$4:C$7,D$4:D$7,"ERROR") -> 0.024580073 | E15: ='EGU Production RGGI Units'!G280 -> 0.0084456163
C16: N2O | D16: =E16/_xlfn.XLOOKUP(C16,C$4:C$7,E$4:E$7,"ERROR")*_xlfn.XLOOKUP(C16,C$4:C$7,D$4:D$7,"ERROR") -> 0.12395985 | E16: ='EGU Production RGGI Units'!G292 -> 0.12395985
C17: Natural Gas | D17: =SUM(D18:D20) -> 3.6514756 | E17: =SUM(E18:E20) -> 3.6499711
C18: CO2 | D18: =E18/_xlfn.XLOOKUP(C18,C$4:C$7,E$4:E$7,"ERROR")*_xlfn.XLOOKUP(C18,C$4:C$7,D$4:D$7,"ERROR") -> 3.648413 | E18: ='EGU Production RGGI Units'!F265+'EGU Production Non-RGGI Units'!I105 -> 3.648413
C19: CH4 | D19: =E19/_xlfn.XLOOKUP(C19,C$4:C$7,E$4:E$7,"ERROR")*_xlfn.XLOOKUP(C19,C$4:C$7,D$4:D$7,"ERROR") -> 0.0022920295 | E19: ='EGU Production RGGI Units'!G283+'EGU Production Non-RGGI Units'!G117 -> 0.00078753229
C20: N2O | D20: =E20/_xlfn.XLOOKUP(C20,C$4:C$7,E$4:E$7,"ERROR")*_xlfn.XLOOKUP(C20,C$4:C$7,D$4:D$7,"ERROR") -> 0.00077059611 | E20: ='EGU Production RGGI Units'!G295+'EGU Production Non-RGGI Units'!G129 -> 0.00077059611
C21: Oil | D21: =SUM(D22:D24) -> 0.23772309 | E21: =SUM(E22:E24) -> 0.23727154
C22: CO2 | D22: =E22/_xlfn.XLOOKUP(C22,C$4:C$7,E$4:E$7,"ERROR")*_xlfn.XLOOKUP(C22,C$4:C$7,D$4:D$7,"ERROR") -> 0.23657261 | E22: ='EGU Production RGGI Units'!F263+'EGU Production Non-RGGI Units'!I103+'EGU Production Non-RGGI Units'!I104 -> 0.23657261
C23: CH4 | D23: =E23/_xlfn.XLOOKUP(C23,C$4:C$7,E$4:E$7,"ERROR")*_xlfn.XLOOKUP(C23,C$4:C$7,D$4:D$7,"ERROR") -> 0.00068791784 | E23: ='EGU Production RGGI Units'!G281+'EGU Production RGGI Units'!G282+'EGU Production Non-RGGI Units'!G115+'EGU Production Non-RGGI Units'!G116 -> 0.00023636586
C24: N2O | D24: =E24/_xlfn.XLOOKUP(C24,C$4:C$7,E$4:E$7,"ERROR")*_xlfn.XLOOKUP(C24,C$4:C$7,D$4:D$7,"ERROR") -> 0.00046256545 | E24: ='EGU Production RGGI Units'!G293+'EGU Production RGGI Units'!G294+'EGU Production Non-RGGI Units'!G127+'EGU Production Non-RGGI Units'!G128 -> 0.00046256545
C25: Wood | D25: =SUM(D26:D28) -> 0 | E25: =SUM(E26:E28) -> 0
C26: CO2 | D26: =E26/_xlfn.XLOOKUP(C26,C$4:C$7,E$4:E$7,"ERROR")*_xlfn.XLOOKUP(C26,C$4:C$7,D$4:D$7,"ERROR") -> 0 | E26: 0
C27: CH4 | D27: =E27/_xlfn.XLOOKUP(C27,C$4:C$7,E$4:E$7,"ERROR")*_xlfn.XLOOKUP(C27,C$4:C$7,D$4:D$7,"ERROR") -> 0 | E27: 0
C28: N2O | D28: =E28/_xlfn.XLOOKUP(C28,C$4:C$7,E$4:E$7,"ERROR")*_xlfn.XLOOKUP(C28,C$4:C$7,D$4:D$7,"ERROR") -> 0 | E28: 0
C29: Net Imported Electricity | D29: =E29 -> 10.310827 | E29: ='Imported Electricity'!K76 -> 10.310827
B30: Residential/Commercial/Industrial (RCI) Fuel Use | D30: =D31+D35+D39+D43 -> 17.130057 | E30: =E31+E35+E39+E43 -> 16.894555
C31: Coal | D31: =SUM(D32:D34) -> 3.016508 | E31: =SUM(E32:E34) -> 2.9983991
C32: CO2 | D32: =E32/_xlfn.XLOOKUP(C32,C$4:C$7,E$4:E$7,"ERROR")*_xlfn.XLOOKUP(C32,C$4:C$7,D$4:D$7,"ERROR") -> 2.976127 | E32: =Residential!G9+Commercial!G8+Industrial!J10 -> 2.976127
C33: CH4 | D33: =E33/_xlfn.XLOOKUP(C33,C$4:C$7,E$4:E$7,"ERROR")*_xlfn.XLOOKUP(C33,C$4:C$7,D$4:D$7,"ERROR") -> 0.027588005 | E33: =Residential!G33+Commercial!G37+Industrial!H71 -> 0.0094791299
C34: N2O | D34: =E34/_xlfn.XLOOKUP(C34,C$4:C$7,E$4:E$7,"ERROR")*_xlfn.XLOOKUP(C34,C$4:C$7,D$4:D$7,"ERROR") -> 0.012793025 | E34: =Residential!G20+Commercial!G22+Industrial!H40 -> 0.012793025
C35: Natural Gas & LPG | D35: =SUM(D36:D38) -> 9.2555202 | E35: =SUM(E36:E38) -> 9.2149093
C36: CO2 | D36: =E36/_xlfn.XLOOKUP(C36,C$4:C$7,E$4:E$7,"ERROR")*_xlfn.XLOOKUP(C36,C$4:C$7,D$4:D$7,"ERROR") -> 9.188024 | E36: =Residential!G13+Residential!G12+Commercial!G14+Commercial!G11+Industrial!J30+Industrial!J18 -> 9.188024
C37: CH4 | D37: =E37/_xlfn.XLOOKUP(C37,C$4:C$7,E$4:E$7,"ERROR")*_xlfn.XLOOKUP(C37,C$4:C$7,D$4:D$7,"ERROR") -> 0.061868737 | E37: =Residential!G37+Residential!G36+Commercial!G43+Commercial!G40+Industrial!H91+Industrial!H79 -> 0.021257854
C38: N2O | D38: =E38/_xlfn.XLOOKUP(C38,C$4:C$7,E$4:E$7,"ERROR")*_xlfn.XLOOKUP(C38,C$4:C$7,D$4:D$7,"ERROR") -> 0.0056275027 | E38: =Residential!G24+Residential!G23+Commercial!G28+Commercial!G25+Industrial!H60+Industrial!H48 -> 0.0056275027
C39: Petroleum | D39: =SUM(D40:D42) -> 4.5996589 | E39: =SUM(E40:E42) -> 4.5780626
C40: CO2 | D40: =E40/_xlfn.XLOOKUP(C40,C$4:C$7,E$4:E$7,"ERROR")*_xlfn.XLOOKUP(C40,C$4:C$7,D$4:D$7,"ERROR") -> 4.5574772 | E40: =Residential!G10+Residential!G11+Commercial!G12+Commercial!G13+Commercial!G9+Commercial!G10+Industrial!J14+Industrial!J15+Industrial!J16+Industrial!J17+Industrial!J19+Industrial!J22+Industrial!J24+Industrial!J25+Industrial!J27+Industrial!J29+Industrial!J20 -> 4.5574772
...

Sheet EGU Production RGGI Units
A1: Electric Power Production (RGGI Units) and CO2 Emissions in Maryland
B3: RGGI COAL COMBUSTION BY UNIT
G4: Red = RGGI Data
B7: Plant ID | C7: Plant Name | D7: Equipment Description | E7: Fuel Type | F7: Usage | G7: Heat Content | H7: Heat Content | I7: Fuel Heat Input | J7: Fuel Heat Input | K7: CO2 Emmission
F8: (tons) | H8: Units | I8: (MMBTU) | J8: (MMBTU) | K8: (tons)
I9: (ECR) | J9: RGGI | K9: RGGI
B11: 001-0203 | C11: AES WARRIOR RUN COGEN
C12: 001-3-0127 | D12: ACF Boiler | E12: Coal | F12: 637044 | G12: 11356 | H12: Btu/lb | I12: =F12*G12*2000/1000000 -> 14468543 | J12: 14751582 | K12: 1546789
B14: 003-0468 | C14: Brandon Shores
D15: Unit 1 | E15: P-Coal | F15: 1905266 | G15: 11356 | H15: Btu/lb | I15: =(F15*G15*2000)/1000000 -> 43272401 | J15: 39865596 | K15: 4090213.4
D16: Unit 2 | E16: P-Coal | F16: 1676361 | G16: 11356 | H16: Btu/lb | I16: =(F16*G16*2000)/1000000 -> 38073511 | J16: 39027527 | K16: 4004228.7
F17: =SUM(F15:F16) -> 3581627 | J17: =SUM(J15:J16) -> 78893123 | K17: =SUM(K15:K16) -> 8094442.1
B19: 24-005-0079 | C19: C.P.Crane
C20: 3-0108 | D20: Boiler Unit 1 | E20: P-Coal | F20: 404552 | G20: 11356 | H20: Btu/lb | I20: =(F20*G20*2000)/1000000 -> 9188185 | J20: 10825025 | K20: 1110643.8
C21: 3-0109 | D21: Boiler Unit 2 | E21: P-Coal | F21: 369913 | G21: 11356 | H21: Btu/lb | I21: =(F21*G21*2000)/1000000 -> 8401464.1 | J21: 9519110 | K21: 976658.5
F22: =SUM(F20:F21) -> 774465 | J22: =SUM(J20:J21) -> 20344135 | K22: =SUM(K20:K21) -> 2087302.3
B23: 033-00014 | C23: Chalk Point
C24: 1600-14-30004 | D24: Unit 1 | E24: Coal | F24: 726410 | G24: 12810 | H24: Btu/ lb | I24: =(F24*G24*2000)/1000000 -> 18610624 | J24: 19830382 | K24: 2031754
C25: 1600-14-30005 | D25: Unit 2 | E25: Coal | F25: 780539 | G25: 12802 | H25: Btu/ lb | I25: =(F25*G25*2000)/1000000 -> 19984921 | J25: 21186709 | K25: 2170183
J26: =SUM(J24:J25) -> 41017091 | K26: =SUM(K24:K25) -> 4201937
B27: 003-0014 | C27: HERBERT A WAGNER
C28: 4-0308 | D28: Unit 2 | E28: P-Coal | F28: 301760 | G28: 24 | H28: MMBtu/ tons | I28: =(F28*G28) -> 7242240 | J28: 8755729 | K28: 898338.2
C29: 3-0003 | D29: Unit 3 | E29: P-Coal | F29: 735196 | G29: 24 | H29: MMBtu/ tons | I29: =(F29*G29) -> 17644704 | J29: 18039441 | K29: 1850845.3
F30: =SUM(F28:F29) -> 1036956 | J30: =SUM(J28:J29) -> 26795170 | K30: =SUM(K28:K29) -> 2749183.5
B31: 043-0005 | C31: R P SMITH
C32: 043-0005-3-0005 | D32: Unit 3 (9) | E32: Coal | F32: 53689.5 | G32: 11736 | H32: Btu/lb | I32: =(F32*G32*2000)/1000000 -> 1260199.9 | J32: 1260200 | K32: 129294
C33: 043-0005-3-0006 | D33: Unit 4 (11) | E33: Coal | F33: 201790.9 | G33: 11736 | H33: Btu/lb | I33: =(F33*G33*2000)/1000000 -> 4736436 | J33: 4736436 | K33: 485957
F34: =SUM(F32:F33) -> 255480.4 | J34: =SUM(J32:J33) -> 5996636 | K34: =SUM(K32:K33) -> 615251
B35: 031-0019 | C35: Mirant Dickerson
C36: 1500-19-30001 | D36: Boiler 1 | E36: Coal | F36: 401640 | G36: 12910 | H36: Btu/lb | I36: =(F36*G36*2000)/1000000 -> 10370345 | J36: 10305447 | K36: 1057336
C37: 1500-19-30002 | D37: Boiler 2 | E37: Coal | F37: 342990 | G37: 12910 | H37: Btu/lb | I37: =(F37*G37*2000)/1000000 -> 8856001.8 | J37: 8948983 | K37: 918164
C38: 1500-19-30003 | D38: Boiler 3 | E38: Coal | F38: 418238 | G38: 12910 | H38: Btu/lb | I38: =(F38*G38*2000)/1000000 -> 10798905 | J38: 11940584 | K38: 1225103
F39: =SUM(F36:F38) -> 1162868 | J39: =SUM(J36:J38) -> 31195014 | K39: =SUM(K36:K38) -> 3200603
B40: 017-0014 | C40: Mirant Morgantown
C41: 0800-14-30002 | D41: 1 | E41: Coal (Sc) | F41: 1325700 | G41: 13282 | H41: Btu/lb | I41: =(F41*G41*2000)/1000000 -> 35215895 | J41: 35354741 | K41: 3625815.6
C42: 080-14-30003 | D42: 2 | E42: Coal | F42: 1321775 | G42: 13282 | H42: Btu/lb | I42: =(F42*G42*2000)/1000000 -> 35111631 | J42: 35112681 | K42: 3600876.8
F43: =SUM(F41:F42) -> 2647475 | J43: =SUM(J41:J42) -> 70467422 | K43: =SUM(K41:K42) -> 7226692.4
C45: Luke | D45: Penwood Boiler (24-26) | E45: Coal | J45: 12554530 | K45: 1285927.9
H49: Coal (MMBTU) | J49: =J45+J43+J39+J34+J30+J26+J22+J17+J12 -> 3.020147e+08 | K49: =K45+K43+K39+K34+K30+K26+K22+K17+K12 -> 31008128
B56: RGGI OIL COMBUSTION BY UNIT
...

Sheet EGU Production Non-RGGI Units
A1: Electric Power Production (Non-RGGI Units) Emissions in Maryland
B3: Plant Name | C3: Equipment Description | D3: Fuel Type | E3: Usage | F3: Usage Unit | G3: Heat Content | H3: Heat Content Unit | I3: Fuel Heat Input (MMBTU)
B5: NON-RGGI DISTILLATE OIL COMBUSTION BY UNIT
B6: C.P.Crane
B7: 4-0091 | C7: Aux Boiler # 2 | D7: S-No. 2 Oil | E7: 25000 | F7: gallons | G7: 139 | H7: MMBtu/ 1E+03 gal | I7: =(E7*G7)/1000 -> 3475
B8: 4-1107 | C8: Aux Boiler # 3 | D8: S-No. 2 Oil | E8: 197000 | F8: gallons | G8: 139 | H8: MMBtu/ 1E+03 gal | I8: =(E8*G8)/1000 -> 27383
B9: 4-0089 | C9: CT (14 MW) | D9: S-No. 2 Oil | E9: 129000 | F9: gallons | G9: 139 | H9: MMBtu/ 1E+03 gal | I9: =(E9*G9)/1000 -> 17931
H10: #2 Fuel Oil | I10: =SUM(I7:I9) -> 48789
B12: CPSG- Philadelphia Road Power
B13: 4-0431 | C13: Unit 1 CT | D13: No. 2 Oil | E13: 365000 | F13: gallons | G13: 139 | H13: MMBTU/ 1E+03 gallons | I13: =(E13*G13)/1000 -> 50735
B14: 4-0432 | C14: Unit 2 CT | D14: No. 2 Oil | E14: 351000 | F14: gallons | G14: 139 | H14: MMBTU/ 1E+03 gallons | I14: =(E14*G14)/1000 -> 48789
B15: 4-0433 | C15: Unit 3 CT | D15: No. 2 Oil | E15: 273000 | F15: gallons | G15: 139 | H15: MMBTU/ 1E+03 gallons | I15: =(E15*G15)/1000 -> 37947
B16: 4-0434 | C16: Unit 4 CT | D16: No. 2 Oil | E16: 251000 | F16: gallons | G16: 139 | H16: MMBTU/ 1E+03 gallons | I16: =(E16*G16)/1000 -> 34889
H17: #2 Fuel Oil | I17: =SUM(I13:I16) -> 172360
B19: Connectiv - Crisfield Generation
B20: 039-0017-9-0021 | C20: Unit 1 General Motors 2.5 MW | D20: No. 2 Oil | E20: 134214 | F20: gallons | G20: 140983 | H20: Btu/gal | I20: =E20*G20/1000000 -> 18921.892
B21: 039-0017-9-0022 | C21: Unit 2 General Motors 2.5 MW | D21: No. 2 Oil | E21: 141428 | F21: gallons | G21: 140983 | H21: Btu/gal | I21: =E21*G21/1000000 -> 19938.944
B22: 039-0017-9-0023 | C22: Unit 3 General Motors 2.5 MW | D22: No. 2 Oil | E22: 148690 | F22: gallons | G22: 140983 | H22: Btu/gal | I22: =E22*G22/1000000 -> 20962.762
B23: 039-0017-9-0024 | C23: Unit 4 General Motors 2.5 MW | D23: No. 2 Oil | E23: 104704 | F23: gallons | G23: 140983 | H23: Btu/gal | I23: =E23*G23/1000000 -> 14761.484
H24: #2 Fuel Oil | I24: =SUM(I20:I23) -> 74585.082
B26: Easton Utility
B27: 041-0029-9-0023 | D27: #2 Fuel Oil | E27: 31429 | F27: gallons | G27: 139 | H27: MMBTU/ 10E+03 gallons | I27: =(E27*G27)/1000 -> 4368.631
B28: 041-0029-9-0024 | D28: #2 Fuel Oil | E28: 29676 | F28: gallons | G28: 140 | H28: MMBTU/ 10E+03 gallons | I28: =(E28*G28)/1000 -> 4154.64
B29: 041-0029-9-0025 | D29: #2 Fuel Oil | E29: 43067 | F29: gallons | G29: 141 | H29: MMBTU/ 10E+03 gallons | I29: =(E29*G29)/1000 -> 6072.447
B30: 041-0029-9-0026 | D30: #2 Fuel Oil | E30: 45535 | F30: gallons | G30: 142 | H30: MMBTU/ 10E+03 gallons | I30: =(E30*G30)/1000 -> 6465.97
B31: 041-0029-9-0027 | D31: #2 Fuel Oil | E31: 41436 | F31: gallons | G31: 143 | H31: MMBTU/ 10E+03 gallons | I31: =(E31*G31)/1000 -> 5925.348
B32: 041-0029-9-0028 | D32: #2 Fuel Oil | E32: 55907 | F32: gallons | G32: 144 | H32: MMBTU/ 10E+03 gallons | I32: =(E32*G32)/1000 -> 8050.608
B33: 041-0029-9-0029 | D33: #2 Fuel Oil | E33: 70929 | F33: gallons | G33: 145 | H33: MMBTU/ 10E+03 gallons | I33: =(E33*G33)/1000 -> 10284.705
B34: 041-0029-9-0030 | D34: #2 Fuel Oil | E34: 73718 | F34: gallons | G34: 146 | H34: MMBTU/ 10E+03 gallons | I34: =(E34*G34)/1000 -> 10762.828
B35: 041-0029-9-0031 | D35: #2 Fuel Oil | E35: 3491 | F35: gallons | G35: 147 | H35: MMBTU/ 10E+03 gallons | I35: =(E35*G35)/1000 -> 513.177
B36: 041-0029-9-0032 | D36: #2 Fuel Oil | E36: 3717 | F36: gallons | G36: 148 | H36: MMBTU/ 10E+03 gallons | I36: =(E36*G36)/1000 -> 550.116
H37: #2 Fuel Oil | I37: =SUM(I27:I36) -> 57148.47
B38: Easton Utility-Airport Park
B39: 041-0069-4-0101 | C39: Solar Turbines Taurus T-60;52.02 | D39: #2 Fuel Oil | E39: 60197 | F39: gallons | G39: 137000 | H39: Btu/gallon | I39: =(E39*G39)/1000000 -> 8246.989
B40: 041-0069-4-0102 | C40: Solar Turbines Taurus T-60-780;52 M | D40: #2 Fuel Oil | E40: 60972 | F40: gallons | G40: 137000 | H40: Btu/gallon | I40: =(E40*G40)/1000000 -> 8353.164
B41: 041-0069-9-0033 | C41: Diesel Gen | D41: #2 Fuel Oil | E41: 26413 | F41: gallons | G41: 137000 | H41: Btu/gallon | I41: =(E41*G41)/1000000 -> 3618.581
B42: 041-0069-9-0034 | C42: Diesel Gen | D42: #2 Fuel Oil | E42: 18374 | F42: gallons | G42: 137000 | H42: Btu/gallon | I42: =(E42*G42)/1000000 -> 2517.238
B43: 041-0069-9-0035 | C43: Diesel Gen | D43: #2 Fuel Oil | E43: 25028 | F43: gallons | G43: 137000 | H43: Btu/gallon | I43: =(E43*G43)/1000000 -> 3428.836
B44: 041-0069-9-0036 | C44: Diesel Gen | D44: #2 Fuel Oil | E44: 22917 | F44: gallons | G44: 137000 | H44: Btu/gallon | I44: =(E44*G44)/1000000 -> 3139.629
B45: 041-0069-9-0037 | C45: Diesel Gen | D45: #2 Fuel Oil | E45: 3620 | F45: gallons | G45: 137000 | H45: Btu/gallon | I45: =(E45*G45)/1000000 -> 495.94
...

Sheet Imported Electricity
A1: Projected Electric Consumption (Imported Electricity) Emissions for Maryland
E3: Fuel Consumption For Electricity Generation
C5: 1991 | D5: 1992 | E5: 1993 | F5: 1994 | G5: 1995 | H5: 1996 | I5: 1997 | J5: 1998 | K5: 1999 | L5: 2000 | M5: 2001 | N5: 2002 | O5: 2003 | P5: 2004 | Q5: 2005 | R5: 2006 | S5: 2007 | T5: 2008
B7: Coal (Short Tons) | L7: 11420038 | M7: 11135140 | N7: 11364983 | O7: 11852129 | P7: 11608446 | Q7: 11745248 | R7: 11687603 | S7: 11937518 | T7: 11098391
B8: Petroleum (Barrels) | L8: 4143417 | M8: 5514960 | N8: 4108104 | O8: 6164252 | P8: 5672819.2 | Q8: 6574936.7 | R8: 1050222 | S8: 1790746 | T8: 791418
B9: Natural Gas (Mcf) | L9: 29023288 | M9: 17985486 | N9: 22627073 | O9: 11162538 | P9: 9994238 | Q9: 18619350 | R9: 16620796 | S9: 21481869 | T9: 17563616
B10: Other Gases (MMBTU) | L10: 758 | M10: 7537 | N10: 9278 | O10: 6717 | P10: 5127.03 | Q10: 4266.24 | R10: 4141.31 | S10: 4703.42 | T10: 4194.02
C14: MD In-State Gross Generation (MWh)
C16: 1991 | D16: 1992 | E16: 1993 | F16: 1994 | G16: 1995 | H16: 1996 | I16: 1997 | J16: 1998 | K16: 1999 | L16: 2000 | M16: 2001 | N16: 2002 | O16: 2003 | P16: 2004 | Q16: 2005 | R16: 2006 | S16: 2007 | T16: 2008
B17: Coal | C17: 22835671 | D17: 23850470 | E17: 25126979 | F17: 25624758 | G17: 27595256 | H17: 27992005 | I17: 27620925 | J17: 29294727 | K17: 29687655 | L17: 29451065 | M17: 28379409 | N17: 28712053 | O17: 29939086 | P17: 29195458 | Q17: 29302792 | R17: 29408022 | S17: 29699186 | T17: 27218239
B18: Petroleum | C18: 4078506 | D18: 2749511 | E18: 4164790 | F18: 4275226 | G18: 1479469 | H18: 1472027 | I18: 1565010 | J18: 3454350 | K18: 4290788 | L18: 2388595 | M18: 3021639 | N18: 2282432 | O18: 3572183 | P18: 3296842 | Q18: 3805569 | R18: 580726 | S18: 984831 | T18: 405840
B19: Natural Gas | C19: 1517463 | D19: 1077542 | E19: 772304 | F19: 1172042 | G19: 1548884 | H19: 987627 | I19: 1412585 | J19: 1990596 | K19: 2125193 | L19: 2852876 | M19: 1760812 | N19: 2214431 | O19: 1195642 | P19: 1183301 | Q19: 1886986 | R19: 1770206 | S19: 2240927 | T19: 1848147
B20: Other Gases | C20: 478704 | D20: 506572 | E20: 475788 | F20: 501762 | G20: 685721 | H20: 539335 | I20: 564036 | J20: 82316 | K20: 59891 | L20: 74572 | M20: 439980 | N20: 504513 | O20: 325355 | P20: 411565 | Q20: 342466 | R20: 332444 | S20: 377560 | T20: 337823
B21: Nuclear | C21: 9036100 | D21: 10663950 | E21: 12300816 | F21: 11235408 | G21: 12937971 | H21: 12092768 | I21: 13212967 | J21: 13330598 | K21: 13312335 | L21: 13827243 | M21: 13656267 | N21: 12128005 | O21: 13690713 | P21: 14580260 | Q21: 14703221 | R21: 13830411 | S21: 14353192 | T21: 14678695
B22: Hydroelectric Conventional | C22: 1407287 | D22: 1824659 | E22: 1658271 | F22: 2009536 | G22: 1442006 | H22: 2457463 | I22: 1588375 | J22: 1739737 | K22: 1424197 | L22: 1732619 | M22: 1183518 | N22: 1660989 | O22: 2646984 | P22: 2507521 | Q22: 1703639 | R22: 2104275 | S22: 1652216 | T22: 1974078
B23: Wood and Wood Derived Fuels | C23: 160602 | D23: 174801 | E23: 175122 | F23: 168822 | G23: 175144 | H23: 167554 | I23: 155906 | J23: 155647 | K23: 171088 | L23: 179580 | M23: 11939 | N23: 182904 | O23: 225240 | P23: 192384 | Q23: 205985 | R23: 218066 | S23: 203097 | T23: 197704
B24: Other Biomass | C24: 336551 | D24: 329854 | E24: 303818 | F24: 352064 | G24: 501192 | H24: 565838 | I24: 587592 | J24: 605046 | K24: 614474 | L24: 638830 | M24: 361076 | N24: 338727 | O24: 370811 | P24: 396824 | Q24: 417380 | R24: 408095 | S24: 400364 | T24: 414781
B25: Other | M25: 247700 | N25: 255034 | O25: 278224 | P25: 288616 | Q25: 293561 | R25: 304635 | S25: 286550 | T25: 285645
B26: Total | C26: 39850884 | D26: 41177359 | E26: 44977888 | F26: 45339618 | G26: 46365643 | H26: 46274617 | I26: 46707396 | J26: 50653017 | K26: 51685621 | L26: 51145380 | M26: 49062340 | N26: 48279088 | O26: 52244237 | P26: 52052770 | Q26: 52661600 | R26: 48956880 | S26: 50197924 | T26: 47360953
C28: MD -Electricity Losses (MWh) (Transmission and Distribution) Assume 6.25 %
C30: 1991 | D30: 1992 | E30: 1993 | F30: 1994 | G30: 1995 | H30: 1996 | I30: 1997 | J30: 1998 | K30: 1999 | L30: 2000 | M30: 2001 | N30: 2002 | O30: 2003 | P30: 2004 | Q30: 2005 | R30: 2006 | S30: 2007 | T30: 2008
B31: T &D Losses | C31: =C26*6.25% -> 2490680.2 | D31: =D26*6.25% -> 2573584.9 | E31: =E26*6.25% -> 2811118 | F31: =F26*6.25% -> 2833726.1 | G31: =G26*6.25% -> 2897852.7 | H31: =H26*6.25% -> 2892163.6 | I31: =I26*6.25% -> 2919212.2 | J31: =J26*6.25% -> 3165813.6 | ... T31: =T26*6.25% -> 2960059.6
C34: Net MD In-State Electricity Generated (MWh) = MD Gross In-State Electricity Generated - T &D Losses
C37: 1991 | D37: 1992 | E37: 1993 | F37: 1994 | G37: 1995 | H37: 1996 | I37: 1997 | J37: 1998 | K37: 1999 | L37: 2000 | M37: 2001 | N37: 2002 | O37: 2003 | P37: 2004 | Q37: 2005 | R37: 2006 | S37: 2007 | T37: 2008
B38: Net In -State Generated Electricity | C38: =C26-C31 -> 37360204 | D38: =D26-D31 -> 38603774 | E38: =E26-E31 -> 42166770 | F38: =F26-F31 -> 42505892 | G38: =G26-G31 -> 43467790 | H38: =H26-H31 -> 43382453 | I38: =I26-I31 -> 43788184 | J38: =J26-J31 -> 47487203 | ... T38: =T26-T31 -> 44400893
E41: Electricity Consumption (MWh) (MD Retail Sales)
C43: 1991 | D43: 1992 | E43: 1993 | F43: 1994 | G43: 1995 | H43: 1996 | I43: 1997 | J43: 1998 | K43: 1999 | L43: 2000 | M43: 2001 | N43: 2002 | O43: 2003 | P43: 2004 | Q43: 2005 | R43: 2006 | S43: 2007 | T43: 2008
B44: Residential | C44: 20295448 | D44: 19762032 | E44: 21546122 | F44: 21666119 | G44: 22233807 | H44: 22985772 | I44: 21936662 | J44: 22406855 | K44: 23342423 | L44: 23949315 | M44: 24294096 | N44: 25489053 | O44: 26671274 | P44: 27951978 | Q44: 28439645 | R44: 26905386 | S44: 28194802 | T44: 27144255
B45: Commercial | C45: 10667414 | D45: 10769686 | E45: 11316964 | F45: 13253588 | G45: 23096405 | H45: 23126094 | I45: 23418552 | J45: 24284167 | K45: 24988489 | L45: 25804298 | M45: 26243614 | N45: 21044289 | O45: 16950347 | P45: 17264135 | Q45: 17931771 | R45: 29729030 | S45: 30691159 | T45: 30002993
B46: Industrial | C46: 19448114 | D46: 19768026 | E46: 20200630 | F46: 19037490 | G46: 10057219 | H46: 10098447 | I46: 10127852 | J46: 10343675 | K46: 9936115 | L46: 10066312 | M46: 10176724 | N46: 20874507 | O46: 27175526 | P46: 21194572 | Q46: 21516638 | R46: 6057030 | S46: 5980358 | T46: 5649943
B47: Transportation | C47: 0 | D47: 0 | E47: 0 | F47: 0 | G47: 0 | H47: 0 | I47: 0 | J47: 0 | K47: 0 | L47: 0 | M47: 0 | N47: 0 | O47: 461436 | P47: 481015 | Q47: 477331 | R47: 481697 | S47: 524341 | T47: 528586
B48: Others | C48: 696831 | D48: 689042 | E48: 808686 | F48: 794428 | G48: 770615 | H48: 787207 | I48: 781420 | J48: 798935 | K48: 819198 | L48: 857876 | M48: 925586 | N48: 972057 | O48: 0 | P48: 0 | Q48: 0 | R48: 0 | S48: 0 | T48: 0
B49: Total Electric Consumption (Mwh) NET | C49: 51107809 | D49: 50988788 | E49: 53872404 | F49: 54751623 | G49: 56158046 | H49: 56997520 | I49: 56264486 | J49: 57833638 | K49: 59086225 | L49: =SUM(L44:L48) -> 60677801 | M49: =SUM(M44:M48) -> 61640020 | N49: =SUM(N44:N48) -> 68379906 | O49: =SUM(O44:O48) -> 71258583 | P49: =SUM(P44:P48) -> 66891700 | Q49: =SUM(Q44:Q48) -> 68365385 | R49: =SUM(R44:R48) -> 63173143 | S49: =SUM(S44:S48) -> 65390660 | T49: =SUM(T44:T48) -> 63325777
B50: Total Electric Consumption (Mwh) GROSS | C50: =C49*1.0625 -> 54302047 | D50: =D49*1.0625 -> 54175587 | E50: =E49*1.0625 -> 57239429 | F50: =F49*1.0625 -> 58173599 | G50: =G49*1.0625 -> 59667924 | H50: =H49*1.0625 -> 60559865 | I50: =I49*1.0625 -> 59781016 | J50: =J49*1.0625 -> 61448240 | ... T50: =T49*1.0625 -> 67283638
E54: Electricity Imported (MWh) = MD Retail Sales - Net In-state Generation
C56: 1991 | D56: 1992 | E56: 1993 | F56: 1994 | G56: 1995 | H56: 1996 | I56: 1997 | J56: 1998 | K56: 1999 | L56: 2000 | M56: 2001 | N56: 2002 | O56: 2003 | P56: 2004 | Q56: 2005 | R56: 2006 | S56: 2007 | T56: 2008
B57: Gross Imported Electricity to Meet MD Demand (MWh) | C57: =C50-C26 -> 14451163 | D57: =D50-D26 -> 12998228 | E57: =E50-E26 -> 12261541 | F57: =F50-F26 -> 12833981 | G57: =G50-G26 -> 13302281 | H57: =H50-H26 -> 14285248 | I57: =I50-I26 -> 13073620 | J57: =J50-J26 -> 10795223 | ... T57: =T50-T26 -> 19922685
E60: GHG Associated with Imported Electricity
B62: PJM Average CO2 Emission Rate (lbs/MWh) | I62: CO2 Emission
B63: (CO2 Emission Rate of Marginal Units) | I63: (short tons)
...

Sheet Residential
A2: Residential Consumption and CO2 Emissions in Maryland
B5: Residential Sector CO2 | E5: 2006
C7: Consumption | D7: Emission Factor | E7: Combustion | F7: Emissions | G7: Emissions | J7: Global Warming Potential
B8: Fuel Type | C8: (Billion Btu) | D8: (lbs C/Million Btu) | E8: Efficiency (%) | F8: (short tons carbon) | G8: (MMTCO2E)
B9: Coal | C9: 94.08602 | D9: 56.792727 | E9: 1 | F9: =C9*1000*D9*E9/2000 -> 2671.7008 | G9: =F9*(44/12)*0.90718/1000000 -> 0.0088869497 | J9: CO2_GWP= | K9: =Summary!E4 -> 1
B10: Distillate Fuel | C10: 19718.993 | D10: 43.942731 | E10: 1 | F10: =C10*1000*D10*E10/2000 -> 433253.2 | G10: =F10*(44/12)*0.90718/1000000 -> 1.4411417 | J10: CH4_GWP = | K10: =Summary!E5 -> 27.9
B11: Kerosene | C11: 2477.4286 | D11: 43.436123 | E11: 1 | F11: =C11*1000*D11*E11/2000 -> 53804.948 | G11: =F11*(44/12)*0.90718/1000000 -> 0.17897283 | J11: N2O_GWP= | K11: =Summary!E6 -> 273
B12: LPG | C12: 6645.397 | D12: 37.90594 | E12: 1 | F12: =C12*1000*D12*E12/2000 -> 125950.01 | G12: =F12*(44/12)*0.90718/1000000 -> 0.41895087 | J12: SF6_GWP = | K12: =Summary!E7 -> 24300
B13: Natural Gas | C13: 73811.311 | D13: 31.872247 | E13: 1 | F13: =C13*1000*D13*E13/2000 -> 1176266.2 | G13: =F13*(44/12)*0.90718/1000000 -> 3.9126455
E14: Total | G14: =SUM(G9:G13) -> 5.9605978
B16: Residential Sector N20 | E16: 2006
C18: Consumption | D18: Emission Factor | E18: Emissions | F18: GWP | G18: Emissions
B19: Fuel Type | C19: (Billion Btu) | D19: (metric tons N2O/BBtu) | E19: (metric tons N2O) | G19: (MMTCO2E)
B20: Coal | C20: 94.08602 | D20: 0.0015034546 | E20: =C20*D20 -> 0.14145406 | F20: =$K$11 -> 273 | G20: =E20*F20/1000000 -> 3.8616958e-05
B21: Distillate Fuel | C21: 19718.993 | D21: 0.00060138184 | E21: =C21*D21 -> 11.858644 | F21: =$K$11 -> 273 | G21: =E21*F21/1000000 -> 0.0032374098
B22: Kerosene | C22: 2477.4286 | D22: 0.00060138184 | E22: =C22*D22 -> 1.4898806 | F22: =$K$11 -> 273 | G22: =E22*F22/1000000 -> 0.0004067374
B23: LPG | C23: 6645.397 | D23: 0.00060138184 | E23: =C23*D23 -> 3.996421 | F23: =$K$11 -> 273 | G23: =E23*F23/1000000 -> 0.0010910229
B24: Natural Gas | C24: 73811.311 | D24: 9.4955027e-05 | E24: =C24*D24 -> 7.008755 | F24: =$K$11 -> 273 | G24: =E24*F24/1000000 -> 0.0019133901
B25: Wood | C25: 6903.1058 | D25: 0.0037982011 | E25: =C25*D25 -> 26.219384 | F25: =$K$11 -> 273 | G25: =E25*F25/1000000 -> 0.0071578918
F26: Total | G26: =SUM(G20:G25) -> 0.013845069
B29: Residential Sector CH4 | E29: 2006
C31: Consumption | D31: Emission Factor | E31: Emissions | F31: GWP | G31: Emissions
B32: Fuel Type | C32: (Billion Btu) | D32: (metric tons CH4 /BBtu) | E32: (metric tons CH4) | G32: (MMTCO2E)
B33: Coal | C33: 94.08602 | D33: 0.30069092 | E33: =C33*D33 -> 28.290812 | F33: =$K$10 -> 27.9 | G33: =E33*F33/1000000 -> 0.00078931365
B34: Distillate Fuel | C34: 19718.993 | D34: 0.010023031 | E34: =C34*D34 -> 197.64407 | F34: =$K$10 -> 27.9 | G34: =E34*F34/1000000 -> 0.0055142695
B35: Kerosene | C35: 2477.4286 | D35: 0.010023031 | E35: =C35*D35 -> 24.831343 | F35: =$K$10 -> 27.9 | G35: =E35*F35/1000000 -> 0.00069279447
B36: LPG | C36: 6645.397 | D36: 0.010023031 | E36: =C36*D36 -> 66.607017 | F36: =$K$10 -> 27.9 | G36: =E36*F36/1000000 -> 0.0018583358
B37: Natural Gas | C37: 73811.311 | D37: 0.0047477513 | E37: =C37*D37 -> 350.43775 | F37: =$K$10 -> 27.9 | G37: =E37*F37/1000000 -> 0.0097772132
B38: Wood | C38: 6903.1058 | D38: 0.28486508 | E38: =C38*D38 -> 1966.4538 | F38: =$K$10 -> 27.9 | G38: =E38*F38/1000000 -> 0.054864061
F39: Total | G39: =SUM(G33:G38) -> 0.073495987
B43: Residential Sector 2006 GHG Emissions
C45: Emissions | D45: Emissions | E45: Emissions | F45: Emissions
C46: CO2 | D46: N2O | E46: CH4 | F46: Total
B47: Fuel Type | C47: (MMTCO2E) | D47: (MMTCO2E) | E47: (MMTCO2E) | F47: (MMTCO2E)
B48: Coal | C48: =G9 -> 0.0088869497 | D48: =G20 -> 3.8616958e-05 | E48: =G33 -> 0.00078931365 | F48: =C48+D48+E48 -> 0.0097148803
B49: Distillate Fuel | C49: =G10 -> 1.4411417 | D49: =G21 -> 0.0032374098 | E49: =G34 -> 0.0055142695 | F49: =C49+D49+E49 -> 1.4498933
B50: Kerosene | C50: =G11 -> 0.17897283 | D50: =G22 -> 0.0004067374 | E50: =G35 -> 0.00069279447 | F50: =C50+D50+E50 -> 0.18007237
B51: LPG | C51: =G12 -> 0.41895087 | D51: =G23 -> 0.0010910229 | E51: =G36 -> 0.0018583358 | F51: =C51+D51+E51 -> 0.42190023
B52: Natural Gas | C52: =G13 -> 3.9126455 | D52: =G24 -> 0.0019133901 | E52: =G37 -> 0.0097772132 | F52: =C52+D52+E52 -> 3.9243361
B53: Wood | C53: 0 | D53: =G25 -> 0.0071578918 | E53: =G38 -> 0.054864061 | F53: =C53+D53+E53 -> 0.062021952
...

Sheet Commercial
A1: Commercial Consumption and CO2 Emissions in Maryland
B4: Commercial Sector CO2 | E4: 2006
J5: Global Warming Potential
C6: Consumption | D6: Emission Factor | E6: Combustion | F6: Emissions | G6: Emissions
B7: Fuel Type | C7: (Billion Btu) | D7: (lbs C/Million Btu) | E7: Efficiency (%) | F7: (short tons carbon) | G7: (MMTCO2E) | J7: CO2_GWP= | K7: =Summary!E4 -> 1
B8: Coal | C8: 951.31425 | D8: 56.792727 | E8: 1 | F8: =C8*1000*D8*E8/2000 -> 27013.865 | G8: =F8*(44/12)*0.90718/1000000 -> 0.089856941 | J8: CH4_GWP = | K8: =Summary!E5 -> 27.9
B9: Distillate Fuel | C9: 10493.92 | D9: 43.942731 | E9: 1 | F9: =C9*1000*D9*E9/2000 -> 230565.76 | G9: =F9*(44/12)*0.90718/1000000 -> 0.76693702 | J9: N2O_GWP= | K9: =Summary!E6 -> 273
B10: Kerosene | C10: 353.45788 | D10: 43.436123 | E10: 1 | F10: =C10*1000*D10*E10/2000 -> 7676.42 | G10: =F10*(44/12)*0.90718/1000000 -> 0.025534281 | J10: SF6_GWP = | K10: =Summary!E7 -> 24300
B11: LPG | C11: 1172.7171 | D11: 37.90594 | E11: 1 | F11: =C11*1000*D11*E11/2000 -> 22226.472 | G11: =F11*(44/12)*0.90718/1000000 -> 0.073932506
B12: Motor Gasoline | C12: 170.91419 | D12: 42.62265 | E12: 1 | F12: =C12*1000*D12*E12/2000 -> 3642.4079 | G12: =F12*(44/12)*0.90718/1000000 -> 0.012115838
B13: Residual Fuel | C13: 301.52722 | D13: 47.334802 | E13: 1 | F13: =C13*1000*D13*E13/2000 -> 7136.3656 | G13: =F13*(44/12)*0.90718/1000000 -> 0.023737883
B14: Natural Gas | C14: 65040.951 | D14: 31.872247 | E14: 1 | F14: =C14*1000*D14*E14/2000 -> 1036500.6 | G14: =F14*(44/12)*0.90718/1000000 -> 3.4477396
F15: Total | G15: =SUM(G8:G14) -> 4.4398541
B18: Commercial Sector N2O | E18: 2006
C20: Consumption | D20: Emission Factor | E20: Emissions | F20: GWP | G20: Emissions
B21: Fuel Type | C21: (Billion Btu) | D21: (metric tons N2O/BBtu) | E21: (metric tons N2O) | G21: (MMTCO2E)
B22: Coal | C22: 951.31425 | D22: 0.0015034546 | E22: =C22*D22 -> 1.4302578 | F22: =$K$9 -> 273 | G22: =E22*F22/1000000 -> 0.00039046037
B23: Distillate Fuel | C23: 10493.92 | D23: 0.00060138184 | E23: =C23*D23 -> 6.3108529 | F23: =$K$9 -> 273 | G23: =E23*F23/1000000 -> 0.0017228629
B24: Kerosene | C24: 353.45788 | D24: 0.00060138184 | E24: =C24*D24 -> 0.21256315 | F24: =$K$9 -> 273 | G24: =E24*F24/1000000 -> 5.802974e-05
B25: LPG | C25: 1172.7171 | D25: 0.00060138184 | E25: =C25*D25 -> 0.70525076 | F25: =$K$9 -> 273 | G25: =E25*F25/1000000 -> 0.00019253346
B26: Motor Gasoline | C26: 178.19621 | D26: 0.00060138184 | E26: =C26*D26 -> 0.10716396 | F26: =$K$9 -> 273 | G26: =E26*F26/1000000 -> 2.9255762e-05
B27: Residual Fuel | C27: 301.52722 | D27: 0.00060138184 | E27: =C27*D27 -> 0.18133299 | F27: =$K$9 -> 273 | G27: =E27*F27/1000000 -> 4.9503907e-05
B28: Natural Gas | C28: 65040.951 | D28: 9.4955027e-05 | E28: =C28*D28 -> 6.1759652 | F28: =$K$9 -> 273 | G28: =E28*F28/1000000 -> 0.0016860385
B29: Wood | C29: 2101.1986 | D29: 0.0037982011 | E29: =C29*D29 -> 7.9807746 | F29: =$K$9 -> 273 | G29: =E29*F29/1000000 -> 0.0021787515
F30: Total | G30: =SUM(G22:G29) -> 0.0063074361
B33: Commercial Sector CH4 | E33: 2006
C35: Consumption | D35: Emission Factor | E35: Emissions | F35: GWP | G35: Emissions
B36: Fuel Type | C36: (Billion Btu) | D36: (metric tons CH4 /BBtu) | E36: (metric tons CH4) | G36: (MMTCO2E)
B37: Coal | C37: 951.31425 | D37: 0.010023031 | E37: =C37*D37 -> 9.5350518 | F37: =$K$8 -> 27.9 | G37: =E37*F37/1000000 -> 0.00026602795
B38: Distillate Fuel | C38: 10493.92 | D38: 0.010023031 | E38: =C38*D38 -> 105.18088 | F38: =$K$8 -> 27.9 | G38: =E38*F38/1000000 -> 0.0029345466
B39: Kerosene | C39: 353.45788 | D39: 0.010023031 | E39: =C39*D39 -> 3.5427191 | F39: =$K$8 -> 27.9 | G39: =E39*F39/1000000 -> 9.8841864e-05
B40: LPG | C40: 1172.7171 | D40: 0.010023031 | E40: =C40*D40 -> 11.754179 | F40: =$K$8 -> 27.9 | G40: =E40*F40/1000000 -> 0.0003279416
B41: Motor Gasoline | C41: 178.19621 | D41: 0.010023031 | E41: =C41*D41 -> 1.7860661 | F41: =$K$8 -> 27.9 | G41: =E41*F41/1000000 -> 4.9831243e-05
B42: Residual Fuel | C42: 301.52722 | D42: 0.010023031 | E42: =C42*D42 -> 3.0222166 | F42: =$K$8 -> 27.9 | G42: =E42*F42/1000000 -> 8.4319842e-05
B43: Natural Gas | C43: 65040.951 | D43: 0.0047477513 | E43: =C43*D43 -> 308.79826 | F43: =$K$8 -> 27.9 | G43: =E43*F43/1000000 -> 0.0086154714
B44: Wood | C44: 2101.1986 | D44: 0.28486508 | E44: =C44*D44 -> 598.55809 | F44: =$K$8 -> 27.9 | G44: =E44*F44/1000000 -> 0.016699771
F45: Total | G45: =SUM(G37:G44) -> 0.029076751
B48: Commercial Sector 2006 GHG Emission
D51: CO2 | E51: CH4 | F51: N2O | G51: GHG
C52: Consumption | D52: Emissions | E52: Emissions | F52: Emissions | G52: Emissions
...

Sheet Industrial
A2: Industrial Consumption and CO2 Emissions in Maryland
B5: Industrial Sector CO2 | D5: 2006
C6: Total | D6: Non-Energy | F6: Net combustible
C7: Consumption | D7: Consumption | F7: Consumption | G7: Emission Factor | H7: Combustion | I7: Emissions | J7: Emissions
B8: Fuel Type | C8: (Billion Btu) | D8: (Billion Btu) | E8: Storage Factor (%) | F8: (Billion Btu) | G8: (lbs C/Million Btu) | H8: Efficiency (%) | I8: (short tons carbon) | J8: (MMTCO2E)
B9: Coking Coal | C9: 0 | D9: 0 | E9: 0.1 | F9: =C9-(D9*E9) -> 0 | G9: 56.195455 | H9: 1 | I9: =(F9*1000*G9*H9)/2000 -> 0 | J9: =I9*(44/12)*0.90718/1000000 -> 0
B10: Other Coal | C10: 30430.668 | D10: 307.25403 | E10: 0 | F10: =C10-(D10*E10) -> 30430.668 | G10: 56.852727 | H10: 1 | I10: =(F10*1000*G10*H10)/2000 -> 865033.23 | J10: =I10*(44/12)*0.90718/1000000 -> 2.8773831
B11: Asphalt and Road Oil | C11: 19576.189 | D11: 19576.189 | E11: 1 | F11: =C11-(D11*E11) -> 0 | G11: 45.418502 | H11: 1 | I11: =(F11*1000*G11*H11)/2000 -> 0 | J11: =I11*(44/12)*0.90718/1000000 -> 0
B12: Aviation Gasoline Blending Components | C12: 0 | D12: 0 | E12: 0 | F12: =C12-(D12*E12) -> 0 | G12: 41.563877 | H12: 1 | I12: =F12*G12*H12/2000 -> 0 | J12: =I12*(44/12)*0.90718/1000000 -> 0
B13: Crude Oil | C13: 0 | D13: 0 | E13: 0 | F13: =C13-(D13*E13) -> 0 | G13: 44.823453 | H13: 1 | I13: =F13*G13*H13/2000 -> 0 | J13: =I13*(44/12)*0.90718/1000000 -> 0
B14: Distillate Fuel | C14: 12446.073 | D14: 118.82736 | E14: 0.5 | F14: =C14-(D14*E14) -> 12386.659 | G14: 43.942731 | H14: 1 | I14: =(F14*1000*G14*H14)/2000 -> 272151.82 | J14: =I14*(44/12)*0.90718/1000000 -> 0.90526586
B15: Feedstocks, Naphtha less than 401 F | C15: 726.11391 | D15: 715.14663 | E15: 0.61918626 | F15: =C15-(D15*E15) -> 283.30495 | G15: 39.955947 | H15: 1 | I15: =(F15*1000*G15*H15)/2000 -> 5659.8587 | J15: =I15*(44/12)*0.90718/1000000 -> 0.018826539
B16: Feedstocks, Other Oils greater than 401 F | C16: 912.92359 | D16: 661.47104 | E16: 0.61918626 | F16: =C16-(D16*E16) -> 503.34981 | G16: 43.942731 | H16: 1 | I16: =(F16*1000*G16*H16)/2000 -> 11059.283 | J16: =I16*(44/12)*0.90718/1000000 -> 0.036786787
B17: Kerosene | C17: 172.24553 | D17: 0 | E17: 0 | F17: =C17-(D17*E17) -> 172.24553 | G17: 43.436123 | H17: 1 | I17: =(F17*1000*G17*H17)/2000 -> 3740.839 | J17: =I17*(44/12)*0.90718/1000000 -> 0.012443253
B18: LPG | C18: 3241.0028 | D18: 2263.7017 | E18: 0.61918626 | F18: =C18-(D18*E18) -> 1839.3499 | G18: 37.454057 | H18: 1 | I18: =(F18*1000*G18*H18)/2000 -> 34445.557 | J18: =I18*(44/12)*0.90718/1000000 -> 0.11457718
B19: Lubricants | C19: 2154.1494 | D19: 2154.1494 | E19: 0.092393733 | F19: =C19-(D19*E19) -> 1955.1195 | G19: 44.581498 | H19: 1 | I19: =(F19*1000*G19*H19)/2000 -> 43581.077 | J19: =I19*(44/12)*0.90718/1000000 -> 0.1449649
B20: Motor Gasoline | C20: 5174.2153 | D20: 0 | E20: 0 | F20: =C20-(D20*E20) -> 5174.2153 | G20: 42.62265 | H20: 1 | I20: =(F20*1000*G20*H20)/2000 -> 110269.38 | J20: =I20*(44/12)*0.90718/1000000 -> 0.36679199
B21: Motor Gasoline Blending Components | C21: 0 | D21: 0 | E21: 0 | F21: =C21-(D21*E21) -> 0 | G21: 42.62265 | H21: 1 | I21: =F21*G21*H21/2000 -> 0 | J21: =I21*(44/12)*0.90718/1000000 -> 0
B22: Misc. Petro Products | C22: 157.0716 | D22: 157.0716 | E22: 0 | F22: =C22-(D22*E22) -> 157.0716 | G22: 44.823453 | H22: 1 | I22: =(F22*1000*G22*H22)/2000 -> 3520.2458 | J22: =I22*(44/12)*0.90718/1000000 -> 0.011709487
B23: Petroleum Coke | C23: 0 | D23: 0 | E23: 0.5 | F23: =C23-(D23*E23) -> 0 | G23: 61.343612 | H23: 1 | I23: =F23*G23*H23/2000 -> 0 | J23: =I23*(44/12)*0.90718/1000000 -> 0
B24: Pentanes Plus | C24: 161.77572 | D24: 122.0443 | E24: 0.61918626 | F24: =C24-(D24*E24) -> 86.207567 | G24: 40.176211 | H24: 1 | I24: =(F24*1000*G24*H24)/2000 -> 1731.7467 | J24: =I24*(44/12)*0.90718/1000000 -> 0.0057603553
B25: Residual Fuel | C25: 4766.9075 | D25: 0 | E25: 0.5 | F25: =C25-(D25*E25) -> 4766.9075 | G25: 47.334802 | H25: 1 | I25: =(F25*1000*G25*H25)/2000 -> 112820.31 | J25: =I25*(44/12)*0.90718/1000000 -> 0.37527721
B26: Still Gas | C26: 0 | D26: 0 | E26: 0.8 | F26: =C26-(D26*E26) -> 0 | G26: 38.568282 | H26: 1 | I26: =F26*G26*H26/2000 -> 0 | J26: =I26*(44/12)*0.90718/1000000 -> 0
B27: Special Naphthas | C27: 3076.9398 | D27: 3034.4904 | E27: 0 | F27: =C27-(D27*E27) -> 3076.9398 | G27: 43.744493 | H27: 1 | I27: =(F27*1000*G27*H27)/2000 -> 67299.587 | J27: =I27*(44/12)*0.90718/1000000 -> 0.22386041
B28: Unfinished Oils | C28: 0 | D28: 0 | E28: 0 | F28: =C28-(D28*E28) -> 0 | G28: 44.823453 | H28: 1 | I28: =F28*G28*H28/2000 -> 0 | J28: =I28*(44/12)*0.90718/1000000 -> 0
B29: Waxes | C29: 241.17278 | D29: 241.17278 | E29: 0.58 | F29: =C29-(D29*E29) -> 101.29257 | G29: 43.634361 | H29: 1 | I29: =(F29*1000*G29*H29)/2000 -> 2209.9182 | J29: =I29*(44/12)*0.90718/1000000 -> 0.00735091
B30: Natural Gas | C30: 23810.834 | D30: 1279.749 | E30: 0.61918626 | F30: =C30-(D30*E30) -> 23018.431 | G30: 31.872247 | H30: 1 | I30: =(F30*1000*G30*H30)/2000 -> 366824.56 | J30: =I30*(44/12)*0.90718/1000000 -> 1.2201783
H31: Total | J31: =SUM(J9:J30) -> 6.3211763
B35: Industrial Sector N2O | D35: 2006
C36: Total | D36: Non-Energy | J36: Global Warming Potential
C37: Consumption | D37: Consumption | E37: Emission Factor | F37: Emissions | G37: GWP | H37: Emissions
B38: Fuel Type | C38: (Billion Btu) | D38: (Billion Btu) | E38: (metric tons N2O/BBtu) | F38: (metric tons N2O) | H38: (MMTCO2E) | J38: CO2_GWP= | K38: =Summary!E4 -> 1
B39: Coking Coal | C39: 0 | D39: 0 | E39: 0.0015034546 | F39: =(C39-D39)*E39 -> 0 | G39: =$K$40 -> 273 | H39: =F39*G39/1000000 -> 0 | J39: CH4_GWP = | K39: =Summary!E5 -> 27.9
B40: Other Coal | C40: 30430.668 | D40: 307.25403 | E40: 0.0015034546 | F40: =(C40-D40)*E40 -> 45.289185 | G40: =$K$40 -> 273 | H40: =F40*G40/1000000 -> 0.012363947 | J40: N2O_GWP= | K40: =Summary!E6 -> 273
B41: Asphalt and Road Oil | C41: 19576.189 | D41: 19576.189 | E41: 0.00060138184 | F41: =(C41-D41)*E41 -> 0 | G41: =$K$40 -> 273 | H41: =F41*G41/1000000 -> 0 | J41: SF6_GWP = | K41: =Summary!E7 -> 24300
B42: Aviation Gasoline Blending Components | C42: 0 | D42: 0 | E42: 0.00060138184 | F42: =(C42-D42)*E42 -> 0 | G42: =$K$40 -> 273 | H42: =F42*G42/1000000 -> 0
B43: Crude Oil | C43: 0 | D43: 0 | E43: 0.00060138184 | F43: =(C43-D43)*E43 -> 0 | G43: =$K$40 -> 273 | H43: =F43*G43/1000000 -> 0
B44: Distillate Fuel | C44: 12446.073 | D44: 118.82736 | E44: 0.00060138184 | F44: =(C44-D44)*E44 -> 7.4133816 | G44: =$K$40 -> 273 | H44: =F44*G44/1000000 -> 0.0020238532
B45: Feedstocks, Naphtha less than 401 F | C45: 726.11391 | D45: 715.14663 | E45: 0.00060138184 | F45: =(C45-D45)*E45 -> 0.0065955245 | G45: =$K$40 -> 273 | H45: =F45*G45/1000000 -> 1.8005782e-06
B46: Feedstocks, Other Oils greater than 401 F | C46: 912.92359 | D46: 661.47104 | E46: 0.00060138184 | F46: =(C46-D46)*E46 -> 0.151219 | G46: =$K$40 -> 273 | H46: =F46*G46/1000000 -> 4.1282786e-05
...

Sheet Transportation
A1: Transportation Consumption and GHG Emissions
B3: Activity Data (Consumption)
B4: State Energy Data 2006 | C4: (Barrels) | E4: (Gallons) | G4: (Billion Btu)
B5: Aviation Gasoline | C5: 107.81011 | E5: 4526231.4 | G5: =544009.905172277/1000 -> 544.00991
B6: Distillate Fuel Oil | C6: 14834.594 | E6: 6.2305293e+08 | G6: 86411.508
B7: Jet Fuel Naphtha | C7: 0 | E7: 0 | G7: 0
B8: Jet Fuel Kerosene Type | C8: 4144.0214 | E8: 23496602 | G8: 23496.602
B9: Liquidfied Petroleum Gases | C9: 43.62338 | E9: =C9*42*1000 -> 1832182 | G9: 157.26228
B10: Lubricant | C10: 265.99846 | E10: =C10*42*1000 -> 11171935 | G10: 1613.2807
B11: Motor Gasoline | C11: 64604.701 | E11: 2721404088 | G11: =E11*C47/1000000000 -> 338101.8
B12: Ethanol | C12: 3892.6155 | E12: 1.6348985e+08 | G12: 13775.966
B13: Natural Gases - (Million Cubic Feet) | C13: 3236.139 | E13: =C13 -> 3236.139 | G13: 3348.0123
B14: Residual Fuel Oil | C14: 1221.4756 | E14: =C14*42*1000 -> 51301975 | G14: 7679.417
B17: Gasoline Fuel Usage
B18: Source | C18: Year | D18: Subsource | F18: Vehicle / Fuel Type | I18: Amount (gal) | K18: Percentage | M18: Percentage of NR Gasoline
B19: FHWA Data MF-24 | C19: 2006 | D19: Farm Equipment | F19: Gasoline Tractor | I19: 11991000 | K19: =I19/$I$24 -> 0.0044061814 | M19: =I19/SUM($I$19:$I$23) -> 0.15466236 | U19: 9702000
B20: FHWA Data MF-24 | C20: 2006 | D20: Construction | F20: Gasoline Construction | I20: 10970000 | K20: =I20/$I$24 -> 0.0040310074 | M20: =I20/SUM($I$19:$I$23) -> 0.14149329 | U20: 8297000
B21: FHWA Data MF-24 | C21: 2006 | D21: Non-Highway Industrial | F21: Gasoline HD Utility | I21: 19725000 | K21: =I21/$I$24 -> 0.0072480967 | M21: =I21/SUM($I$19:$I$23) -> 0.25441706 | U21: 24818000
B22: FHWA Data MF-24 | C22: 2006 | D22: Non-Highway Industrial | F22: Gasoline Small Utility | I22: 9811178.5 | K22: =I22/$I$24 -> 0.0036051899 | M22: =I22/SUM($I$19:$I$23) -> 0.12654657 | U22: 16130243
B23: FHWA Data MF-24 | C23: 2006 | D23: Boat (Marine Gasoline) | F23: Gasoline | I23: 25033000 | K23: =I23/$I$24 -> 0.0091985604 | M23: =I23/SUM($I$19:$I$23) -> 0.32288072 | U23: 24070000
B24: MD Comptroller | C24: 2006 | D24: Motor Gasoline (Total Sold) | F24: All | I24: 2721404088 | K24: =I24/$I$24 -> 1
B25: MD Comptroller | C25: 2006 | D25: Motor Gasoline (On-Road Mobile) | F25: All | I25: =I24-SUM(I19:I23) -> 2.6438739e+09 | K25: =I25/$I$24 -> 0.97151096
B26: MD Comptroller | C26: 2006 | D26: Motor Gasoline (Non-Road Mobile) | F26: All | I26: =I24-I25 -> 77530178 | K26: =I26/$I$24 -> 0.028489036 | M26: =SUM(M19:M23) -> 1
I28: =I21+I22 -> 29536178
B29: Diesel Fuel Usage
B31: Source | C31: Year | D31: Subsource | F31: Vehicle / Fuel Type | I31: Amount (gal) | K31: Percentage | M31: Percentage of NR Diesel | S31: Global Warming Potential
B32: EIA Adjusted Sales Data | C32: 2006 | D32: Farm Equipment | F32: Diesel Tractor | I32: 16854000 | K32: =I32/$I$37 -> 0.027050671 | M32: =I32/SUM($I$32:$I$36) -> 0.090471293
B33: FHWA Data MF-24 (Allocated from Gasoline Construction State Percent) | C33: 2006 | D33: Construction | F33: Diesel Construction | I33: 1.1851622e+08 | K33: =I33/$I$37 -> 0.19021855 | M33: =I33/SUM($I$32:$I$36) -> 0.63618821 | S33: CO2_GWP= | T33: =Summary!E4 -> 1
B34: EIA State Energy Data | C34: 2006 | D34: Non-Highway Industrial | F34: Diesel HD Utility | I34: 11441263 | K34: =I34/$I$37 -> 0.018363228 | M34: =I34/SUM($I$32:$I$36) -> 0.061416037 | S34: CH4_GWP = | T34: =Summary!E5 -> 27.9
B35: MDE Survey | C35: 2006 | D35: Locomotive | F35: Diesel Fuel | I35: 23342572 | K35: =I35/$I$37 -> 0.03746483 | M35: =I35/SUM($I$32:$I$36) -> 0.12530157 | S35: N2O_GWP= | T35: =Summary!E6 -> 273
B36: EIA State Energy Data | C36: 2006 | D36: Boat (Marine) | F36: Distillate Fuel Oil** | I36: 16137077 | K36: =I36/$I$37 -> 0.025900009 | M36: =I36/SUM($I$32:$I$36) -> 0.08662289 | S36: SF6_GWP = | T36: =Summary!E7 -> 24300
B37: EIA State Energy Data | C37: 2006 | D37: Distillate Fuel Oil | F37: All | I37: 6.2305293e+08 | K37: =I37/$I$37 -> 1
B38: Calculated | C38: 2006 | D38: Motor Diesel (On-Road) | F38: All | I38: =I37-SUM(I32:I36) -> 4.367618e+08 | K38: =I38/$I$37 -> 0.70100271
B39: Calculated | C39: 2006 | D39: Motor Diesel (Non-Road) | F39: All | I39: =I37-I38 -> 1.8629114e+08 | K39: =I39/$I$37 -> 0.29899729 | M39: =SUM(M32:M36) -> 1
C42: 2006 | D42: Diesel (gallons) | F42: Total | I42: =SUM(I32:I35) -> 1.7015406e+08
C43: 2006 | D43: Locomotive | F43: Residual Fuel Oil | I43: 0
B44: EIA State Energy Data | C44: 2006 | D44: Boat (Marine) | F44: Residual Fuel Oil** | I44: 51301975
D45: Residual Fuel (gallons) | F45: Total | I45: =SUM(I43:I44) -> 51301975
B46: CONSTANTS
B47: Gasoline | C47: 124238 | D47: Btu/Gallon
...

Sheet Natural Gas and Oil
A1: Emissions from Natural Gas Activities in MD
B4: Natural Gas - Production | D4: 2006
C6: Activity Data | D6: Emission Factor | E6: Metric Tons CH4 | F6: MMTCO2E
D7: metric tons CH4 per year per activity unit
B8: Total number of wells | C8: 7 | D8: 4.1021718 | E8: =C8*D8 -> 28.715203 | F8: =E8*$I$25/1000000 -> 0.00080115415
B9: Number of off-shore platforms not in the Gulf of Mexico | C9: 0 | D9: 13.055797 | E9: 0 | F9: =E9*$I$25/1000000 -> 0
B10: Total | E10: 21.095018 | F10: =F8+F9 -> 0.00080115415
B13: Number of Wells from EIA, " Natural Gas Navigator- Maryland Natural Gas Number of Gas and Gas Condensate Wells" acccessed from: http://tonto.eia.doe.gov/dnav/ng/hist/na1170_smd_8a.htm
B15: Emission factor from US EPA, Emissions Inventory Improvements Program, Volume VII: Chpater 5. Methods for Estimating Methane Emissions from Natural Gas and Oil Systems. This factor represents emissions not just from wells but also from pneumatic devices, dehydrator vents, Kimray pumps, gas engines, and well clean-ups
B20: Natural Gas - Distribution
C22: Activity Data | D22: Emission Factor | E22: Metric Tons CH4 | F22: MMTCO2E | H22: Global Warming Potential
B23: Distribution pipeline | D23: (metric tons CH4 per year per activity unit)
H24: CO2_GWP= | I24: =Summary!$E4 -> 1
B25: Miles of cast iron distribution pipeline | C25: 1467 | D25: 5.8037236 | E25: =C25*D25 -> 8514.0625 | F25: =E25*$I$25/1000000 -> 0.23754234 | H25: CH4_GWP = | I25: =Summary!$E5 -> 27.9
B26: Miles of unprotected steel distribution pipeline | C26: 602 | D26: 2.1221754 | E26: =C26*D26 -> 1277.5496 | F26: =E26*$I$25/1000000 -> 0.035643634 | H26: N2O_GWP= | I26: =Summary!$E6 -> 273
B27: Miles of protected steel distribution pipeline | C27: 5402 | D27: 0.060046884 | E27: =C27*D27 -> 324.37327 | F27: =E27*$I$25/1000000 -> 0.0090500142 | H27: SF6_GWP = | I27: =Summary!$E7 -> 24300
B28: Miles of plastic distribution pipeline | C28: 6309 | D28: 0.3716476 | E28: =C28*D28 -> 2344.7247 | F28: =E28*$I$25/1000000 -> 0.06541782
B30: Services
B31: Total number of services | C31: 964468 | D31: 0.01526714 | E31: =C31*D31 -> 14724.668 | F31: =E31*$I$25/1000000 -> 0.41081824
B32: Number of unprotected steel services | C32: 111375 | D32: 0.0327503 | E32: =C32*D32 -> 3647.5647 | F32: =E32*$I$25/1000000 -> 0.10176705
B33: Number of protected steel services | C33: 179097 | D33: 0.0034007868 | E33: =C33*D33 -> 609.07072 | F33: =E33*$I$25/1000000 -> 0.016993073
B34: Total | E34: =SUM(E25:E33) -> 31442.014 | F34: =SUM(F25:F33) -> 0.87723218
B36: Miles of Distribution pipeline from US Department of Transport, Office of Pipeline Safety, " Distribution and Transmission Annuals data:1990 -2005" . Acess from http://www.phmsa.dot.gov/portal/
B38: All emission factors from US EPA, Emissions Inventory Improvements Program, Volume VII: Chapter 5. Methods for Estimating Methane Emissions from Natural Gas and Oil Systems.
B43: Natural Gas - Transmission
C45: Activity Data | D45: Emission Factor | E45: Metric Tons CH4 | F45: MMTCO2E
D46: metric tons CH4 per year per activity unit
B48: Miles of transmission pipeline | C48: 899 | D48: 0.61847933 | E48: =C48*D48 -> 556.01292 | F48: =E48*$I$25/1000000 -> 0.01551276
B49: Number of gas transmission compressor stations | C49: =C48*0.006 -> 5.394 | D49: 983.65968 | E49: =C49*D49 -> 5305.8603 | F49: =E49*$I$25/1000000 -> 0.1480335
B50: Number of gas storage compressor stations | C50: =C48*0.0015 -> 1.3485 | D50: 964.14925 | E50: =C50*D50 -> 1300.1553 | F50: =E50*$I$25/1000000 -> 0.036274332
B51: Total | E51: =SUM(E47:E50) -> 7162.0285 | F51: =SUM(F48:F50) -> 0.19982059
B54: Number of LNG storage compressor stations from EIA, US LNG Markets and Uses, http://www.eia.doe.gov/pub/oil_gas/natural_gas/feature_articles/2003/lng/lng2003.pdf
B55: Miles of transmission pipeline from US Department of Transport, Office of Pipeline Safety, " Distribution and Transmission Annuals data:1990 -2005" . Acess from http://www.phmsa.dot.gov/portal/
B56: Number of gas transmission compressor stations = miles of transmission pipeline x 0.006 -EIIP, Volume VII: Chapter 5,March 2005
B57: Number of gas storage compressor station = miles of transmission pipeline x 0.0015 -EIIP, Volume VII: Chapter 5,March 2005
B58: All emission factors from US EPA, Emissions Inventory Improvements Program, Volume VII: Chapter 5. Methods for Estimating Methane Emissions from Natural Gas and Oil Systems.
B65: Natural Gas - Consumption as Pipeline Fuel
C67: 2006 | D67: Emission Factors: | G67: Combustion | H67: CO2 Emissions | I67: N2O Emissions | J67: CH4 Emissions | K67: GHG Emissions
B68: NG Consumption | C68: (Billion Btus) | D68: Carbon | E68: N2O | F68: CH4 | G68: Efficiency (%) | H68: (MMTCO2E) | I68: (MMTCO2E) | J68: (MMTCO2E)
D69: (lbs/MMBtu) | E69: (Mt/BBtu) | F69: (Mt/BBtu)
...

Sheet Mining
A1: Emissions from Mining in MD
B3: CH4 from Coal Mining in MD
B4: Emissions from: | C4: Coal Basin(s) (if applicable) | D4: Measured Ventilation Emissions (mcf) | F4: Degasification System Emissions (mcf) | H4: Methane Recovered from Degasification Systems and Usef for Energy (mcf) | J4: Emissions (mcf CH4) | L4: Emissions (MTCH4) | N4: Emissions (MTCO2E)
B5: Mines
B6: Underground Mines | D6: 0 | E6: + | F6: 0 | G6: - | H6: 0 | I6: = | J6: =D6+F6-H6 -> 0 | K6: = | L6: =J6*1000000*0.0000192 -> 0 | M6: = | N6: =(L6*$Q$9) -> 0 | P6: Global Warming Potential
D8: Surface Coal Production ('000 short tons) | F8: Basin-specific EF (ft3/short ton) | H8: Emissions ('000 ft3 CH4) | J8: Emissions (MTCH4) | L8: Emissions (MTCO2E) | P8: CO2_GWP= | Q8: =Summary!$E4 -> 1
B9: Surface Mines | C9: Northern Appalachian Basin | D9: 2228 | E9: x | F9: 119 | G9: = | H9: =D9*F9 -> 265132 | I9: = | J9: 5090.5344 | K9: = | L9: =(J9*$Q$9) -> 142025.91 | P9: CH4_GWP = | Q9: =Summary!$E5 -> 27.9
C10: --- | D10: 0 | E10: x | F10: 0 | G10: = | H10: - | I10: = | J10: - | K10: = | L10: - | P10: N2O_GWP= | Q10: =Summary!$E6 -> 273
P11: SF6_GWP = | Q11: =Summary!$E7 -> 24300
B12: Post-Mining Activity | D12: Coal Production ('000 short tons) | F12: Basin- & Mine-specific EF (ft3/short ton) | H12: Emissions ('000 ft3 CH4) | J12: Emissions (MTCH4) | L12: Emissions (MTCO2E)
B13: Underground Mines | C13: Northern Appalachian Basin | D13: 0 | E13: x | F13: 44.98 | G13: = | H13: =D13*F13 -> 0 | I13: = | J13: =H13*0.0000192*1000 -> 0 | K13: = | L13: =(J13*$Q$9) -> 0
C14: --- | D14: 0 | E14: x | F14: 0 | G14: = | H14: - | I14: = | J14: - | K14: = | L14: -
B15: Surface Mines | C15: Northern Appalachian Basin | D15: 2228 | E15: x | F15: 19.3375 | G15: = | H15: =D15*F15 -> 43083.95 | I15: = | J15: =H15*0.0000192*1000 -> 827.21184 | K15: = | L15: =(J15*$Q$9) -> 23079.21
C16: --- | D16: 0 | E16: x | F16: 0 | G16: = | H16: --- | I16: = | J16: --- | K16: = | L16: ---
B17: Post-Mining Total | H17: =SUM(H13:H16) -> 43083.95 | I17: = | J17: =SUM(J13:J16) -> 827.21184 | K17: = | L17: =SUM(L13:L16) -> 23079.21
B19: Total Coal Mining | C19: (MTCO2E) | D19: =SUM(D20:D22) -> 165105.12
C20: Underground Mines | D20: =N6 -> 0
C21: Surface Mines | D21: =SUM(L9:L10) -> 142025.91
C22: Post-Mining Activity | D22: =L17 -> 23079.21
B25: Maryland Abandoned Coal Mines Emissions Summary
D26: Default MD Abandoned Mine Emissions Gg/Year | F26: Mine Status Percent | H26: Emissions (MTCE) | J26: Emissions (MTCH4) | L26: Emissions (MTCO2E)
C27: Vented | D27: 0.28931433 | E27: x | F27: 0.125 | G27: = | H27: =D27*F27*1000*12/44*$Q$9 -> 275.17738 | I27: = | J27: =D27*F27*1000 -> 36.164291 | K27: = | L27: =D27*F27*1000*$Q$9 -> 1008.9837
C28: Sealed | D28: 0.28931433 | E28: x | F28: 0.25 | G28: = | H28: =D28*F28*1000*12/44*$Q$9 -> 550.35475 | I28: = | J28: =D28*F28*1000 -> 72.328582 | K28: = | L28: =D28*F28*1000*$Q$9 -> 2017.9674
C29: Flooded | D29: 0.28931433 | E29: x | F29: 0.625 | G29: = | H29: =D29*F29*1000*12/44*$Q$9 -> 1375.8869 | I29: = | J29: =D29*F29*1000 -> 180.82145 | K29: = | L29: =D29*F29*1000*$Q$9 -> 5044.9186
B32: Maryland Coal Mines Emissions Summary
B33: Emissions (MMTCO2E)
C34: 2006
B35: Coal Mining | C35: =D19/1000000 -> 0.16510512
B36: Abandoned Coal Mines | C36: =SUM(C37:C39) -> 0.0080718697
B37: Vented | C37: =L27/1000000 -> 0.0010089837
B38: Sealed | C38: =L28/1000000 -> 0.0020179674
B39: Flooded | C39: =L29/1000000 -> 0.0050449186
B43: Emissions (MTCO2E)
C44: 2006
B45: Coal Mining | C45: =D19 -> 165105.12
B46: Abandoned Coal Mines | C46: =SUM(C47:C49) -> 8071.8697
B47: Vented | C47: =L27 -> 1008.9837
B48: Sealed | C48: =L28 -> 2017.9674
B49: Flooded | C49: =L29 -> 5044.9186
B51: Emissions (MTCE) | C51: 2006
...

Sheet Cement
A1: Cement Industry Production Emissions
D3: WSC Methodology used in Emission Certification Reports.
C7: CO2 from Raw Meal Converted to Clinker
D8: Holcim | E8: Lehigh | F8: Essroc | G8: MD Total
C9: Facility:
C11: Year | D11: 2006 | E11: 2006 | F11: 2006
C13: Clinker Produced (metric tonnes) | D13: 557447 | E13: 1917452 | F13: 218353 | G13: =SUM(D13:F13) -> 2693252
C15: Calcination Emission Factor ( kg CO2/ tonnes Clinker) | D15: 525 | E15: 540 | F15: 525
C17: Clinker CO2 Emission (tonnes CO2/yr) | D17: =(D13*D15)/1000 -> 292659.67 | E17: =(E13*E15)/1000 -> 1035424.1 | F17: =(F13*F15)/1000 -> 114635.32 | G17: =SUM(D17:F17) -> 1442719.1
C20: CO2 from Calcination of CKD leaving the Kiln system
C23: CKD Produced (metric tonnes) | D23: 17474 | E23: 0 | F23: 699.45 | G23: =SUM(D23:F23) -> 18173.45
C25: CKD Emission Factor ( t CO2/ tonnes CKD) | D25: =525/1000 -> 0.525 | E25: =525/1000 -> 0.525 | F25: =525/1000 -> 0.525
C27: Calcination rate of CKD [%]-Default | D27: 1 | E27: 1 | F27: 1
C29: CKD CO2 Emission (tonnes CO2/yr) | D29: =D23*D25*D27 -> 9173.85 | E29: 0 | F29: =F23*F25*F27 -> 367.21125 | G29: =SUM(D29:F29) -> 9541.0613
C32: CO2 from Organic Carbon Content of Raw Meal
C35: Clinker Produced (metric tonnes) | D35: 557447 | E35: 1917452 | F35: 218353
C37: Raw Meal to Clinker Ratio (Default) | D37: 1.55 | E37: 1.55 | F37: 1.78
C39: Raw Meal Consumption (metric tonnes) | D39: =D35*D37 -> 864042.85 | E39: =E35*E37 -> 2972050.6 | F39: =F35*F37 -> 388668.34
C41: Organic Carbon Content of Raw Meal (Average) | D41: 0.002 | E41: 0.002 | F41: 0.002
C43: CO2 Emission (tonnes CO2/yr) | D43: =(D39*D41)*(44/12) -> 6336.3142 | E43: =(E39*E41)*(44/12) -> 21795.038 | F43: =(F39*F41)*(44/12) -> 2850.2345 | G43: =SUM(D43:F43) -> 30981.586
C46: MD Total Cement Process CO2 (metric tonnes) = | G46: =G17+G29+G43 -> 1483241.7
C48: MD Total Cement Process CO2 (million metric tonnes CO2 Equivalent) = | G48: =G46/1000000 -> 1.4832417
D60: SIT Methodology
B63: Production | D63: Emission Factor | F63: Emissions | H63: Emissions from Cement Kiln Dust | J63: Emissions | L63: Emissions | M63: Emissions
B64: (Metric Tons) | D64: (t CO2/t production) | F64: (Metric Tons CO2) | H64: (Metric Tons CO2) | J64: (MTCE) | L64: (MTCO2E) | M64: (MMTCO2E)
B66: =G13 -> 2693252 | C66: x | D66: 0.50696255 | E66: = | F66: =B66*D66 -> 1365377.9 | G66: + | H66: =F66*20% -> 273075.58 | I66: = | J66: =L66*(12/44) -> 446850.95 | K66: = | L66: =F66+H66 -> 1638453.5 | M66: =L66/1000000 -> 1.6384535
B67: (Clinker)
C78: CO2 from Raw Meal Converted to Clinker
D79: MD Total
C80: Year | D80: 2006
C82: Clinker Produced (metric tonnes) | D82: 2693252
C84: Calcination Emission Factor ( kg CO2/ tonnes Clinker) | D84: 530
C86: Clinker CO2 Emission (tonnes CO2/yr) | D86: 1442719.1
C88: CO2 from Calcination of CKD leaving the Kiln system
C90: CKD Produced (metric tonnes) | D90: 18173.45
C92: CKD Emission Factor ( t CO2/ tonnes CKD) | D92: 0.525
C94: Calcination rate of CKD [%]-Default | D94: 1
C96: CKD CO2 Emission (tonnes CO2/yr) | D96: 9541.0613
C98: CO2 from Organic Carbon Content of Raw Meal
C100: Clinker Produced (metric tonnes) | D100: 2693252
...

Sheet LimeT&DSoda
A1: Limestone & Dolomite; Soda Ash; Ammonia & Urea; Electric Power T&D Summary (MTCO2E)
C3: Limestone and Dolomite Use
D4: Consumption (Metric Tons) | F4: Emission Factor (t CO2/t production) | H4: Emissions (MTCE) | J4: Emissions (MTCO2E) | O4: Global Warming Potential
C5: Limestone | D5: 258957.25 | E5: x | F5: 0.44 | G5: = | H5: =J5*12/44 -> 31074.87 | I5: = | J5: =IF(ISERROR(D5*F5),0,D5*F5) -> 113941.19
C6: Dolomite | D6: 0 | E6: x | F6: 0.484 | G6: = | H6: =J6*12/44 -> 0 | I6: = | J6: =IF(ISERROR(D6*F6),0,D6*F6) -> 0 | O6: CO2_GWP= | P6: =Summary!E4 -> 1
C7: Magesium Production from Dolomite | E7: x | F7: 1.7966667 | G7: = | H7: =J7*12/44 -> 0 | I7: = | J7: =IF(ISERROR(D7*F7),0,D7*F7) -> 0 | O7: CH4_GWP = | P7: =Summary!E5 -> 27.9
O8: N2O_GWP= | P8: =Summary!E6 -> 273
C9: Soda Ash Use | O9: SF6_GWP = | P9: =Summary!E7 -> 24300
D10: Manufacture and Consumption (Metric tons) | F10: Emission Factor (t CO2/t production) | H10: Emissions (MTCE) | J10: Emissions (MTCO2E)
C11: Manufacture | D11: 0 | E11: x | F11: 0.0974 | G11: = | H11: =J11*12/44 -> 0 | I11: = | J11: =IF(ISERROR(D11*F11),0,D11*F11) -> 0
C12: Consumption | D12: 114725.35 | E12: x | F12: 0.415 | G12: = | H12: =J12*12/44 -> 12984.824 | I12: = | J12: =IF(ISERROR(D12*F12),0,D12*F12) -> 47611.02
C14: Ammonia Production and Urea Consumption
D15: Production & Consumption (Metric Tons) | F15: Emission Factor (mt CO2/mt activity) | H15: Subract emissions from Urea | J15: Emissions (MTCE) | L15: Emissions (MTCO2E)
C16: Ammonia Production | D16: 0 | E16: x | F16: 1.2 | G16: - ( | H16: =D17*F17 -> 626.9808 | I16: ) = | J16: =L16*12/44 -> 0 | K16: = | L16: =IF(D16>0,D16*F16-(H16),0) -> 0
C17: Urea Consumption | D17: 858.8778 | F17: 0.73 | I17: = | J17: =L17*12/44 -> 170.99476 | K17: = | L17: =D17*F17 -> 626.9808
C20: Electric Power Transmission & Distribution (T&D)
D21: SF6 Consumption (Metric Tons) | F21: Emission Factor (t SF6/t Consumption) | H21: Emissions (Metric Tons SF6) | J21: Emissions | L21: Emissions (MTCO2E)
C22: 2006 | D22: 9.5072212 | E22: x | F22: 1 | G22: = | H22: =IF(ISERROR(D22*F22), ,D22*F22) -> 9.5072212 | I22: = | J22: =H22*$P$9*12/44 -> 63006.947 | K22: = | L22: =J22/(12/44) -> 231025.47
C25: Aluminum Production (EastAlCo Shut Down)
D26: Production (Metric Tons) | F26: Emission Factor (t CE/t Production) | J26: Emissions (MTCE) | L26: Emissions (MTCO2E)
C27: 2006 | D27: 0 | E27: x | F27: 0.42545455 | G27: = | J27: =IF(ISERROR(D27*F27),0,D27*F27) -> 0 | K27: = | L27: =J27/(12/44) -> 0
D34: 2006
C35: Carbon Dioxide Emissions | D35: =D36+D37+D38+D39+D40+D41 -> 162179.19
C36: Cement Manufacture | D36: 0
C37: Lime Manufacture | D37: 0
C38: Limestone and Dolomite Use | D38: =J5 -> 113941.19
C39: Soda Ash | D39: =J12 -> 47611.02
C40: Ammonia & Urea | D40: =L17 -> 626.9808
C41: Iron & Steel Production | D41: 0
C42: Nitrous Oxide Emissions | D42: =D43+D44 -> 0
C43: Nitric Acid Production | D43: 0
C44: Adipic Acid Production | D44: 0
C45: HFC, PFC, and SF6 Emissions | D45: =D46+D47+D48+D49+D50 -> 231025.47
C46: Semiconductor Manufacturing | D46: 0
C47: Magnesium Production | D47: 0
C48: Electric Power Transmission and Distribution Systems | D48: =L22 -> 231025.47
C49: HCFC-22 Production | D49: 0
C50: Aluminum Production | D50: =L27 -> 0
C51: Total Emissions | D51: =D35+D42+D45 -> 393204.67

Sheet ODSSubs 100-yr
