Workbook
Name _Key1: #REF!
Name _Sort: #REF!
Name CementCorrectionFactor: #REF!
Name CH4GWP: #REF!
Name CoalCCs: #REF!
Name CoalGrowth: #REF!
Name data: #REF!
Name ElecProj: #REF!
Name EntFermEFs: #REF!
Name EntFermEFs2: #REF!
Name EPS: #REF!
Name EPSFraction: #REF!
Name FCFchoice: #REF!
Name FertData: #REF!
Name FertTypes: #REF!
Name FFFactors: #REF!
Name FullName: #REF!
Name GasProj: #REF!
Name GWP: #REF!
Name GWPCH4: #REF!
Name GWPN2O: #REF!
Name HTML1_1: #REF!
Name HTML1_12: #REF!
Name HTML1_3: #REF!
Name HTML1_4: #REF!
Name IndustrialPercent: #REF!
Name kg.MT: #REF!
Name LiquidEF: #REF!
Name MCFs: #REF!
Name MMFactors: #REF!
Name MT_per_T: #REF!
Name N20GWP: #REF!
Name N2OGWP: #REF!
Name NetOutElecExports: #REF!
Name NEU: #REF!
Name NGCH4meth: #REF!
Name nobedEF: #REF!
Name open: #REF!
Name OxidationFactor: #REF!
Name PopGrid: #REF!
Name SelectedState: #REF!
Name Short_metric: #REF!
Name SolidEF: #REF!
Name State: #REF!
Name StateChoice: #REF!
Name StateList: #REF!
Name States: #REF!
Name StatFactors: #REF!
Name StorageFactors: #REF!
Name TransData: #REF!
Name TransProj: #REF!
Name UFactor: #REF!
Name Units: #REF!
Name VersionDate: #REF!
Name VersionNumber: #REF!
Name VolPercent: #REF!
Name VS_BeefReplace: #REF!
Name VS_BeefReplace2: #REF!
Name VS_feedlotheifer: #REF!
Name VS_feedlotheifer2: #REF!

Sheet Summary
B1: Maryland 2006 GHG Emissions by Sector
D2: Global Warming Potential
D3: AR6 20-yr GWP | E3: AR6 100-yr GWP
C4: CO2 | D4: 1 | E4: 1
C5: CH4 | D5: 81.2 | E5: 27.9
C6: N2O | D6: 273 | E6: 273
C7: SF6 | D7: 18200 | E7: 24300
C8: HFCs & PFCs | D8: see note
B9: MMTCO2e | D9: 20-year GWP | E9: 100-year GWP
B10: Energy Use (CO2, CH4, N2O) | D10: =D11+D30+D47+D80 -> 98.929658 | E10: =E11+E30+E47+E80 -> 96.146049
B11: Electricity Use (Consumption) | D11: =D12+D29 -> 42.479139 | E11: =E12+E29 -> 42.461049
C12: Electricity Production (in-state) | D12: =D13+D17+D21+D25 -> 32.168313 | E12: =E13+E17+E21 -> 32.150222
C13: Coal | D13: =SUM(D14:D16) -> 28.279114 | E13: =SUM(E14:E16) -> 28.262979
C14: CO2 | D14: =E14/_xlfn.XLOOKUP(C14,C$4:C$7,E$4:E$7,"ERROR")*_xlfn.XLOOKUP(C14,C$4:C$7,D$4:D$7,"ERROR") -> 28.130574 | E14: ='EGU Production RGGI Units'!F261 -> 28.130574
C15: CH4 | D15: =E15/_xlfn.XLOOKUP(C15,C$4:C$7,E$4:E$7,"ERROR")*_xlfn.XLOOKUP(C15,C$4:C$7,D$4:D$7,"ERROR") -> 0.024580073 | E15: ='EGU Production RGGI Units'!G280 -> 0.0084456163
C16: N2O | D16: =E16/_xlfn.XLOOKUP(C16,C$4:C$7,E$4:E$7,"ERROR")*_xlfn.XLOOKUP(C16,C$4:C$7,D$4:D$7,"ERROR") -> 0.12395985 | E16: ='EGU Production RGGI Units'!G292 -> 0.12395985
C17: Natural Gas | D17: =SUM(D18:D20) -> 3.6514756 | E17: =SUM(E18:E20) -> 3.6499711
C18: CO2 | D18: =E18/_xlfn.XLOOKUP(C18,C$4:C$7,E$4:E$7,"ERROR")*_xlfn.XLOOKUP(C18,C$4:C$7,D$4:D$7,"ERROR") -> 3.648413 | E18: ='EGU Production RGGI Units'!F265+'EGU Production Non-RGGI Units'!I105 -> 3.648413
C19: CH4 | D19: =E19/_xlfn.XLOOKUP(C19,C$4:C$7,E$4:E$7,"ERROR")*_xlfn.XLOOKUP(C19,C$4:C$7,D$4:D$7,"ERROR") -> 0.0022920295 | E19: ='EGU Production RGGI Units'!G283+'EGU Production Non-RGGI Units'!G117 -> 0.00078753229
C20: N2O | D20: =E20/_xlfn.XLOOKUP(C20,C$4:C$7,E$4:E$7,"ERROR")*_xlfn.XLOOKUP(C20,C$4:C$7,D$4:D$7,"ERROR") -> 0.00077059611 | E20: ='EGU Production RGGI Units'!G295+'EGU Production Non-RGGI Units'!G129 -> 0.00077059611
C21: Oil | D21: =SUM(D22:D24) -> 0.23772309 | E21: =SUM(E22:E24) -> 0.23727154
C22: CO2 | D22: =E22/_xlfn.XLOOKUP(C22,C$4:C$7,E$4:E$7,"ERROR")*_xlfn.XLOOKUP(C22,C$4:C$7,D$4:D$7,"ERROR") -> 0.23657261 | E22: ='EGU Production RGGI Units'!F263+'EGU Production Non-RGGI Units'!I103+'EGU Production Non-RGGI Units'!I104 -> 0.23657261
C23: CH4 | D23: =E23/_xlfn.XLOOKUP(C23,C$4:C$7,E$4:E$7,"ERROR")*_xlfn.XLOOKUP(C23,C$4:C$7,D$4:D$7,"ERROR") -> 0.00068791784 | E23: ='EGU Production RGGI Units'!G281+'EGU Production RGGI Units'!G282+'EGU Production Non-RGGI Units'!G115+'EGU Production Non-RGGI Units'!G116 -> 0.00023636586
C24: N2O | D24: =E24/_xlfn.XLOOKUP(C24,C$4:C$7,E$4:E$7,"ERROR")*_xlfn.XLOOKUP(C24,C$4:C$7,D$4:D$7,"ERROR") -> 0.00046256545 | E24: ='EGU Production RGGI Units'!G293+'EGU Production RGGI Units'!G294+'EGU Production Non-RGGI Units'!G127+'EGU Production Non-RGGI Units'!G128 -> 0.00046256545
C25: Wood | D25: =SUM(D26:D28) -> 0 | E25: =SUM(E26:E28) -> 0
C26: CO2 | D26: =E26/_xlfn.XLOOKUP(C26,C$4:C$7,E$4:E$7,"ERROR")*_xlfn.XLOOKUP(C26,C$4:C$7,D$4:D$7,"ERROR") -> 0 | E26: 0
C27: CH4 | D27: =E27/_xlfn.XLOOKUP(C27,C$4:C$7,E$4:E$7,"ERROR")*_xlfn.XLOOKUP(C27,C$4:C$7,D$4:D$7,"ERROR") -> 0 | E27: 0
C28: N2O | D28: =E28/_xlfn.XLOOKUP(C28,C$4:C$7,E$4:E$7,"ERROR")*_xlfn.XLOOKUP(C28,C$4:C$7,D$4:D$7,"ERROR") -> 0 | E28: 0
C29: Net Imported Electricity | D29: =E29 -> 10.310827 | E29: ='Imported Electricity'!K76 -> 10.310827
B30: Residential/Commercial/Industrial (RCI) Fuel Use | D30: =D31+D35+D39+D43 -> 17.130057 | E30: =E31+E35+E39+E43 -> 16.894555
C31: Coal | D31: =SUM(D32:D34) -> 3.016508 | E31: =SUM(E32:E34) -> 2.9983991
C32: CO2 | D32: =E32/_xlfn.XLOOKUP(C32,C$4:C$7,E$4:E$7,"ERROR")*_xlfn.XLOOKUP(C32,C$4:C$7,D$4:D$7,"ERROR") -> 2.976127 | E32: =Residential!G9+Commercial!G8+Industrial!J10 -> 2.976127
C33: CH4 | D33: =E33/_xlfn.XLOOKUP(C33,C$4:C$7,E$4:E$7,"ERROR")*_xlfn.XLOOKUP(C33,C$4:C$7,D$4:D$7,"ERROR") -> 0.027588005 | E33: =Residential!G33+Commercial!G37+Industrial!H71 -> 0.0094791299
C34: N2O | D34: =E34/_xlfn.XLOOKUP(C34,C$4:C$7,E$4:E$7,"ERROR")*_xlfn.XLOOKUP(C34,C$4:C$7,D$4:D$7,"ERROR") -> 0.012793025 | E34: =Residential!G20+Commercial!G22+Industrial!H40 -> 0.012793025
C35: Natural Gas & LPG | D35: =SUM(D36:D38) -> 9.2555202 | E35: =SUM(E36:E38) -> 9.2149093
C36: CO2 | D36: =E36/_xlfn.XLOOKUP(C36,C$4:C$7,E$4:E$7,"ERROR")*_xlfn.XLOOKUP(C36,C$4:C$7,D$4:D$7,"ERROR") -> 9.188024 | E36: =Residential!G13+Residential!G12+Commercial!G14+Commercial!G11+Industrial!J30+Industrial!J18 -> 9.188024
C37: CH4 | D37: =E37/_xlfn.XLOOKUP(C37,C$4:C$7,E$4:E$7,"ERROR")*_xlfn.XLOOKUP(C37,C$4:C$7,D$4:D$7,"ERROR") -> 0.061868737 | E37: =Residential!G37+Residential!G36+Commercial!G43+Commercial!G40+Industrial!H91+Industrial!H79 -> 0.021257854
C38: N2O | D38: =E38/_xlfn.XLOOKUP(C38,C$4:C$7,E$4:E$7,"ERROR")*_xlfn.XLOOKUP(C38,C$4:C$7,D$4:D$7,"ERROR") -> 0.0056275027 | E38: =Residential!G24+Residential!G23+Commercial!G28+Commercial!G25+Industrial!H60+Industrial!H48 -> 0.0056275027
C39: Petroleum | D39: =SUM(D40:D42) -> 4.5996589 | E39: =SUM(E40:E42) -> 4.5780626
C40: CO2 | D40: =E40/_xlfn.XLOOKUP(C40,C$4:C$7,E$4:E$7,"ERROR")*_xlfn.XLOOKUP(C40,C$4:C$7,D$4:D$7,"ERROR") -> 4.5574772 | E40: =Residential!G10+Residential!G11+Commercial!G12+Commercial!G13+Commercial!G9+Commercial!G10+Industrial!J14+Industrial!J15+Industrial!J16+Industrial!J17+Industrial!J19+Industrial!J22+Industrial!J24+Industrial!J25+Industrial!J27+Industrial!J29+Industrial!J20 -> 4.5574772
C41: CH4 | D41: =E41/_xlfn.XLOOKUP(C41,C$4:C$7,E$4:E$7,"ERROR")*_xlfn.XLOOKUP(C41,C$4:C$7,D$4:D$7,"ERROR") -> 0.03290088 | E41: =Residential!G34+Residential!G35+Commercial!G38+Commercial!G39+Commercial!G41+Commercial!G42+Industrial!H75+Industrial!H76+Industrial!H77+Industrial!H78+Industrial!H81+Industrial!H85+Industrial!H86+Industrial!H88 -> 0.011304613
C42: N2O | D42: =E42/_xlfn.XLOOKUP(C42,C$4:C$7,E$4:E$7,"ERROR")*_xlfn.XLOOKUP(C42,C$4:C$7,D$4:D$7,"ERROR") -> 0.0092808068 | E42: =Residential!G21+Residential!G22+Commercial!G23+Commercial!G24+Commercial!G26+Commercial!G27+Industrial!H44+Industrial!H45+Industrial!H46+Industrial!H47+Industrial!H50+Industrial!H54+Industrial!H55+Industrial!H57 -> 0.0092808068
C43: Wood | D43: =SUM(D44:D46) -> 0.25836973 | E43: =SUM(E44:E46) -> 0.10318356
C44: CO2 | D44: =E44/_xlfn.XLOOKUP(C44,C$4:C$7,E$4:E$7,"ERROR")*_xlfn.XLOOKUP(C44,C$4:C$7,D$4:D$7,"ERROR") -> 0 | E44: 0
C45: CH4 | D45: =E45/_xlfn.XLOOKUP(C45,C$4:C$7,E$4:E$7,"ERROR")*_xlfn.XLOOKUP(C45,C$4:C$7,D$4:D$7,"ERROR") -> 0.23641872 | E45: =Residential!G38+Commercial!G44+Industrial!H92 -> 0.08123254
C46: N2O | D46: =E46/_xlfn.XLOOKUP(C46,C$4:C$7,E$4:E$7,"ERROR")*_xlfn.XLOOKUP(C46,C$4:C$7,D$4:D$7,"ERROR") -> 0.021951016 | E46: =Residential!G25+Commercial!G29+Industrial!H61 -> 0.021951016
B47: Transportation | D47: =D48+D52+D56+D60+D64+D68+D72+D76 -> 35.562523 | E47: =E48+E52+E56+E60+E64+E68+E72+E76 -> 35.422592
C48: Onroad Gasoline | D48: =SUM(D49:D51) -> 23.830078 | E48: =SUM(E49:E51) -> 23.712818
C49: CO2 | D49: =E49/_xlfn.XLOOKUP(C49,C$4:C$7,E$4:E$7,"ERROR")*_xlfn.XLOOKUP(C49,C$4:C$7,D$4:D$7,"ERROR") -> 23.195 | E49: =Transportation!E96 -> 23.195
C50: CH4 | D50: =E50/_xlfn.XLOOKUP(C50,C$4:C$7,E$4:E$7,"ERROR")*_xlfn.XLOOKUP(C50,C$4:C$7,D$4:D$7,"ERROR") -> 0.17864 | E50: =(Transportation!G96)*($E$5/21) -> 0.06138
C51: N2O | D51: =E51/_xlfn.XLOOKUP(C51,C$4:C$7,E$4:E$7,"ERROR")*_xlfn.XLOOKUP(C51,C$4:C$7,D$4:D$7,"ERROR") -> 0.45643839 | E51: =Transportation!I96*($E$6/310) -> 0.45643839
C52: Nonroad Gasoline | D52: =SUM(D53:D55) -> 1.0463209 | E52: =SUM(E53:E55) -> 1.0439847
C53: CO2 | D53: =E53/_xlfn.XLOOKUP(C53,C$4:C$7,E$4:E$7,"ERROR")*_xlfn.XLOOKUP(C53,C$4:C$7,D$4:D$7,"ERROR") -> 1.0395505 | E53: =Transportation!O64+Transportation!O65+Transportation!O66+Transportation!O67 -> 1.0395505
C54: CH4 | D54: =E54/_xlfn.XLOOKUP(C54,C$4:C$7,E$4:E$7,"ERROR")*_xlfn.XLOOKUP(C54,C$4:C$7,D$4:D$7,"ERROR") -> 0.0035590917 | E54: =(Transportation!AE64+Transportation!AE65+Transportation!AE66+Transportation!AE67)/1000000 -> 0.0012228899
C55: N2O | D55: =E55/_xlfn.XLOOKUP(C55,C$4:C$7,E$4:E$7,"ERROR")*_xlfn.XLOOKUP(C55,C$4:C$7,D$4:D$7,"ERROR") -> 0.0032113393 | E55: =SUM(Transportation!X64:X67)/1000000 -> 0.0032113393
C56: Onroad Diesel | D56: =SUM(D57:D59) -> 5.9108019 | E56: =SUM(E57:E59) -> 5.9100405
C57: CO2 | D57: =E57/_xlfn.XLOOKUP(C57,C$4:C$7,E$4:E$7,"ERROR")*_xlfn.XLOOKUP(C57,C$4:C$7,D$4:D$7,"ERROR") -> 5.907 | E57: =Transportation!E97 -> 5.907
C58: CH4 | D58: =E58/_xlfn.XLOOKUP(C58,C$4:C$7,E$4:E$7,"ERROR")*_xlfn.XLOOKUP(C58,C$4:C$7,D$4:D$7,"ERROR") -> 0.00116 | E58: =Transportation!G97*($E$5/21) -> 0.00039857143
C59: N2O | D59: =E59/_xlfn.XLOOKUP(C59,C$4:C$7,E$4:E$7,"ERROR")*_xlfn.XLOOKUP(C59,C$4:C$7,D$4:D$7,"ERROR") -> 0.0026419355 | E59: =Transportation!I97*($E$6/310) -> 0.0026419355
C60: Nonroad Diesel | D60: =SUM(D61:D63) -> 1.5146404 | E60: =SUM(E61:E63) -> 1.5039261
C61: CO2 | D61: =E61/_xlfn.XLOOKUP(C61,C$4:C$7,E$4:E$7,"ERROR")*_xlfn.XLOOKUP(C61,C$4:C$7,D$4:D$7,"ERROR") -> 1.4880829 | E61: =SUM(Transportation!O56:O58) -> 1.4880829
C62: CH4 | D62: =E62/_xlfn.XLOOKUP(C62,C$4:C$7,E$4:E$7,"ERROR")*_xlfn.XLOOKUP(C62,C$4:C$7,D$4:D$7,"ERROR") -> 0.016322782 | E62: =SUM(Transportation!AE56:AE58)/1000000 -> 0.0056084436
C63: N2O | D63: =E63/_xlfn.XLOOKUP(C63,C$4:C$7,E$4:E$7,"ERROR")*_xlfn.XLOOKUP(C63,C$4:C$7,D$4:D$7,"ERROR") -> 0.01023471 | E63: =SUM(Transportation!X56:X58)/1000000 -> 0.01023471
C64: Rail | D64: =SUM(D65:D67) -> 0.23974041 | E64: =SUM(E65:E67) -> 0.23874757
C65: CO2 | D65: =E65/_xlfn.XLOOKUP(C65,C$4:C$7,E$4:E$7,"ERROR")*_xlfn.XLOOKUP(C65,C$4:C$7,D$4:D$7,"ERROR") -> 0.23660058 | E65: =Transportation!O59 -> 0.23660058
C66: CH4 | D66: =E66/_xlfn.XLOOKUP(C66,C$4:C$7,E$4:E$7,"ERROR")*_xlfn.XLOOKUP(C66,C$4:C$7,D$4:D$7,"ERROR") -> 0.0015125426 | E66: =Transportation!AE59/1000000 -> 0.00051970369
C67: N2O | D67: =E67/_xlfn.XLOOKUP(C67,C$4:C$7,E$4:E$7,"ERROR")*_xlfn.XLOOKUP(C67,C$4:C$7,D$4:D$7,"ERROR") -> 0.0016272873 | E67: =Transportation!X59/1000000 -> 0.0016272873
C68: Marine Vessels | D68: =SUM(D69:D71) -> 1.0009567 | E68: =SUM(E69:E71) -> 0.99721734
C69: CO2 | D69: =E69/_xlfn.XLOOKUP(C69,C$4:C$7,E$4:E$7,"ERROR")*_xlfn.XLOOKUP(C69,C$4:C$7,D$4:D$7,"ERROR") -> 0.98859814 | E69: =Transportation!O60+Transportation!O68+Transportation!O69 -> 0.98859814
C70: CH4 | D70: =E70/_xlfn.XLOOKUP(C70,C$4:C$7,E$4:E$7,"ERROR")*_xlfn.XLOOKUP(C70,C$4:C$7,D$4:D$7,"ERROR") -> 0.0056967223 | E70: =(Transportation!AE60+Transportation!AE68+Transportation!AE69)/1000000 -> 0.0019573713
C71: N2O | D71: =E71/_xlfn.XLOOKUP(C71,C$4:C$7,E$4:E$7,"ERROR")*_xlfn.XLOOKUP(C71,C$4:C$7,D$4:D$7,"ERROR") -> 0.0066618342 | E71: =(Transportation!X60+Transportation!X68+Transportation!X69)/1000000 -> 0.0066618342
C72: Lubricants, Natural Gas, and LPG | D72: =SUM(D73:D75) -> 0.29595515 | E72: =SUM(E73:E75) -> 0.29595515
C73: CO2 | D73: =E73/_xlfn.XLOOKUP(C73,C$4:C$7,E$4:E$7,"ERROR")*_xlfn.XLOOKUP(C73,C$4:C$7,D$4:D$7,"ERROR") -> 0.29595515 | E73: =Transportation!O63+Transportation!O70+Transportation!S79 -> 0.29595515
C74: CH4 | D74: =E74/_xlfn.XLOOKUP(C74,C$4:C$7,E$4:E$7,"ERROR")*_xlfn.XLOOKUP(C74,C$4:C$7,D$4:D$7,"ERROR") -> 0 | E74: 0
C75: N2O | D75: =E75/_xlfn.XLOOKUP(C75,C$4:C$7,E$4:E$7,"ERROR")*_xlfn.XLOOKUP(C75,C$4:C$7,D$4:D$7,"ERROR") -> 0 | E75: 0
C76: Jet Fuel and Aviation Gasoline | D76: =SUM(D77:D79) -> 1.7240291 | E76: =SUM(E77:E79) -> 1.7199021
C77: CO2 | D77: =E77/_xlfn.XLOOKUP(C77,C$4:C$7,E$4:E$7,"ERROR")*_xlfn.XLOOKUP(C77,C$4:C$7,D$4:D$7,"ERROR") -> 1.7033436 | E77: =Transportation!O55+Transportation!O61+Transportation!O62 -> 1.7033436
C78: CH4 | D78: =E78/_xlfn.XLOOKUP(C78,C$4:C$7,E$4:E$7,"ERROR")*_xlfn.XLOOKUP(C78,C$4:C$7,D$4:D$7,"ERROR") -> 0.0062872945 | E78: =(Transportation!AE55+Transportation!AE61+Transportation!AE62)/1000000 -> 0.0021602896
C79: N2O | D79: =E79/_xlfn.XLOOKUP(C79,C$4:C$7,E$4:E$7,"ERROR")*_xlfn.XLOOKUP(C79,C$4:C$7,D$4:D$7,"ERROR") -> 0.014398234 | E79: =(Transportation!X55+Transportation!X61+Transportation!X62)/1000000 -> 0.014398234
B80: Fossil Fuel Industry | D80: =D81+D85+D89 -> 3.7579389 | E80: =E81+E85+E89 -> 1.3678538
C81: Natural Gas Industry | D81: =SUM(D82:D84) -> 3.2539256 | E81: =SUM(E82:E84) -> 1.1946768
C82: CO2 | D82: =E82/_xlfn.XLOOKUP(C82,C$4:C$7,E$4:E$7,"ERROR")*_xlfn.XLOOKUP(C82,C$4:C$7,D$4:D$7,"ERROR") -> 0.11669565 | E82: ='Natural Gas and Oil'!H70 -> 0.11669565
C83: CH4 | D83: =E83/_xlfn.XLOOKUP(C83,C$4:C$7,E$4:E$7,"ERROR")*_xlfn.XLOOKUP(C83,C$4:C$7,D$4:D$7,"ERROR") -> 3.137167 | E83: ='Natural Gas and Oil'!J70+'Natural Gas and Oil'!F51+'Natural Gas and Oil'!F34+'Natural Gas and Oil'!F10 -> 1.0779182
C84: N2O | D84: =E84/_xlfn.XLOOKUP(C84,C$4:C$7,E$4:E$7,"ERROR")*_xlfn.XLOOKUP(C84,C$4:C$7,D$4:D$7,"ERROR") -> 6.291042e-05 | E84: ='Natural Gas and Oil'!I70 -> 6.291042e-05
C85: Oil Industry | D85: =SUM(D86:D88) -> 0 | E85: =SUM(E86:E88) -> 0
C86: CO2 | D86: =E86/_xlfn.XLOOKUP(C86,C$4:C$7,E$4:E$7,"ERROR")*_xlfn.XLOOKUP(C86,C$4:C$7,D$4:D$7,"ERROR") -> 0 | E86: 0
C87: CH4 | D87: =E87/_xlfn.XLOOKUP(C87,C$4:C$7,E$4:E$7,"ERROR")*_xlfn.XLOOKUP(C87,C$4:C$7,D$4:D$7,"ERROR") -> 0 | E87: 0
C88: N2O | D88: =E88/_xlfn.XLOOKUP(C88,C$4:C$7,E$4:E$7,"ERROR")*_xlfn.XLOOKUP(C88,C$4:C$7,D$4:D$7,"ERROR") -> 0 | E88: 0
C89: Coal Mining | D89: =SUM(D90:D92) -> 0.50401332 | E89: =SUM(E90:E92) -> 0.17317699
C90: CO2 | D90: =E90/_xlfn.XLOOKUP(C90,C$4:C$7,E$4:E$7,"ERROR")*_xlfn.XLOOKUP(C90,C$4:C$7,D$4:D$7,"ERROR") -> 0 | E90: 0
C91: CH4 | D91: =E91/_xlfn.XLOOKUP(C91,C$4:C$7,E$4:E$7,"ERROR")*_xlfn.XLOOKUP(C91,C$4:C$7,D$4:D$7,"ERROR") -> 0.50401332 | E91: =Mining!C35+Mining!C36 -> 0.17317699
C92: N2O | D92: =E92/_xlfn.XLOOKUP(C92,C$4:C$7,E$4:E$7,"ERROR")*_xlfn.XLOOKUP(C92,C$4:C$7,D$4:D$7,"ERROR") -> 0 | E92: 0
B93: Industrial Processes and Product Use | D93: =D94+D98+D102+D106+D110+D114+D118+D122+D126 -> 10.622053 | E93: =E94+E98+E102+E106+E110+E114+E118+E122+E126 -> 7.6043136
C94: Cement Manufacture | D94: =SUM(D95:D97) -> 1.4832417 | E94: =SUM(E95:E97) -> 1.4832417
C95: CO2 | D95: =E95/_xlfn.XLOOKUP(C95,C$4:C$7,E$4:E$7,"ERROR")*_xlfn.XLOOKUP(C95,C$4:C$7,D$4:D$7,"ERROR") -> 1.4832417 | E95: =Cement!G48 -> 1.4832417
C96: CH4 | D96: =E96/_xlfn.XLOOKUP(C96,C$4:C$7,E$4:E$7,"ERROR")*_xlfn.XLOOKUP(C96,C$4:C$7,D$4:D$7,"ERROR") -> 0 | E96: 0
C97: N2O | D97: =E97/_xlfn.XLOOKUP(C97,C$4:C$7,E$4:E$7,"ERROR")*_xlfn.XLOOKUP(C97,C$4:C$7,D$4:D$7,"ERROR") -> 0 | E97: 0
C98: Limestone and Dolomite | D98: =SUM(D99:D101) -> 0.11394119 | E98: =SUM(E99:E101) -> 0.11394119
C99: CO2 | D99: =E99/_xlfn.XLOOKUP(C99,C$4:C$7,E$4:E$7,"ERROR")*_xlfn.XLOOKUP(C99,C$4:C$7,D$4:D$7,"ERROR") -> 0.11394119 | E99: ='LimeT&DSoda'!D38/1000000 -> 0.11394119
C100: CH4 | D100: =E100/_xlfn.XLOOKUP(C100,C$4:C$7,E$4:E$7,"ERROR")*_xlfn.XLOOKUP(C100,C$4:C$7,D$4:D$7,"ERROR") -> 0 | E100: 0
...

Sheet EGU Production RGGI Units
A1: Electric Power Production (RGGI Units) and CO2 Emissions in Maryland
B3: RGGI COAL COMBUSTION BY UNIT
G4: Red = RGGI Data
B7: Plant ID | C7: Plant Name | D7: Equipment Description | E7: Fuel Type | F7: Usage | G7: Heat Content | H7: Heat Content | I7: Fuel Heat Input | J7: Fuel Heat Input | K7: CO2 Emmission
F8: (tons) | H8: Units | I8: (MMBTU) | J8: (MMBTU) | K8: (tons)
I9: (ECR) | J9: RGGI | K9: RGGI
B11: 001-0203 | C11: AES WARRIOR RUN COGEN
C12: 001-3-0127 | D12: ACF Boiler | E12: Coal | F12: 637044 | G12: 11356 | H12: Btu/lb | I12: =F12*G12*2000/1000000 -> 14468543 | J12: 14751582 | K12: 1546789
B14: 003-0468 | C14: Brandon Shores
D15: Unit 1 | E15: P-Coal | F15: 1905266 | G15: 11356 | H15: Btu/lb | I15: =(F15*G15*2000)/1000000 -> 43272401 | J15: 39865596 | K15: 4090213.4
D16: Unit 2 | E16: P-Coal | F16: 1676361 | G16: 11356 | H16: Btu/lb | I16: =(F16*G16*2000)/1000000 -> 38073511 | J16: 39027527 | K16: 4004228.7
F17: =SUM(F15:F16) -> 3581627 | J17: =SUM(J15:J16) -> 78893123 | K17: =SUM(K15:K16) -> 8094442.1
B19: 24-005-0079 | C19: C.P.Crane
C20: 3-0108 | D20: Boiler Unit 1 | E20: P-Coal | F20: 404552 | G20: 11356 | H20: Btu/lb | I20: =(F20*G20*2000)/1000000 -> 9188185 | J20: 10825025 | K20: 1110643.8
C21: 3-0109 | D21: Boiler Unit 2 | E21: P-Coal | F21: 369913 | G21: 11356 | H21: Btu/lb | I21: =(F21*G21*2000)/1000000 -> 8401464.1 | J21: 9519110 | K21: 976658.5
F22: =SUM(F20:F21) -> 774465 | J22: =SUM(J20:J21) -> 20344135 | K22: =SUM(K20:K21) -> 2087302.3
B23: 033-00014 | C23: Chalk Point
C24: 1600-14-30004 | D24: Unit 1 | E24: Coal | F24: 726410 | G24: 12810 | H24: Btu/ lb | I24: =(F24*G24*2000)/1000000 -> 18610624 | J24: 19830382 | K24: 2031754
C25: 1600-14-30005 | D25: Unit 2 | E25: Coal | F25: 780539 | G25: 12802 | H25: Btu/ lb | I25: =(F25*G25*2000)/1000000 -> 19984921 | J25: 21186709 | K25: 2170183
J26: =SUM(J24:J25) -> 41017091 | K26: =SUM(K24:K25) -> 4201937
B27: 003-0014 | C27: HERBERT A WAGNER
C28: 4-0308 | D28: Unit 2 | E28: P-Coal | F28: 301760 | G28: 24 | H28: MMBtu/ tons | I28: =(F28*G28) -> 7242240 | J28: 8755729 | K28: 898338.2
C29: 3-0003 | D29: Unit 3 | E29: P-Coal | F29: 735196 | G29: 24 | H29: MMBtu/ tons | I29: =(F29*G29) -> 17644704 | J29: 18039441 | K29: 1850845.3
F30: =SUM(F28:F29) -> 1036956 | J30: =SUM(J28:J29) -> 26795170 | K30: =SUM(K28:K29) -> 2749183.5
B31: 043-0005 | C31: R P SMITH
C32: 043-0005-3-0005 | D32: Unit 3 (9) | E32: Coal | F32: 53689.5 | G32: 11736 | H32: Btu/lb | I32: =(F32*G32*2000)/1000000 -> 1260199.9 | J32: 1260200 | K32: 129294
C33: 043-0005-3-0006 | D33: Unit 4 (11) | E33: Coal | F33: 201790.9 | G33: 11736 | H33: Btu/lb | I33: =(F33*G33*2000)/1000000 -> 4736436 | J33: 4736436 | K33: 485957
F34: =SUM(F32:F33) -> 255480.4 | J34: =SUM(J32:J33) -> 5996636 | K34: =SUM(K32:K33) -> 615251
B35: 031-0019 | C35: Mirant Dickerson
C36: 1500-19-30001 | D36: Boiler 1 | E36: Coal | F36: 401640 | G36: 12910 | H36: Btu/lb | I36: =(F36*G36*2000)/1000000 -> 10370345 | J36: 10305447 | K36: 1057336
C37: 1500-19-30002 | D37: Boiler 2 | E37: Coal | F37: 342990 | G37: 12910 | H37: Btu/lb | I37: =(F37*G37*2000)/1000000 -> 8856001.8 | J37: 8948983 | K37: 918164
C38: 1500-19-30003 | D38: Boiler 3 | E38: Coal | F38: 418238 | G38: 12910 | H38: Btu/lb | I38: =(F38*G38*2000)/1000000 -> 10798905 | J38: 11940584 | K38: 1225103
F39: =SUM(F36:F38) -> 1162868 | J39: =SUM(J36:J38) -> 31195014 | K39: =SUM(K36:K38) -> 3200603
B40: 017-0014 | C40: Mirant Morgantown
C41: 0800-14-30002 | D41: 1 | E41: Coal (Sc) | F41: 1325700 | G41: 13282 | H41: Btu/lb | I41: =(F41*G41*2000)/1000000 -> 35215895 | J41: 35354741 | K41: 3625815.6
C42: 080-14-30003 | D42: 2 | E42: Coal | F42: 1321775 | G42: 13282 | H42: Btu/lb | I42: =(F42*G42*2000)/1000000 -> 35111631 | J42: 35112681 | K42: 3600876.8
F43: =SUM(F41:F42) -> 2647475 | J43: =SUM(J41:J42) -> 70467422 | K43: =SUM(K41:K42) -> 7226692.4
C45: Luke | D45: Penwood Boiler (24-26) | E45: Coal | J45: 12554530 | K45: 1285927.9
H49: Coal (MMBTU) | J49: =J45+J43+J39+J34+J30+J26+J22+J17+J12 -> 3.020147e+08 | K49: =K45+K43+K39+K34+K30+K26+K22+K17+K12 -> 31008128
B56: RGGI OIL COMBUSTION BY UNIT
E58: DFO = #2 Oil
D62: Equipment Description | E62: Fuel Type | F62: Usage | G62: Heat Content | H62: Heat Content | I62: Fuel Heat Input | J62: Fuel Heat Input | K62: CO2 Emmission
F63: (gallons) | H63: Unit | I63: (MMBTU) | J63: (MMBTU) | K63: (tons)
I64: (ECR) | J64: RGGI | K64: RGGI
B66: 001-0203 | C66: AES WARRIOR RUN COGEN | D66: ACF Boiler | E66: Diesel (#2) | F66: 242200 | G66: 140000 | H66: Btu/gal | I66: =F66*G66/1000000 -> 33908
C67: 001-3-0127 | D67: Emergency Engine (Boiler Feed Pump) | E67: Diesel (#2) | F67: 623 | G67: 140000 | H67: Btu/gal | I67: =F67*G67/1000000 -> 87.22
F68: =SUM(F66:F67) -> 242823 | I68: =SUM(I66:I67) -> 33995.22
B70: 003-0468 | C70: Brandon Shores
C71: 3-0015 | D71: Unit 1 | E71: S-No. 2 Oil | F71: 851000 | G71: 139 | H71: MMBtu/ 1E+03 gal | I71: =(F71*G71)/1000 -> 118289
C72: 3-0016 | D72: Unit 2 | E72: S-No. 2 Oil | F72: 667000 | G72: 139 | H72: MMBtu/ 1E+03 gal | I72: =(F72*G72)/1000 -> 92713
F73: =SUM(F71:F72) -> 1518000 | I73: =SUM(I71:I72) -> 211002
B76: 033-00014 | C76: Chalk Point | D76: Unit 1 | E76: #2 Oli | F76: 609840 | G76: 133631 | H76: Btu/gal | I76: =(F76*G76)/1000000 -> 81493.529
C77: 1600-14-30004 | D77: Unit 2 | E77: #2 Oli | F77: 691824 | G77: 133470 | H77: Btu/gal | I77: =(F77*G77)/1000000 -> 92337.749
C78: 1600-14-30005 | D78: Unit 3 | E78: #2 Oli | F78: 862585 | G78: 132252 | H78: Btu/gal | I78: =(F78*G78)/1000000 -> 114078.59
C79: 1600-14-40998 | D79: Unit 4 | E79: #2 Oli | F79: 581096 | G79: 132424 | H79: Btu/gal | I79: =(F79*G79)/1000000 -> 76951.057
C80: 1600-14-40999 | D80: CT 1 | E80: #2 Oli | F80: 255034 | G80: 132725 | H80: Btu/gal | I80: =(F80*G80)/1000000 -> 33849.388
C81: 1600-14-41145 | D81: CT2 | E81: #2 Oli | F81: 188951 | G81: 133243 | H81: Btu/gal | I81: =(F81*G81)/1000000 -> 25176.398 | J81: 13108 | K81: 1029
C82: 1600-14-90752 | D82: CT3** | E82: #2 Oli | F82: 116978 | G82: 135480 | H82: Btu/gal | I82: =(F82*G82)/1000000 -> 15848.179
C83: 1600-14-90753 | D83: CT4** | E83: #2 Oli | F83: 145371 | G83: 135572 | H83: Btu/gal | I83: =(F83*G83)/1000000 -> 19708.237
C84: 1600-14-90754 | D84: CT5** | E84: #2 Oli | F84: 136900 | G84: 134671 | H84: Btu/gal | I84: =(F84*G84)/1000000 -> 18436.46
C85: 1600-14-90755 | D85: CT6** | E85: #2 Oli | F85: 180983 | G85: 134133 | H85: Btu/gal | I85: =SUM(I76:I84) -> 477879.59
F86: =SUM(F76:F85) -> 3769562
B88: 003-0014 | C88: HERBERT A WAGNER
C89: 4-0007 | D89: CT | E89: No.2 Oil | F89: 144000 | G89: 139 | H89: MMBTU/10E+03 gallons | I89: =(F89*G89)/1000 -> 20016
B91: 024-025-0024 | C91: Perryman
C92: 5-0088 | D92: Unit 51 CT | E92: No.2 Oil | F92: 630000 | G92: 139 | H92: MMBTU/10E+03 gallons | I92: =(F92*G92)/1000 -> 87570
C93: 4-0081 | D93: Unit 1 CT | E93: No.2 Oil | F93: 972000 | G93: 139 | H93: MMBTU/10E+03 gallons | I93: =(F93*G93)/1000 -> 135108 | J93: 104981 | K93: 8241
C94: 4-0082 | D94: Unit 2 CT | E94: No.2 Oil | F94: 856000 | G94: 139 | H94: MMBTU/10E+03 gallons | I94: =(F94*G94)/1000 -> 118984 | J94: 108127 | K94: 8488
C95: 4-0083 | D95: Unit 3 CT | E95: No.2 Oil | F95: 743000 | G95: 139 | H95: MMBTU/10E+03 gallons | I95: =(F95*G95)/1000 -> 103277 | J95: 120981 | K95: 9497
C96: 4-0084 | D96: Unit 4 CT | E96: No.2 Oil | F96: 2000 | G96: 139 | H96: MMBTU/10E+03 gallons | I96: =(F96*G96)/1000 -> 278 | J96: =SUM(J93:J95) -> 334089 | K96: =SUM(K93:K95) -> 26226
F97: =SUM(F92:F96) -> 3203000 | I97: =SUM(I92:I96) -> 445217
B98: 043-0005 | C98: R P SMITH
C99: 043-0005-3-0005 | D99: Unit 3 (9) | E99: #2 Oil | F99: 4439283.7 | G99: 141000 | H99: Btu/ gal | I99: =(F99*G99)/1000000 -> 625939
C100: 043-0005-3-0006 | D100: Unit 4 (11) | E100: #2 Oil | F100: 4498305 | G100: 141000 | H100: Btu/ gal | I100: =(F100*G100)/1000000 -> 634261
F101: =SUM(F99:F100) -> 8937588.7 | I101: =SUM(I99:I100) -> 1260200
B102: 005-0078 | C102: Riverside
C103: 4-0658 | D103: Combustion Turbine # 7 | E103: #2 Oil | F103: 202000 | G103: 139 | H103: MMBTU/10E+03 gallons | I103: =(F103*G103)/1000 -> 28078
C104: 4-0659 | D104: Combustion Turbine #8 | E104: #2 Oil | F104: 236000 | G104: 139 | H104: MMBTU/10E+03 gallons | I104: =(F104*G104)/1000 -> 32804
F105: =SUM(F103:F104) -> 438000 | I105: =SUM(I103:I104) -> 60882
B107: 019-0013 | C107: Vienna Generating Station
C108: 4-0065 | D108: Unit 8 | E108: #2 Oil | F108: 82113 | G108: 138097 | H108: Btu/gallons | I108: =(F108*G108)/1000000 -> 11339.559
B110: 031-0019 | C110: Mirant Dickerson
C111: 1500-19-30001 | D111: Boiler 1 | E111: #2 Oil | F111: 202101 | G111: 139181 | H111: Btu/gal | I111: =(F111*G111)/1000000 -> 28128.619
C112: 1500-19-30002 | D112: Boiler 2 | E112: #2 Oil | F112: 355692 | G112: 139181 | H112: Btu/gal | I112: =(F112*G112)/1000000 -> 49505.568
C113: 1500-19-30003 | D113: Boiler 3 | E113: #2 Oil | F113: 243688 | G113: 139181 | H113: Btu/gal | I113: =(F113*G113)/1000000 -> 33916.74
F114: =SUM(F111:F113) -> 801481 | I114: =SUM(I111:I113) -> 111550.93
B117: 031-1822 | C117: Mirant Station H
C118: 1518-22-90362 | D118: CT 1 | E118: #2 Oil | F118: 114941 | G118: 139181 | H118: Btu/gal | I118: =(F118*G118)/1000000 -> 15997.603
C119: 158-22-90363 | D119: CT 2 | E119: #2 Oil | F119: 258154 | G119: 139181 | H119: Btu/gal | I119: =(F119*G119)/1000000 -> 35930.132
F120: =SUM(F118:F119) -> 373095 | I120: =SUM(I118:I119) -> 51927.735
B121: 017-0014 | C121: Mirant Morgantown
C122: 0800-14-4-0070 | D122: CT 3 | E122: No. 2 Fuel Oil | F122: 566623 | G122: 138840 | H122: Btu/ gallons | I122: =(F122*G122)/1000000 -> 78669.937 | J122: 128286 | K122: 13156
C123: 0800-14-4-0074 | D123: CT 5 | E123: No. 2 Fuel Oil | F123: 741105 | G123: 138840 | H123: Btu/ gallons | I123: =(F123*G123)/1000000 -> 102895.02 | J123: 159490 | K123: 16356
C124: 0800-14-4-0075 | D124: CT 6 | E124: No. 2 Fuel Oil | F124: 671219 | G124: 138840 | H124: Btu/ gallons | I124: =(F124*G124)/1000000 -> 93192.046 | J124: 142572 | K124: 14621
F125: =SUM(F122:F124) -> 1978947 | I125: =SUM(I122:I124) -> 274757 | J125: =SUM(J122:J124) -> 430348 | K125: =SUM(K122:K124) -> 44133
B128: 001-0011 | C128: Luke (NewPage)
B129: 10200203 | C129: 01-0011-3-0018 | D129: No. 24 Boiler | E129: #2 Oil | J129: 35410.726 | K129: 2871.6388
H131: Distillate Fuel Oil (MMBTU) | J131: =J129+J125+J96+J81 -> 812955.73 | K131: =K129+K125+K96+K81 -> 74259.639
B133: 005-0078 | C133: Riverside
C134: 4-1363 | D134: Combustion Turbine # 6 | E134: Kerosene | F134: 64000 | G134: 132 | H134: MMBTU/10E+03 gallons | I134: =(F134*G134)/1000 -> 8448 | J134: 318364 | K134: 17510
...

Sheet EGU Production Non-RGGI Units
A1: Electric Power Production (Non-RGGI Units) Emissions in Maryland
B3: Plant Name | C3: Equipment Description | D3: Fuel Type | E3: Usage | F3: Usage Unit | G3: Heat Content | H3: Heat Content Unit | I3: Fuel Heat Input (MMBTU)
B5: NON-RGGI DISTILLATE OIL COMBUSTION BY UNIT
B6: C.P.Crane
B7: 4-0091 | C7: Aux Boiler # 2 | D7: S-No. 2 Oil | E7: 25000 | F7: gallons | G7: 139 | H7: MMBtu/ 1E+03 gal | I7: =(E7*G7)/1000 -> 3475
B8: 4-1107 | C8: Aux Boiler # 3 | D8: S-No. 2 Oil | E8: 197000 | F8: gallons | G8: 139 | H8: MMBtu/ 1E+03 gal | I8: =(E8*G8)/1000 -> 27383
B9: 4-0089 | C9: CT (14 MW) | D9: S-No. 2 Oil | E9: 129000 | F9: gallons | G9: 139 | H9: MMBtu/ 1E+03 gal | I9: =(E9*G9)/1000 -> 17931
H10: #2 Fuel Oil | I10: =SUM(I7:I9) -> 48789
B12: CPSG- Philadelphia Road Power
B13: 4-0431 | C13: Unit 1 CT | D13: No. 2 Oil | E13: 365000 | F13: gallons | G13: 139 | H13: MMBTU/ 1E+03 gallons | I13: =(E13*G13)/1000 -> 50735
B14: 4-0432 | C14: Unit 2 CT | D14: No. 2 Oil | E14: 351000 | F14: gallons | G14: 139 | H14: MMBTU/ 1E+03 gallons | I14: =(E14*G14)/1000 -> 48789
B15: 4-0433 | C15: Unit 3 CT | D15: No. 2 Oil | E15: 273000 | F15: gallons | G15: 139 | H15: MMBTU/ 1E+03 gallons | I15: =(E15*G15)/1000 -> 37947
B16: 4-0434 | C16: Unit 4 CT | D16: No. 2 Oil | E16: 251000 | F16: gallons | G16: 139 | H16: MMBTU/ 1E+03 gallons | I16: =(E16*G16)/1000 -> 34889
H17: #2 Fuel Oil | I17: =SUM(I13:I16) -> 172360
B19: Connectiv - Crisfield Generation
B20: 039-0017-9-0021 | C20: Unit 1 General Motors 2.5 MW | D20: No. 2 Oil | E20: 134214 | F20: gallons | G20: 140983 | H20: Btu/gal | I20: =E20*G20/1000000 -> 18921.892
B21: 039-0017-9-0022 | C21: Unit 2 General Motors 2.5 MW | D21: No. 2 Oil | E21: 141428 | F21: gallons | G21: 140983 | H21: Btu/gal | I21: =E21*G21/1000000 -> 19938.944
B22: 039-0017-9-0023 | C22: Unit 3 General Motors 2.5 MW | D22: No. 2 Oil | E22: 148690 | F22: gallons | G22: 140983 | H22: Btu/gal | I22: =E22*G22/1000000 -> 20962.762
B23: 039-0017-9-0024 | C23: Unit 4 General Motors 2.5 MW | D23: No. 2 Oil | E23: 104704 | F23: gallons | G23: 140983 | H23: Btu/gal | I23: =E23*G23/1000000 -> 14761.484
H24: #2 Fuel Oil | I24: =SUM(I20:I23) -> 74585.082
B26: Easton Utility
B27: 041-0029-9-0023 | D27: #2 Fuel Oil | E27: 31429 | F27: gallons | G27: 139 | H27: MMBTU/ 10E+03 gallons | I27: =(E27*G27)/1000 -> 4368.631
B28: 041-0029-9-0024 | D28: #2 Fuel Oil | E28: 29676 | F28: gallons | G28: 140 | H28: MMBTU/ 10E+03 gallons | I28: =(E28*G28)/1000 -> 4154.64
B29: 041-0029-9-0025 | D29: #2 Fuel Oil | E29: 43067 | F29: gallons | G29: 141 | H29: MMBTU/ 10E+03 gallons | I29: =(E29*G29)/1000 -> 6072.447
B30: 041-0029-9-0026 | D30: #2 Fuel Oil | E30: 45535 | F30: gallons | G30: 142 | H30: MMBTU/ 10E+03 gallons | I30: =(E30*G30)/1000 -> 6465.97
B31: 041-0029-9-0027 | D31: #2 Fuel Oil | E31: 41436 | F31: gallons | G31: 143 | H31: MMBTU/ 10E+03 gallons | I31: =(E31*G31)/1000 -> 5925.348
B32: 041-0029-9-0028 | D32: #2 Fuel Oil | E32: 55907 | F32: gallons | G32: 144 | H32: MMBTU/ 10E+03 gallons | I32: =(E32*G32)/1000 -> 8050.608
B33: 041-0029-9-0029 | D33: #2 Fuel Oil | E33: 70929 | F33: gallons | G33: 145 | H33: MMBTU/ 10E+03 gallons | I33: =(E33*G33)/1000 -> 10284.705
B34: 041-0029-9-0030 | D34: #2 Fuel Oil | E34: 73718 | F34: gallons | G34: 146 | H34: MMBTU/ 10E+03 gallons | I34: =(E34*G34)/1000 -> 10762.828
B35: 041-0029-9-0031 | D35: #2 Fuel Oil | E35: 3491 | F35: gallons | G35: 147 | H35: MMBTU/ 10E+03 gallons | I35: =(E35*G35)/1000 -> 513.177
B36: 041-0029-9-0032 | D36: #2 Fuel Oil | E36: 3717 | F36: gallons | G36: 148 | H36: MMBTU/ 10E+03 gallons | I36: =(E36*G36)/1000 -> 550.116
H37: #2 Fuel Oil | I37: =SUM(I27:I36) -> 57148.47
B38: Easton Utility-Airport Park
B39: 041-0069-4-0101 | C39: Solar Turbines Taurus T-60;52.02 | D39: #2 Fuel Oil | E39: 60197 | F39: gallons | G39: 137000 | H39: Btu/gallon | I39: =(E39*G39)/1000000 -> 8246.989
B40: 041-0069-4-0102 | C40: Solar Turbines Taurus T-60-780;52 M | D40: #2 Fuel Oil | E40: 60972 | F40: gallons | G40: 137000 | H40: Btu/gallon | I40: =(E40*G40)/1000000 -> 8353.164
B41: 041-0069-9-0033 | C41: Diesel Gen | D41: #2 Fuel Oil | E41: 26413 | F41: gallons | G41: 137000 | H41: Btu/gallon | I41: =(E41*G41)/1000000 -> 3618.581
B42: 041-0069-9-0034 | C42: Diesel Gen | D42: #2 Fuel Oil | E42: 18374 | F42: gallons | G42: 137000 | H42: Btu/gallon | I42: =(E42*G42)/1000000 -> 2517.238
B43: 041-0069-9-0035 | C43: Diesel Gen | D43: #2 Fuel Oil | E43: 25028 | F43: gallons | G43: 137000 | H43: Btu/gallon | I43: =(E43*G43)/1000000 -> 3428.836
B44: 041-0069-9-0036 | C44: Diesel Gen | D44: #2 Fuel Oil | E44: 22917 | F44: gallons | G44: 137000 | H44: Btu/gallon | I44: =(E44*G44)/1000000 -> 3139.629
B45: 041-0069-9-0037 | C45: Diesel Gen | D45: #2 Fuel Oil | E45: 3620 | F45: gallons | G45: 137000 | H45: Btu/gallon | I45: =(E45*G45)/1000000 -> 495.94
B46: 041-0069-9-0038 | C46: Diesel Gen | D46: #2 Fuel Oil | E46: 3566 | F46: gallons | G46: 137000 | H46: Btu/gallon | I46: =(E46*G46)/1000000 -> 488.542
H47: #2 Fuel Oil | I47: =SUM(I39:I46) -> 30288.919
B48: Berlin Town Power Plant
B49: 9-0028 | C49: EMD Diesel Gen -3600 HP | D49: No. 2 Oil | E49: 11831 | F49: gallons | G49: 140983 | H49: Btu/gal | I49: =(E49*G49)/1000000 -> 1667.9699
B50: 9-0029 | C50: FM Diesel Gen -1600HP | D50: No. 2 Oil | E50: 15038 | F50: gallons | G50: 140984 | H50: Btu/gal | I50: =(E50*G50)/1000000 -> 2120.1174
B51: 9-0031 | C51: Mistsu. Diesel Gen -2829 HP | D51: No. 2 Oil | E51: 0 | F51: gallons | H51: Btu/gal | I51: =(E51*G51)/1000000 -> 0
B52: 9-0032 | C52: Mistsu. Diesel Gen -2829 HP | D52: No. 2 Oil | E52: 12159 | F52: gallons | G52: 140986 | H52: Btu/gal | I52: =(E52*G52)/1000000 -> 1714.2488
B53: 9-0033 | C53: Mistsu. Diesel Gen -2829 HP | D53: No. 2 Oil | E53: 26726 | F53: gallons | G53: 140987 | H53: Btu/gal | I53: =(E53*G53)/1000000 -> 3768.0186
H54: #2 Fuel Oil | I54: =SUM(I49:I53) -> 9270.3546
B56: Riverside
B58: 4-0658 | C58: Combustion Turbine # 7 | D58: #2 Oil | E58: 202000 | F58: gallons | G58: 139 | H58: MMBTU/10E+03 gallons | I58: =(E58*G58)/1000 -> 28078
B59: 4-0659 | C59: Combustion Turbine #8 | D59: #2 Oil | E59: 236000 | F59: gallons | G59: 139 | H59: MMBTU/10E+03 gallons | I59: =(E59*G59)/1000 -> 32804
H60: #2 Fuel Oil | I60: =SUM(I58:I59) -> 60882
B62: Perryman
B63: 4-0083 | C63: Unit 3 CT | D63: No.2 Oil | E63: 743000 | F63: gallons | G63: 139 | H63: MMBTU/10E+03 gallons | I63: =(E63*G63)/1000 -> 103277
F66: Distillate Fuel Oil Total | I66: =I63+I60+I54+I47+I37+I24+I17+I10 -> 556600.83
B69: NON-RGGI RESIDUAL OIL COMBUSTION BY UNIT
B70: Easton Utility-Airport Park
B71: 041-0069-9-0033 | C71: Diesel Gen | D71: # 6 Fuel Oil | E71: 52845 | F71: gallons | G71: 137001 | H71: Btu/gallon | I71: =(E71*G71)/1000000 -> 7239.8178
B72: 041-0069-9-0034 | C72: Diesel Gen | D72: # 6 Fuel Oil | E72: 37030 | F72: gallons | G72: 137001 | H72: Btu/gallon | I72: =(E72*G72)/1000000 -> 5073.147
B73: 041-0069-9-0035 | C73: Diesel Gen | D73: # 6 Fuel Oil | E73: 106975 | F73: gallons | G73: 137001 | H73: Btu/gallon | I73: =(E73*G73)/1000000 -> 14655.682
B74: 041-0069-9-0036 | C74: Diesel Gen | D74: # 6 Fuel Oil | E74: 110608 | F74: gallons | G74: 137001 | H74: Btu/gallon | I74: =(E74*G74)/1000000 -> 15153.407
H75: # 6 Fuel Oil Total | I75: =SUM(I71:I74) -> 42122.053
F77: Residual Fuel Oil Total | I77: =I75 -> 42122.053
B79: NON-RGGI NATURAL GAS COMBUSTION BY UNIT
B80: CPSG- Notch Cliff
B81: 9-1094 | C81: Unit 1 CT | D81: Gas | E81: 15000000 | F81: scf | G81: 1044 | H81: MMBTU/ 1 E+06 scf | I81: =(E81*G81)/1000000 -> 15660
B82: 9-1095 | C82: Unit 2 CT | D82: Gas | E82: 15000000 | F82: scf | G82: 1044 | H82: MMBTU/ 1 E+06 scf | I82: =(E82*G82)/1000000 -> 15660
B83: 9-1096 | C83: Unit 3 CT | D83: Gas | E83: 19000000 | F83: scf | G83: 1044 | H83: MMBTU/ 1 E+06 scf | I83: =(E83*G83)/1000000 -> 19836
B84: 9-1097 | C84: Unit 4 CT | D84: Gas | E84: 20000000 | F84: scf | G84: 1044 | H84: MMBTU/ 1 E+06 scf | I84: =(E84*G84)/1000000 -> 20880
B85: 9-1098 | C85: Unit 5 CT | D85: Gas | E85: 28000000 | F85: scf | G85: 1044 | H85: MMBTU/ 1 E+06 scf | I85: =(E85*G85)/1000000 -> 29232
B86: 9-1099 | C86: Unit 6 CT | D86: Gas | E86: 25000000 | F86: scf | G86: 1044 | H86: MMBTU/ 1 E+06 scf | I86: =(E86*G86)/1000000 -> 26100
B87: 9-1100 | C87: Unit 7 CT | D87: Gas | E87: 24000000 | F87: scf | G87: 1044 | H87: MMBTU/ 1 E+06 scf | I87: =(E87*G87)/1000000 -> 25056
B88: 9-1101 | C88: Unit 8 CT | D88: Gas | E88: 19000000 | F88: scf | G88: 1044 | H88: MMBTU/ 1 E+06 scf | I88: =(E88*G88)/1000000 -> 19836
H89: Natural Gas Total | I89: =SUM(I81:I88) -> 172260
F91: Natural Gas Total | I91: =I89 -> 172260
B97: ELECTRIC POWER SECTOR
B98: CO2 EMISSION SUMMARY: NON-RGGI ALL UNITS | E98: 2006
C100: Consumption | D100: Emission Factor | E100: Combustion | F100: Emissions | G100: Emissions | H100: Emissions | I100: Emissions | J100: Emissions
B101: Fuel Type | C101: (Billion Btu) | D101: (lbs C/Million Btu) | E101: Efficiency (%) | F101: (short tons carbon) | G101: (short tons CO2 ) | H101: (metric tons CO2 ) | I101: (MMTCO2 E ) | J101: (MMTCE )
B102: Coal | C102: 0 | D102: 55.800818 | E102: 1 | F102: =C102*1000*D102*E102/2000 -> 0 | G102: =F102*(44/12) -> 0 | H102: =G102*0.9072 -> 0 | I102: =H102/1000000 -> 0 | J102: =I102*(12/44) -> 0
B103: Distillate Fuel | C103: =I66/1000 -> 556.60083 | D103: 43.942731 | E103: 1 | F103: =C103*1000*D103*E103/2000 -> 12229.28 | G103: =F103*(44/12) -> 44840.694 | H103: =G103*0.9072 -> 40679.478 | I103: =H103/1000000 -> 0.040679478 | J103: =I103*(12/44) -> 0.011094403
B104: Residual Fuel | C104: =I77/1000 -> 42.122053 | D104: 47.334802 | E104: 1 | F104: =C104*1000*D104*E104/2000 -> 996.91953 | G104: =F104*(44/12) -> 3655.3716 | H104: =G104*0.9072 -> 3316.1531 | I104: =H104/1000000 -> 0.0033161531 | J104: =I104*(12/44) -> 0.00090440539
B105: Natural Gas | C105: =I91/1000 -> 172.26 | D105: 31.872247 | E105: 1 | F105: =C105*1000*D105*E105/2000 -> 2745.1566 | G105: =F105*(44/12) -> 10065.574 | H105: =G105*0.9072 -> 9131.4889 | I105: =H105/1000000 -> 0.0091314889 | J105: =I105*(12/44) -> 0.0024904061
B106: Total | G106: =SUM(G102:G105) -> 58561.64 | H106: =SUM(H102:H105) -> 53127.12 | I106: =SUM(I102:I105) -> 0.05312712
B109: ELECTRIC POWER SECTOR
B110: CH4 EMISSION SUMMARY: NON-RGGI ALL UNITS | E110: 2006
C112: Consumption | D112: Emission Factor | E112: Emissions | F112: GWP | G112: Emissions | I112: Global Warming Potential
B113: Fuel Type | C113: (Billion Btu) | D113: (metric tons CH4 /BBtu) | E113: (metric tons CH4) | G113: (MMTCO2E)
B114: Coal | C114: 0 | D114: 0.0010023031 | E114: =C114*D114 -> 0 | F114: =$J$115 -> 27.9 | G114: =E114*F114/1000000 -> 0 | I114: CO2_GWP= | J114: =Summary!E4 -> 1
B115: Distillate Fuel | C115: =C103 -> 556.60083 | D115: 0.0030069092 | E115: =C115*D115 -> 1.6736481 | F115: =$J$115 -> 27.9 | G115: =E115*F115/1000000 -> 4.6694783e-05 | I115: CH4_GWP = | J115: =Summary!E5 -> 27.9
B116: Residual Fuel | C116: =C104 -> 42.122053 | D116: 0.0030069092 | E116: =C116*D116 -> 0.12665719 | F116: =$J$115 -> 27.9 | G116: =E116*F116/1000000 -> 3.5337356e-06 | I116: N2O_GWP= | J116: =Summary!E6 -> 273
B117: Natural Gas | C117: =C105 -> 172.26 | D117: 0.00094955027 | E117: =C117*D117 -> 0.16356953 | F117: =$J$115 -> 27.9 | G117: =E117*F117/1000000 -> 4.5635899e-06 | I117: SF6_GWP = | J117: =Summary!E7 -> 24300
F118: Total | G118: =SUM(G114:G117) -> 5.4792108e-05
B121: ELECTRIC POWER SECTOR
B122: N2O EMISSION SUMMARY: NON-RGGI ALL UNITS | E122: 2006
B124: Fuel Type | C124: Consumption | D124: Emission Factor | E124: Emissions | F124: GWP | G124: Emissions
C125: (Billion Btu) | D125: (metric tons N2O/BBtu) | E125: (metric tons N2O) | G125: (MMTCO2E)
B126: Coal | C126: 0 | D126: 0.0015034546 | E126: =C126*D126 -> 0 | F126: =$J$116 -> 273 | G126: =E126*F126/1000000 -> 0
B127: Distillate Fuel | C127: =C115 -> 556.60083 | D127: 0.00060138184 | E127: =C127*D127 -> 0.33472963 | F127: =$J$116 -> 273 | G127: =E127*F127/1000000 -> 9.1381188e-05
...

Sheet Imported Electricity
A1: Projected Electric Consumption (Imported Electricity) Emissions for Maryland
E3: Fuel Consumption For Electricity Generation
C5: 1991 | D5: 1992 | E5: 1993 | F5: 1994 | G5: 1995 | H5: 1996 | I5: 1997 | J5: 1998 | K5: 1999 | L5: 2000 | M5: 2001 | N5: 2002 | O5: 2003 | P5: 2004 | Q5: 2005 | R5: 2006 | S5: 2007 | T5: 2008
B7: Coal (Short Tons) | L7: 11420038 | M7: 11135140 | N7: 11364983 | O7: 11852129 | P7: 11608446 | Q7: 11745248 | R7: 11687603 | S7: 11937518 | T7: 11098391
B8: Petroleum (Barrels) | L8: 4143417 | M8: 5514960 | N8: 4108104 | O8: 6164252 | P8: 5672819.2 | Q8: 6574936.7 | R8: 1050222 | S8: 1790746 | T8: 791418
B9: Natural Gas (Mcf) | L9: 29023288 | M9: 17985486 | N9: 22627073 | O9: 11162538 | P9: 9994238 | Q9: 18619350 | R9: 16620796 | S9: 21481869 | T9: 17563616
B10: Other Gases (MMBTU) | L10: 758 | M10: 7537 | N10: 9278 | O10: 6717 | P10: 5127.03 | Q10: 4266.24 | R10: 4141.31 | S10: 4703.42 | T10: 4194.02
C14: MD In-State Gross Generation (MWh)
C16: 1991 | D16: 1992 | E16: 1993 | F16: 1994 | G16: 1995 | H16: 1996 | I16: 1997 | J16: 1998 | K16: 1999 | L16: 2000 | M16: 2001 | N16: 2002 | O16: 2003 | P16: 2004 | Q16: 2005 | R16: 2006 | S16: 2007 | T16: 2008
B17: Coal | C17: 22835671 | D17: 23850470 | E17: 25126979 | F17: 25624758 | G17: 27595256 | H17: 27992005 | I17: 27620925 | J17: 29294727 | K17: 29687655 | L17: 29451065 | M17: 28379409 | N17: 28712053 | O17: 29939086 | P17: 29195458 | Q17: 29302792 | R17: 29408022 | S17: 29699186 | T17: 27218239
B18: Petroleum | C18: 4078506 | D18: 2749511 | E18: 4164790 | F18: 4275226 | G18: 1479469 | H18: 1472027 | I18: 1565010 | J18: 3454350 | K18: 4290788 | L18: 2388595 | M18: 3021639 | N18: 2282432 | O18: 3572183 | P18: 3296842 | Q18: 3805569 | R18: 580726 | S18: 984831 | T18: 405840
B19: Natural Gas | C19: 1517463 | D19: 1077542 | E19: 772304 | F19: 1172042 | G19: 1548884 | H19: 987627 | I19: 1412585 | J19: 1990596 | K19: 2125193 | L19: 2852876 | M19: 1760812 | N19: 2214431 | O19: 1195642 | P19: 1183301 | Q19: 1886986 | R19: 1770206 | S19: 2240927 | T19: 1848147
B20: Other Gases | C20: 478704 | D20: 506572 | E20: 475788 | F20: 501762 | G20: 685721 | H20: 539335 | I20: 564036 | J20: 82316 | K20: 59891 | L20: 74572 | M20: 439980 | N20: 504513 | O20: 325355 | P20: 411565 | Q20: 342466 | R20: 332444 | S20: 377560 | T20: 337823
B21: Nuclear | C21: 9036100 | D21: 10663950 | E21: 12300816 | F21: 11235408 | G21: 12937971 | H21: 12092768 | I21: 13212967 | J21: 13330598 | K21: 13312335 | L21: 13827243 | M21: 13656267 | N21: 12128005 | O21: 13690713 | P21: 14580260 | Q21: 14703221 | R21: 13830411 | S21: 14353192 | T21: 14678695
B22: Hydroelectric Conventional | C22: 1407287 | D22: 1824659 | E22: 1658271 | F22: 2009536 | G22: 1442006 | H22: 2457463 | I22: 1588375 | J22: 1739737 | K22: 1424197 | L22: 1732619 | M22: 1183518 | N22: 1660989 | O22: 2646984 | P22: 2507521 | Q22: 1703639 | R22: 2104275 | S22: 1652216 | T22: 1974078
B23: Wood and Wood Derived Fuels | C23: 160602 | D23: 174801 | E23: 175122 | F23: 168822 | G23: 175144 | H23: 167554 | I23: 155906 | J23: 155647 | K23: 171088 | L23: 179580 | M23: 11939 | N23: 182904 | O23: 225240 | P23: 192384 | Q23: 205985 | R23: 218066 | S23: 203097 | T23: 197704
B24: Other Biomass | C24: 336551 | D24: 329854 | E24: 303818 | F24: 352064 | G24: 501192 | H24: 565838 | I24: 587592 | J24: 605046 | K24: 614474 | L24: 638830 | M24: 361076 | N24: 338727 | O24: 370811 | P24: 396824 | Q24: 417380 | R24: 408095 | S24: 400364 | T24: 414781
B25: Other | M25: 247700 | N25: 255034 | O25: 278224 | P25: 288616 | Q25: 293561 | R25: 304635 | S25: 286550 | T25: 285645
B26: Total | C26: 39850884 | D26: 41177359 | E26: 44977888 | F26: 45339618 | G26: 46365643 | H26: 46274617 | I26: 46707396 | J26: 50653017 | K26: 51685621 | L26: 51145380 | M26: 49062340 | N26: 48279088 | O26: 52244237 | P26: 52052770 | Q26: 52661600 | R26: 48956880 | S26: 50197924 | T26: 47360953
C28: MD -Electricity Losses (MWh) (Transmission and Distribution) Assume 6.25 %
C30: 1991 | D30: 1992 | E30: 1993 | F30: 1994 | G30: 1995 | H30: 1996 | I30: 1997 | J30: 1998 | K30: 1999 | L30: 2000 | M30: 2001 | N30: 2002 | O30: 2003 | P30: 2004 | Q30: 2005 | R30: 2006 | S30: 2007 | T30: 2008
B31: T &D Losses | C31: =C26*6.25% -> 2490680.2 | D31: =D26*6.25% -> 2573584.9 | E31: =E26*6.25% -> 2811118 | F31: =F26*6.25% -> 2833726.1 | G31: =G26*6.25% -> 2897852.7 | H31: =H26*6.25% -> 2892163.6 | I31: =I26*6.25% -> 2919212.2 | J31: =J26*6.25% -> 3165813.6 | ... T31: =T26*6.25% -> 2960059.6
C34: Net MD In-State Electricity Generated (MWh) = MD Gross In-State Electricity Generated - T &D Losses
C37: 1991 | D37: 1992 | E37: 1993 | F37: 1994 | G37: 1995 | H37: 1996 | I37: 1997 | J37: 1998 | K37: 1999 | L37: 2000 | M37: 2001 | N37: 2002 | O37: 2003 | P37: 2004 | Q37: 2005 | R37: 2006 | S37: 2007 | T37: 2008
B38: Net In -State Generated Electricity | C38: =C26-C31 -> 37360204 | D38: =D26-D31 -> 38603774 | E38: =E26-E31 -> 42166770 | F38: =F26-F31 -> 42505892 | G38: =G26-G31 -> 43467790 | H38: =H26-H31 -> 43382453 | I38: =I26-I31 -> 43788184 | J38: =J26-J31 -> 47487203 | ... T38: =T26-T31 -> 44400893
E41: Electricity Consumption (MWh) (MD Retail Sales)
C43: 1991 | D43: 1992 | E43: 1993 | F43: 1994 | G43: 1995 | H43: 1996 | I43: 1997 | J43: 1998 | K43: 1999 | L43: 2000 | M43: 2001 | N43: 2002 | O43: 2003 | P43: 2004 | Q43: 2005 | R43: 2006 | S43: 2007 | T43: 2008
B44: Residential | C44: 20295448 | D44: 19762032 | E44: 21546122 | F44: 21666119 | G44: 22233807 | H44: 22985772 | I44: 21936662 | J44: 22406855 | K44: 23342423 | L44: 23949315 | M44: 24294096 | N44: 25489053 | O44: 26671274 | P44: 27951978 | Q44: 28439645 | R44: 26905386 | S44: 28194802 | T44: 27144255
B45: Commercial | C45: 10667414 | D45: 10769686 | E45: 11316964 | F45: 13253588 | G45: 23096405 | H45: 23126094 | I45: 23418552 | J45: 24284167 | K45: 24988489 | L45: 25804298 | M45: 26243614 | N45: 21044289 | O45: 16950347 | P45: 17264135 | Q45: 17931771 | R45: 29729030 | S45: 30691159 | T45: 30002993
B46: Industrial | C46: 19448114 | D46: 19768026 | E46: 20200630 | F46: 19037490 | G46: 10057219 | H46: 10098447 | I46: 10127852 | J46: 10343675 | K46: 9936115 | L46: 10066312 | M46: 10176724 | N46: 20874507 | O46: 27175526 | P46: 21194572 | Q46: 21516638 | R46: 6057030 | S46: 5980358 | T46: 5649943
B47: Transportation | C47: 0 | D47: 0 | E47: 0 | F47: 0 | G47: 0 | H47: 0 | I47: 0 | J47: 0 | K47: 0 | L47: 0 | M47: 0 | N47: 0 | O47: 461436 | P47: 481015 | Q47: 477331 | R47: 481697 | S47: 524341 | T47: 528586
B48: Others | C48: 696831 | D48: 689042 | E48: 808686 | F48: 794428 | G48: 770615 | H48: 787207 | I48: 781420 | J48: 798935 | K48: 819198 | L48: 857876 | M48: 925586 | N48: 972057 | O48: 0 | P48: 0 | Q48: 0 | R48: 0 | S48: 0 | T48: 0
B49: Total Electric Consumption (Mwh) NET | C49: 51107809 | D49: 50988788 | E49: 53872404 | F49: 54751623 | G49: 56158046 | H49: 56997520 | I49: 56264486 | J49: 57833638 | K49: 59086225 | L49: =SUM(L44:L48) -> 60677801 | M49: =SUM(M44:M48) -> 61640020 | N49: =SUM(N44:N48) -> 68379906 | O49: =SUM(O44:O48) -> 71258583 | P49: =SUM(P44:P48) -> 66891700 | Q49: =SUM(Q44:Q48) -> 68365385 | R49: =SUM(R44:R48) -> 63173143 | S49: =SUM(S44:S48) -> 65390660 | T49: =SUM(T44:T48) -> 63325777
B50: Total Electric Consumption (Mwh) GROSS | C50: =C49*1.0625 -> 54302047 | D50: =D49*1.0625 -> 54175587 | E50: =E49*1.0625 -> 57239429 | F50: =F49*1.0625 -> 58173599 | G50: =G49*1.0625 -> 59667924 | H50: =H49*1.0625 -> 60559865 | I50: =I49*1.0625 -> 59781016 | J50: =J49*1.0625 -> 61448240 | ... T50: =T49*1.0625 -> 67283638
E54: Electricity Imported (MWh) = MD Retail Sales - Net In-state Generation
C56: 1991 | D56: 1992 | E56: 1993 | F56: 1994 | G56: 1995 | H56: 1996 | I56: 1997 | J56: 1998 | K56: 1999 | L56: 2000 | M56: 2001 | N56: 2002 | O56: 2003 | P56: 2004 | Q56: 2005 | R56: 2006 | S56: 2007 | T56: 2008
B57: Gross Imported Electricity to Meet MD Demand (MWh) | C57: =C50-C26 -> 14451163 | D57: =D50-D26 -> 12998228 | E57: =E50-E26 -> 12261541 | F57: =F50-F26 -> 12833981 | G57: =G50-G26 -> 13302281 | H57: =H50-H26 -> 14285248 | I57: =I50-I26 -> 13073620 | J57: =J50-J26 -> 10795223 | ... T57: =T50-T26 -> 19922685
E60: GHG Associated with Imported Electricity
B62: PJM Average CO2 Emission Rate (lbs/MWh) | I62: CO2 Emission
B63: (CO2 Emission Rate of Marginal Units) | I63: (short tons)
B64: 1252 | I64: =(B64*R57)/2000 -> 11371030
B65: =K74*2204.623/K70 -> 1253.142
C66: Coal | D66: Nuclear | E66: Natural Gas | F66: Oil | G66: Hydroelectric | H66: Solid Waste | I66: Wind | J66: Captured CH4 | K66: Total
B68: PJM Electricity Generation Fuel Mix 2006 | C68: 57.478969 | D68: 34.97547 | E68: 5.1416049 | F68: 0.30854741 | G68: 1.1203993 | H68: 0.56948828 | I68: 0.11589155 | J68: 0.15204404 | K68: =SUM(C68:J68) -> 99.862415
B70: Maryland 2006 Import Share (MWh) | C70: =(C68/100)*R57 -> 10440816 | D70: =(D68/100)*R57 -> 6353148.9 | E70: =(E68/100)*R57 -> 933951.17 | F70: =(F68/100)*R57 -> 56046.354 | G70: =(G68/100)*R57 -> 203515.87 | H70: =(H68/100)*R57 -> 103445.18 | I70: =(I68/100)*R57 -> 21051.218 | J70: =(J68/100)*R57 -> 27618.168 | K70: =SUM(C70:J70) -> 18139593
B72: Imported Electric CO2 Emissions Factors (tons/MWh) | C72: 0.92714315 | E72: 0.56866252 | F72: 0.88599532 | H72: 0.44810378 | J72: 0.12969805
B74: Imported Electric CO2 Emissions (metric tons) | C74: =C70*C72 -> 9680130.9 | E74: =E70*E72 -> 531103.03 | F74: =F70*F72 -> 49656.808 | H74: =H70*H72 -> 46354.176 | J74: =J70*J72 -> 3582.0226 | K74: =SUM(C74:J74) -> 10310827
B76: Imported Electric CO2 Emissions (MMTCO2) | C76: =C74/1000000 -> 9.6801309 | E76: =E74/1000000 -> 0.53110303 | F76: =F74/1000000 -> 0.049656808 | H76: =H74/1000000 -> 0.046354176 | J76: =J74/1000000 -> 0.0035820226 | K76: =K74/1000000 -> 10.310827
E81: Imported Electricity Emissions (MMTCO2E)
C83: 1991 | D83: 1992 | E83: 1993 | F83: 1994 | G83: 1995 | H83: 1996 | I83: 1997 | J83: 1998 | K83: 1999 | L83: 2000 | M83: 2001 | N83: 2002 | O83: 2003 | P83: 2004 | Q83: 2005 | R83: 2006 | S83: 2007 | T83: 2008
B84: Gross Imported Electricity to Meet MD Demand (MWh) | C84: =(C57*$B$64/2204.62262)/1000000 -> 8.2067815 | D84: =(D57*$B$64/2204.62262)/1000000 -> 7.3816632 | E84: =(E57*$B$64/2204.62262)/1000000 -> 6.9633004 | F84: =(F57*$B$64/2204.62262)/1000000 -> 7.2883879 | G84: =(G57*$B$64/2204.62262)/1000000 -> 7.554334 | H84: =(H57*$B$64/2204.62262)/1000000 -> 8.1125587 | I84: =(I57*$B$64/2204.62262)/1000000 -> 7.4244783 | J84: =(J57*$B$64/2204.62262)/1000000 -> 6.130582 | ... Q84: =(Q57*$B$64/2204.62262)/1000000 -> 11.344676 | R84: =K76 -> 10.310827 | S84: =(S57*$B$64/2204.62262)/1000000 -> 10.948869 | T84: =(T57*$B$64/2204.62262)/1000000 -> 11.314046
R85: =+R57*B64/2204/1000000 -> 10.318539

Sheet Residential
A2: Residential Consumption and CO2 Emissions in Maryland
B5: Residential Sector CO2 | E5: 2006
C7: Consumption | D7: Emission Factor | E7: Combustion | F7: Emissions | G7: Emissions | J7: Global Warming Potential
B8: Fuel Type | C8: (Billion Btu) | D8: (lbs C/Million Btu) | E8: Efficiency (%) | F8: (short tons carbon) | G8: (MMTCO2E)
B9: Coal | C9: 94.08602 | D9: 56.792727 | E9: 1 | F9: =C9*1000*D9*E9/2000 -> 2671.7008 | G9: =F9*(44/12)*0.90718/1000000 -> 0.0088869497 | J9: CO2_GWP= | K9: =Summary!E4 -> 1
B10: Distillate Fuel | C10: 19718.993 | D10: 43.942731 | E10: 1 | F10: =C10*1000*D10*E10/2000 -> 433253.2 | G10: =F10*(44/12)*0.90718/1000000 -> 1.4411417 | J10: CH4_GWP = | K10: =Summary!E5 -> 27.9
B11: Kerosene | C11: 2477.4286 | D11: 43.436123 | E11: 1 | F11: =C11*1000*D11*E11/2000 -> 53804.948 | G11: =F11*(44/12)*0.90718/1000000 -> 0.17897283 | J11: N2O_GWP= | K11: =Summary!E6 -> 273
B12: LPG | C12: 6645.397 | D12: 37.90594 | E12: 1 | F12: =C12*1000*D12*E12/2000 -> 125950.01 | G12: =F12*(44/12)*0.90718/1000000 -> 0.41895087 | J12: SF6_GWP = | K12: =Summary!E7 -> 24300
B13: Natural Gas | C13: 73811.311 | D13: 31.872247 | E13: 1 | F13: =C13*1000*D13*E13/2000 -> 1176266.2 | G13: =F13*(44/12)*0.90718/1000000 -> 3.9126455
E14: Total | G14: =SUM(G9:G13) -> 5.9605978
B16: Residential Sector N20 | E16: 2006
C18: Consumption | D18: Emission Factor | E18: Emissions | F18: GWP | G18: Emissions
B19: Fuel Type | C19: (Billion Btu) | D19: (metric tons N2O/BBtu) | E19: (metric tons N2O) | G19: (MMTCO2E)
B20: Coal | C20: 94.08602 | D20: 0.0015034546 | E20: =C20*D20 -> 0.14145406 | F20: =$K$11 -> 273 | G20: =E20*F20/1000000 -> 3.8616958e-05
B21: Distillate Fuel | C21: 19718.993 | D21: 0.00060138184 | E21: =C21*D21 -> 11.858644 | F21: =$K$11 -> 273 | G21: =E21*F21/1000000 -> 0.0032374098
B22: Kerosene | C22: 2477.4286 | D22: 0.00060138184 | E22: =C22*D22 -> 1.4898806 | F22: =$K$11 -> 273 | G22: =E22*F22/1000000 -> 0.0004067374
B23: LPG | C23: 6645.397 | D23: 0.00060138184 | E23: =C23*D23 -> 3.996421 | F23: =$K$11 -> 273 | G23: =E23*F23/1000000 -> 0.0010910229
B24: Natural Gas | C24: 73811.311 | D24: 9.4955027e-05 | E24: =C24*D24 -> 7.008755 | F24: =$K$11 -> 273 | G24: =E24*F24/1000000 -> 0.0019133901
B25: Wood | C25: 6903.1058 | D25: 0.0037982011 | E25: =C25*D25 -> 26.219384 | F25: =$K$11 -> 273 | G25: =E25*F25/1000000 -> 0.0071578918
F26: Total | G26: =SUM(G20:G25) -> 0.013845069
B29: Residential Sector CH4 | E29: 2006
C31: Consumption | D31: Emission Factor | E31: Emissions | F31: GWP | G31: Emissions
B32: Fuel Type | C32: (Billion Btu) | D32: (metric tons CH4 /BBtu) | E32: (metric tons CH4) | G32: (MMTCO2E)
B33: Coal | C33: 94.08602 | D33: 0.30069092 | E33: =C33*D33 -> 28.290812 | F33: =$K$10 -> 27.9 | G33: =E33*F33/1000000 -> 0.00078931365
B34: Distillate Fuel | C34: 19718.993 | D34: 0.010023031 | E34: =C34*D34 -> 197.64407 | F34: =$K$10 -> 27.9 | G34: =E34*F34/1000000 -> 0.0055142695
B35: Kerosene | C35: 2477.4286 | D35: 0.010023031 | E35: =C35*D35 -> 24.831343 | F35: =$K$10 -> 27.9 | G35: =E35*F35/1000000 -> 0.00069279447
B36: LPG | C36: 6645.397 | D36: 0.010023031 | E36: =C36*D36 -> 66.607017 | F36: =$K$10 -> 27.9 | G36: =E36*F36/1000000 -> 0.0018583358
B37: Natural Gas | C37: 73811.311 | D37: 0.0047477513 | E37: =C37*D37 -> 350.43775 | F37: =$K$10 -> 27.9 | G37: =E37*F37/1000000 -> 0.0097772132
B38: Wood | C38: 6903.1058 | D38: 0.28486508 | E38: =C38*D38 -> 1966.4538 | F38: =$K$10 -> 27.9 | G38: =E38*F38/1000000 -> 0.054864061
F39: Total | G39: =SUM(G33:G38) -> 0.073495987
B43: Residential Sector 2006 GHG Emissions
C45: Emissions | D45: Emissions | E45: Emissions | F45: Emissions
C46: CO2 | D46: N2O | E46: CH4 | F46: Total
B47: Fuel Type | C47: (MMTCO2E) | D47: (MMTCO2E) | E47: (MMTCO2E) | F47: (MMTCO2E)
B48: Coal | C48: =G9 -> 0.0088869497 | D48: =G20 -> 3.8616958e-05 | E48: =G33 -> 0.00078931365 | F48: =C48+D48+E48 -> 0.0097148803
B49: Distillate Fuel | C49: =G10 -> 1.4411417 | D49: =G21 -> 0.0032374098 | E49: =G34 -> 0.0055142695 | F49: =C49+D49+E49 -> 1.4498933
B50: Kerosene | C50: =G11 -> 0.17897283 | D50: =G22 -> 0.0004067374 | E50: =G35 -> 0.00069279447 | F50: =C50+D50+E50 -> 0.18007237
B51: LPG | C51: =G12 -> 0.41895087 | D51: =G23 -> 0.0010910229 | E51: =G36 -> 0.0018583358 | F51: =C51+D51+E51 -> 0.42190023
B52: Natural Gas | C52: =G13 -> 3.9126455 | D52: =G24 -> 0.0019133901 | E52: =G37 -> 0.0097772132 | F52: =C52+D52+E52 -> 3.9243361
B53: Wood | C53: 0 | D53: =G25 -> 0.0071578918 | E53: =G38 -> 0.054864061 | F53: =C53+D53+E53 -> 0.062021952
E54: Total | F54: =SUM(F48:F53) -> 6.0479388
C56: CO2 | D56: N2O | E56: CH4 | F56: Total
B57: Fuel Type Category | C57: (MMTCO2e) | D57: (MMTCO2e) | E57: (MMTCO2e) | F57: (MMTCO2e)
B58: Coal | C58: =C48 -> 0.0088869497 | D58: =D48 -> 3.8616958e-05 | E58: =E48 -> 0.00078931365 | F58: =F48 -> 0.0097148803
B59: Natural Gas & LPG | C59: =C52+C51 -> 4.3315963 | D59: =D52+D51 -> 0.0030044131 | E59: =E52+E51 -> 0.011635549 | F59: =F52+F51 -> 4.3462363
B60: Petroleum | C60: =C49+C50 -> 1.6201145 | D60: =D49+D50 -> 0.0036441472 | E60: =E49+E50 -> 0.0062070639 | F60: =F49+F50 -> 1.6299657
B61: Wood | C61: =C53 -> 0 | D61: =D53 -> 0.0071578918 | E61: =E53 -> 0.054864061 | F61: =F53 -> 0.062021952
E62: Total | F62: =SUM(F58:F61) -> 6.0479388

Sheet Commercial
A1: Commercial Consumption and CO2 Emissions in Maryland
B4: Commercial Sector CO2 | E4: 2006
J5: Global Warming Potential
C6: Consumption | D6: Emission Factor | E6: Combustion | F6: Emissions | G6: Emissions
B7: Fuel Type | C7: (Billion Btu) | D7: (lbs C/Million Btu) | E7: Efficiency (%) | F7: (short tons carbon) | G7: (MMTCO2E) | J7: CO2_GWP= | K7: =Summary!E4 -> 1
B8: Coal | C8: 951.31425 | D8: 56.792727 | E8: 1 | F8: =C8*1000*D8*E8/2000 -> 27013.865 | G8: =F8*(44/12)*0.90718/1000000 -> 0.089856941 | J8: CH4_GWP = | K8: =Summary!E5 -> 27.9
B9: Distillate Fuel | C9: 10493.92 | D9: 43.942731 | E9: 1 | F9: =C9*1000*D9*E9/2000 -> 230565.76 | G9: =F9*(44/12)*0.90718/1000000 -> 0.76693702 | J9: N2O_GWP= | K9: =Summary!E6 -> 273
B10: Kerosene | C10: 353.45788 | D10: 43.436123 | E10: 1 | F10: =C10*1000*D10*E10/2000 -> 7676.42 | G10: =F10*(44/12)*0.90718/1000000 -> 0.025534281 | J10: SF6_GWP = | K10: =Summary!E7 -> 24300
B11: LPG | C11: 1172.7171 | D11: 37.90594 | E11: 1 | F11: =C11*1000*D11*E11/2000 -> 22226.472 | G11: =F11*(44/12)*0.90718/1000000 -> 0.073932506
B12: Motor Gasoline | C12: 170.91419 | D12: 42.62265 | E12: 1 | F12: =C12*1000*D12*E12/2000 -> 3642.4079 | G12: =F12*(44/12)*0.90718/1000000 -> 0.012115838
B13: Residual Fuel | C13: 301.52722 | D13: 47.334802 | E13: 1 | F13: =C13*1000*D13*E13/2000 -> 7136.3656 | G13: =F13*(44/12)*0.90718/1000000 -> 0.023737883
B14: Natural Gas | C14: 65040.951 | D14: 31.872247 | E14: 1 | F14: =C14*1000*D14*E14/2000 -> 1036500.6 | G14: =F14*(44/12)*0.90718/1000000 -> 3.4477396
F15: Total | G15: =SUM(G8:G14) -> 4.4398541
B18: Commercial Sector N2O | E18: 2006
C20: Consumption | D20: Emission Factor | E20: Emissions | F20: GWP | G20: Emissions
B21: Fuel Type | C21: (Billion Btu) | D21: (metric tons N2O/BBtu) | E21: (metric tons N2O) | G21: (MMTCO2E)
B22: Coal | C22: 951.31425 | D22: 0.0015034546 | E22: =C22*D22 -> 1.4302578 | F22: =$K$9 -> 273 | G22: =E22*F22/1000000 -> 0.00039046037
B23: Distillate Fuel | C23: 10493.92 | D23: 0.00060138184 | E23: =C23*D23 -> 6.3108529 | F23: =$K$9 -> 273 | G23: =E23*F23/1000000 -> 0.0017228629
B24: Kerosene | C24: 353.45788 | D24: 0.00060138184 | E24: =C24*D24 -> 0.21256315 | F24: =$K$9 -> 273 | G24: =E24*F24/1000000 -> 5.802974e-05
B25: LPG | C25: 1172.7171 | D25: 0.00060138184 | E25: =C25*D25 -> 0.70525076 | F25: =$K$9 -> 273 | G25: =E25*F25/1000000 -> 0.00019253346
B26: Motor Gasoline | C26: 178.19621 | D26: 0.00060138184 | E26: =C26*D26 -> 0.10716396 | F26: =$K$9 -> 273 | G26: =E26*F26/1000000 -> 2.9255762e-05
B27: Residual Fuel | C27: 301.52722 | D27: 0.00060138184 | E27: =C27*D27 -> 0.18133299 | F27: =$K$9 -> 273 | G27: =E27*F27/1000000 -> 4.9503907e-05
B28: Natural Gas | C28: 65040.951 | D28: 9.4955027e-05 | E28: =C28*D28 -> 6.1759652 | F28: =$K$9 -> 273 | G28: =E28*F28/1000000 -> 0.0016860385
B29: Wood | C29: 2101.1986 | D29: 0.0037982011 | E29: =C29*D29 -> 7.9807746 | F29: =$K$9 -> 273 | G29: =E29*F29/1000000 -> 0.0021787515
F30: Total | G30: =SUM(G22:G29) -> 0.0063074361
B33: Commercial Sector CH4 | E33: 2006
C35: Consumption | D35: Emission Factor | E35: Emissions | F35: GWP | G35: Emissions
B36: Fuel Type | C36: (Billion Btu) | D36: (metric tons CH4 /BBtu) | E36: (metric tons CH4) | G36: (MMTCO2E)
B37: Coal | C37: 951.31425 | D37: 0.010023031 | E37: =C37*D37 -> 9.5350518 | F37: =$K$8 -> 27.9 | G37: =E37*F37/1000000 -> 0.00026602795
B38: Distillate Fuel | C38: 10493.92 | D38: 0.010023031 | E38: =C38*D38 -> 105.18088 | F38: =$K$8 -> 27.9 | G38: =E38*F38/1000000 -> 0.0029345466
B39: Kerosene | C39: 353.45788 | D39: 0.010023031 | E39: =C39*D39 -> 3.5427191 | F39: =$K$8 -> 27.9 | G39: =E39*F39/1000000 -> 9.8841864e-05
B40: LPG | C40: 1172.7171 | D40: 0.010023031 | E40: =C40*D40 -> 11.754179 | F40: =$K$8 -> 27.9 | G40: =E40*F40/1000000 -> 0.0003279416
B41: Motor Gasoline | C41: 178.19621 | D41: 0.010023031 | E41: =C41*D41 -> 1.7860661 | F41: =$K$8 -> 27.9 | G41: =E41*F41/1000000 -> 4.9831243e-05
B42: Residual Fuel | C42: 301.52722 | D42: 0.010023031 | E42: =C42*D42 -> 3.0222166 | F42: =$K$8 -> 27.9 | G42: =E42*F42/1000000 -> 8.4319842e-05
B43: Natural Gas | C43: 65040.951 | D43: 0.0047477513 | E43: =C43*D43 -> 308.79826 | F43: =$K$8 -> 27.9 | G43: =E43*F43/1000000 -> 0.0086154714
B44: Wood | C44: 2101.1986 | D44: 0.28486508 | E44: =C44*D44 -> 598.55809 | F44: =$K$8 -> 27.9 | G44: =E44*F44/1000000 -> 0.016699771
F45: Total | G45: =SUM(G37:G44) -> 0.029076751
B48: Commercial Sector 2006 GHG Emission
D51: CO2 | E51: CH4 | F51: N2O | G51: GHG
C52: Consumption | D52: Emissions | E52: Emissions | F52: Emissions | G52: Emissions
B53: Fuel Type | C53: (Billion Btu) | D53: (MMTCO2E) | E53: (MMTCO2E) | F53: (MMTCO2E) | G53: (MMTCO2E)
B54: Coal | C54: =C8 -> 951.31425 | D54: =G8 -> 0.089856941 | E54: =G37 -> 0.00026602795 | F54: =G22 -> 0.00039046037 | G54: =D54+E54+F54 -> 0.090513429
B55: Distillate Fuel | C55: =C9 -> 10493.92 | D55: =G9 -> 0.76693702 | E55: =G38 -> 0.0029345466 | F55: =G23 -> 0.0017228629 | G55: =D55+E55+F55 -> 0.77159443
B56: Kerosene | C56: =C10 -> 353.45788 | D56: =G10 -> 0.025534281 | E56: =G39 -> 9.8841864e-05 | F56: =G24 -> 5.802974e-05 | G56: =D56+E56+F56 -> 0.025691152
B57: LPG | C57: =C11 -> 1172.7171 | D57: =G11 -> 0.073932506 | E57: =G40 -> 0.0003279416 | F57: =G25 -> 0.00019253346 | G57: =D57+E57+F57 -> 0.074452981
B58: Motor Gasoline | C58: =C12 -> 170.91419 | D58: =G12 -> 0.012115838 | E58: =G41 -> 4.9831243e-05 | F58: =G26 -> 2.9255762e-05 | G58: =D58+E58+F58 -> 0.012194925
B59: Residual Fuel | C59: =C13 -> 301.52722 | D59: =G13 -> 0.023737883 | E59: =G42 -> 8.4319842e-05 | F59: =G27 -> 4.9503907e-05 | G59: =D59+E59+F59 -> 0.023871707
B60: Natural Gas | C60: =C14 -> 65040.951 | D60: =G14 -> 3.4477396 | E60: =G43 -> 0.0086154714 | F60: =G28 -> 0.0016860385 | G60: =D60+E60+F60 -> 3.4580411
B61: Wood | C61: =C44 -> 2101.1986 | D61: 0 | E61: =G44 -> 0.016699771 | F61: =G29 -> 0.0021787515 | G61: =D61+E61+F61 -> 0.018878522
F62: Total | G62: =SUM(G54:G61) -> 4.4752383
C64: CO2 | D64: CH4 | E64: N2O | F64: Total
B65: Fuel Type Category | C65: (MMTCO2e) | D65: (MMTCO2e) | E65: (MMTCO2e) | F65: (MMTCO2e)
B66: Coal | C66: =D54 -> 0.089856941 | D66: =E54 -> 0.00026602795 | E66: =F54 -> 0.00039046037 | F66: =G54 -> 0.090513429
B67: Natural Gas & LPG | C67: =D60+D57 -> 3.5216721 | D67: =E60+E57 -> 0.0089434131 | E67: =F60+F57 -> 0.001878572 | F67: =G60+G57 -> 3.5324941
B68: Petroleum | C68: =D55+D56+D58+D59 -> 0.82832502 | D68: =E55+E56+E58+E59 -> 0.0031675396 | E68: =F55+F56+F58+F59 -> 0.0018596523 | F68: =G55+G56+G58+G59 -> 0.83335222
B69: Wood | C69: =D61 -> 0 | D69: =E61 -> 0.016699771 | E69: =F61 -> 0.0021787515 | F69: =G61 -> 0.018878522
E70: Total | F70: =SUM(F66:F69) -> 4.4752383

Sheet Industrial
A2: Industrial Consumption and CO2 Emissions in Maryland
B5: Industrial Sector CO2 | D5: 2006
C6: Total | D6: Non-Energy | F6: Net combustible
C7: Consumption | D7: Consumption | F7: Consumption | G7: Emission Factor | H7: Combustion | I7: Emissions | J7: Emissions
B8: Fuel Type | C8: (Billion Btu) | D8: (Billion Btu) | E8: Storage Factor (%) | F8: (Billion Btu) | G8: (lbs C/Million Btu) | H8: Efficiency (%) | I8: (short tons carbon) | J8: (MMTCO2E)
B9: Coking Coal | C9: 0 | D9: 0 | E9: 0.1 | F9: =C9-(D9*E9) -> 0 | G9: 56.195455 | H9: 1 | I9: =(F9*1000*G9*H9)/2000 -> 0 | J9: =I9*(44/12)*0.90718/1000000 -> 0
B10: Other Coal | C10: 30430.668 | D10: 307.25403 | E10: 0 | F10: =C10-(D10*E10) -> 30430.668 | G10: 56.852727 | H10: 1 | I10: =(F10*1000*G10*H10)/2000 -> 865033.23 | J10: =I10*(44/12)*0.90718/1000000 -> 2.8773831
B11: Asphalt and Road Oil | C11: 19576.189 | D11: 19576.189 | E11: 1 | F11: =C11-(D11*E11) -> 0 | G11: 45.418502 | H11: 1 | I11: =(F11*1000*G11*H11)/2000 -> 0 | J11: =I11*(44/12)*0.90718/1000000 -> 0
B12: Aviation Gasoline Blending Components | C12: 0 | D12: 0 | E12: 0 | F12: =C12-(D12*E12) -> 0 | G12: 41.563877 | H12: 1 | I12: =F12*G12*H12/2000 -> 0 | J12: =I12*(44/12)*0.90718/1000000 -> 0
B13: Crude Oil | C13: 0 | D13: 0 | E13: 0 | F13: =C13-(D13*E13) -> 0 | G13: 44.823453 | H13: 1 | I13: =F13*G13*H13/2000 -> 0 | J13: =I13*(44/12)*0.90718/1000000 -> 0
B14: Distillate Fuel | C14: 12446.073 | D14: 118.82736 | E14: 0.5 | F14: =C14-(D14*E14) -> 12386.659 | G14: 43.942731 | H14: 1 | I14: =(F14*1000*G14*H14)/2000 -> 272151.82 | J14: =I14*(44/12)*0.90718/1000000 -> 0.90526586
B15: Feedstocks, Naphtha less than 401 F | C15: 726.11391 | D15: 715.14663 | E15: 0.61918626 | F15: =C15-(D15*E15) -> 283.30495 | G15: 39.955947 | H15: 1 | I15: =(F15*1000*G15*H15)/2000 -> 5659.8587 | J15: =I15*(44/12)*0.90718/1000000 -> 0.018826539
B16: Feedstocks, Other Oils greater than 401 F | C16: 912.92359 | D16: 661.47104 | E16: 0.61918626 | F16: =C16-(D16*E16) -> 503.34981 | G16: 43.942731 | H16: 1 | I16: =(F16*1000*G16*H16)/2000 -> 11059.283 | J16: =I16*(44/12)*0.90718/1000000 -> 0.036786787
B17: Kerosene | C17: 172.24553 | D17: 0 | E17: 0 | F17: =C17-(D17*E17) -> 172.24553 | G17: 43.436123 | H17: 1 | I17: =(F17*1000*G17*H17)/2000 -> 3740.839 | J17: =I17*(44/12)*0.90718/1000000 -> 0.012443253
B18: LPG | C18: 3241.0028 | D18: 2263.7017 | E18: 0.61918626 | F18: =C18-(D18*E18) -> 1839.3499 | G18: 37.454057 | H18: 1 | I18: =(F18*1000*G18*H18)/2000 -> 34445.557 | J18: =I18*(44/12)*0.90718/1000000 -> 0.11457718
B19: Lubricants | C19: 2154.1494 | D19: 2154.1494 | E19: 0.092393733 | F19: =C19-(D19*E19) -> 1955.1195 | G19: 44.581498 | H19: 1 | I19: =(F19*1000*G19*H19)/2000 -> 43581.077 | J19: =I19*(44/12)*0.90718/1000000 -> 0.1449649
B20: Motor Gasoline | C20: 5174.2153 | D20: 0 | E20: 0 | F20: =C20-(D20*E20) -> 5174.2153 | G20: 42.62265 | H20: 1 | I20: =(F20*1000*G20*H20)/2000 -> 110269.38 | J20: =I20*(44/12)*0.90718/1000000 -> 0.36679199
B21: Motor Gasoline Blending Components | C21: 0 | D21: 0 | E21: 0 | F21: =C21-(D21*E21) -> 0 | G21: 42.62265 | H21: 1 | I21: =F21*G21*H21/2000 -> 0 | J21: =I21*(44/12)*0.90718/1000000 -> 0
B22: Misc. Petro Products | C22: 157.0716 | D22: 157.0716 | E22: 0 | F22: =C22-(D22*E22) -> 157.0716 | G22: 44.823453 | H22: 1 | I22: =(F22*1000*G22*H22)/2000 -> 3520.2458 | J22: =I22*(44/12)*0.90718/1000000 -> 0.011709487
B23: Petroleum Coke | C23: 0 | D23: 0 | E23: 0.5 | F23: =C23-(D23*E23) -> 0 | G23: 61.343612 | H23: 1 | I23: =F23*G23*H23/2000 -> 0 | J23: =I23*(44/12)*0.90718/1000000 -> 0
B24: Pentanes Plus | C24: 161.77572 | D24: 122.0443 | E24: 0.61918626 | F24: =C24-(D24*E24) -> 86.207567 | G24: 40.176211 | H24: 1 | I24: =(F24*1000*G24*H24)/2000 -> 1731.7467 | J24: =I24*(44/12)*0.90718/1000000 -> 0.0057603553
B25: Residual Fuel | C25: 4766.9075 | D25: 0 | E25: 0.5 | F25: =C25-(D25*E25) -> 4766.9075 | G25: 47.334802 | H25: 1 | I25: =(F25*1000*G25*H25)/2000 -> 112820.31 | J25: =I25*(44/12)*0.90718/1000000 -> 0.37527721
B26: Still Gas | C26: 0 | D26: 0 | E26: 0.8 | F26: =C26-(D26*E26) -> 0 | G26: 38.568282 | H26: 1 | I26: =F26*G26*H26/2000 -> 0 | J26: =I26*(44/12)*0.90718/1000000 -> 0
B27: Special Naphthas | C27: 3076.9398 | D27: 3034.4904 | E27: 0 | F27: =C27-(D27*E27) -> 3076.9398 | G27: 43.744493 | H27: 1 | I27: =(F27*1000*G27*H27)/2000 -> 67299.587 | J27: =I27*(44/12)*0.90718/1000000 -> 0.22386041
B28: Unfinished Oils | C28: 0 | D28: 0 | E28: 0 | F28: =C28-(D28*E28) -> 0 | G28: 44.823453 | H28: 1 | I28: =F28*G28*H28/2000 -> 0 | J28: =I28*(44/12)*0.90718/1000000 -> 0
B29: Waxes | C29: 241.17278 | D29: 241.17278 | E29: 0.58 | F29: =C29-(D29*E29) -> 101.29257 | G29: 43.634361 | H29: 1 | I29: =(F29*1000*G29*H29)/2000 -> 2209.9182 | J29: =I29*(44/12)*0.90718/1000000 -> 0.00735091
B30: Natural Gas | C30: 23810.834 | D30: 1279.749 | E30: 0.61918626 | F30: =C30-(D30*E30) -> 23018.431 | G30: 31.872247 | H30: 1 | I30: =(F30*1000*G30*H30)/2000 -> 366824.56 | J30: =I30*(44/12)*0.90718/1000000 -> 1.2201783
H31: Total | J31: =SUM(J9:J30) -> 6.3211763
B35: Industrial Sector N2O | D35: 2006
C36: Total | D36: Non-Energy | J36: Global Warming Potential
C37: Consumption | D37: Consumption | E37: Emission Factor | F37: Emissions | G37: GWP | H37: Emissions
B38: Fuel Type | C38: (Billion Btu) | D38: (Billion Btu) | E38: (metric tons N2O/BBtu) | F38: (metric tons N2O) | H38: (MMTCO2E) | J38: CO2_GWP= | K38: =Summary!E4 -> 1
B39: Coking Coal | C39: 0 | D39: 0 | E39: 0.0015034546 | F39: =(C39-D39)*E39 -> 0 | G39: =$K$40 -> 273 | H39: =F39*G39/1000000 -> 0 | J39: CH4_GWP = | K39: =Summary!E5 -> 27.9
B40: Other Coal | C40: 30430.668 | D40: 307.25403 | E40: 0.0015034546 | F40: =(C40-D40)*E40 -> 45.289185 | G40: =$K$40 -> 273 | H40: =F40*G40/1000000 -> 0.012363947 | J40: N2O_GWP= | K40: =Summary!E6 -> 273
B41: Asphalt and Road Oil | C41: 19576.189 | D41: 19576.189 | E41: 0.00060138184 | F41: =(C41-D41)*E41 -> 0 | G41: =$K$40 -> 273 | H41: =F41*G41/1000000 -> 0 | J41: SF6_GWP = | K41: =Summary!E7 -> 24300
B42: Aviation Gasoline Blending Components | C42: 0 | D42: 0 | E42: 0.00060138184 | F42: =(C42-D42)*E42 -> 0 | G42: =$K$40 -> 273 | H42: =F42*G42/1000000 -> 0
B43: Crude Oil | C43: 0 | D43: 0 | E43: 0.00060138184 | F43: =(C43-D43)*E43 -> 0 | G43: =$K$40 -> 273 | H43: =F43*G43/1000000 -> 0
B44: Distillate Fuel | C44: 12446.073 | D44: 118.82736 | E44: 0.00060138184 | F44: =(C44-D44)*E44 -> 7.4133816 | G44: =$K$40 -> 273 | H44: =F44*G44/1000000 -> 0.0020238532
B45: Feedstocks, Naphtha less than 401 F | C45: 726.11391 | D45: 715.14663 | E45: 0.00060138184 | F45: =(C45-D45)*E45 -> 0.0065955245 | G45: =$K$40 -> 273 | H45: =F45*G45/1000000 -> 1.8005782e-06
B46: Feedstocks, Other Oils greater than 401 F | C46: 912.92359 | D46: 661.47104 | E46: 0.00060138184 | F46: =(C46-D46)*E46 -> 0.151219 | G46: =$K$40 -> 273 | H46: =F46*G46/1000000 -> 4.1282786e-05
B47: Kerosene | C47: 172.24553 | D47: 0 | E47: 0.00060138184 | F47: =(C47-D47)*E47 -> 0.10358533 | G47: =$K$40 -> 273 | H47: =F47*G47/1000000 -> 2.8278796e-05
B48: LPG | C48: 3241.0028 | D48: 2263.7017 | E48: 0.00060138184 | F48: =(C48-D48)*E48 -> 0.58773116 | G48: =$K$40 -> 273 | H48: =F48*G48/1000000 -> 0.00016045061
B49: Lubricants | C49: 2154.1494 | D49: 2154.1494 | E49: 0.00060138184 | F49: =(C49-D49)*E49 -> 0 | G49: =$K$40 -> 273 | H49: =F49*G49/1000000 -> 0
B50: Motor Gasoline | C50: 5394.6697 | D50: 0 | E50: 0.00060138184 | F50: =(C50-D50)*E50 -> 3.2442564 | G50: =$K$40 -> 273 | H50: =F50*G50/1000000 -> 0.00088568199
B51: Motor Gasoline Blending Components | C51: 0 | D51: 0 | E51: 0.00060138184 | F51: =(C51-D51)*E51 -> 0 | G51: =$K$40 -> 273 | H51: =F51*G51/1000000 -> 0
B52: Misc. Petro Products | C52: 157.0716 | D52: 157.0716 | E52: 0.00060138184 | F52: =(C52-D52)*E52 -> 0 | G52: =$K$40 -> 273 | H52: =F52*G52/1000000 -> 0
B53: Petroleum Coke | C53: 0 | D53: 0 | E53: 0.00060138184 | F53: =(C53-D53)*E53 -> 0 | G53: =$K$40 -> 273 | H53: =F53*G53/1000000 -> 0
... B60: Natural Gas | C60: 23810.834 | D60: 1279.749 | E60: 9.4955027e-05 | F60: =(C60-D60)*E60 -> 2.1394398 | G60: =$K$40 -> 273 | H60: =F60*G60/1000000 -> 0.00058406707
B61: Wood | C61: 12165.362 | D61: NA | E61: 0.0037982011 | F61: =C61*E61 -> 46.206492 | G61: =$K$40 -> 273 | H61: =F61*G61/1000000 -> 0.012614372
G62: Total | H62: =SUM(H39:H61) -> 0.029499845
B66: Industrial Sector CH4 | D66: 2006
C67: Total | D67: Non-Energy
C68: Consumption | D68: Consumption | E68: Emission Factor | F68: Emissions | G68: GWP | H68: Emissions
B69: Fuel Type | C69: (Billion Btu) | D69: (Billion Btu) | E69: (metric tons CH4 /BBtu) | F69: (metric tons CH4) | H69: (MMTCO2E)
B70: Coking Coal | C70: 0 | D70: 0 | E70: 0.010023031 | F70: =(C70-D70)*E70 -> 0 | G70: =$K$39 -> 27.9 | H70: =F70*G70/1000000 -> 0
B71: Other Coal | C71: 30430.668 | D71: 307.25403 | E71: 0.010023031 | F71: =(C71-D71)*E71 -> 301.9279 | G71: =$K$39 -> 27.9 | H71: =F71*G71/1000000 -> 0.0084237884
B72: Asphalt and Road Oil | C72: 19576.189 | D72: 19576.189 | E72: 0.0030069092 | F72: =(C72-D72)*E72 -> 0 | G72: =$K$39 -> 27.9 | H72: =F72*G72/1000000 -> 0
B73: Aviation Gasoline Blending Components | C73: 0 | D73: 0 | E73: 0.0030069092 | F73: =(C73-D73)*E73 -> 0 | G73: =$K$39 -> 27.9 | H73: =F73*G73/1000000 -> 0
B74: Crude Oil | C74: 0 | D74: 0 | E74: 0.0030069092 | F74: =(C74-D74)*E74 -> 0 | G74: =$K$39 -> 27.9 | H74: =F74*G74/1000000 -> 0
B75: Distillate Fuel | C75: 12446.073 | D75: 118.82736 | E75: 0.0030069092 | F75: =(C75-D75)*E75 -> 37.066908 | G75: =$K$39 -> 27.9 | H75: =F75*G75/1000000 -> 0.0010341667
B76: Feedstocks, Naphtha less than 401 F | C76: 726.11391 | D76: 715.14663 | E76: 0.0030069092 | F76: =(C76-D76)*E76 -> 0.032977622 | G76: =$K$39 -> 27.9 | H76: =F76*G76/1000000 -> 9.2007566e-07
B77: Feedstocks, Other Oils greater than 401 F | C77: 912.92359 | D77: 661.47104 | E77: 0.0030069092 | F77: =(C77-D77)*E77 -> 0.75609498 | G77: =$K$39 -> 27.9 | H77: =F77*G77/1000000 -> 2.109505e-05
B78: Kerosene | C78: 172.24553 | D78: 0 | E78: 0.0030069092 | F78: =(C78-D78)*E78 -> 0.51792667 | G78: =$K$39 -> 27.9 | H78: =F78*G78/1000000 -> 1.4450154e-05
B79: LPG | C79: 3241.0028 | D79: 2263.7017 | E79: 0.0030069092 | F79: =(C79-D79)*E79 -> 2.9386558 | G79: =$K$39 -> 27.9 | H79: =F79*G79/1000000 -> 8.1988497e-05
B80: Lubricants | C80: 2154.1494 | D80: 2154.1494 | E80: 0.0030069092 | F80: =(C80-D80)*E80 -> 0 | G80: =$K$39 -> 27.9 | H80: =F80*G80/1000000 -> 0
B81: Motor Gasoline | C81: 5394.6697 | D81: 0 | E81: 0.0030069092 | F81: =(C81-D81)*E81 -> 16.221282 | G81: =$K$39 -> 27.9 | H81: =F81*G81/1000000 -> 0.00045257376
... B91: Natural Gas | C91: 23810.834 | D91: 1279.749 | E91: 0.00094955027 | F91: =(C91-D91)*E91 -> 21.394398 | G91: =$K$39 -> 27.9 | H91: =F91*G91/1000000 -> 0.00059690371
B92: Wood | C92: 12165.362 | D92: NA | E92: 0.028486508 | F92: =C92*E92 -> 346.54869 | G92: =$K$39 -> 27.9 | H92: =F92*G92/1000000 -> 0.0096687085
G93: Total | H93: =SUM(H70:H92) -> 0.020701398
B97: Industrial Sector GHG | D97: 2006
C99: Total | D99: Non-Energy | E99: CO2 | F99: CH4 | G99: N2O | H99: GHG
C100: Consumption | D100: Consumption | E100: Emissions | F100: Emissions | G100: Emissions | H100: Emissions
B101: Fuel Type | C101: (Billion Btu) | D101: (Billion Btu) | E101: (MMTCO2E) | F101: (MMTCO2E) | G101: (MMTCO2E) | H101: (MMTCO2E)
A102: Coal | B102: Coking Coal | C102: =C70 -> 0 | D102: =D70 -> 0 | E102: =J9 -> 0 | F102: =H70 -> 0 | G102: =H39 -> 0 | H102: =SUM(E102:G102) -> 0
A103: Coal | B103: Other Coal | C103: =C71 -> 30430.668 | D103: =D71 -> 307.25403 | E103: =J10 -> 2.8773831 | F103: =H71 -> 0.0084237884 | G103: =H40 -> 0.012363947 | H103: =SUM(E103:G103) -> 2.8981708
A104: Petroleum | B104: Asphalt and Road Oil | C104: =C72 -> 19576.189 | D104: =D72 -> 19576.189 | E104: =J11 -> 0 | F104: =H72 -> 0 | G104: =H41 -> 0 | H104: =SUM(E104:G104) -> 0
A105: Petroleum | B105: Aviation Gasoline Blending Components | C105: =C73 -> 0 | D105: =D73 -> 0 | E105: =J12 -> 0 | F105: =H73 -> 0 | G105: =H42 -> 0 | H105: =SUM(E105:G105) -> 0
A106: Petroleum | B106: Crude Oil | C106: =C74 -> 0 | D106: =D74 -> 0 | E106: =J13 -> 0 | F106: =H74 -> 0 | G106: =H43 -> 0 | H106: =SUM(E106:G106) -> 0
A107: Petroleum | B107: Distillate Fuel | C107: =C75 -> 12446.073 | D107: =D75 -> 118.82736 | E107: =J14 -> 0.90526586 | F107: =H75 -> 0.0010341667 | G107: =H44 -> 0.0020238532 | H107: =SUM(E107:G107) -> 0.90832388
A108: Petroleum | B108: Feedstocks, Naphtha less than 401 F | C108: =C77 -> 912.92359 | D108: =D77 -> 661.47104 | E108: =J15 -> 0.018826539 | F108: =H76 -> 9.2007566e-07 | G108: =H45 -> 1.8005782e-06 | H108: =SUM(E108:G108) -> 0.01882926
A109: Petroleum | B109: Feedstocks, Other Oils greater than 401 F | C109: =C77 -> 912.92359 | D109: =D77 -> 661.47104 | E109: =J16 -> 0.036786787 | F109: =H77 -> 2.109505e-05 | G109: =H46 -> 4.1282786e-05 | H109: =SUM(E109:G109) -> 0.036849165
A110: Petroleum | B110: Kerosene | C110: =C78 -> 172.24553 | D110: =D78 -> 0 | E110: =J17 -> 0.012443253 | F110: =H78 -> 1.4450154e-05 | G110: =H47 -> 2.8278796e-05 | H110: =SUM(E110:G110) -> 0.012485982
A111: Natural Gas & LPG | B111: LPG | C111: =C79 -> 3241.0028 | D111: =D79 -> 2263.7017 | E111: =J18 -> 0.11457718 | F111: =H79 -> 8.1988497e-05 | G111: =H48 -> 0.00016045061 | H111: =SUM(E111:G111) -> 0.11481962
A112: Petroleum | B112: Lubricants | C112: =C80 -> 2154.1494 | D112: =D80 -> 2154.1494 | E112: =J19 -> 0.1449649 | F112: =H80 -> 0 | G112: =H49 -> 0 | H112: =SUM(E112:G112) -> 0.1449649
A113: Petroleum | B113: Motor Gasoline | C113: =C81 -> 5394.6697 | D113: =D81 -> 0 | E113: =J20 -> 0.36679199 | F113: =H81 -> 0.00045257376 | G113: =H50 -> 0.00088568199 | H113: =SUM(E113:G113) -> 0.36813025
A114: Petroleum | B114: Motor Gasoline Blending Components | C114: =C82 -> 0 | D114: =D82 -> 0 | E114: =J21 -> 0 | F114: =H82 -> 0 | G114: =H51 -> 0 | H114: =SUM(E114:G114) -> 0
A115: Petroleum | B115: Misc. Petro Products | C115: =C83 -> 157.0716 | D115: =D83 -> 157.0716 | E115: =J22 -> 0.011709487 | F115: =H83 -> 0 | G115: =H52 -> 0 | H115: =SUM(E115:G115) -> 0.011709487
A116: Petroleum | B116: Petroleum Coke | C116: =C84 -> 0 | D116: =D84 -> 0 | E116: =J23 -> 0 | F116: =H84 -> 0 | G116: =H53 -> 0 | H116: =SUM(E116:G116) -> 0
A117: Petroleum | B117: Pentanes Plus | C117: =C85 -> 161.77572 | D117: =D85 -> 122.0443 | E117: =J24 -> 0.0057603553 | F117: =H85 -> 3.3331787e-06 | G117: =H54 -> 6.5229949e-06 | H117: =SUM(E117:G117) -> 0.0057702115
A118: Petroleum | B118: Residual Fuel | C118: =C86 -> 4766.9075 | D118: =D86 -> 0 | E118: =J25 -> 0.37527721 | F118: =H86 -> 0.00039990906 | G118: =H55 -> 0.00078261772 | H118: =SUM(E118:G118) -> 0.37645974
A119: Petroleum | B119: Still Gas | C119: =C87 -> 0 | D119: =D87 -> 0 | E119: =J26 -> 0 | F119: =H87 -> 0 | G119: =H56 -> 0 | H119: =SUM(E119:G119) -> 0
A120: Petroleum | B120: Special Naphthas | C120: =C88 -> 3076.9398 | D120: =D88 -> 3034.4904 | E120: =J27 -> 0.22386041 | F120: =H88 -> 3.5611956e-06 | G120: =H57 -> 6.9692215e-06 | H120: =SUM(E120:G120) -> 0.22387094
... A123: Natural Gas & LPG | B123: Natural Gas | C123: =C91 -> 23810.834 | D123: =D91 -> 1279.749 | E123: =J30 -> 1.2201783 | F123: =H91 -> 0.00059690371 | G123: =H60 -> 0.00058406707 | H123: =SUM(E123:G123) -> 1.2213593
A124: Wood | B124: Wood | C124: =C92 -> 12165.362 | D124: =D92 -> NA | E124: 0 | F124: =H92 -> 0.0096687085 | G124: =H61 -> 0.012614372 | H124: =SUM(E124:G124) -> 0.022283081
G125: Total | H125: =SUM(H102:H124) -> 6.3713775
C127: CO2 | D127: CH4 | E127: N2O | F127: Total
B128: Fuel Type Category | C128: (MMTCO2e) | D128: (MMTCO2e) | E128: (MMTCO2e) | F128: (MMTCO2e)
B129: Coal | C129: =SUMIF($A$102:$A$124,$B129,E$102:E$124) -> 2.8773831 | D129: =SUMIF($A$102:$A$124,$B129,F$102:F$124) -> 0.0084237884 | E129: =SUMIF($A$102:$A$124,$B129,G$102:G$124) -> 0.012363947 | F129: =SUM(C129:E129) -> 2.8981708
B130: Natural Gas & LPG | C130: =SUMIF($A$102:$A$124,$B130,E$102:E$124) -> 1.3347555 | D130: =SUMIF($A$102:$A$124,$B130,F$102:F$124) -> 0.00067889221 | E130: =SUMIF($A$102:$A$124,$B130,G$102:G$124) -> 0.00074451768 | F130: =SUM(C130:E130) -> 1.3361789
B131: Petroleum | C131: =SUMIF($A$102:$A$124,$B131,E$102:E$124) -> 2.1090377 | D131: =SUMIF($A$102:$A$124,$B131,F$102:F$124) -> 0.0019300092 | E131: =SUMIF($A$102:$A$124,$B131,G$102:G$124) -> 0.0037770073 | F131: =SUM(C131:E131) -> 2.1147447
...

Sheet Transportation
A1: Transportation Consumption and GHG Emissions
B3: Activity Data (Consumption)
B4: State Energy Data 2006 | C4: (Barrels) | E4: (Gallons) | G4: (Billion Btu)
B5: Aviation Gasoline | C5: 107.81011 | E5: 4526231.4 | G5: =544009.905172277/1000 -> 544.00991
B6: Distillate Fuel Oil | C6: 14834.594 | E6: 6.2305293e+08 | G6: 86411.508
B7: Jet Fuel Naphtha | C7: 0 | E7: 0 | G7: 0
B8: Jet Fuel Kerosene Type | C8: 4144.0214 | E8: 23496602 | G8: 23496.602
B9: Liquidfied Petroleum Gases | C9: 43.62338 | E9: =C9*42*1000 -> 1832182 | G9: 157.26228
B10: Lubricant | C10: 265.99846 | E10: =C10*42*1000 -> 11171935 | G10: 1613.2807
B11: Motor Gasoline | C11: 64604.701 | E11: 2721404088 | G11: =E11*C47/1000000000 -> 338101.8
B12: Ethanol | C12: 3892.6155 | E12: 1.6348985e+08 | G12: 13775.966
B13: Natural Gases - (Million Cubic Feet) | C13: 3236.139 | E13: =C13 -> 3236.139 | G13: 3348.0123
B14: Residual Fuel Oil | C14: 1221.4756 | E14: =C14*42*1000 -> 51301975 | G14: 7679.417
B17: Gasoline Fuel Usage
B18: Source | C18: Year | D18: Subsource | F18: Vehicle / Fuel Type | I18: Amount (gal) | K18: Percentage | M18: Percentage of NR Gasoline
B19: FHWA Data MF-24 | C19: 2006 | D19: Farm Equipment | F19: Gasoline Tractor | I19: 11991000 | K19: =I19/$I$24 -> 0.0044061814 | M19: =I19/SUM($I$19:$I$23) -> 0.15466236 | U19: 9702000
B20: FHWA Data MF-24 | C20: 2006 | D20: Construction | F20: Gasoline Construction | I20: 10970000 | K20: =I20/$I$24 -> 0.0040310074 | M20: =I20/SUM($I$19:$I$23) -> 0.14149329 | U20: 8297000
B21: FHWA Data MF-24 | C21: 2006 | D21: Non-Highway Industrial | F21: Gasoline HD Utility | I21: 19725000 | K21: =I21/$I$24 -> 0.0072480967 | M21: =I21/SUM($I$19:$I$23) -> 0.25441706 | U21: 24818000
B22: FHWA Data MF-24 | C22: 2006 | D22: Non-Highway Industrial | F22: Gasoline Small Utility | I22: 9811178.5 | K22: =I22/$I$24 -> 0.0036051899 | M22: =I22/SUM($I$19:$I$23) -> 0.12654657 | U22: 16130243
B23: FHWA Data MF-24 | C23: 2006 | D23: Boat (Marine Gasoline) | F23: Gasoline | I23: 25033000 | K23: =I23/$I$24 -> 0.0091985604 | M23: =I23/SUM($I$19:$I$23) -> 0.32288072 | U23: 24070000
B24: MD Comptroller | C24: 2006 | D24: Motor Gasoline (Total Sold) | F24: All | I24: 2721404088 | K24: =I24/$I$24 -> 1
B25: MD Comptroller | C25: 2006 | D25: Motor Gasoline (On-Road Mobile) | F25: All | I25: =I24-SUM(I19:I23) -> 2.6438739e+09 | K25: =I25/$I$24 -> 0.97151096
B26: MD Comptroller | C26: 2006 | D26: Motor Gasoline (Non-Road Mobile) | F26: All | I26: =I24-I25 -> 77530178 | K26: =I26/$I$24 -> 0.028489036 | M26: =SUM(M19:M23) -> 1
I28: =I21+I22 -> 29536178
B29: Diesel Fuel Usage
B31: Source | C31: Year | D31: Subsource | F31: Vehicle / Fuel Type | I31: Amount (gal) | K31: Percentage | M31: Percentage of NR Diesel | S31: Global Warming Potential
B32: EIA Adjusted Sales Data | C32: 2006 | D32: Farm Equipment | F32: Diesel Tractor | I32: 16854000 | K32: =I32/$I$37 -> 0.027050671 | M32: =I32/SUM($I$32:$I$36) -> 0.090471293
B33: FHWA Data MF-24 (Allocated from Gasoline Construction State Percent) | C33: 2006 | D33: Construction | F33: Diesel Construction | I33: 1.1851622e+08 | K33: =I33/$I$37 -> 0.19021855 | M33: =I33/SUM($I$32:$I$36) -> 0.63618821 | S33: CO2_GWP= | T33: =Summary!E4 -> 1
B34: EIA State Energy Data | C34: 2006 | D34: Non-Highway Industrial | F34: Diesel HD Utility | I34: 11441263 | K34: =I34/$I$37 -> 0.018363228 | M34: =I34/SUM($I$32:$I$36) -> 0.061416037 | S34: CH4_GWP = | T34: =Summary!E5 -> 27.9
B35: MDE Survey | C35: 2006 | D35: Locomotive | F35: Diesel Fuel | I35: 23342572 | K35: =I35/$I$37 -> 0.03746483 | M35: =I35/SUM($I$32:$I$36) -> 0.12530157 | S35: N2O_GWP= | T35: =Summary!E6 -> 273
B36: EIA State Energy Data | C36: 2006 | D36: Boat (Marine) | F36: Distillate Fuel Oil** | I36: 16137077 | K36: =I36/$I$37 -> 0.025900009 | M36: =I36/SUM($I$32:$I$36) -> 0.08662289 | S36: SF6_GWP = | T36: =Summary!E7 -> 24300
B37: EIA State Energy Data | C37: 2006 | D37: Distillate Fuel Oil | F37: All | I37: 6.2305293e+08 | K37: =I37/$I$37 -> 1
B38: Calculated | C38: 2006 | D38: Motor Diesel (On-Road) | F38: All | I38: =I37-SUM(I32:I36) -> 4.367618e+08 | K38: =I38/$I$37 -> 0.70100271
B39: Calculated | C39: 2006 | D39: Motor Diesel (Non-Road) | F39: All | I39: =I37-I38 -> 1.8629114e+08 | K39: =I39/$I$37 -> 0.29899729 | M39: =SUM(M32:M36) -> 1
C42: 2006 | D42: Diesel (gallons) | F42: Total | I42: =SUM(I32:I35) -> 1.7015406e+08
C43: 2006 | D43: Locomotive | F43: Residual Fuel Oil | I43: 0
B44: EIA State Energy Data | C44: 2006 | D44: Boat (Marine) | F44: Residual Fuel Oil** | I44: 51301975
D45: Residual Fuel (gallons) | F45: Total | I45: =SUM(I43:I44) -> 51301975
B46: CONSTANTS
B47: Gasoline | C47: 124238 | D47: Btu/Gallon
B48: Diesel | C48: 138690 | D48: Btu/Gallon
B50: Emissions Data (MMTCO2e)
B51: Transportation Sector Emissions: Non-Road Mobile Sources 2006
M52: CO2 Emissions | T52: N2O Emissions | AA52: CH4 Emissions | AG52: CH4 &
C53: Consumption | E53: Consumption | G53: Emission Factor | I53: Combustion | K53: Emissions | M53: Emissions | O53: Emissions | AG53: N2O
B54: Fuel Type | C54: (gallon) | E54: (Billion Btu) | G54: (lbs C/Million Btu) | I54: Efficiency (%) | K54: (short tons carbon) | M54: (MMTCE) | O54: (MMTCO2E) | Q54: Energy Content kg/MBtu | R54: Density kg/gallon | S54: N2O EF g/kg fuel | T54: N2O EM Gigagrams | V54: N2O MTCE | X54: N2O MTCO2E | Z54: CH4 EF g/kg fuel | AA54: CH4 EM Gigagrams | AC54: CH4 MTCE | AE54: CH4 MTCO2E | AG54: TOTAL MTCO2E
B55: Aviation Gasoline | C55: =E5 -> 4526231.4 | E55: =G5 -> 544.00991 | F55: x | G55: 41.563877 | H55: x | I55: 1 | J55: = | K55: =E55*1000*G55*I55/2000 -> 11305.58 | L55: = | M55: =K55*0.90718/1000000 -> 0.010256196 | N55: = | O55: =M55*44/12 -> 0.037606053 | Q55: 22.258 | S55: 0.04 | T55: =E55*1000*Q55*S55/1000000000 -> 0.0004843429 | U55: = | V55: =T55*$T$35*12/44*1000 -> 36.06153 | W55: = | X55: =V55*44/12 -> 132.22561 | Z55: 2.64 | AA55: =E55*1000*Q55*Z55/1000000000 -> 0.031966631 | AB55: = | AC55: =AA55*$T$34*12/44*1000 -> 243.237 | AD55: = | AE55: =AC55*44/12 -> 891.86901 | AF55: x | AG55: =X55+AE55 -> 1024.0946
B56: Distillate Fuel - Farm | C56: =I32 -> 16854000 | E56: =C56*$C$48/1000000000 -> 2337.4813 | F56: x | G56: 43.942731 | H56: x | I56: 1 | J56: = | K56: =E56*1000*G56*I56/2000 -> 51357.655 | L56: = | M56: =K56*0.90718/1000000 -> 0.046590638 | N56: = | O56: =M56*44/12 -> 0.17083234 | R56: 3.192 | S56: 0.08 | T56: =C56*R56*S56/1000000000 -> 0.0043038374 | U56: = | V56: =T56*$T$35*12/44*1000 -> 320.44026 | W56: = | X56: =V56*44/12 -> 1174.9476 | Z56: 0.45 | AA56: =C56*R56*Z56/1000000000 -> 0.024209086 | AB56: = | AC56: =AA56*$T$34*12/44*1000 -> 184.20913 | AD56: = | AE56: =AC56*44/12 -> 675.43349 | AG56: =X56+AE56 -> 1850.3811
B57: Distillate Fuel - Construction | C57: =I33 -> 1.1851622e+08 | E57: =C57*$C$48/1000000000 -> 16437.015 | F57: x | G57: 43.942731 | H57: x | I57: 1 | J57: = | K57: =E57*1000*G57*I57/2000 -> 361143.67 | L57: = | M57: =K57*0.90718/1000000 -> 0.32762231 | N57: = | O57: =M57*44/12 -> 1.2012818 | R57: 3.192 | S57: 0.08 | T57: =C57*R57*S57/1000000000 -> 0.030264303 | U57: = | V57: =T57*$T$35*12/44*1000 -> 2253.3149 | W57: = | X57: =V57*44/12 -> 8262.1547 | Z57: 0.45 | AA57: =C57*R57*Z57/1000000000 -> 0.1702367 | AB57: = | AC57: =AA57*$T$34*12/44*1000 -> 1295.3466 | AD57: = | AE57: =AC57*44/12 -> 4749.6041 | AG57: =X57+AE57 -> 13011.759
B58: Distillate Fuel - Ind HD Diesel | C58: =I34 -> 11441263 | E58: =C58*$C$48/1000000000 -> 1586.7888 | F58: x | G58: 43.942731 | H58: x | I58: 1 | J58: = | K58: =E58*1000*G58*I58/2000 -> 34863.917 | L58: = | M58: =K58*0.90718/1000000 -> 0.031627848 | N58: = | O58: =M58*44/12 -> 0.11596878 | R58: 3.192 | S58: 0.08 | T58: =C58*R58*S58/1000000000 -> 0.002921641 | U58: = | V58: =T58*$T$35*12/44*1000 -> 217.52945 | W58: = | X58: =V58*44/12 -> 797.60799 | Z58: 0.18 | AA58: =C58*R58*Z58/1000000000 -> 0.0065736922 | AB58: = | AC58: =AA58*$T$34*12/44*1000 -> 50.019822 | AD58: = | AE58: =AC58*44/12 -> 183.40601 | AG58: =X58+AE58 -> 981.014
B59: Distillate Fuel - Locomotive | C59: =I35 -> 23342572 | E59: =C59*$C$48/1000000000 -> 3237.3813 | F59: x | G59: 43.942731 | H59: x | I59: 1 | J59: = | K59: =E59*1000*G59*I59/2000 -> 71129.688 | L59: = | M59: =K59*0.90718/1000000 -> 0.064527431 | N59: = | O59: =M59*44/12 -> 0.23660058 | R59: 3.192 | S59: 0.08 | T59: =C59*R59*S59/1000000000 -> 0.0059607592 | U59: = | V59: =T59*$T$35*12/44*1000 -> 443.80561 | W59: = | X59: =V59*44/12 -> 1627.2873 | Z59: 0.25 | AA59: =C59*R59*Z59/1000000000 -> 0.018627372 | AB59: = | AC59: =AA59*$T$34*12/44*1000 -> 141.73737 | AD59: = | AE59: =AC59*44/12 -> 519.70369 | AG59: =X59+AE59 -> 2146.9909
B60: Distillate Fuel - Marine | C60: =I36 -> 16137077 | E60: =C60*$C$48/1000000000 -> 2238.0511 | F60: x | G60: 43.942731 | H60: x | I60: 1 | J60: = | K60: =E60*1000*G60*I60/2000 -> 49173.04 | L60: = | M60: =K60*0.90718/1000000 -> 0.044608798 | N60: = | O60: =M60*44/12 -> 0.16356559 | R60: 3.192 | S60: 0.08 | T60: =C60*R60*S60/1000000000 -> 0.0041207639 | U60: = | V60: =T60*$T$35*12/44*1000 -> 306.8096 | W60: = | X60: =V60*44/12 -> 1124.9685 | Z60: 0.23 | AA60: =C60*R60*Z60/1000000000 -> 0.011847196 | AB60: = | AC60: =AA60*$T$34*12/44*1000 -> 90.146392 | AD60: = | AE60: =AC60*44/12 -> 330.53677 | AG60: =X60+AE60 -> 1455.5053
B61: Jet Fuel, Kerosene | C61: =C8 -> 4144.0214 | E61: =G8 -> 23496.602 | F61: x | G61: 42.625219 | H61: x | I61: 1 | J61: = | K61: =E61*1000*G61*I61/2000 -> 500773.89 | L61: = | M61: =K61*0.90718/1000000 -> 0.45429206 | N61: = | O61: =M61*44/12 -> 1.6657376 | Q61: 22.24 | S61: 0.1 | T61: =E61*1000*Q61*S61/1000000000 -> 0.052256442 | U61: = | V61: =T61*$T$35*12/44*1000 -> 3890.7296 | W61: = | X61: =V61*44/12 -> 14266.009 | Z61: 0.087 | AA61: =E61*1000*Q61*Z61/1000000000 -> 0.045463104 | AB61: = | AC61: =AA61*$T$34*12/44*1000 -> 345.93289 | AD61: = | AE61: =AC61*44/12 -> 1268.4206 | AF61: x | AG61: =X61+AE61 -> 15534.429
B62: Jet Fuel, Naphtha | C62: 0 | E62: 0 | F62: x | G62: 43.5 | H62: x | I62: 1 | J62: = | K62: =E62*1000*G62*I62/2000 -> 0 | L62: = | M62: =K62*0.90718/1000000 -> 0 | N62: = | O62: =M62*44/12 -> 0 | S62: 0.1 | Z62: 0.087
B63: LPG | C63: =E9 -> 1832182 | E63: =G9 -> 157.26228 | F63: x | G63: 37.90594 | H63: x | I63: 1 | J63: = | K63: =E63*1000*G63*I63/2000 -> 2980.5873 | L63: = | M63: =K63*0.90718/1000000 -> 0.0027039291 | N63: = | O63: =M63*44/12 -> 0.0099144069
B64: Motor Gasoline - Farm | C64: =I19 -> 11991000 | E64: =K26*G11 -> 9632.1943 | F64: x | G64: 42.62265 | H64: x | I64: 1 | J64: = | K64: =E64*1000*G64*I64/2000 -> 205274.82 | L64: = | M64: =K64*0.90718/1000000 -> 0.18622121 | N64: = | O64: =M64*44/12 -> 0.68281112 | R64: 2.8009 | S64: 0.08 | T64: =C64*R64*S64/1000000000 -> 0.0026868474 | U64: = | V64: =T64*$T$35*12/44*1000 -> 200.048 | W64: = | X64: =V64*44/12 -> 733.50933 | Z64: 0.45 | AA64: =C64*R64*Z64/1000000000 -> 0.015113516 | AB64: = | AC64: =AA64*$T$34*12/44*1000 -> 115.00012 | AD64: = | AE64: =AC64*44/12 -> 421.66711 | AG64: =X64+AE64 -> 1155.1764
B65: Motor Gasoline - Construction | C65: =I20 -> 10970000 | E65: =C65*C47/1000000000 -> 1362.8909 | F65: x | G65: 42.62265 | H65: x | I65: 1 | J65: = | K65: =E65*1000*G65*I65/2000 -> 29045.01 | L65: = | M65: =K65*0.90718/1000000 -> 0.026349052 | N65: = | O65: =M65*44/12 -> 0.096613191 | R65: 2.8009 | S65: 0.08 | T65: =C65*R65*S65/1000000000 -> 0.0024580698 | U65: = | V65: =T65*$T$35*12/44*1000 -> 183.01447 | W65: = | X65: =V65*44/12 -> 671.05307 | Z65: 0.45 | AA65: =C65*R65*Z65/1000000000 -> 0.013826643 | AB65: = | AC65: =AA65*$T$34*12/44*1000 -> 105.20818 | AD65: = | AE65: =AC65*44/12 -> 385.76334 | AG65: =X65+AE65 -> 1056.8164
B66: Motor Gasoline - Ind HD Utility | C66: =I21 -> 19725000 | E66: =C66*C47/1000000000 -> 2450.5945 | F66: x | G66: 42.62265 | H66: x | I66: 1 | J66: = | K66: =E66*1000*G66*I66/2000 -> 52225.417 | L66: = | M66: =K66*0.90718/1000000 -> 0.047377854 | N66: = | O66: =M66*44/12 -> 0.1737188 | R66: 2.8009 | S66: 0.08 | T66: =C66*R66*S66/1000000000 -> 0.0044198202 | U66: = | V66: =T66*$T$35*12/44*1000 -> 329.0757 | W66: = | X66: =V66*44/12 -> 1206.6109 | Z66: 0.18 | AA66: =C66*R66*Z66/1000000000 -> 0.0099445954 | AB66: = | AC66: =AA66*$T$34*12/44*1000 -> 75.669331 | AD66: = | AE66: =AC66*44/12 -> 277.45421 | AG66: =X66+AE66 -> 1484.0651
B67: Motor Gasoline - Ind Small Utility | C67: =I22 -> 9811178.5 | E67: =C67*C47/1000000000 -> 1218.9212 | F67: x | G67: 42.62265 | H67: x | I67: 1 | J67: = | K67: =E67*1000*G67*I67/2000 -> 25976.826 | L67: = | M67: =K67*0.90718/1000000 -> 0.023565657 | N67: = | O67: =M67*44/12 -> 0.086407408 | R67: 2.8009 | S67: 0.08 | T67: =C67*R67*S67/1000000000 -> 0.0021984104 | U67: = | V67: =T67*$T$35*12/44*1000 -> 163.68165 | W67: = | X67: =V67*44/12 -> 600.16603 | Z67: 0.18 | AA67: =C67*R67*Z67/1000000000 -> 0.0049464234 | AB67: = | AC67: =AA67*$T$34*12/44*1000 -> 37.637785 | AD67: = | AE67: =AC67*44/12 -> 138.00521 | AG67: =X67+AE67 -> 738.17125
B68: Motor Gasoline - Marine | C68: =I23 -> 25033000 | E68: =C68*C47/1000000000 -> 3110.0499 | F68: x | G68: 42.62265 | H68: x | I68: 1 | J68: = | K68: =E68*1000*G68*I68/2000 -> 66279.283 | L68: = | M68: =K68*0.90718/1000000 -> 0.06012724 | N68: = | O68: =M68*44/12 -> 0.22046655 | R68: 2.8009 | S68: 0.08 | T68: =C68*R68*S68/1000000000 -> 0.0056091944 | U68: = | V68: =T68*$T$35*12/44*1000 -> 417.63002 | W68: = | X68: =V68*44/12 -> 1531.3101 | Z68: 0.23 | AA68: =C68*R68*Z68/1000000000 -> 0.016126434 | AB68: = | AC68: =AA68*$T$34*12/44*1000 -> 122.7075 | AD68: = | AE68: =AC68*44/12 -> 449.9275 | AG68: =X68+AE68 -> 1981.2376
B69: Residual Fuel | C69: =E14 -> 51301975 | E69: =G14 -> 7679.417 | F69: x | G69: 47.334802 | H69: x | I69: 1 | J69: = | K69: =E69*1000*G69*I69/2000 -> 181751.84 | L69: = | M69: =K69*0.90718/1000000 -> 0.16488164 | N69: = | O69: =M69*44/12 -> 0.604566 | R69: 3.575 | S69: 0.08 | T69: =C69*R69*S69/1000000000 -> 0.014672365 | U69: = | V69: =T69*$T$35*12/44*1000 -> 1092.4243 | W69: = | X69: =V69*44/12 -> 4005.5556 | Z69: 0.23 | AA69: =C69*R69*Z69/1000000000 -> 0.042183049 | AB69: = | AC69: =AA69*$T$34*12/44*1000 -> 320.97465 | AD69: = | AE69: =AC69*44/12 -> 1176.9071 | AG69: =X69+AE69 -> 5182.4626
B70: Natural Gas | C70: =E13 -> 3236.139 | E70: =G13 -> 3348.0123 | F70: x | G70: 31.872247 | H70: x | I70: 1 | J70: = | K70: =E70*1000*G70*I70/2000 -> 53354.337 | L70: = | M70: =K70*0.90718/1000000 -> 0.048401988 | N70: = | O70: =M70*44/12 -> 0.17747396
B71: Other | F71: x | H71: x | J71: = | K71: =E71*1000*G71*I71/2000 -> 0 | L71: = | M71: =K71*0.90718/1000000 -> 0 | N71: = | O71: =M71*44/12 -> 0
E76: Non-Energy | I76: Net combustible
C77: Consumption | E77: Consumption | I77: Consumption | K77: Emission Factor | M77: Combustion | O77: Emissions | Q77: Emissions | S77: Emissions
C78: (Billion Btu) | E78: (Billion Btu) | G78: Storage Factor (%) | I78: (Billion Btu) | K78: (lbs C/Million Btu) | M78: Efficiency (%) | O78: (short tons carbon) | Q78: (MMTCE) | S78: (MMTCO2E)
B79: Lubricants | C79: 1613.2807 | D79: - ( | E79: 1613.2807 | F79: x | G79: 0.092393733 | H79: ) = | I79: =C79-(E79*G79) -> 1464.2236 | J79: x | K79: 44.581498 | L79: x | M79: 1 | N79: = | O79: =I79*1000*K79*M79/2000 -> 32638.641 | P79: = | Q79: =O79*0.90718/1000000 -> 0.029609123 | R79: = | S79: =Q79*44/12 -> 0.10856678
B81: International Bunker Fuels | G81: 2006
C83: Consumption | E83: Emission Factor | G83: Combustion | I83: Emissions | K83: Emissions | M83: Emissions
B84: Fuel Type | C84: (Billion Btu) | E84: (lbs C/Million Btu) | G84: Efficiency (%) | I84: (short tons carbon) | K84: (MMTCE) | M84: (MMTCO2E)
B85: Jet Fuel, Kerosene | C85: 0 | D85: x | E85: 42.625219 | F85: x | G85: 1 | H85: = | I85: =C85*1000*E85*G85/2000 -> 0 | J85: = | K85: =I85*0.90718/1000000 -> 0 | L85: = | M85: =K85*44/12 -> 0
B86: Distillate Fuel | C86: 3.4633751 | D86: x | E86: 43.942731 | F86: x | G86: 1 | H86: = | I86: =C86*1000*E86*G86/2000 -> 76.09508 | J86: = | K86: =I86*0.90718/1000000 -> 6.9031935e-05 | L86: = | M86: =K86*44/12 -> 0.00025311709
B87: Residual Fuel | C87: 0.76888615 | D87: x | E87: 47.334802 | F87: x | G87: 1 | H87: = | I87: =C87*1000*E87*G87/2000 -> 18.197537 | J87: = | K87: =I87*0.90718/1000000 -> 1.6508441e-05 | L87: = | M87: =K87*44/12 -> 6.0530951e-05
B88: Total | K88: =SUM(K85:K87) -> 8.5540376e-05 | M88: =SUM(M85:M87) -> 0.00031364804
B91: Transportation Sector: On-Road Mobile Sources 2006
C93: VMT (Millions) | E93: CO2 | G93: CH4 | I93: N2O | K93: CO2e
B94: TOTAL | C94: 56618 | E94: 29.101 | G94: 0.047 | I94: 0.521 | K94: 29.67
B95: By Fuel Type
B96: Gasoline | C96: 52720 | E96: 23.195 | G96: 0.0462 | I96: 0.5183 | K96: 23.76
B97: Diesel | C97: 3898 | E97: 5.907 | G97: 0.0003 | I97: 0.003 | K97: 5.91
B98: By MOVES Vehicle Type
B99: Motorcycle | C99: 319 | E99: 0.12 | G99: 0.0005 | I99: 0.0004 | K99: 0.12
B100: Passenger Car | C100: 29337 | E100: 10.959 | G100: 0.0178 | I100: 0.1722 | K100: 11.15
B101: Passenger Truck | C101: 18070 | E101: 9.46 | G101: 0.0202 | I101: 0.2571 | K101: 9.74
B102: Light Commercial Truck | C102: 5833 | E102: 3.117 | G102: 0.0067 | I102: 0.0833 | K102: 3.21
B103: Intercity Bus | C103: 15 | E103: 0.027 | G103: 0 | I103: 0 | K103: 0.03
B104: Transit Bus | C104: 40 | E104: 0.052 | G104: 0 | I104: 0 | K104: 0.05
B105: School Bus | C105: 129 | E105: 0.124 | G105: 0.0002 | I105: 0.0008 | K105: 0.13
B106: Refuse Truck | C106: 33 | E106: 0.056 | G106: 0 | I106: 0 | K106: 0.06
B107: Single Unit Short-haul Truck | C107: 655 | E107: 0.656 | G107: 0.0008 | I107: 0.0054 | K107: 0.66
B108: Single Unit Long-haul Truck | C108: 49 | E108: 0.047 | G108: 0 | I108: 0.0003 | K108: 0.05
B109: Motor Home | C109: 20 | E109: 0.021 | G109: 0 | I109: 0.0002 | K109: 0.02
B110: Combination Short-haul Truck | C110: 1163 | E110: 2.339 | G110: 0.0001 | I110: 0.0008 | K110: 2.34
B111: Combination Long-haul Truck | C111: 953 | E111: 2.123 | G111: 0.0001 | I111: 0.0006 | K111: 2.12
B114: Scenario | C114: Fuel Type | E114: MOVES2010a Output | I114: Actual Statewide Fuel Sales2 (Thousand gallons)
E115: Energy Consumption (Trillion BTU) | G115: Estimated Fuel Consumption1 (Thousand Gallons)
B116: 2006 | C116: Gasoline | E116: 305.9 | G116: 2462240 | I116: 2642371
C117: Diesel | E117: 76.3 | G117: 550454 | I117: 558703
B118: 2020 BAU | C118: Gasoline | E118: 402.3 | G118: 3237943 | I118: -----
C119: Diesel | E119: 101.6 | G119: 732275 | I119: -----

Sheet Natural Gas and Oil
A1: Emissions from Natural Gas Activities in MD
B4: Natural Gas - Production | D4: 2006
C6: Activity Data | D6: Emission Factor | E6: Metric Tons CH4 | F6: MMTCO2E
D7: metric tons CH4 per year per activity unit
B8: Total number of wells | C8: 7 | D8: 4.1021718 | E8: =C8*D8 -> 28.715203 | F8: =E8*$I$25/1000000 -> 0.00080115415
B9: Number of off-shore platforms not in the Gulf of Mexico | C9: 0 | D9: 13.055797 | E9: 0 | F9: =E9*$I$25/1000000 -> 0
B10: Total | E10: 21.095018 | F10: =F8+F9 -> 0.00080115415
B13: Number of Wells from EIA, " Natural Gas Navigator- Maryland Natural Gas Number of Gas and Gas Condensate Wells" acccessed from: http://tonto.eia.doe.gov/dnav/ng/hist/na1170_smd_8a.htm
B15: Emission factor from US EPA, Emissions Inventory Improvements Program, Volume VII: Chpater 5. Methods for Estimating Methane Emissions from Natural Gas and Oil Systems. This factor represents emissions not just from wells but also from pneumatic devices, dehydrator vents, Kimray pumps, gas engines, and well clean-ups
B20: Natural Gas - Distribution
C22: Activity Data | D22: Emission Factor | E22: Metric Tons CH4 | F22: MMTCO2E | H22: Global Warming Potential
B23: Distribution pipeline | D23: (metric tons CH4 per year per activity unit)
H24: CO2_GWP= | I24: =Summary!$E4 -> 1
B25: Miles of cast iron distribution pipeline | C25: 1467 | D25: 5.8037236 | E25: =C25*D25 -> 8514.0625 | F25: =E25*$I$25/1000000 -> 0.23754234 | H25: CH4_GWP = | I25: =Summary!$E5 -> 27.9
B26: Miles of unprotected steel distribution pipeline | C26: 602 | D26: 2.1221754 | E26: =C26*D26 -> 1277.5496 | F26: =E26*$I$25/1000000 -> 0.035643634 | H26: N2O_GWP= | I26: =Summary!$E6 -> 273
B27: Miles of protected steel distribution pipeline | C27: 5402 | D27: 0.060046884 | E27: =C27*D27 -> 324.37327 | F27: =E27*$I$25/1000000 -> 0.0090500142 | H27: SF6_GWP = | I27: =Summary!$E7 -> 24300
B28: Miles of plastic distribution pipeline | C28: 6309 | D28: 0.3716476 | E28: =C28*D28 -> 2344.7247 | F28: =E28*$I$25/1000000 -> 0.06541782
B30: Services
B31: Total number of services | C31: 964468 | D31: 0.01526714 | E31: =C31*D31 -> 14724.668 | F31: =E31*$I$25/1000000 -> 0.41081824
B32: Number of unprotected steel services | C32: 111375 | D32: 0.0327503 | E32: =C32*D32 -> 3647.5647 | F32: =E32*$I$25/1000000 -> 0.10176705
B33: Number of protected steel services | C33: 179097 | D33: 0.0034007868 | E33: =C33*D33 -> 609.07072 | F33: =E33*$I$25/1000000 -> 0.016993073
B34: Total | E34: =SUM(E25:E33) -> 31442.014 | F34: =SUM(F25:F33) -> 0.87723218
B36: Miles of Distribution pipeline from US Department of Transport, Office of Pipeline Safety, " Distribution and Transmission Annuals data:1990 -2005" . Acess from http://www.phmsa.dot.gov/portal/
B38: All emission factors from US EPA, Emissions Inventory Improvements Program, Volume VII: Chapter 5. Methods for Estimating Methane Emissions from Natural Gas and Oil Systems.
B43: Natural Gas - Transmission
C45: Activity Data | D45: Emission Factor | E45: Metric Tons CH4 | F45: MMTCO2E
D46: metric tons CH4 per year per activity unit
B48: Miles of transmission pipeline | C48: 899 | D48: 0.61847933 | E48: =C48*D48 -> 556.01292 | F48: =E48*$I$25/1000000 -> 0.01551276
B49: Number of gas transmission compressor stations | C49: =C48*0.006 -> 5.394 | D49: 983.65968 | E49: =C49*D49 -> 5305.8603 | F49: =E49*$I$25/1000000 -> 0.1480335
B50: Number of gas storage compressor stations | C50: =C48*0.0015 -> 1.3485 | D50: 964.14925 | E50: =C50*D50 -> 1300.1553 | F50: =E50*$I$25/1000000 -> 0.036274332
B51: Total | E51: =SUM(E47:E50) -> 7162.0285 | F51: =SUM(F48:F50) -> 0.19982059
B54: Number of LNG storage compressor stations from EIA, US LNG Markets and Uses, http://www.eia.doe.gov/pub/oil_gas/natural_gas/feature_articles/2003/lng/lng2003.pdf
B55: Miles of transmission pipeline from US Department of Transport, Office of Pipeline Safety, " Distribution and Transmission Annuals data:1990 -2005" . Acess from http://www.phmsa.dot.gov/portal/
B56: Number of gas transmission compressor stations = miles of transmission pipeline x 0.006 -EIIP, Volume VII: Chapter 5,March 2005
B57: Number of gas storage compressor station = miles of transmission pipeline x 0.0015 -EIIP, Volume VII: Chapter 5,March 2005
B58: All emission factors from US EPA, Emissions Inventory Improvements Program, Volume VII: Chapter 5. Methods for Estimating Methane Emissions from Natural Gas and Oil Systems.
B65: Natural Gas - Consumption as Pipeline Fuel
C67: 2006 | D67: Emission Factors: | G67: Combustion | H67: CO2 Emissions | I67: N2O Emissions | J67: CH4 Emissions | K67: GHG Emissions
B68: NG Consumption | C68: (Billion Btus) | D68: Carbon | E68: N2O | F68: CH4 | G68: Efficiency (%) | H68: (MMTCO2E) | I68: (MMTCO2E) | J68: (MMTCO2E)
D69: (lbs/MMBtu) | E69: (Mt/BBtu) | F69: (Mt/BBtu)
B70: NGPZB (Billion Btus) | C70: 2426.8447 | D70: 31.87 | E70: 9.4955027e-05 | F70: 0.00094955027 | G70: 1 | H70: =C70*1000*D70*(44/12)*0.00045359237*0.90718/1000000 -> 0.11669565 | I70: =C70*E70*$I$26*0.000001 -> 6.291042e-05 | J70: =C70*F70*$I$25*0.000001 -> 6.4293067e-05 | K70: =H70+I70+J70 -> 0.11682286
B72: NGPZB (Million Btus) | C72: =C70*1000 -> 2426844.6
B75: Natural Gas as Pipeline Fuel Activity Data (Billion Btu) was obtained from: http://www.eia.doe.gov/states/sep_fuel/html/csv/fuel_adjust_consum.csv
B79: Emissions by Gas (MMTCO2e)
C80: 2006
B81: Natural Gas | C81: =C82+C83+C84+C85 -> 1.1946768
B82: Production | C82: =F10 -> 0.00080115415
B83: Transmission | C83: =F51 -> 0.19982059
B84: Distribution | C84: =F34 -> 0.87723218
B85: Pipeline Fuel | C85: =K70 -> 0.11682286

Sheet Mining
A1: Emissions from Mining in MD
B3: CH4 from Coal Mining in MD
B4: Emissions from: | C4: Coal Basin(s) (if applicable) | D4: Measured Ventilation Emissions (mcf) | F4: Degasification System Emissions (mcf) | H4: Methane Recovered from Degasification Systems and Usef for Energy (mcf) | J4: Emissions (mcf CH4) | L4: Emissions (MTCH4) | N4: Emissions (MTCO2E)
B5: Mines
B6: Underground Mines | D6: 0 | E6: + | F6: 0 | G6: - | H6: 0 | I6: = | J6: =D6+F6-H6 -> 0 | K6: = | L6: =J6*1000000*0.0000192 -> 0 | M6: = | N6: =(L6*$Q$9) -> 0 | P6: Global Warming Potential
D8: Surface Coal Production ('000 short tons) | F8: Basin-specific EF (ft3/short ton) | H8: Emissions ('000 ft3 CH4) | J8: Emissions (MTCH4) | L8: Emissions (MTCO2E) | P8: CO2_GWP= | Q8: =Summary!$E4 -> 1
B9: Surface Mines | C9: Northern Appalachian Basin | D9: 2228 | E9: x | F9: 119 | G9: = | H9: =D9*F9 -> 265132 | I9: = | J9: 5090.5344 | K9: = | L9: =(J9*$Q$9) -> 142025.91 | P9: CH4_GWP = | Q9: =Summary!$E5 -> 27.9
C10: --- | D10: 0 | E10: x | F10: 0 | G10: = | H10: - | I10: = | J10: - | K10: = | L10: - | P10: N2O_GWP= | Q10: =Summary!$E6 -> 273
P11: SF6_GWP = | Q11: =Summary!$E7 -> 24300
B12: Post-Mining Activity | D12: Coal Production ('000 short tons) | F12: Basin- & Mine-specific EF (ft3/short ton) | H12: Emissions ('000 ft3 CH4) | J12: Emissions (MTCH4) | L12: Emissions (MTCO2E)
B13: Underground Mines | C13: Northern Appalachian Basin | D13: 0 | E13: x | F13: 44.98 | G13: = | H13: =D13*F13 -> 0 | I13: = | J13: =H13*0.0000192*1000 -> 0 | K13: = | L13: =(J13*$Q$9) -> 0
C14: --- | D14: 0 | E14: x | F14: 0 | G14: = | H14: - | I14: = | J14: - | K14: = | L14: -
B15: Surface Mines | C15: Northern Appalachian Basin | D15: 2228 | E15: x | F15: 19.3375 | G15: = | H15: =D15*F15 -> 43083.95 | I15: = | J15: =H15*0.0000192*1000 -> 827.21184 | K15: = | L15: =(J15*$Q$9) -> 23079.21
C16: --- | D16: 0 | E16: x | F16: 0 | G16: = | H16: --- | I16: = | J16: --- | K16: = | L16: ---
B17: Post-Mining Total | H17: =SUM(H13:H16) -> 43083.95 | I17: = | J17: =SUM(J13:J16) -> 827.21184 | K17: = | L17: =SUM(L13:L16) -> 23079.21
B19: Total Coal Mining | C19: (MTCO2E) | D19: =SUM(D20:D22) -> 165105.12
C20: Underground Mines | D20: =N6 -> 0
C21: Surface Mines | D21: =SUM(L9:L10) -> 142025.91
C22: Post-Mining Activity | D22: =L17 -> 23079.21
B25: Maryland Abandoned Coal Mines Emissions Summary
D26: Default MD Abandoned Mine Emissions Gg/Year | F26: Mine Status Percent | H26: Emissions (MTCE) | J26: Emissions (MTCH4) | L26: Emissions (MTCO2E)
C27: Vented | D27: 0.28931433 | E27: x | F27: 0.125 | G27: = | H27: =D27*F27*1000*12/44*$Q$9 -> 275.17738 | I27: = | J27: =D27*F27*1000 -> 36.164291 | K27: = | L27: =D27*F27*1000*$Q$9 -> 1008.9837
C28: Sealed | D28: 0.28931433 | E28: x | F28: 0.25 | G28: = | H28: =D28*F28*1000*12/44*$Q$9 -> 550.35475 | I28: = | J28: =D28*F28*1000 -> 72.328582 | K28: = | L28: =D28*F28*1000*$Q$9 -> 2017.9674
C29: Flooded | D29: 0.28931433 | E29: x | F29: 0.625 | G29: = | H29: =D29*F29*1000*12/44*$Q$9 -> 1375.8869 | I29: = | J29: =D29*F29*1000 -> 180.82145 | K29: = | L29: =D29*F29*1000*$Q$9 -> 5044.9186
B32: Maryland Coal Mines Emissions Summary
B33: Emissions (MMTCO2E)
C34: 2006
B35: Coal Mining | C35: =D19/1000000 -> 0.16510512
B36: Abandoned Coal Mines | C36: =SUM(C37:C39) -> 0.0080718697
B37: Vented | C37: =L27/1000000 -> 0.0010089837
B38: Sealed | C38: =L28/1000000 -> 0.0020179674
B39: Flooded | C39: =L29/1000000 -> 0.0050449186
B43: Emissions (MTCO2E)
C44: 2006
B45: Coal Mining | C45: =D19 -> 165105.12
B46: Abandoned Coal Mines | C46: =SUM(C47:C49) -> 8071.8697
B47: Vented | C47: =L27 -> 1008.9837
B48: Sealed | C48: =L28 -> 2017.9674
B49: Flooded | C49: =L29 -> 5044.9186
B51: Emissions (MTCE) | C51: 2006
B52: Coal Mining | C52: =C45*12/44 -> 45028.669
B53: Abandoned Coal Mines | C53: =SUM(C54:C56) -> 2201.419
B54: Vented | C54: =H27 -> 275.17738
B55: Sealed | C55: =H28 -> 550.35475
B56: Flooded | C56: =H29 -> 1375.8869
B58: Emissions by Gas (MTCH4) | C58: 2006
B59: Coal Mining | C59: =C45/21 -> 7862.1486
B60: Abandoned Coal Mines | C60: =SUM(C61:C63) -> 289.31433
B61: Vented | C61: =J27 -> 36.164291
B62: Sealed | C62: =J28 -> 72.328582
B63: Flooded | C63: =J29 -> 180.82145

Sheet Cement
A1: Cement Industry Production Emissions
D3: WSC Methodology used in Emission Certification Reports.
C7: CO2 from Raw Meal Converted to Clinker
D8: Holcim | E8: Lehigh | F8: Essroc | G8: MD Total
C9: Facility:
C11: Year | D11: 2006 | E11: 2006 | F11: 2006
C13: Clinker Produced (metric tonnes) | D13: 557447 | E13: 1917452 | F13: 218353 | G13: =SUM(D13:F13) -> 2693252
C15: Calcination Emission Factor ( kg CO2/ tonnes Clinker) | D15: 525 | E15: 540 | F15: 525
C17: Clinker CO2 Emission (tonnes CO2/yr) | D17: =(D13*D15)/1000 -> 292659.67 | E17: =(E13*E15)/1000 -> 1035424.1 | F17: =(F13*F15)/1000 -> 114635.32 | G17: =SUM(D17:F17) -> 1442719.1
C20: CO2 from Calcination of CKD leaving the Kiln system
C23: CKD Produced (metric tonnes) | D23: 17474 | E23: 0 | F23: 699.45 | G23: =SUM(D23:F23) -> 18173.45
C25: CKD Emission Factor ( t CO2/ tonnes CKD) | D25: =525/1000 -> 0.525 | E25: =525/1000 -> 0.525 | F25: =525/1000 -> 0.525
C27: Calcination rate of CKD [%]-Default | D27: 1 | E27: 1 | F27: 1
C29: CKD CO2 Emission (tonnes CO2/yr) | D29: =D23*D25*D27 -> 9173.85 | E29: 0 | F29: =F23*F25*F27 -> 367.21125 | G29: =SUM(D29:F29) -> 9541.0613
C32: CO2 from Organic Carbon Content of Raw Meal
C35: Clinker Produced (metric tonnes) | D35: 557447 | E35: 1917452 | F35: 218353
C37: Raw Meal to Clinker Ratio (Default) | D37: 1.55 | E37: 1.55 | F37: 1.78
C39: Raw Meal Consumption (metric tonnes) | D39: =D35*D37 -> 864042.85 | E39: =E35*E37 -> 2972050.6 | F39: =F35*F37 -> 388668.34
C41: Organic Carbon Content of Raw Meal (Average) | D41: 0.002 | E41: 0.002 | F41: 0.002
C43: CO2 Emission (tonnes CO2/yr) | D43: =(D39*D41)*(44/12) -> 6336.3142 | E43: =(E39*E41)*(44/12) -> 21795.038 | F43: =(F39*F41)*(44/12) -> 2850.2345 | G43: =SUM(D43:F43) -> 30981.586
C46: MD Total Cement Process CO2 (metric tonnes) = | G46: =G17+G29+G43 -> 1483241.7
C48: MD Total Cement Process CO2 (million metric tonnes CO2 Equivalent) = | G48: =G46/1000000 -> 1.4832417
D60: SIT Methodology
B63: Production | D63: Emission Factor | F63: Emissions | H63: Emissions from Cement Kiln Dust | J63: Emissions | L63: Emissions | M63: Emissions
B64: (Metric Tons) | D64: (t CO2/t production) | F64: (Metric Tons CO2) | H64: (Metric Tons CO2) | J64: (MTCE) | L64: (MTCO2E) | M64: (MMTCO2E)
B66: =G13 -> 2693252 | C66: x | D66: 0.50696255 | E66: = | F66: =B66*D66 -> 1365377.9 | G66: + | H66: =F66*20% -> 273075.58 | I66: = | J66: =L66*(12/44) -> 446850.95 | K66: = | L66: =F66+H66 -> 1638453.5 | M66: =L66/1000000 -> 1.6384535
B67: (Clinker)
C78: CO2 from Raw Meal Converted to Clinker
D79: MD Total
C80: Year | D80: 2006
C82: Clinker Produced (metric tonnes) | D82: 2693252
C84: Calcination Emission Factor ( kg CO2/ tonnes Clinker) | D84: 530
C86: Clinker CO2 Emission (tonnes CO2/yr) | D86: 1442719.1
C88: CO2 from Calcination of CKD leaving the Kiln system
C90: CKD Produced (metric tonnes) | D90: 18173.45
C92: CKD Emission Factor ( t CO2/ tonnes CKD) | D92: 0.525
C94: Calcination rate of CKD [%]-Default | D94: 1
C96: CKD CO2 Emission (tonnes CO2/yr) | D96: 9541.0613
C98: CO2 from Organic Carbon Content of Raw Meal
C100: Clinker Produced (metric tonnes) | D100: 2693252
C102: Raw Meal to Clinker Ratio (Default) | D102: 1.6266667
C104: Raw Meal Consumption (metric tonnes) | D104: 4381023.3
C106: Organic Carbon Content of Raw Meal (Average) | D106: 0.002
C108: CO2 Emission (tonnes CO2/yr) | D108: 30981.586
C110: MD Total Cement Process CO2 (metric tonnes) | D110: 1483241.7
C112: MD Total Cement Process CO2 (million metric tonnes CO2 Equivalent) | D112: 1.4832417

Sheet LimeT&DSoda
A1: Limestone & Dolomite; Soda Ash; Ammonia & Urea; Electric Power T&D Summary (MTCO2E)
C3: Limestone and Dolomite Use
D4: Consumption (Metric Tons) | F4: Emission Factor (t CO2/t production) | H4: Emissions (MTCE) | J4: Emissions (MTCO2E) | O4: Global Warming Potential
C5: Limestone | D5: 258957.25 | E5: x | F5: 0.44 | G5: = | H5: =J5*12/44 -> 31074.87 | I5: = | J5: =IF(ISERROR(D5*F5),0,D5*F5) -> 113941.19
C6: Dolomite | D6: 0 | E6: x | F6: 0.484 | G6: = | H6: =J6*12/44 -> 0 | I6: = | J6: =IF(ISERROR(D6*F6),0,D6*F6) -> 0 | O6: CO2_GWP= | P6: =Summary!E4 -> 1
C7: Magesium Production from Dolomite | E7: x | F7: 1.7966667 | G7: = | H7: =J7*12/44 -> 0 | I7: = | J7: =IF(ISERROR(D7*F7),0,D7*F7) -> 0 | O7: CH4_GWP = | P7: =Summary!E5 -> 27.9
O8: N2O_GWP= | P8: =Summary!E6 -> 273
C9: Soda Ash Use | O9: SF6_GWP = | P9: =Summary!E7 -> 24300
D10: Manufacture and Consumption (Metric tons) | F10: Emission Factor (t CO2/t production) | H10: Emissions (MTCE) | J10: Emissions (MTCO2E)
C11: Manufacture | D11: 0 | E11: x | F11: 0.0974 | G11: = | H11: =J11*12/44 -> 0 | I11: = | J11: =IF(ISERROR(D11*F11),0,D11*F11) -> 0
C12: Consumption | D12: 114725.35 | E12: x | F12: 0.415 | G12: = | H12: =J12*12/44 -> 12984.824 | I12: = | J12: =IF(ISERROR(D12*F12),0,D12*F12) -> 47611.02
C14: Ammonia Production and Urea Consumption
D15: Production & Consumption (Metric Tons) | F15: Emission Factor (mt CO2/mt activity) | H15: Subract emissions from Urea | J15: Emissions (MTCE) | L15: Emissions (MTCO2E)
C16: Ammonia Production | D16: 0 | E16: x | F16: 1.2 | G16: - ( | H16: =D17*F17 -> 626.9808 | I16: ) = | J16: =L16*12/44 -> 0 | K16: = | L16: =IF(D16>0,D16*F16-(H16),0) -> 0
C17: Urea Consumption | D17: 858.8778 | F17: 0.73 | I17: = | J17: =L17*12/44 -> 170.99476 | K17: = | L17: =D17*F17 -> 626.9808
C20: Electric Power Transmission & Distribution (T&D)
D21: SF6 Consumption (Metric Tons) | F21: Emission Factor (t SF6/t Consumption) | H21: Emissions (Metric Tons SF6) | J21: Emissions | L21: Emissions (MTCO2E)
C22: 2006 | D22: 9.5072212 | E22: x | F22: 1 | G22: = | H22: =IF(ISERROR(D22*F22), ,D22*F22) -> 9.5072212 | I22: = | J22: =H22*$P$9*12/44 -> 63006.947 | K22: = | L22: =J22/(12/44) -> 231025.47
C25: Aluminum Production (EastAlCo Shut Down)
D26: Production (Metric Tons) | F26: Emission Factor (t CE/t Production) | J26: Emissions (MTCE) | L26: Emissions (MTCO2E)
C27: 2006 | D27: 0 | E27: x | F27: 0.42545455 | G27: = | J27: =IF(ISERROR(D27*F27),0,D27*F27) -> 0 | K27: = | L27: =J27/(12/44) -> 0
D34: 2006
C35: Carbon Dioxide Emissions | D35: =D36+D37+D38+D39+D40+D41 -> 162179.19
C36: Cement Manufacture | D36: 0
C37: Lime Manufacture | D37: 0
C38: Limestone and Dolomite Use | D38: =J5 -> 113941.19
C39: Soda Ash | D39: =J12 -> 47611.02
C40: Ammonia & Urea | D40: =L17 -> 626.9808
C41: Iron & Steel Production | D41: 0
C42: Nitrous Oxide Emissions | D42: =D43+D44 -> 0
C43: Nitric Acid Production | D43: 0
C44: Adipic Acid Production | D44: 0
C45: HFC, PFC, and SF6 Emissions | D45: =D46+D47+D48+D49+D50 -> 231025.47
C46: Semiconductor Manufacturing | D46: 0
C47: Magnesium Production | D47: 0
C48: Electric Power Transmission and Distribution Systems | D48: =L22 -> 231025.47
C49: HCFC-22 Production | D49: 0
C50: Aluminum Production | D50: =L27 -> 0
C51: Total Emissions | D51: =D35+D42+D45 -> 393204.67

Sheet ODSSubs 100-yr
B2: Maryland GHG Emissions from the Product Use of Substitutes for Ozone Depleting Substances
B5: EPA State-Level Data
B6: Data source entity | C6: U.S. Environmental Protection Agency
B7: Data source name | C7: Inventory of U.S. Greenhouse Gas Emissions and Sinks by State: 1990-2022
B8: Data source product | C8: 2024 All State GHG Inventory Data Workbook (AllStateGHGData90-22_v082924.xlsx)
B9: sector | C9: Industrial Processes and Product Use
B10: subsector | C10: Product uses as substitutes for ODS
B11: category | C11: Substitution of Ozone Depleting Substances
B12: geo_ref | C12: MD
B13: units | C13: Tg (MMTCO2e, GWP=100-yr AR5)
B15: sub_category_1 | C15: ghg_category | D15: ghg | E15: gwp | F15: Y1990 | G15: Y1991 | H15: Y1992 | I15: Y1993 | J15: Y1994 | K15: Y1995 | L15: Y1996 | M15: Y1997 | N15: Y1998 | O15: Y1999 | P15: Y2000 | Q15: Y2001 | R15: Y2002 | S15: Y2003 | T15: Y2004 | U15: Y2005 | V15: Y2006 | W15: Y2007 | X15: Y2008 | Y15: Y2009 | Z15: Y2010 | AA15: Y2011 | AB15: Y2012 | AC15: Y2013 | AD15: Y2014 | AE15: Y2015 | AF15: Y2016 | AG15: Y2017 | AH15: Y2018 | AI15: Y2019 | AJ15: Y2020 | AK15: Y2021 | AL15: Y2022
B16: Fire protection | C16: CO2 | D16: Carbon Dioxide | E16: 1 | F16: 0 | G16: 0 | H16: 0 | I16: 0 | J16: 0 | K16: 0 | L16: 0 | M16: 0 | N16: 9.8519299e-09 | O16: 3.1540939e-08 | P16: 6.2501429e-08 | Q16: 1.0185117e-07 | R16: 1.4894637e-07 | S16: 2.0074601e-07 | T16: 2.6107618e-07 | U16: 3.2987329e-07 | V16: 4.071129e-07 | W16: 4.8314337e-07 | X16: 5.5882771e-07 | Y16: 6.3589657e-07 | Z16: 7.166005e-07 | AA16: 7.9894556e-07 | AB16: 8.8522101e-07 | AC16: 9.744079e-07 | AD16: 1.0670013e-06 | AE16: 1.1630521e-06 | AF16: 1.2612901e-06 | AG16: 1.3659551e-06 | AH16: 1.4755734e-06 | AI16: 1.5902748e-06 | AJ16: 1.6681446e-06 | AK16: 1.7298704e-06 | AL16: 1.7856393e-06
B17: Foam blowing agents | C17: CO2 | D17: Carbon Dioxide | E17: 1 | F17: 2.6131015e-07 | G17: 4.1898125e-07 | H17: 5.8111867e-07 | I17: 7.4840461e-07 | J17: 9.220172e-07 | K17: 2.3052706e-06 | L17: 4.4136082e-06 | M17: 6.594629e-06 | N17: 8.8466613e-06 | O17: 1.1478304e-05 | P17: 1.2507148e-05 | Q17: 1.3145306e-05 | R17: 1.7139737e-05 | S17: 2.1744247e-05 | T17: 2.3069012e-05 | U17: 2.4384036e-05 | V17: 2.5685309e-05 | W17: 2.6988e-05 | X17: 2.8364564e-05 | Y17: 3.1166397e-05 | Z17: 3.4618546e-05 | AA17: 3.6918482e-05 | AB17: 3.8676693e-05 | AC17: 4.0727677e-05 | AD17: 4.3031867e-05 | AE17: 4.5313002e-05 | AF17: 4.8376348e-05 | AG17: 5.1409483e-05 | AH17: 5.5067013e-05 | AI17: 5.8640585e-05 | AJ17: 6.3052901e-05 | AK17: 6.6892769e-05 | AL17: 7.0764145e-05
B18: Refrigeration and air-conditioning | C18: CO2 | D18: Carbon Dioxide | E18: 1 | F18: 0 | G18: 0 | H18: 0 | I18: 0 | J18: 0 | K18: 0 | L18: 0 | M18: 0 | N18: 0 | O18: 0 | P18: 0 | Q18: 0 | R18: 0 | S18: 0 | T18: 0 | U18: 0 | V18: 0 | W18: 0 | X18: 0 | Y18: 0 | Z18: 0 | AA18: 0 | AB18: 3.7046286e-10 | AC18: 1.1108583e-09 | AD18: 1.2944557e-09 | AE18: 2.398426e-09 | AF18: 2.9404986e-09 | AG18: 6.4163775e-09 | AH18: 1.3532337e-08 | AI18: 2.4263686e-08 | AJ18: 3.923096e-08 | AK18: 5.8312307e-08 | AL18: 8.8385301e-08
B19: Fire protection | C19: HFC | D19: HFC-125 | E19: 3170 | F19: 0 | G19: 0 | H19: 0 | I19: 0 | J19: 0 | K19: 0 | L19: 0 | M19: 2.7077627e-05 | N19: 8.6931551e-05 | O19: 0.00018630404 | P19: 0.00031273548 | Q19: 0.00051983172 | R19: 0.00080178754 | S19: 0.001083461 | T19: 0.0013939861 | U19: 0.0017327705 | V19: 0.0020952358 | W19: 0.0024518461 | X19: 0.0028027344 | Y19: 0.0025626719 | Z19: 0.0027523802 | AA19: 0.0032288386 | AB19: 0.0038244972 | AC19: 0.0042703372 | AD19: 0.0053506684 | AE19: 0.0052407328 | AF19: 0.0061727424 | AG19: 0.0055345313 | AH19: 0.0064767103 | AI19: 0.0061203556 | AJ19: 0.0069972373 | AK19: 0.0072624296 | AL19: 0.0075245277
B20: Refrigeration and air-conditioning | C20: HFC | D20: HFC-125 | E20: 3170 | F20: 2.0830798e-06 | G20: 5.1310291e-06 | H20: 9.8378592e-06 | I20: 0.0018322801 | J20: 0.0048728701 | K20: 0.010327908 | L20: 0.017579837 | M20: 0.027135249 | N20: 0.035481955 | O20: 0.046437792 | P20: 0.055499793 | Q20: 0.067528539 | R20: 0.081966989 | S20: 0.097832896 | T20: 0.1141724 | U20: 0.1435341 | V20: 0.18096797 | W20: 0.22928928 | X20: 0.28110161 | Y20: 0.27603704 | Z20: 0.31935177 | AA20: 0.39418765 | AB20: 0.48079929 | AC20: 0.55078411 | AD20: 0.70366761 | AE20: 0.69749797 | AF20: 0.83328893 | AG20: 0.75152261 | AH20: 0.89051179 | AI20: 0.86712905 | AJ20: 1.0418143 | AK20: 1.1979654 | AL20: 1.302747
B21: Foam blowing agents | C21: HFC | D21: HFC-134a | E21: 1300 | F21: 0 | G21: 0 | H21: 0 | I21: 0 | J21: 0 | K21: 0 | L21: 0.00047083012 | M21: 0.00097398562 | N21: 0.0015172377 | O21: 0.0020890454 | P21: 0.0022597234 | Q21: 0.0024499313 | R21: 0.009671933 | S21: 0.017987115 | T21: 0.020047648 | U21: 0.022196068 | V21: 0.024372084 | W21: 0.026622561 | X21: 0.028829089 | Y21: 0.049818769 | Z21: 0.06451806 | AA21: 0.069924118 | AB21: 0.075492316 | AC21: 0.10291084 | AD21: 0.12581849 | AE21: 0.12643396 | AF21: 0.12240325 | AG21: 0.10682382 | AH21: 0.12017952 | AI21: 0.117278 | AJ21: 0.12873841 | AK21: 0.068501507 | AL21: 0.07314416
B22: Metered does inhalers | C22: HFC | D22: HFC-134a | E22: 1300 | F22: 0 | G22: 0 | H22: 0 | I22: 0 | J22: 0 | K22: 0 | L22: 0 | M22: 0.00032235782 | N22: 0.00065270642 | O22: 0.00099047932 | P22: 0.0013715671 | Q22: 0.0031367205 | R22: 0.0049577196 | S22: 0.0068239834 | T22: 0.0087482455 | U22: 0.010728317 | V22: 0.012740752 | W22: 0.014772572 | X22: 0.016454568 | Y22: 0.017865365 | Z22: 0.017039986 | AA22: 0.018568296 | AB22: 0.017419657 | AC22: 0.020422721 | AD22: 0.021296317 | AE22: 0.017987546 | AF22: 0.02099184 | AG22: 0.022168836 | AH22: 0.028629317 | AI22: 0.028196491 | AJ22: 0.031926112 | AK22: 0.032440101 | AL22: 0.019755372
B23: Other Aerosols | C23: HFC | D23: HFC-134a | E23: 1300 | F23: 0 | G23: 0 | H23: 0 | I23: 0 | J23: 0.012228733 | K23: 0.13197605 | L23: 0.15222652 | M23: 0.16412747 | N23: 0.1640113 | O23: 0.1691402 | P23: 0.17177958 | Q23: 0.16325329 | R23: 0.15334836 | S23: 0.14300346 | T23: 0.13129687 | U23: 0.11920599 | V23: 0.12879916 | W23: 0.13938226 | X23: 0.14890156 | Y23: 0.16524919 | Z23: 0.16121869 | AA23: 0.17243091 | AB23: 0.18256599 | AC23: 0.24235496 | AD23: 0.28728774 | AE23: 0.28008392 | AF23: 0.23625239 | AG23: 0.1853182 | AH23: 0.17912986 | AI23: 0.17753733 | AJ23: 0.20229141 | AK23: 0.20684834 | AL23: 0.21123935
B24: Refrigeration and air-conditioning | C24: HFC | D24: HFC-134a | E24: 1300 | F24: 7.3244025e-08 | G24: 1.8041423e-07 | H24: 0.017305468 | I24: 0.074925705 | J24: 0.1821437 | K24: 0.28846386 | L24: 0.4180816 | M24: 0.55318849 | N24: 0.64919731 | O24: 0.74618482 | P24: 0.8384812 | Q24: 0.93108188 | R24: 0.97507845 | S24: 1.0075033 | T24: 1.0436907 | U24: 1.0678293 | V24: 1.0892686 | W24: 1.1057765 | X24: 1.1283151 | Y24: 1.1090757 | Z24: 0.92797689 | AA24: 0.85749333 | AB24: 0.79206011 | AC24: 0.90959076 | AD24: 0.97963123 | AE24: 0.87464999 | AF24: 0.77006584 | AG24: 0.62989016 | AH24: 0.67060516 | AI24: 0.62800888 | AJ24: 0.67523393 | AK24: 0.65433657 | AL24: 0.62706311
B25: Refrigeration and air-conditioning | C25: HFC | D25: HFC-143a | E25: 4800 | F25: 3.7240846e-06 | G25: 9.173142e-06 | H25: 1.758791e-05 | I25: 0.0013186948 | J25: 0.0036741288 | K25: 0.0091767881 | L25: 0.017068478 | M25: 0.028260174 | N25: 0.040974399 | O25: 0.05851173 | P25: 0.072150615 | Q25: 0.089370066 | R25: 0.10878281 | S25: 0.12880728 | T25: 0.14725207 | U25: 0.17825235 | V25: 0.21186199 | W25: 0.24965077 | X25: 0.292543 | Y25: 0.32544677 | Z25: 0.33349639 | AA25: 0.41388764 | AB25: 0.49996887 | AC25: 0.56678411 | AD25: 0.65334286 | AE25: 0.65542007 | AF25: 0.6741416 | AG25: 0.50404953 | AH25: 0.63209378 | AI25: 0.55417967 | AJ25: 0.60943852 | AK25: 0.61154888 | AL25: 0.60870673
B26: Fire protection | C26: HFC | D26: HFC-23 | E26: 12400 | F26: 0 | G26: 0 | H26: 0 | I26: 0 | J26: 0 | K26: 9.3036146e-06 | L26: 2.0863174e-05 | M26: 3.9285248e-05 | N26: 5.7624496e-05 | O26: 8.2822796e-05 | P26: 0.00010808852 | Q26: 0.00013136571 | R26: 0.00015256284 | S26: 0.00016903748 | T26: 0.00018525577 | U26: 0.000203596 | V26: 0.00021908588 | W26: 0.00023642556 | X26: 0.00025156469 | Y26: 0.00026969387 | Z26: 0.00029085115 | AA26: 0.0003097348 | AB26: 0.00033304611 | AC26: 0.00035354918 | AD26: 0.00037605786 | AE26: 0.00040035265 | AF26: 0.00042387288 | AG26: 0.00045009971 | AH26: 0.00047619198 | AI26: 0.00050446574 | AJ26: 0.00053214126 | AK26: 0.00055199864 | AL26: 0.00056954537
B27: Fire protection | C27: HFC | D27: HFC-236fa | E27: 8060 | F27: 0 | G27: 0 | H27: 0 | I27: 0 | J27: 0 | K27: 0 | L27: 0 | M27: 0.00019677288 | N27: 0.00059929476 | O27: 0.0012202559 | P27: 0.0018595826 | Q27: 0.0025241805 | R27: 0.0032153774 | S27: 0.0037282026 | T27: 0.0040489965 | U27: 0.0041671244 | V27: 0.0042781707 | W27: 0.0043864975 | X27: 0.0045011783 | Y27: 0.0046335922 | Z27: 0.0047814097 | AA27: 0.0049347636 | AB27: 0.0050880259 | AC27: 0.0052378081 | AD27: 0.0053880608 | AE27: 0.0055376779 | AF27: 0.0056821755 | AG27: 0.0058379979 | AH27: 0.0059974113 | AI27: 0.0061625128 | AJ27: 0.006408648 | AK27: 0.0065918218 | AL27: 0.0067551257
... B49: Fire protection | C49: PFC | D49: PFC-14 (Perfluoromethane) | E49: 6630 | F49: 0 | G49: 0 | H49: 0 | I49: 0 | J49: 4.4884166e-07 | K49: 1.4425855e-06 | L49: 1.3039035e-05 | M49: 3.5782525e-05 | N49: 7.0346572e-05 | O49: 0.00011730201 | P49: 0.00017716473 | Q49: 0.00023890872 | R49: 0.00029247235 | S49: 0.00033651268 | T49: 0.00037015762 | U49: 0.00039282961 | V49: 0.00040335712 | W49: 0.0004135003 | X49: 0.00042435407 | Y49: 0.00043680145 | Z49: 0.00045081205 | AA49: 0.00046517504 | AB49: 0.00047968976 | AC49: 0.00049384718 | AD49: 0.00050801963 | AE49: 0.0005220606 | AF49: 0.00053563903 | AG49: 0.00055035359 | AH49: 0.00056542619 | AI49: 0.00058101252 | AJ49: 0.00054511363 | AK49: 0.00050178884 | AL49: 0.00045545001
B51: Notes About Other HFC and Other PFC
B53: Data source entity | C53: U.S. Environmental Protection Agency
B54: Data source name | C54: Inventory of U.S. Greenhouse Gas Emissions and Sinks: 1990-2022
B55: Data source product | C55: 2024 Chapter 4: Industrial Processes and Product Use (pdf) (2.23 MB, April 11, 2024, 430R24004)
B57: Table 4-125
B58: "Other Saturated HFCs represents an unspecified mix of saturated HFCs, which includes HFC-152a, HFC227ea, HFC-245fa, HFC-365mfc, and HFC-43-10mee
B59: Other PFCs and HFOs represents an unspecified mix of PFCs and HFOs, which includes HCFO-1233zd(E), HFO-1234yf, HFO-1234ze(E), HFO-1336mzz(Z), C4F10, and PFC/PFPEs, the latter being a proxy for a diverse
B60: collection of PFCs and perfluoropolyethers (PFPEs) employed for solvent applications. For estimating purposes, the GWP value used for PFC/PFPEs was based upon n-C6F14."
B62: Data source product | C62: Annex 3.9
B64: Other HFC and Other PFC are reported in aggregate due to confidentiality.
B66: Calculation of GWP Conversion Ratio
B68: Data source entity | C68: Intergovernmental Panel on Climate Change
B69: Data source name | C69: Fifth Assessment Report; Sixth Assessment Report
B70: Data source product | C70: Chapter 8, Anthropogenic and Natural Radiative Forcing (AR5); Chapter 7, The Earth’s Energy Budget, Climate Feedbacks and Climate Sensitivity (AR6)
B72: Gas | C72: AR5 100-yr GWP | D72: AR6 100-yr GWP | E72: Ratio of AR6 100-yr GWP : AR5 100-yr GWP
B73: Carbon Dioxide | C73: 1 | D73: 1 | E73: =D73/C73 -> 1
B74: HFC-125 | C74: 3170 | D74: 3740 | E74: =D74/C74 -> 1.1798107
B75: HFC-134a | C75: 1300 | D75: 1530 | E75: =D75/C75 -> 1.1769231
B76: HFC-143a | C76: 4800 | D76: 5810 | E76: =D76/C76 -> 1.2104167
B77: HFC-23 | C77: 12400 | D77: 14600 | E77: =D77/C77 -> 1.1774194
B78: HFC-236fa | C78: 8060 | D78: 8690 | E78: =D78/C78 -> 1.0781638
B79: HFC-32 | C79: 677 | D79: 771 | E79: =D79/C79 -> 1.1388479
B80: PFC-14 (Perfluoromethane) | C80: 6630 | D80: 7380 | E80: =D80/C80 -> 1.1131222
B82: Gas | C82: AR5 100-yr GWP | D82: AR6 100-yr GWP | E82: Ratio of AR6 100-yr GWP : AR5 100-yr GWP
B83: HFC-152a | C83: 138 | D83: 164 | E83: =D83/C83 -> 1.1884058
B84: HFC227ea | C84: 3350 | D84: 3600 | E84: =D84/C84 -> 1.0746269
B85: HFC-245fa | C85: 858 | D85: 962 | E85: =D85/C85 -> 1.1212121
B86: HFC-365mfc | C86: 804 | D86: 914 | E86: =D86/C86 -> 1.1368159
B87: HFC-43-10mee | C87: 1650 | D87: 1600 | E87: =D87/C87 -> 0.96969697
B88: Other HFC | E88: =AVERAGE(E83:E87) -> 1.0981515
B90: Gas | C90: AR5 100-yr GWP | D90: AR6 100-yr GWP | E90: Ratio of AR6 100-yr GWP : AR5 100-yr GWP
B91: C4F10 | C91: 9200 | D91: 10000 | E91: =D91/C91 -> 1.0869565
B92: n-C6F14 | C92: 7910 | D92: 8620 | E92: =D92/C92 -> 1.0897598
B93: Data source entity | C93: Intergovernmental Panel on Climate Change
B94: Data source name | C94: Sixth Assessment Report
B95: Data source product | C95: The Physical Science Basis, Chapter 7 Supplementary Material, Table 7.SM.7 | H95: AR6 | M95: AR5
B96: Gas | C96: AR5 100-yr GWP | D96: AR6 100-yr GWP | E96: Ratio of AR6 100-yr GWP : AR5 100-yr GWP | H96: Name | I96: Formula | J96: lifetime (yrs) | K96: lifetime (days) | M96: Name | N96: Formula | O96: lifetime (days) | P96: GWP20 | Q96: GWP100 | R96: ratio
B97: HCFO-1233zd(E) | C97: 1 | D97: 3.88 | E97: =D97/C97 -> 3.88 | H97: HCFO-1233zd(E) | I97: (E)-CF3CH=CHCl | J97: 0.116 | K97: 42 | M97: (E)-1-Chloro-3,3,3trifluoroprop-1-ene | N97: trans-CF3 CH=CHCl | O97: 26 | P97: 5 | Q97: 1 | R97: =P97/Q97 -> 5
B98: HFO-1234yf | C98: 0.5 | D98: 0.501 | E98: =D98/C98 -> 1.002 | H98: HFO-1234yf | I98: CF3CF=CH2 | J98: 0.033 | K98: 12 | M98: HFC-1234yf | N98: CF3 CF=CH2 | O98: 10.5 | P98: 1 | Q98: <1 | R98: =P98/Q98 -> #VALUE!
B99: HFO-1234ze(E) | C99: 0.5 | D99: 1.37 | E99: =D99/C99 -> 2.74 | H99: HFO-1234ze(E) | I99: (E)-CF3CH=CHF | J99: 0.052 | K99: 19 | M99: (E)-HFC-1234ze | N99: trans-CF3 CH=CHF | O99: 16.4 | P99: 4 | Q99: <1 | R99: =P99/Q99 -> #VALUE!
B100: HFO-1336mzz(Z) | C100: 2 | D100: 2.08 | E100: =D100/C100 -> 1.04 | H100: HFO-1336mzz(Z) | I100: (Z)-CF3CH=CHCF3 | J100: 0.074 | K100: 27 | M100: (Z)-HFC-1336 | N100: CF3 CH=CHCF3 (Z) | O100: 22 | P100: 6 | Q100: 2 | R100: =P100/Q100 -> 3
B101: Other PFC | E101: =AVERAGE(E91:E100) -> 1.8064527
B103: Conversion From AR5 100-yr GWP to AR6 100-yr GWP
B105: =B15 -> sub_category_1 | C105: =C15 -> ghg_category | D105: =D15 -> ghg | E105: GWP Conversion Ratio | F105: =F15 -> Y1990 | G105: =G15 -> Y1991 | H105: =H15 -> Y1992 | I105: =I15 -> Y1993 | J105: =J15 -> Y1994 | K105: =K15 -> Y1995 | L105: =L15 -> Y1996 | M105: =M15 -> Y1997 | ... AL105: =AL15 -> Y2022
B106: =B16 -> Fire protection | C106: =C16 -> CO2 | D106: =D16 -> Carbon Dioxide | E106: =_xlfn.XLOOKUP(D106,B$73:B$101,E$73:E$101) -> 1 | F106: =F16*$E106 -> 0 | G106: =G16*$E106 -> 0 | H106: =H16*$E106 -> 0 | I106: =I16*$E106 -> 0 | J106: =J16*$E106 -> 0 | K106: =K16*$E106 -> 0 | L106: =L16*$E106 -> 0 | M106: =M16*$E106 -> 0 | ... AL106: =AL16*$E106 -> 1.7856393e-06
B107: =B17 -> Foam blowing agents | C107: =C17 -> CO2 | D107: =D17 -> Carbon Dioxide | E107: =_xlfn.XLOOKUP(D107,B$73:B$101,E$73:E$101) -> 1 | F107: =F17*$E107 -> 2.6131015e-07 | G107: =G17*$E107 -> 4.1898125e-07 | H107: =H17*$E107 -> 5.8111867e-07 | I107: =I17*$E107 -> 7.4840461e-07 | J107: =J17*$E107 -> 9.220172e-07 | K107: =K17*$E107 -> 2.3052706e-06 | L107: =L17*$E107 -> 4.4136082e-06 | M107: =M17*$E107 -> 6.594629e-06 | ... AL107: =AL17*$E107 -> 7.0764145e-05
B108: =B18 -> Refrigeration and air-conditioning | C108: =C18 -> CO2 | D108: =D18 -> Carbon Dioxide | E108: =_xlfn.XLOOKUP(D108,B$73:B$101,E$73:E$101) -> 1 | F108: =F18*$E108 -> 0 | G108: =G18*$E108 -> 0 | H108: =H18*$E108 -> 0 | I108: =I18*$E108 -> 0 | J108: =J18*$E108 -> 0 | K108: =K18*$E108 -> 0 | L108: =L18*$E108 -> 0 | M108: =M18*$E108 -> 0 | ... AL108: =AL18*$E108 -> 8.8385301e-08
B109: =B19 -> Fire protection | C109: =C19 -> HFC | D109: =D19 -> HFC-125 | E109: =_xlfn.XLOOKUP(D109,B$73:B$101,E$73:E$101) -> 1.1798107 | F109: =F19*$E109 -> 0 | G109: =G19*$E109 -> 0 | H109: =H19*$E109 -> 0 | I109: =I19*$E109 -> 0 | J109: =J19*$E109 -> 0 | K109: =K19*$E109 -> 0 | L109: =L19*$E109 -> 0 | M109: =M19*$E109 -> 3.1946475e-05 | ... AL109: =AL19*$E109 -> 0.0088775184
B110: =B20 -> Refrigeration and air-conditioning | C110: =C20 -> HFC | D110: =D20 -> HFC-125 | E110: =_xlfn.XLOOKUP(D110,B$73:B$101,E$73:E$101) -> 1.1798107 | F110: =F20*$E110 -> 2.4576398e-06 | G110: =G20*$E110 -> 6.0536431e-06 | H110: =H20*$E110 -> 1.1606812e-05 | I110: =I20*$E110 -> 0.0021617438 | J110: =J20*$E110 -> 0.0057490644 | K110: =K20*$E110 -> 0.012184977 | L110: =L20*$E110 -> 0.02074088 | M110: =M20*$E110 -> 0.032014457 | ... AL110: =AL20*$E110 -> 1.5369949
B111: =B21 -> Foam blowing agents | C111: =C21 -> HFC | D111: =D21 -> HFC-134a | E111: =_xlfn.XLOOKUP(D111,B$73:B$101,E$73:E$101) -> 1.1769231 | F111: =F21*$E111 -> 0 | G111: =G21*$E111 -> 0 | H111: =H21*$E111 -> 0 | I111: =I21*$E111 -> 0 | J111: =J21*$E111 -> 0 | K111: =K21*$E111 -> 0 | L111: =L21*$E111 -> 0.00055413084 | M111: =M21*$E111 -> 0.0011463062 | ... AL111: =AL21*$E111 -> 0.08608505
B112: =B22 -> Metered does inhalers | C112: =C22 -> HFC | D112: =D22 -> HFC-134a | E112: =_xlfn.XLOOKUP(D112,B$73:B$101,E$73:E$101) -> 1.1769231 | F112: =F22*$E112 -> 0 | G112: =G22*$E112 -> 0 | H112: =H22*$E112 -> 0 | I112: =I22*$E112 -> 0 | J112: =J22*$E112 -> 0 | K112: =K22*$E112 -> 0 | L112: =L22*$E112 -> 0 | M112: =M22*$E112 -> 0.00037939036 | ... AL112: =AL22*$E112 -> 0.023250554
B113: =B23 -> Other Aerosols | C113: =C23 -> HFC | D113: =D23 -> HFC-134a | E113: =_xlfn.XLOOKUP(D113,B$73:B$101,E$73:E$101) -> 1.1769231 | F113: =F23*$E113 -> 0 | G113: =G23*$E113 -> 0 | H113: =H23*$E113 -> 0 | I113: =I23*$E113 -> 0 | J113: =J23*$E113 -> 0.014392278 | K113: =K23*$E113 -> 0.15532566 | L113: =L23*$E113 -> 0.1791589 | M113: =M23*$E113 -> 0.19316541 | ... AL113: =AL23*$E113 -> 0.24861246
B114: =B24 -> Refrigeration and air-conditioning | C114: =C24 -> HFC | D114: =D24 -> HFC-134a | E114: =_xlfn.XLOOKUP(D114,B$73:B$101,E$73:E$101) -> 1.1769231 | F114: =F24*$E114 -> 8.6202584e-08 | G114: =G24*$E114 -> 2.1233367e-07 | H114: =H24*$E114 -> 0.020367205 | I114: =I24*$E114 -> 0.088181791 | J114: =J24*$E114 -> 0.21436912 | K114: =K24*$E114 -> 0.33949977 | L114: =L24*$E114 -> 0.49204989 | M114: =M24*$E114 -> 0.6510603 | ... AL114: =AL24*$E114 -> 0.73800505
B115: =B25 -> Refrigeration and air-conditioning | C115: =C25 -> HFC | D115: =D25 -> HFC-143a | E115: =_xlfn.XLOOKUP(D115,B$73:B$101,E$73:E$101) -> 1.2104167 | F115: =F25*$E115 -> 4.5076941e-06 | G115: =G25*$E115 -> 1.1103324e-05 | H115: =H25*$E115 -> 2.12887e-05 | I115: =I25*$E115 -> 0.0015961702 | J115: =J25*$E115 -> 0.0044472268 | K115: =K25*$E115 -> 0.011107737 | L115: =L25*$E115 -> 0.02065997 | M115: =M25*$E115 -> 0.034206586 | ... AL115: =AL25*$E115 -> 0.73678877
B116: =B26 -> Fire protection | C116: =C26 -> HFC | D116: =D26 -> HFC-23 | E116: =_xlfn.XLOOKUP(D116,B$73:B$101,E$73:E$101) -> 1.1774194 | F116: =F26*$E116 -> 0 | G116: =G26*$E116 -> 0 | H116: =H26*$E116 -> 0 | I116: =I26*$E116 -> 0 | J116: =J26*$E116 -> 0 | K116: =K26*$E116 -> 1.0954256e-05 | L116: =L26*$E116 -> 2.4564705e-05 | M116: =M26*$E116 -> 4.6255212e-05 | ... AL116: =AL26*$E116 -> 0.00067059374
B117: =B27 -> Fire protection | C117: =C27 -> HFC | D117: =D27 -> HFC-236fa | E117: =_xlfn.XLOOKUP(D117,B$73:B$101,E$73:E$101) -> 1.0781638 | F117: =F27*$E117 -> 0 | G117: =G27*$E117 -> 0 | H117: =H27*$E117 -> 0 | I117: =I27*$E117 -> 0 | J117: =J27*$E117 -> 0 | K117: =K27*$E117 -> 0 | L117: =L27*$E117 -> 0 | M117: =M27*$E117 -> 0.00021215339 | ... AL117: =AL27*$E117 -> 0.0072831318
... B139: =B49 -> Fire protection | C139: =C49 -> PFC | D139: =D49 -> PFC-14 (Perfluoromethane) | E139: =_xlfn.XLOOKUP(D139,B$73:B$101,E$73:E$101) -> 1.1131222 | F139: =F49*$E139 -> 0 | G139: =G49*$E139 -> 0 | H139: =H49*$E139 -> 0 | I139: =I49*$E139 -> 0 | J139: =J49*$E139 -> 4.996156e-07 | K139: =K49*$E139 -> 1.6057739e-06 | L139: =L49*$E139 -> 1.4514039e-05 | M139: =M49*$E139 -> 3.9830322e-05 | ... AL139: =AL49*$E139 -> 0.0005069715
B141: Emissions by Gas
B143: AR5 100-yr GWP
D144: GHG | F144: Y1990 | G144: Y1991 | H144: Y1992 | I144: Y1993 | J144: Y1994 | K144: Y1995 | L144: Y1996 | M144: Y1997 | N144: Y1998 | O144: Y1999 | P144: Y2000 | Q144: Y2001 | R144: Y2002 | S144: Y2003 | T144: Y2004 | U144: Y2005 | V144: Y2006 | W144: Y2007 | X144: Y2008 | Y144: Y2009 | Z144: Y2010 | AA144: Y2011 | AB144: Y2012 | AC144: Y2013 | AD144: Y2014 | AE144: Y2015 | AF144: Y2016 | AG144: Y2017 | AH144: Y2018 | AI144: Y2019 | AJ144: Y2020 | AK144: Y2021 | AL144: Y2022
D145: Carbon Dioxide | F145: =SUMIF($D$16:$D$49,$D145,F$16:F$49) -> 2.6131015e-07 | G145: =SUMIF($D$16:$D$49,$D145,G$16:G$49) -> 4.1898125e-07 | H145: =SUMIF($D$16:$D$49,$D145,H$16:H$49) -> 5.8111867e-07 | I145: =SUMIF($D$16:$D$49,$D145,I$16:I$49) -> 7.4840461e-07 | J145: =SUMIF($D$16:$D$49,$D145,J$16:J$49) -> 9.220172e-07 | K145: =SUMIF($D$16:$D$49,$D145,K$16:K$49) -> 2.3052706e-06 | L145: =SUMIF($D$16:$D$49,$D145,L$16:L$49) -> 4.4136082e-06 | M145: =SUMIF($D$16:$D$49,$D145,M$16:M$49) -> 6.594629e-06 | ... AL145: =SUMIF($D$16:$D$49,$D145,AL$16:AL$49) -> 7.263817e-05
D146: HFC-125 | F146: =SUMIF($D$16:$D$49,$D146,F$16:F$49) -> 2.0830798e-06 | G146: =SUMIF($D$16:$D$49,$D146,G$16:G$49) -> 5.1310291e-06 | H146: =SUMIF($D$16:$D$49,$D146,H$16:H$49) -> 9.8378592e-06 | I146: =SUMIF($D$16:$D$49,$D146,I$16:I$49) -> 0.0018322801 | J146: =SUMIF($D$16:$D$49,$D146,J$16:J$49) -> 0.0048728701 | K146: =SUMIF($D$16:$D$49,$D146,K$16:K$49) -> 0.010327908 | L146: =SUMIF($D$16:$D$49,$D146,L$16:L$49) -> 0.017579837 | M146: =SUMIF($D$16:$D$49,$D146,M$16:M$49) -> 0.027162326 | ... AL146: =SUMIF($D$16:$D$49,$D146,AL$16:AL$49) -> 1.3102715
D147: HFC-134a | F147: =SUMIF($D$16:$D$49,$D147,F$16:F$49) -> 7.3244025e-08 | G147: =SUMIF($D$16:$D$49,$D147,G$16:G$49) -> 1.8041423e-07 | H147: =SUMIF($D$16:$D$49,$D147,H$16:H$49) -> 0.017305468 | I147: =SUMIF($D$16:$D$49,$D147,I$16:I$49) -> 0.074925705 | J147: =SUMIF($D$16:$D$49,$D147,J$16:J$49) -> 0.19437243 | K147: =SUMIF($D$16:$D$49,$D147,K$16:K$49) -> 0.4204399 | L147: =SUMIF($D$16:$D$49,$D147,L$16:L$49) -> 0.57077895 | M147: =SUMIF($D$16:$D$49,$D147,M$16:M$49) -> 0.7186123 | ... AL147: =SUMIF($D$16:$D$49,$D147,AL$16:AL$49) -> 0.93120199
D148: HFC-143a | F148: =SUMIF($D$16:$D$49,$D148,F$16:F$49) -> 3.7240846e-06 | G148: =SUMIF($D$16:$D$49,$D148,G$16:G$49) -> 9.173142e-06 | H148: =SUMIF($D$16:$D$49,$D148,H$16:H$49) -> 1.758791e-05 | I148: =SUMIF($D$16:$D$49,$D148,I$16:I$49) -> 0.0013186948 | J148: =SUMIF($D$16:$D$49,$D148,J$16:J$49) -> 0.0036741288 | K148: =SUMIF($D$16:$D$49,$D148,K$16:K$49) -> 0.0091767881 | L148: =SUMIF($D$16:$D$49,$D148,L$16:L$49) -> 0.017068478 | M148: =SUMIF($D$16:$D$49,$D148,M$16:M$49) -> 0.028260174 | ... AL148: =SUMIF($D$16:$D$49,$D148,AL$16:AL$49) -> 0.60870673
D149: HFC-23 | F149: =SUMIF($D$16:$D$49,$D149,F$16:F$49) -> 0 | G149: =SUMIF($D$16:$D$49,$D149,G$16:G$49) -> 0 | H149: =SUMIF($D$16:$D$49,$D149,H$16:H$49) -> 0 | I149: =SUMIF($D$16:$D$49,$D149,I$16:I$49) -> 0 | J149: =SUMIF($D$16:$D$49,$D149,J$16:J$49) -> 0 | K149: =SUMIF($D$16:$D$49,$D149,K$16:K$49) -> 9.3036146e-06 | L149: =SUMIF($D$16:$D$49,$D149,L$16:L$49) -> 2.0863174e-05 | M149: =SUMIF($D$16:$D$49,$D149,M$16:M$49) -> 3.9285248e-05 | ... AL149: =SUMIF($D$16:$D$49,$D149,AL$16:AL$49) -> 0.00056954537
D150: HFC-236fa | F150: =SUMIF($D$16:$D$49,$D150,F$16:F$49) -> 0 | G150: =SUMIF($D$16:$D$49,$D150,G$16:G$49) -> 0 | H150: =SUMIF($D$16:$D$49,$D150,H$16:H$49) -> 0 | I150: =SUMIF($D$16:$D$49,$D150,I$16:I$49) -> 0.0010949582 | J150: =SUMIF($D$16:$D$49,$D150,J$16:J$49) -> 0.0033027021 | K150: =SUMIF($D$16:$D$49,$D150,K$16:K$49) -> 0.0054743631 | L150: =SUMIF($D$16:$D$49,$D150,L$16:L$49) -> 0.0068121741 | M150: =SUMIF($D$16:$D$49,$D150,M$16:M$49) -> 0.008341067 | ... AL150: =SUMIF($D$16:$D$49,$D150,AL$16:AL$49) -> 0.010679883
D151: HFC-32 | F151: =SUMIF($D$16:$D$49,$D151,F$16:F$49) -> 0 | G151: =SUMIF($D$16:$D$49,$D151,G$16:G$49) -> 0 | H151: =SUMIF($D$16:$D$49,$D151,H$16:H$49) -> 0 | I151: =SUMIF($D$16:$D$49,$D151,I$16:I$49) -> 0 | J151: =SUMIF($D$16:$D$49,$D151,J$16:J$49) -> 0 | K151: =SUMIF($D$16:$D$49,$D151,K$16:K$49) -> 0 | L151: =SUMIF($D$16:$D$49,$D151,L$16:L$49) -> 3.0469017e-06 | M151: =SUMIF($D$16:$D$49,$D151,M$16:M$49) -> 8.651811e-06 | ... AL151: =SUMIF($D$16:$D$49,$D151,AL$16:AL$49) -> 0.18850129
D152: Other HFC | F152: =SUMIF($D$16:$D$49,$D152,F$16:F$49) -> 0.0047799061 | G152: =SUMIF($D$16:$D$49,$D152,G$16:G$49) -> 0.010063064 | H152: =SUMIF($D$16:$D$49,$D152,H$16:H$49) -> 0.010121953 | I152: =SUMIF($D$16:$D$49,$D152,I$16:I$49) -> 0.010277569 | J152: =SUMIF($D$16:$D$49,$D152,J$16:J$49) -> 0.011054365 | K152: =SUMIF($D$16:$D$49,$D152,K$16:K$49) -> 0.024079612 | L152: =SUMIF($D$16:$D$49,$D152,L$16:L$49) -> 0.039032626 | M152: =SUMIF($D$16:$D$49,$D152,M$16:M$49) -> 0.048525527 | ... AL152: =SUMIF($D$16:$D$49,$D152,AL$16:AL$49) -> 0.30845443
D153: PFC-14 (Perfluoromethane) | F153: =SUMIF($D$16:$D$49,$D153,F$16:F$49) -> 0 | G153: =SUMIF($D$16:$D$49,$D153,G$16:G$49) -> 0 | H153: =SUMIF($D$16:$D$49,$D153,H$16:H$49) -> 0 | I153: =SUMIF($D$16:$D$49,$D153,I$16:I$49) -> 0 | J153: =SUMIF($D$16:$D$49,$D153,J$16:J$49) -> 4.4884166e-07 | K153: =SUMIF($D$16:$D$49,$D153,K$16:K$49) -> 1.4425855e-06 | L153: =SUMIF($D$16:$D$49,$D153,L$16:L$49) -> 1.3039035e-05 | M153: =SUMIF($D$16:$D$49,$D153,M$16:M$49) -> 3.5782525e-05 | ... AL153: =SUMIF($D$16:$D$49,$D153,AL$16:AL$49) -> 0.00045545001
D154: Other PFC | F154: =SUMIF($D$16:$D$49,$D154,F$16:F$49) -> 0 | G154: =SUMIF($D$16:$D$49,$D154,G$16:G$49) -> 0 | H154: =SUMIF($D$16:$D$49,$D154,H$16:H$49) -> 0 | I154: =SUMIF($D$16:$D$49,$D154,I$16:I$49) -> 0 | J154: =SUMIF($D$16:$D$49,$D154,J$16:J$49) -> 1.7300751e-06 | K154: =SUMIF($D$16:$D$49,$D154,K$16:K$49) -> 0.0084656947 | L154: =SUMIF($D$16:$D$49,$D154,L$16:L$49) -> 0.020348099 | M154: =SUMIF($D$16:$D$49,$D154,M$16:M$49) -> 0.023912308 | ... AL154: =SUMIF($D$16:$D$49,$D154,AL$16:AL$49) -> 0.00040573062
D156: CO2 | F156: =F145 -> 2.6131015e-07 | G156: =G145 -> 4.1898125e-07 | H156: =H145 -> 5.8111867e-07 | I156: =I145 -> 7.4840461e-07 | J156: =J145 -> 9.220172e-07 | K156: =K145 -> 2.3052706e-06 | L156: =L145 -> 4.4136082e-06 | M156: =M145 -> 6.594629e-06 | ... AL156: =AL145 -> 7.263817e-05
D157: HFC | F157: =SUM(F146:F152) -> 0.0047857865 | G157: =SUM(G146:G152) -> 0.010077549 | H157: =SUM(H146:H152) -> 0.027454847 | I157: =SUM(I146:I152) -> 0.089449207 | J157: =SUM(J146:J152) -> 0.2172765 | K157: =SUM(K146:K152) -> 0.46950788 | L157: =SUM(L146:L152) -> 0.65129598 | M157: =SUM(M146:M152) -> 0.83094933 | ... AL157: =SUM(AL146:AL152) -> 3.3583854
D158: PFC | F158: =SUM(F153:F154) -> 0 | G158: =SUM(G153:G154) -> 0 | H158: =SUM(H153:H154) -> 0 | I158: =SUM(I153:I154) -> 0 | J158: =SUM(J153:J154) -> 2.1789168e-06 | K158: =SUM(K153:K154) -> 0.0084671373 | L158: =SUM(L153:L154) -> 0.020361138 | M158: =SUM(M153:M154) -> 0.023948091 | ... AL158: =SUM(AL153:AL154) -> 0.00086118063
D160: Total MMTCO2e | F160: =SUM(F156:F158) -> 0.0047860478 | G160: =SUM(G156:G158) -> 0.010077968 | H160: =SUM(H156:H158) -> 0.027455428 | I160: =SUM(I156:I158) -> 0.089449955 | J160: =SUM(J156:J158) -> 0.2172796 | K160: =SUM(K156:K158) -> 0.47797732 | L160: =SUM(L156:L158) -> 0.67166153 | M160: =SUM(M156:M158) -> 0.85490402 | ... AL160: =SUM(AL156:AL158) -> 3.3593192
B162: AR6 100-yr GWP
D163: GHG | F163: Y1990 | G163: Y1991 | H163: Y1992 | I163: Y1993 | J163: Y1994 | K163: Y1995 | L163: Y1996 | M163: Y1997 | N163: Y1998 | O163: Y1999 | P163: Y2000 | Q163: Y2001 | R163: Y2002 | S163: Y2003 | T163: Y2004 | U163: Y2005 | V163: Y2006 | W163: Y2007 | X163: Y2008 | Y163: Y2009 | Z163: Y2010 | AA163: Y2011 | AB163: Y2012 | AC163: Y2013 | AD163: Y2014 | AE163: Y2015 | AF163: Y2016 | AG163: Y2017 | AH163: Y2018 | AI163: Y2019 | AJ163: Y2020 | AK163: Y2021 | AL163: Y2022
...

Sheet ODSSubs 20-yr
B2: Maryland GHG Emissions from the Product Use of Substitutes for Ozone Depleting Substances
B5: EPA State-Level Data
B6: Data source entity | C6: U.S. Environmental Protection Agency
B7: Data source name | C7: Inventory of U.S. Greenhouse Gas Emissions and Sinks by State: 1990-2022
B8: Data source product | C8: 2024 All State GHG Inventory Data Workbook (AllStateGHGData90-22_v082924.xlsx)
B9: sector | C9: Industrial Processes and Product Use
B10: subsector | C10: Product uses as substitutes for ODS
B11: category | C11: Substitution of Ozone Depleting Substances
B12: geo_ref | C12: MD
B13: units | C13: Tg (MMTCO2e, GWP=100-yr AR5)
B15: sub_category_1 | C15: ghg_category | D15: ghg | E15: gwp | F15: Y1990 | G15: Y1991 | H15: Y1992 | I15: Y1993 | J15: Y1994 | K15: Y1995 | L15: Y1996 | M15: Y1997 | N15: Y1998 | O15: Y1999 | P15: Y2000 | Q15: Y2001 | R15: Y2002 | S15: Y2003 | T15: Y2004 | U15: Y2005 | V15: Y2006 | W15: Y2007 | X15: Y2008 | Y15: Y2009 | Z15: Y2010 | AA15: Y2011 | AB15: Y2012 | AC15: Y2013 | AD15: Y2014 | AE15: Y2015 | AF15: Y2016 | AG15: Y2017 | AH15: Y2018 | AI15: Y2019 | AJ15: Y2020 | AK15: Y2021 | AL15: Y2022
B16: Fire protection | C16: CO2 | D16: Carbon Dioxide | E16: 1 | F16: 0 | G16: 0 | H16: 0 | I16: 0 | J16: 0 | K16: 0 | L16: 0 | M16: 0 | N16: 9.8519299e-09 | O16: 3.1540939e-08 | P16: 6.2501429e-08 | Q16: 1.0185117e-07 | R16: 1.4894637e-07 | S16: 2.0074601e-07 | T16: 2.6107618e-07 | U16: 3.2987329e-07 | V16: 4.071129e-07 | W16: 4.8314337e-07 | X16: 5.5882771e-07 | Y16: 6.3589657e-07 | Z16: 7.166005e-07 | AA16: 7.9894556e-07 | AB16: 8.8522101e-07 | AC16: 9.744079e-07 | AD16: 1.0670013e-06 | AE16: 1.1630521e-06 | AF16: 1.2612901e-06 | AG16: 1.3659551e-06 | AH16: 1.4755734e-06 | AI16: 1.5902748e-06 | AJ16: 1.6681446e-06 | AK16: 1.7298704e-06 | AL16: 1.7856393e-06
B17: Foam blowing agents | C17: CO2 | D17: Carbon Dioxide | E17: 1 | F17: 2.6131015e-07 | G17: 4.1898125e-07 | H17: 5.8111867e-07 | I17: 7.4840461e-07 | J17: 9.220172e-07 | K17: 2.3052706e-06 | L17: 4.4136082e-06 | M17: 6.594629e-06 | N17: 8.8466613e-06 | O17: 1.1478304e-05 | P17: 1.2507148e-05 | Q17: 1.3145306e-05 | R17: 1.7139737e-05 | S17: 2.1744247e-05 | T17: 2.3069012e-05 | U17: 2.4384036e-05 | V17: 2.5685309e-05 | W17: 2.6988e-05 | X17: 2.8364564e-05 | Y17: 3.1166397e-05 | Z17: 3.4618546e-05 | AA17: 3.6918482e-05 | AB17: 3.8676693e-05 | AC17: 4.0727677e-05 | AD17: 4.3031867e-05 | AE17: 4.5313002e-05 | AF17: 4.8376348e-05 | AG17: 5.1409483e-05 | AH17: 5.5067013e-05 | AI17: 5.8640585e-05 | AJ17: 6.3052901e-05 | AK17: 6.6892769e-05 | AL17: 7.0764145e-05
B18: Refrigeration and air-conditioning | C18: CO2 | D18: Carbon Dioxide | E18: 1 | F18: 0 | G18: 0 | H18: 0 | I18: 0 | J18: 0 | K18: 0 | L18: 0 | M18: 0 | N18: 0 | O18: 0 | P18: 0 | Q18: 0 | R18: 0 | S18: 0 | T18: 0 | U18: 0 | V18: 0 | W18: 0 | X18: 0 | Y18: 0 | Z18: 0 | AA18: 0 | AB18: 3.7046286e-10 | AC18: 1.1108583e-09 | AD18: 1.2944557e-09 | AE18: 2.398426e-09 | AF18: 2.9404986e-09 | AG18: 6.4163775e-09 | AH18: 1.3532337e-08 | AI18: 2.4263686e-08 | AJ18: 3.923096e-08 | AK18: 5.8312307e-08 | AL18: 8.8385301e-08
B19: Fire protection | C19: HFC | D19: HFC-125 | E19: 3170 | F19: 0 | G19: 0 | H19: 0 | I19: 0 | J19: 0 | K19: 0 | L19: 0 | M19: 2.7077627e-05 | N19: 8.6931551e-05 | O19: 0.00018630404 | P19: 0.00031273548 | Q19: 0.00051983172 | R19: 0.00080178754 | S19: 0.001083461 | T19: 0.0013939861 | U19: 0.0017327705 | V19: 0.0020952358 | W19: 0.0024518461 | X19: 0.0028027344 | Y19: 0.0025626719 | Z19: 0.0027523802 | AA19: 0.0032288386 | AB19: 0.0038244972 | AC19: 0.0042703372 | AD19: 0.0053506684 | AE19: 0.0052407328 | AF19: 0.0061727424 | AG19: 0.0055345313 | AH19: 0.0064767103 | AI19: 0.0061203556 | AJ19: 0.0069972373 | AK19: 0.0072624296 | AL19: 0.0075245277
B20: Refrigeration and air-conditioning | C20: HFC | D20: HFC-125 | E20: 3170 | F20: 2.0830798e-06 | G20: 5.1310291e-06 | H20: 9.8378592e-06 | I20: 0.0018322801 | J20: 0.0048728701 | K20: 0.010327908 | L20: 0.017579837 | M20: 0.027135249 | N20: 0.035481955 | O20: 0.046437792 | P20: 0.055499793 | Q20: 0.067528539 | R20: 0.081966989 | S20: 0.097832896 | T20: 0.1141724 | U20: 0.1435341 | V20: 0.18096797 | W20: 0.22928928 | X20: 0.28110161 | Y20: 0.27603704 | Z20: 0.31935177 | AA20: 0.39418765 | AB20: 0.48079929 | AC20: 0.55078411 | AD20: 0.70366761 | AE20: 0.69749797 | AF20: 0.83328893 | AG20: 0.75152261 | AH20: 0.89051179 | AI20: 0.86712905 | AJ20: 1.0418143 | AK20: 1.1979654 | AL20: 1.302747
B21: Foam blowing agents | C21: HFC | D21: HFC-134a | E21: 1300 | F21: 0 | G21: 0 | H21: 0 | I21: 0 | J21: 0 | K21: 0 | L21: 0.00047083012 | M21: 0.00097398562 | N21: 0.0015172377 | O21: 0.0020890454 | P21: 0.0022597234 | Q21: 0.0024499313 | R21: 0.009671933 | S21: 0.017987115 | T21: 0.020047648 | U21: 0.022196068 | V21: 0.024372084 | W21: 0.026622561 | X21: 0.028829089 | Y21: 0.049818769 | Z21: 0.06451806 | AA21: 0.069924118 | AB21: 0.075492316 | AC21: 0.10291084 | AD21: 0.12581849 | AE21: 0.12643396 | AF21: 0.12240325 | AG21: 0.10682382 | AH21: 0.12017952 | AI21: 0.117278 | AJ21: 0.12873841 | AK21: 0.068501507 | AL21: 0.07314416
B22: Metered does inhalers | C22: HFC | D22: HFC-134a | E22: 1300 | F22: 0 | G22: 0 | H22: 0 | I22: 0 | J22: 0 | K22: 0 | L22: 0 | M22: 0.00032235782 | N22: 0.00065270642 | O22: 0.00099047932 | P22: 0.0013715671 | Q22: 0.0031367205 | R22: 0.0049577196 | S22: 0.0068239834 | T22: 0.0087482455 | U22: 0.010728317 | V22: 0.012740752 | W22: 0.014772572 | X22: 0.016454568 | Y22: 0.017865365 | Z22: 0.017039986 | AA22: 0.018568296 | AB22: 0.017419657 | AC22: 0.020422721 | AD22: 0.021296317 | AE22: 0.017987546 | AF22: 0.02099184 | AG22: 0.022168836 | AH22: 0.028629317 | AI22: 0.028196491 | AJ22: 0.031926112 | AK22: 0.032440101 | AL22: 0.019755372
B23: Other Aerosols | C23: HFC | D23: HFC-134a | E23: 1300 | F23: 0 | G23: 0 | H23: 0 | I23: 0 | J23: 0.012228733 | K23: 0.13197605 | L23: 0.15222652 | M23: 0.16412747 | N23: 0.1640113 | O23: 0.1691402 | P23: 0.17177958 | Q23: 0.16325329 | R23: 0.15334836 | S23: 0.14300346 | T23: 0.13129687 | U23: 0.11920599 | V23: 0.12879916 | W23: 0.13938226 | X23: 0.14890156 | Y23: 0.16524919 | Z23: 0.16121869 | AA23: 0.17243091 | AB23: 0.18256599 | AC23: 0.24235496 | AD23: 0.28728774 | AE23: 0.28008392 | AF23: 0.23625239 | AG23: 0.1853182 | AH23: 0.17912986 | AI23: 0.17753733 | AJ23: 0.20229141 | AK23: 0.20684834 | AL23: 0.21123935
B24: Refrigeration and air-conditioning | C24: HFC | D24: HFC-134a | E24: 1300 | F24: 7.3244025e-08 | G24: 1.8041423e-07 | H24: 0.017305468 | I24: 0.074925705 | J24: 0.1821437 | K24: 0.28846386 | L24: 0.4180816 | M24: 0.55318849 | N24: 0.64919731 | O24: 0.74618482 | P24: 0.8384812 | Q24: 0.93108188 | R24: 0.97507845 | S24: 1.0075033 | T24: 1.0436907 | U24: 1.0678293 | V24: 1.0892686 | W24: 1.1057765 | X24: 1.1283151 | Y24: 1.1090757 | Z24: 0.92797689 | AA24: 0.85749333 | AB24: 0.79206011 | AC24: 0.90959076 | AD24: 0.97963123 | AE24: 0.87464999 | AF24: 0.77006584 | AG24: 0.62989016 | AH24: 0.67060516 | AI24: 0.62800888 | AJ24: 0.67523393 | AK24: 0.65433657 | AL24: 0.62706311
B25: Refrigeration and air-conditioning | C25: HFC | D25: HFC-143a | E25: 4800 | F25: 3.7240846e-06 | G25: 9.173142e-06 | H25: 1.758791e-05 | I25: 0.0013186948 | J25: 0.0036741288 | K25: 0.0091767881 | L25: 0.017068478 | M25: 0.028260174 | N25: 0.040974399 | O25: 0.05851173 | P25: 0.072150615 | Q25: 0.089370066 | R25: 0.10878281 | S25: 0.12880728 | T25: 0.14725207 | U25: 0.17825235 | V25: 0.21186199 | W25: 0.24965077 | X25: 0.292543 | Y25: 0.32544677 | Z25: 0.33349639 | AA25: 0.41388764 | AB25: 0.49996887 | AC25: 0.56678411 | AD25: 0.65334286 | AE25: 0.65542007 | AF25: 0.6741416 | AG25: 0.50404953 | AH25: 0.63209378 | AI25: 0.55417967 | AJ25: 0.60943852 | AK25: 0.61154888 | AL25: 0.60870673
B26: Fire protection | C26: HFC | D26: HFC-23 | E26: 12400 | F26: 0 | G26: 0 | H26: 0 | I26: 0 | J26: 0 | K26: 9.3036146e-06 | L26: 2.0863174e-05 | M26: 3.9285248e-05 | N26: 5.7624496e-05 | O26: 8.2822796e-05 | P26: 0.00010808852 | Q26: 0.00013136571 | R26: 0.00015256284 | S26: 0.00016903748 | T26: 0.00018525577 | U26: 0.000203596 | V26: 0.00021908588 | W26: 0.00023642556 | X26: 0.00025156469 | Y26: 0.00026969387 | Z26: 0.00029085115 | AA26: 0.0003097348 | AB26: 0.00033304611 | AC26: 0.00035354918 | AD26: 0.00037605786 | AE26: 0.00040035265 | AF26: 0.00042387288 | AG26: 0.00045009971 | AH26: 0.00047619198 | AI26: 0.00050446574 | AJ26: 0.00053214126 | AK26: 0.00055199864 | AL26: 0.00056954537
B27: Fire protection | C27: HFC | D27: HFC-236fa | E27: 8060 | F27: 0 | G27: 0 | H27: 0 | I27: 0 | J27: 0 | K27: 0 | L27: 0 | M27: 0.00019677288 | N27: 0.00059929476 | O27: 0.0012202559 | P27: 0.0018595826 | Q27: 0.0025241805 | R27: 0.0032153774 | S27: 0.0037282026 | T27: 0.0040489965 | U27: 0.0041671244 | V27: 0.0042781707 | W27: 0.0043864975 | X27: 0.0045011783 | Y27: 0.0046335922 | Z27: 0.0047814097 | AA27: 0.0049347636 | AB27: 0.0050880259 | AC27: 0.0052378081 | AD27: 0.0053880608 | AE27: 0.0055376779 | AF27: 0.0056821755 | AG27: 0.0058379979 | AH27: 0.0059974113 | AI27: 0.0061625128 | AJ27: 0.006408648 | AK27: 0.0065918218 | AL27: 0.0067551257
... B49: Fire protection | C49: PFC | D49: PFC-14 (Perfluoromethane) | E49: 6630 | F49: 0 | G49: 0 | H49: 0 | I49: 0 | J49: 4.4884166e-07 | K49: 1.4425855e-06 | L49: 1.3039035e-05 | M49: 3.5782525e-05 | N49: 7.0346572e-05 | O49: 0.00011730201 | P49: 0.00017716473 | Q49: 0.00023890872 | R49: 0.00029247235 | S49: 0.00033651268 | T49: 0.00037015762 | U49: 0.00039282961 | V49: 0.00040335712 | W49: 0.0004135003 | X49: 0.00042435407 | Y49: 0.00043680145 | Z49: 0.00045081205 | AA49: 0.00046517504 | AB49: 0.00047968976 | AC49: 0.00049384718 | AD49: 0.00050801963 | AE49: 0.0005220606 | AF49: 0.00053563903 | AG49: 0.00055035359 | AH49: 0.00056542619 | AI49: 0.00058101252 | AJ49: 0.00054511363 | AK49: 0.00050178884 | AL49: 0.00045545001
B51: Notes About Other HFC and Other PFC
B53: Data source entity | C53: U.S. Environmental Protection Agency
B54: Data source name | C54: Inventory of U.S. Greenhouse Gas Emissions and Sinks: 1990-2022
B55: Data source product | C55: 2024 Chapter 4: Industrial Processes and Product Use (pdf) (2.23 MB, April 11, 2024, 430R24004)
B57: Table 4-125
B58: "Other Saturated HFCs represents an unspecified mix of saturated HFCs, which includes HFC-152a, HFC227ea, HFC-245fa, HFC-365mfc, and HFC-43-10mee
B59: Other PFCs and HFOs represents an unspecified mix of PFCs and HFOs, which includes HCFO-1233zd(E), HFO-1234yf, HFO-1234ze(E), HFO-1336mzz(Z), C4F10, and PFC/PFPEs, the latter being a proxy for a diverse
B60: collection of PFCs and perfluoropolyethers (PFPEs) employed for solvent applications. For estimating purposes, the GWP value used for PFC/PFPEs was based upon n-C6F14."
B62: Data source product | C62: Annex 3.9
B64: Other HFC and Other PFC are reported in aggregate due to confidentiality.
B66: Calculation of GWP Conversion Ratio
B68: Data source entity | C68: Intergovernmental Panel on Climate Change
B69: Data source name | C69: Fifth Assessment Report; Sixth Assessment Report
B70: Data source product | C70: Chapter 8, Anthropogenic and Natural Radiative Forcing (AR5); Chapter 7, The Earth’s Energy Budget, Climate Feedbacks and Climate Sensitivity (AR6)
B72: Gas | C72: AR5 100-yr GWP | D72: AR6 20-yr GWP | E72: Ratio of 20-yr GWP : 100-yr GWP
B73: Carbon Dioxide | C73: 1 | D73: 1 | E73: =D73/C73 -> 1
B74: HFC-125 | C74: 3170 | D74: 6740 | E74: =D74/C74 -> 2.126183
B75: HFC-134a | C75: 1300 | D75: 4140 | E75: =D75/C75 -> 3.1846154
B76: HFC-143a | C76: 4800 | D76: 7840 | E76: =D76/C76 -> 1.6333333
B77: HFC-23 | C77: 12400 | D77: 12400 | E77: =D77/C77 -> 1
B78: HFC-236fa | C78: 8060 | D78: 7450 | E78: =D78/C78 -> 0.92431762
B79: HFC-32 | C79: 677 | D79: 2690 | E79: =D79/C79 -> 3.9734121
B80: PFC-14 (Perfluoromethane) | C80: 6630 | D80: 5300 | E80: =D80/C80 -> 0.79939668
B82: Gas | C82: AR5 100-yr GWP | D82: AR6 20-yr GWP | E82: Ratio of 20-yr GWP : 100-yr GWP
B83: HFC-152a | C83: 138 | D83: 591 | E83: =D83/C83 -> 4.2826087
B84: HFC227ea | C84: 3350 | D84: 5850 | E84: =D84/C84 -> 1.7462687
B85: HFC-245fa | C85: 858 | D85: 3170 | E85: =D85/C85 -> 3.6946387
B86: HFC-365mfc | C86: 804 | D86: 2920 | E86: =D86/C86 -> 3.6318408
B87: HFC-43-10mee | C87: 1650 | D87: 3960 | E87: =D87/C87 -> 2.4
B88: Other HFC | E88: =AVERAGE(E83:E87) -> 3.1510714
B90: Gas | C90: AR5 100-yr GWP | D90: AR6 20-yr GWP | E90: Ratio of 20-yr GWP : 100-yr GWP
B91: C4F10 | C91: 9200 | D91: 7300 | E91: =D91/C91 -> 0.79347826
B92: n-C6F14 | C92: 7910 | D92: 6260 | E92: =D92/C92 -> 0.79140329
B93: Data source entity | C93: Intergovernmental Panel on Climate Change
B94: Data source name | C94: Sixth Assessment Report
B95: Data source product | C95: The Physical Science Basis, Chapter 7 Supplementary Material, Table 7.SM.7 | H95: AR6 | M95: AR5
B96: Gas | C96: AR6 100-yr GWP | D96: AR6 20-yr GWP | E96: Ratio of 20-yr GWP : 100-yr GWP | H96: Name | I96: Formula | J96: lifetime (yrs) | K96: lifetime (days) | M96: Name | N96: Formula | O96: lifetime (days) | P96: GWP20 | Q96: GWP100 | R96: ratio
B97: HCFO-1233zd(E) | C97: 3.88 | D97: 14 | E97: =D97/C97 -> 3.6082474 | H97: HCFO-1233zd(E) | I97: (E)-CF3CH=CHCl | J97: 0.116 | K97: 42 | M97: (E)-1-Chloro-3,3,3trifluoroprop-1-ene | N97: trans-CF3 CH=CHCl | O97: 26 | P97: 5 | Q97: 1 | R97: =P97/Q97 -> 5
B98: HFO-1234yf | C98: 0.501 | D98: 1.81 | E98: =D98/C98 -> 3.6127745 | H98: HFO-1234yf | I98: CF3CF=CH2 | J98: 0.033 | K98: 12 | M98: HFC-1234yf | N98: CF3 CF=CH2 | O98: 10.5 | P98: 1 | Q98: <1 | R98: =P98/Q98 -> #VALUE!
B99: HFO-1234ze(E) | C99: 1.37 | D99: 4.94 | E99: =D99/C99 -> 3.6058394 | H99: HFO-1234ze(E) | I99: (E)-CF3CH=CHF | J99: 0.052 | K99: 19 | M99: (E)-HFC-1234ze | N99: trans-CF3 CH=CHF | O99: 16.4 | P99: 4 | Q99: <1 | R99: =P99/Q99 -> #VALUE!
B100: HFO-1336mzz(Z) | C100: 2.08 | D100: 7.48 | E100: =D100/C100 -> 3.5961538 | H100: HFO-1336mzz(Z) | I100: (Z)-CF3CH=CHCF3 | J100: 0.074 | K100: 27 | M100: (Z)-HFC-1336 | N100: CF3 CH=CHCF3 (Z) | O100: 22 | P100: 6 | Q100: 2 | R100: =P100/Q100 -> 3
B101: Other PFC | E101: =AVERAGE(E91:E100) -> 2.6679828
B103: Conversion From AR5 100-yr GWP to AR6 20-yr GWP
B105: =B15 -> sub_category_1 | C105: =C15 -> ghg_category | D105: =D15 -> ghg | E105: GWP Conversion Ratio | F105: =F15 -> Y1990 | G105: =G15 -> Y1991 | H105: =H15 -> Y1992 | I105: =I15 -> Y1993 | J105: =J15 -> Y1994 | K105: =K15 -> Y1995 | L105: =L15 -> Y1996 | M105: =M15 -> Y1997 | ... AL105: =AL15 -> Y2022
B106: =B16 -> Fire protection | C106: =C16 -> CO2 | D106: =D16 -> Carbon Dioxide | E106: =_xlfn.XLOOKUP(D106,B$73:B$101,E$73:E$101) -> 1 | F106: =F16*$E106 -> 0 | G106: =G16*$E106 -> 0 | H106: =H16*$E106 -> 0 | I106: =I16*$E106 -> 0 | J106: =J16*$E106 -> 0 | K106: =K16*$E106 -> 0 | L106: =L16*$E106 -> 0 | M106: =M16*$E106 -> 0 | ... AL106: =AL16*$E106 -> 1.7856393e-06
B107: =B17 -> Foam blowing agents | C107: =C17 -> CO2 | D107: =D17 -> Carbon Dioxide | E107: =_xlfn.XLOOKUP(D107,B$73:B$101,E$73:E$101) -> 1 | F107: =F17*$E107 -> 2.6131015e-07 | G107: =G17*$E107 -> 4.1898125e-07 | H107: =H17*$E107 -> 5.8111867e-07 | I107: =I17*$E107 -> 7.4840461e-07 | J107: =J17*$E107 -> 9.220172e-07 | K107: =K17*$E107 -> 2.3052706e-06 | L107: =L17*$E107 -> 4.4136082e-06 | M107: =M17*$E107 -> 6.594629e-06 | ... AL107: =AL17*$E107 -> 7.0764145e-05
B108: =B18 -> Refrigeration and air-conditioning | C108: =C18 -> CO2 | D108: =D18 -> Carbon Dioxide | E108: =_xlfn.XLOOKUP(D108,B$73:B$101,E$73:E$101) -> 1 | F108: =F18*$E108 -> 0 | G108: =G18*$E108 -> 0 | H108: =H18*$E108 -> 0 | I108: =I18*$E108 -> 0 | J108: =J18*$E108 -> 0 | K108: =K18*$E108 -> 0 | L108: =L18*$E108 -> 0 | M108: =M18*$E108 -> 0 | ... AL108: =AL18*$E108 -> 8.8385301e-08
B109: =B19 -> Fire protection | C109: =C19 -> HFC | D109: =D19 -> HFC-125 | E109: =_xlfn.XLOOKUP(D109,B$73:B$101,E$73:E$101) -> 2.126183 | F109: =F19*$E109 -> 0 | G109: =G19*$E109 -> 0 | H109: =H19*$E109 -> 0 | I109: =I19*$E109 -> 0 | J109: =J19*$E109 -> 0 | K109: =K19*$E109 -> 0 | L109: =L19*$E109 -> 0 | M109: =M19*$E109 -> 5.757199e-05 | ... AL109: =AL19*$E109 -> 0.015998523
B110: =B20 -> Refrigeration and air-conditioning | C110: =C20 -> HFC | D110: =D20 -> HFC-125 | E110: =_xlfn.XLOOKUP(D110,B$73:B$101,E$73:E$101) -> 2.126183 | F110: =F20*$E110 -> 4.4290087e-06 | G110: =G20*$E110 -> 1.0909507e-05 | H110: =H20*$E110 -> 2.0917089e-05 | I110: =I20*$E110 -> 0.0038957628 | J110: =J20*$E110 -> 0.010360613 | K110: =K20*$E110 -> 0.021959022 | L110: =L20*$E110 -> 0.037377949 | M110: =M20*$E110 -> 0.057694503 | ... AL110: =AL20*$E110 -> 2.7698784
B111: =B21 -> Foam blowing agents | C111: =C21 -> HFC | D111: =D21 -> HFC-134a | E111: =_xlfn.XLOOKUP(D111,B$73:B$101,E$73:E$101) -> 3.1846154 | F111: =F21*$E111 -> 0 | G111: =G21*$E111 -> 0 | H111: =H21*$E111 -> 0 | I111: =I21*$E111 -> 0 | J111: =J21*$E111 -> 0 | K111: =K21*$E111 -> 0 | L111: =L21*$E111 -> 0.0014994128 | M111: =M21*$E111 -> 0.0031017696 | ... AL111: =AL21*$E111 -> 0.23293602
B112: =B22 -> Metered does inhalers | C112: =C22 -> HFC | D112: =D22 -> HFC-134a | E112: =_xlfn.XLOOKUP(D112,B$73:B$101,E$73:E$101) -> 3.1846154 | F112: =F22*$E112 -> 0 | G112: =G22*$E112 -> 0 | H112: =H22*$E112 -> 0 | I112: =I22*$E112 -> 0 | J112: =J22*$E112 -> 0 | K112: =K22*$E112 -> 0 | L112: =L22*$E112 -> 0 | M112: =M22*$E112 -> 0.0010265857 | ... AL112: =AL22*$E112 -> 0.062913263
B113: =B23 -> Other Aerosols | C113: =C23 -> HFC | D113: =D23 -> HFC-134a | E113: =_xlfn.XLOOKUP(D113,B$73:B$101,E$73:E$101) -> 3.1846154 | F113: =F23*$E113 -> 0 | G113: =G23*$E113 -> 0 | H113: =H23*$E113 -> 0 | I113: =I23*$E113 -> 0 | J113: =J23*$E113 -> 0.03894381 | K113: =K23*$E113 -> 0.42029296 | L113: =L23*$E113 -> 0.4847829 | M113: =M23*$E113 -> 0.52268286 | ... AL113: =AL23*$E113 -> 0.67271607
B114: =B24 -> Refrigeration and air-conditioning | C114: =C24 -> HFC | D114: =D24 -> HFC-134a | E114: =_xlfn.XLOOKUP(D114,B$73:B$101,E$73:E$101) -> 3.1846154 | F114: =F24*$E114 -> 2.3325405e-07 | G114: =G24*$E114 -> 5.7454992e-07 | H114: =H24*$E114 -> 0.055111261 | I114: =I24*$E114 -> 0.23860955 | J114: =J24*$E114 -> 0.58005762 | K114: =K24*$E114 -> 0.91864643 | L114: =L24*$E114 -> 1.3314291 | M114: =M24*$E114 -> 1.7616926 | ... AL114: =AL24*$E114 -> 1.9969548
B115: =B25 -> Refrigeration and air-conditioning | C115: =C25 -> HFC | D115: =D25 -> HFC-143a | E115: =_xlfn.XLOOKUP(D115,B$73:B$101,E$73:E$101) -> 1.6333333 | F115: =F25*$E115 -> 6.0826715e-06 | G115: =G25*$E115 -> 1.4982799e-05 | H115: =H25*$E115 -> 2.872692e-05 | I115: =I25*$E115 -> 0.0021538682 | J115: =J25*$E115 -> 0.0060010771 | K115: =K25*$E115 -> 0.014988754 | L115: =L25*$E115 -> 0.027878514 | M115: =M25*$E115 -> 0.046158285 | ... AL115: =AL25*$E115 -> 0.99422099
B116: =B26 -> Fire protection | C116: =C26 -> HFC | D116: =D26 -> HFC-23 | E116: =_xlfn.XLOOKUP(D116,B$73:B$101,E$73:E$101) -> 1 | F116: =F26*$E116 -> 0 | G116: =G26*$E116 -> 0 | H116: =H26*$E116 -> 0 | I116: =I26*$E116 -> 0 | J116: =J26*$E116 -> 0 | K116: =K26*$E116 -> 9.3036146e-06 | L116: =L26*$E116 -> 2.0863174e-05 | M116: =M26*$E116 -> 3.9285248e-05 | ... AL116: =AL26*$E116 -> 0.00056954537
B117: =B27 -> Fire protection | C117: =C27 -> HFC | D117: =D27 -> HFC-236fa | E117: =_xlfn.XLOOKUP(D117,B$73:B$101,E$73:E$101) -> 0.92431762 | F117: =F27*$E117 -> 0 | G117: =G27*$E117 -> 0 | H117: =H27*$E117 -> 0 | I117: =I27*$E117 -> 0 | J117: =J27*$E117 -> 0 | K117: =K27*$E117 -> 0 | L117: =L27*$E117 -> 0 | M117: =M27*$E117 -> 0.00018188064 | ... AL117: =AL27*$E117 -> 0.0062438817
... B139: =B49 -> Fire protection | C139: =C49 -> PFC | D139: =D49 -> PFC-14 (Perfluoromethane) | E139: =_xlfn.XLOOKUP(D139,B$73:B$101,E$73:E$101) -> 0.79939668 | F139: =F49*$E139 -> 0 | G139: =G49*$E139 -> 0 | H139: =H49*$E139 -> 0 | I139: =I49*$E139 -> 0 | J139: =J49*$E139 -> 3.5880253e-07 | K139: =K49*$E139 -> 1.153198e-06 | L139: =L49*$E139 -> 1.0423361e-05 | M139: =M49*$E139 -> 2.8604432e-05 | ... AL139: =AL49*$E139 -> 0.00036408522
B141: Emissions by Gas
B143: AR5 100-yr GWP
D144: GHG | F144: Y1990 | G144: Y1991 | H144: Y1992 | I144: Y1993 | J144: Y1994 | K144: Y1995 | L144: Y1996 | M144: Y1997 | N144: Y1998 | O144: Y1999 | P144: Y2000 | Q144: Y2001 | R144: Y2002 | S144: Y2003 | T144: Y2004 | U144: Y2005 | V144: Y2006 | W144: Y2007 | X144: Y2008 | Y144: Y2009 | Z144: Y2010 | AA144: Y2011 | AB144: Y2012 | AC144: Y2013 | AD144: Y2014 | AE144: Y2015 | AF144: Y2016 | AG144: Y2017 | AH144: Y2018 | AI144: Y2019 | AJ144: Y2020 | AK144: Y2021 | AL144: Y2022
D145: Carbon Dioxide | F145: =SUMIF($D$16:$D$49,$D145,F$16:F$49) -> 2.6131015e-07 | G145: =SUMIF($D$16:$D$49,$D145,G$16:G$49) -> 4.1898125e-07 | H145: =SUMIF($D$16:$D$49,$D145,H$16:H$49) -> 5.8111867e-07 | I145: =SUMIF($D$16:$D$49,$D145,I$16:I$49) -> 7.4840461e-07 | J145: =SUMIF($D$16:$D$49,$D145,J$16:J$49) -> 9.220172e-07 | K145: =SUMIF($D$16:$D$49,$D145,K$16:K$49) -> 2.3052706e-06 | L145: =SUMIF($D$16:$D$49,$D145,L$16:L$49) -> 4.4136082e-06 | M145: =SUMIF($D$16:$D$49,$D145,M$16:M$49) -> 6.594629e-06 | ... AL145: =SUMIF($D$16:$D$49,$D145,AL$16:AL$49) -> 7.263817e-05
D146: HFC-125 | F146: =SUMIF($D$16:$D$49,$D146,F$16:F$49) -> 2.0830798e-06 | G146: =SUMIF($D$16:$D$49,$D146,G$16:G$49) -> 5.1310291e-06 | H146: =SUMIF($D$16:$D$49,$D146,H$16:H$49) -> 9.8378592e-06 | I146: =SUMIF($D$16:$D$49,$D146,I$16:I$49) -> 0.0018322801 | J146: =SUMIF($D$16:$D$49,$D146,J$16:J$49) -> 0.0048728701 | K146: =SUMIF($D$16:$D$49,$D146,K$16:K$49) -> 0.010327908 | L146: =SUMIF($D$16:$D$49,$D146,L$16:L$49) -> 0.017579837 | M146: =SUMIF($D$16:$D$49,$D146,M$16:M$49) -> 0.027162326 | ... AL146: =SUMIF($D$16:$D$49,$D146,AL$16:AL$49) -> 1.3102715
D147: HFC-134a | F147: =SUMIF($D$16:$D$49,$D147,F$16:F$49) -> 7.3244025e-08 | G147: =SUMIF($D$16:$D$49,$D147,G$16:G$49) -> 1.8041423e-07 | H147: =SUMIF($D$16:$D$49,$D147,H$16:H$49) -> 0.017305468 | I147: =SUMIF($D$16:$D$49,$D147,I$16:I$49) -> 0.074925705 | J147: =SUMIF($D$16:$D$49,$D147,J$16:J$49) -> 0.19437243 | K147: =SUMIF($D$16:$D$49,$D147,K$16:K$49) -> 0.4204399 | L147: =SUMIF($D$16:$D$49,$D147,L$16:L$49) -> 0.57077895 | M147: =SUMIF($D$16:$D$49,$D147,M$16:M$49) -> 0.7186123 | ... AL147: =SUMIF($D$16:$D$49,$D147,AL$16:AL$49) -> 0.93120199
D148: HFC-143a | F148: =SUMIF($D$16:$D$49,$D148,F$16:F$49) -> 3.7240846e-06 | G148: =SUMIF($D$16:$D$49,$D148,G$16:G$49) -> 9.173142e-06 | H148: =SUMIF($D$16:$D$49,$D148,H$16:H$49) -> 1.758791e-05 | I148: =SUMIF($D$16:$D$49,$D148,I$16:I$49) -> 0.0013186948 | J148: =SUMIF($D$16:$D$49,$D148,J$16:J$49) -> 0.0036741288 | K148: =SUMIF($D$16:$D$49,$D148,K$16:K$49) -> 0.0091767881 | L148: =SUMIF($D$16:$D$49,$D148,L$16:L$49) -> 0.017068478 | M148: =SUMIF($D$16:$D$49,$D148,M$16:M$49) -> 0.028260174 | ... AL148: =SUMIF($D$16:$D$49,$D148,AL$16:AL$49) -> 0.60870673
D149: HFC-23 | F149: =SUMIF($D$16:$D$49,$D149,F$16:F$49) -> 0 | G149: =SUMIF($D$16:$D$49,$D149,G$16:G$49) -> 0 | H149: =SUMIF($D$16:$D$49,$D149,H$16:H$49) -> 0 | I149: =SUMIF($D$16:$D$49,$D149,I$16:I$49) -> 0 | J149: =SUMIF($D$16:$D$49,$D149,J$16:J$49) -> 0 | K149: =SUMIF($D$16:$D$49,$D149,K$16:K$49) -> 9.3036146e-06 | L149: =SUMIF($D$16:$D$49,$D149,L$16:L$49) -> 2.0863174e-05 | M149: =SUMIF($D$16:$D$49,$D149,M$16:M$49) -> 3.9285248e-05 | ... AL149: =SUMIF($D$16:$D$49,$D149,AL$16:AL$49) -> 0.00056954537
D150: HFC-236fa | F150: =SUMIF($D$16:$D$49,$D150,F$16:F$49) -> 0 | G150: =SUMIF($D$16:$D$49,$D150,G$16:G$49) -> 0 | H150: =SUMIF($D$16:$D$49,$D150,H$16:H$49) -> 0 | I150: =SUMIF($D$16:$D$49,$D150,I$16:I$49) -> 0.0010949582 | J150: =SUMIF($D$16:$D$49,$D150,J$16:J$49) -> 0.0033027021 | K150: =SUMIF($D$16:$D$49,$D150,K$16:K$49) -> 0.0054743631 | L150: =SUMIF($D$16:$D$49,$D150,L$16:L$49) -> 0.0068121741 | M150: =SUMIF($D$16:$D$49,$D150,M$16:M$49) -> 0.008341067 | ... AL150: =SUMIF($D$16:$D$49,$D150,AL$16:AL$49) -> 0.010679883
D151: HFC-32 | F151: =SUMIF($D$16:$D$49,$D151,F$16:F$49) -> 0 | G151: =SUMIF($D$16:$D$49,$D151,G$16:G$49) -> 0 | H151: =SUMIF($D$16:$D$49,$D151,H$16:H$49) -> 0 | I151: =SUMIF($D$16:$D$49,$D151,I$16:I$49) -> 0 | J151: =SUMIF($D$16:$D$49,$D151,J$16:J$49) -> 0 | K151: =SUMIF($D$16:$D$49,$D151,K$16:K$49) -> 0 | L151: =SUMIF($D$16:$D$49,$D151,L$16:L$49) -> 3.0469017e-06 | M151: =SUMIF($D$16:$D$49,$D151,M$16:M$49) -> 8.651811e-06 | ... AL151: =SUMIF($D$16:$D$49,$D151,AL$16:AL$49) -> 0.18850129
D152: Other HFC | F152: =SUMIF($D$16:$D$49,$D152,F$16:F$49) -> 0.0047799061 | G152: =SUMIF($D$16:$D$49,$D152,G$16:G$49) -> 0.010063064 | H152: =SUMIF($D$16:$D$49,$D152,H$16:H$49) -> 0.010121953 | I152: =SUMIF($D$16:$D$49,$D152,I$16:I$49) -> 0.010277569 | J152: =SUMIF($D$16:$D$49,$D152,J$16:J$49) -> 0.011054365 | K152: =SUMIF($D$16:$D$49,$D152,K$16:K$49) -> 0.024079612 | L152: =SUMIF($D$16:$D$49,$D152,L$16:L$49) -> 0.039032626 | M152: =SUMIF($D$16:$D$49,$D152,M$16:M$49) -> 0.048525527 | ... AL152: =SUMIF($D$16:$D$49,$D152,AL$16:AL$49) -> 0.30845443
D153: PFC-14 (Perfluoromethane) | F153: =SUMIF($D$16:$D$49,$D153,F$16:F$49) -> 0 | G153: =SUMIF($D$16:$D$49,$D153,G$16:G$49) -> 0 | H153: =SUMIF($D$16:$D$49,$D153,H$16:H$49) -> 0 | I153: =SUMIF($D$16:$D$49,$D153,I$16:I$49) -> 0 | J153: =SUMIF($D$16:$D$49,$D153,J$16:J$49) -> 4.4884166e-07 | K153: =SUMIF($D$16:$D$49,$D153,K$16:K$49) -> 1.4425855e-06 | L153: =SUMIF($D$16:$D$49,$D153,L$16:L$49) -> 1.3039035e-05 | M153: =SUMIF($D$16:$D$49,$D153,M$16:M$49) -> 3.5782525e-05 | ... AL153: =SUMIF($D$16:$D$49,$D153,AL$16:AL$49) -> 0.00045545001
D154: Other PFC | F154: =SUMIF($D$16:$D$49,$D154,F$16:F$49) -> 0 | G154: =SUMIF($D$16:$D$49,$D154,G$16:G$49) -> 0 | H154: =SUMIF($D$16:$D$49,$D154,H$16:H$49) -> 0 | I154: =SUMIF($D$16:$D$49,$D154,I$16:I$49) -> 0 | J154: =SUMIF($D$16:$D$49,$D154,J$16:J$49) -> 1.7300751e-06 | K154: =SUMIF($D$16:$D$49,$D154,K$16:K$49) -> 0.0084656947 | L154: =SUMIF($D$16:$D$49,$D154,L$16:L$49) -> 0.020348099 | M154: =SUMIF($D$16:$D$49,$D154,M$16:M$49) -> 0.023912308 | ... AL154: =SUMIF($D$16:$D$49,$D154,AL$16:AL$49) -> 0.00040573062
D156: CO2 | F156: =F145 -> 2.6131015e-07 | G156: =G145 -> 4.1898125e-07 | H156: =H145 -> 5.8111867e-07 | I156: =I145 -> 7.4840461e-07 | J156: =J145 -> 9.220172e-07 | K156: =K145 -> 2.3052706e-06 | L156: =L145 -> 4.4136082e-06 | M156: =M145 -> 6.594629e-06 | ... AL156: =AL145 -> 7.263817e-05
D157: HFC | F157: =SUM(F146:F152) -> 0.0047857865 | G157: =SUM(G146:G152) -> 0.010077549 | H157: =SUM(H146:H152) -> 0.027454847 | I157: =SUM(I146:I152) -> 0.089449207 | J157: =SUM(J146:J152) -> 0.2172765 | K157: =SUM(K146:K152) -> 0.46950788 | L157: =SUM(L146:L152) -> 0.65129598 | M157: =SUM(M146:M152) -> 0.83094933 | ... AL157: =SUM(AL146:AL152) -> 3.3583854
D158: PFC | F158: =SUM(F153:F154) -> 0 | G158: =SUM(G153:G154) -> 0 | H158: =SUM(H153:H154) -> 0 | I158: =SUM(I153:I154) -> 0 | J158: =SUM(J153:J154) -> 2.1789168e-06 | K158: =SUM(K153:K154) -> 0.0084671373 | L158: =SUM(L153:L154) -> 0.020361138 | M158: =SUM(M153:M154) -> 0.023948091 | ... AL158: =SUM(AL153:AL154) -> 0.00086118063
D160: Total MMTCO2e | F160: =SUM(F156:F158) -> 0.0047860478 | G160: =SUM(G156:G158) -> 0.010077968 | H160: =SUM(H156:H158) -> 0.027455428 | I160: =SUM(I156:I158) -> 0.089449955 | J160: =SUM(J156:J158) -> 0.2172796 | K160: =SUM(K156:K158) -> 0.47797732 | L160: =SUM(L156:L158) -> 0.67166153 | M160: =SUM(M156:M158) -> 0.85490402 | ... AL160: =SUM(AL156:AL158) -> 3.3593192
B162: AR6 20-yr GWP
D163: GHG | F163: Y1990 | G163: Y1991 | H163: Y1992 | I163: Y1993 | J163: Y1994 | K163: Y1995 | L163: Y1996 | M163: Y1997 | N163: Y1998 | O163: Y1999 | P163: Y2000 | Q163: Y2001 | R163: Y2002 | S163: Y2003 | T163: Y2004 | U163: Y2005 | V163: Y2006 | W163: Y2007 | X163: Y2008 | Y163: Y2009 | Z163: Y2010 | AA163: Y2011 | AB163: Y2012 | AC163: Y2013 | AD163: Y2014 | AE163: Y2015 | AF163: Y2016 | AG163: Y2017 | AH163: Y2018 | AI163: Y2019 | AJ163: Y2020 | AK163: Y2021 | AL163: Y2022
...

Sheet Iron And Steel
A1: Iron & Steel Industry Production Emissions
E4: 2008 | J4: 2006
D6: Product | E6: Production | F6: CO2 Emission | G6: Carbon | H6: CH4 Emission | I6: N2O Emission | J6: Production | K6: CO2 Emission | L6: CO2 Emission | M6: CO2 Emission
E7: (tons) | F7: (tons) | G7: Intensity | H7: (tons) | I7: (tons) | J7: (tons) | K7: (tons) | L7: (metric tons) | M7: MMTCO2E
C9: Sinter Strand | D9: Sinter | E9: 2431393 | F9: 609888 | G9: =F9/E9 -> 0.25083892 | H9: 3940 | J9: 2491713 | K9: =G9*J9 -> 625018.6 | L9: =K9*0.9072 -> 567016.88 | M9: =L9/1000000 -> 0.56701688
C11: L Blast Furnace | D11: Iron | E11: 2493066 | F11: 3019471 | G11: =F11/E11 -> 1.2111476 | J11: 2545136 | K11: =G11*J11 -> 3082535.5 | L11: =K11*0.9072 -> 2796476.2 | M11: =L11/1000000 -> 2.7964762
C13: BOF | D13: Steel | E13: 2692020 | F13: 246133 | G13: =F13/E13 -> 0.091430599 | J13: 2816577 | K13: =G13*J13 -> 257521.32 | L13: =K13*0.9072 -> 233623.34 | M13: =L13/1000000 -> 0.23362334
L15: =SUM(L9:L14) -> 3597116.4 | M15: =SUM(M9:M14) -> 3.5971164

Sheet Ammonia & Urea Consumption
A1: Ammonia Production and Urea Consumption
D3: Production & Consumption | E3: Emission Factor | G3: Subract emissions | I3: Emissions | J3: Emissions
D4: (Metric Tons) | E4: (mt CO2/mt activity) | G4: from Urea | I4: (MTCO2E) | J4: (MMTCO2E)
B7: 2006 | C7: Ammonia Production | D7: 0 | E7: 1.2 | G7: =D8*E8 -> 627.07 | I7: =IF(D7>0,D7*E7-(G7),0) -> 0
B8: 18 | C8: Urea Consumption | D8: 859 | E8: 0.73 | I8: =D8*E8 -> 627.07 | J8: =I8/1000000 -> 0.00062707

Sheet Agricultural
A1: Agricultural Emissions in Maryland
B3: Enteric Fermentation Emissions
C4: Number of Animals ('000 head) | E4: Emission Factor (kg CH4/head) | G4: Emissions (kg CH4) | I4: Emissions (MMTCH4) | K4: Emissions (MMTCE) | M4: Emissions (MMTCO2E) | Y4: Global Warming Potential
B5: Dairy Cattle
B6: Dairy Cows | C6: 70 | D6: x | E6: 129.14363 | F6: = | G6: =C6*E6*1000 -> 9040054 | H6: = | I6: =G6/1000*10^-6 -> 0.009040054 | J6: = | K6: =(I6*$Z$7)*12/44 -> 0.068786593 | L6: = | M6: =K6/(12/44) -> 0.25221751 | Y6: CO2_GWP= | Z6: =Summary!$E4 -> 1
B7: Dairy Replacement Heifers | C7: 30 | D7: x | E7: 62.580097 | F7: = | G7: =C7*E7*1000 -> 1877402.9 | H7: = | I7: =G7/1000*10^-6 -> 0.0018774029 | J7: = | K7: =(I7*$Z$7)*12/44 -> 0.014285329 | L7: = | M7: =K7/(12/44) -> 0.052379541 | Y7: CH4_GWP = | Z7: =Summary!$E5 -> 27.9
B8: Replacements 0-12 mos. | C8: 0 | D8: x | E8: 46.088128 | F8: = | G8: =C8*E8*1000 -> 0 | H8: = | I8: =G8/1000*10^-6 -> 0 | J8: = | K8: =(I8*$Z$7)*12/44 -> 0 | L8: = | M8: =K8/(12/44) -> 0 | Y8: N2O_GWP= | Z8: =Summary!$E6 -> 273
B9: Replacements 12-24 mos. | C9: 0 | D9: x | E9: 69.57121 | F9: = | G9: =C9*E9*1000 -> 0 | H9: = | I9: =G9/1000*10^-6 -> 0 | J9: = | K9: =(I9*$Z$7)*12/44 -> 0 | L9: = | M9: =K9/(12/44) -> 0 | Y9: SF6_GWP = | Z9: =Summary!$E7 -> 24300
B10: Beef Cattle
B11: Beef Cows | C11: 49 | D11: x | E11: 93.473136 | F11: = | G11: =C11*E11*1000 -> 4580183.7 | H11: = | I11: =G11/1000*10^-6 -> 0.0045801837 | J11: = | K11: =(I11*$Z$7)*12/44 -> 0.034851034 | L11: = | M11: =K11/(12/44) -> 0.12778712
B12: Beef Replacement Heifers | C12: 13 | D12: x | E12: 65.827954 | F12: = | G12: =C12*E12*1000 -> 855763.4 | H12: = | I12: =G12/1000*10^-6 -> 0.0008557634 | J12: = | K12: =(I12*$Z$7)*12/44 -> 0.0065115815 | L12: = | M12: =K12/(12/44) -> 0.023875799
B13: Replacements 0-12 mos. | C13: 0 | D13: x | E13: 59.202111 | F13: = | G13: =C13*E13*1000 -> 0 | H13: = | I13: =G13/1000*10^-6 -> 0 | J13: = | K13: =(I13*$Z$7)*12/44 -> 0 | L13: = | M13: =K13/(12/44) -> 0
B14: Replacements 12-24 mos. | C14: 0 | D14: x | E14: 68.604948 | F14: = | G14: =C14*E14*1000 -> 0 | H14: = | I14: =G14/1000*10^-6 -> 0 | J14: = | K14: =(I14*$Z$7)*12/44 -> 0 | L14: = | M14: =K14/(12/44) -> 0
B15: Heifer Stockers | C15: 10 | D15: x | E15: 59.110511 | F15: = | G15: =C15*E15*1000 -> 591105.11 | H15: = | I15: =G15/1000*10^-6 -> 0.00059110511 | J15: = | K15: =(I15*$Z$7)*12/44 -> 0.0044977725 | L15: = | M15: =K15/(12/44) -> 0.016491833
B16: Steer Stockers | C16: 18 | D16: x | E16: 57.315384 | F16: = | G16: =C16*E16*1000 -> 1031676.9 | H16: = | I16: =G16/1000*10^-6 -> 0.0010316769 | J16: = | K16: =(I16*$Z$7)*12/44 -> 0.0078501235 | L16: = | M16: =K16/(12/44) -> 0.028783786
B17: Feedlot Heifers | C17: 3.912 | D17: x | E17: 33.198702 | F17: = | G17: =C17*E17*1000 -> 129873.32 | H17: = | I17: =G17/1000*10^-6 -> 0.00012987332 | J17: = | K17: =(I17*$Z$7)*12/44 -> 0.00098821791 | L17: = | M17: =K17/(12/44) -> 0.0036234657
B18: Feedlot Steer | C18: 7.395 | D18: x | E18: 32.164081 | F18: = | G18: =C18*E18*1000 -> 237853.38 | H18: = | I18: =G18/1000*10^-6 -> 0.00023785338 | J18: = | K18: =(I18*$Z$7)*12/44 -> 0.001809848 | L18: = | M18: =K18/(12/44) -> 0.0066361093
B19: Bulls | C19: 3 | D19: x | E19: 53 | F19: = | G19: =C19*E19*1000 -> 159000 | H19: = | I19: =G19/1000*10^-6 -> 0.000159 | J19: = | K19: =(I19*$Z$7)*12/44 -> 0.0012098455 | L19: = | M19: =K19/(12/44) -> 0.0044361
B20: Other
B21: Sheep | C21: 22 | D21: x | E21: 8 | F21: = | G21: =C21*E21*1000 -> 176000 | H21: = | I21: =G21/1000*10^-6 -> 0.000176 | J21: = | K21: =(I21*$Z$7)*12/44 -> 0.0013392 | L21: = | M21: =K21/(12/44) -> 0.0049104
B22: Goats | C22: 9.601 | D22: x | E22: 5 | F22: = | G22: =C22*E22*1000 -> 48005 | H22: = | I22: =G22/1000*10^-6 -> 4.8005e-05 | J22: = | K22: =(I22*$Z$7)*12/44 -> 0.00036527441 | L22: = | M22: =K22/(12/44) -> 0.0013393395
B23: Swine | C23: 33 | D23: x | E23: 1.5 | F23: = | G23: =C23*E23*1000 -> 49500 | H23: = | I23: =G23/1000*10^-6 -> 4.95e-05 | J23: = | K23: =(I23*$Z$7)*12/44 -> 0.00037665 | L23: = | M23: =K23/(12/44) -> 0.00138105
B24: Horses | C24: 65.511 | D24: x | E24: 18 | F24: = | G24: =C24*E24*1000 -> 1179198 | H24: = | I24: =G24/1000*10^-6 -> 0.001179198 | J24: = | K24: =(I24*$Z$7)*12/44 -> 0.0089726248 | L24: = | M24: =K24/(12/44) -> 0.032899624
B25: TOTAL | G25: =SUM(G6:G24) -> 19955616 | I25: =SUM(I6:I24) -> 0.019955616 | K25: =SUM(K6:K24) -> 0.15184409 | M25: =SUM(M6:M24) -> 0.55676168
B27: Manure Management Methane Emissions
C28: Number of Animals ('000 head) | E28: Typical Animal Mass (TAM) (kg) | G28: Volatile Solids (VS) [kg VS/1000 kg animal mass/day] | I28: Total VS (kg/yr) | K28: Max Pot. Emissions (m3 CH4/ kg VS) | M28: Weighted MCF | O28: Emissions (m3 CH4) | Q28: Emissions (Metric Tons CH4) | S28: Emissions (MMTCH4) | U28: Emissions (MMTCE) | W28: Emissions (MMTCO2E)
B29: Dairy Cattle
B30: Dairy Cows | C30: 70 | D30: x | E30: 604 | F30: x | G30: 7.7593643 | H30: = | I30: =C30*E30*G30*365 -> 1.1974406e+08 | J30: x | K30: 0.24 | L30: x | M30: 0.11665927 | N30: = | O30: =(I30*K30)*M30 -> 3352621.2 | P30: = | Q30: =O30*0.000662 -> 2219.4352 | R30: = | S30: =Q30/1000000 -> 0.0022194352 | T30: = | U30: =(S30*$Z$7)*12/44 -> 0.016887884 | V30: = | W30: =U30/(12/44) -> 0.061922243
B31: Dairy Replacement Heifers | C31: 30 | D31: x | E31: 476 | F31: x | G31: 6.6952291 | H31: = | I31: =C31*E31*G31*365 -> 34896873 | J31: x | K31: 0.17 | L31: x | M31: 0.012415103 | N31: = | O31: =(I31*K31)*M31 -> 73652.206 | P31: = | Q31: =O31*0.000662 -> 48.757761 | R31: = | S31: =Q31/1000000 -> 4.8757761e-05 | T31: = | U31: =(S31*$Z$7)*12/44 -> 0.00037100223 | V31: = | W31: =U31/(12/44) -> 0.0013603415
B32: Beef Cattle
B33: Feedlot Heifers | C33: 3.912 | D33: x | E33: 420 | F33: x | G33: 3.4985074 | H33: = | I33: =C33*E33*G33*365 -> 2098088.5 | J33: x | K33: 0.33 | L33: x | M33: 0.013058096 | N33: = | O33: =(I33*K33)*M33 -> 9041.0234 | P33: = | Q33: =O33*0.000662 -> 5.9851575 | R33: = | S33: =Q33/1000000 -> 5.9851575e-06 | T33: = | U33: =(S33*$Z$7)*12/44 -> 4.5541607e-05 | V33: = | W33: =U33/(12/44) -> 0.00016698589
B34: Feedlot Steer | C34: 7.395 | D34: x | E34: 420 | F34: x | G34: 3.174804 | H34: = | I34: =C34*E34*G34*365 -> 3599127.7 | J34: x | K34: 0.33 | L34: x | M34: 0.012961077 | N34: = | O34: =(I34*K34)*M34 -> 15394.028 | P34: = | Q34: =O34*0.000662 -> 10.190847 | R34: = | S34: =Q34/1000000 -> 1.0190847e-05 | T34: = | U34: =(S34*$Z$7)*12/44 -> 7.754308e-05 | V34: = | W34: =U34/(12/44) -> 0.00028432463
B35: Bulls | C35: 3 | D35: x | E35: 750 | F35: x | G35: 6.04 | H35: = | I35: =C35*E35*G35*365 -> 4960350 | J35: x | K35: 0.17 | L35: x | M35: 0.011 | N35: = | O35: =(I35*K35)*M35 -> 9275.8545 | P35: = | Q35: =O35*0.000662 -> 6.1406157 | R35: = | S35: =Q35/1000000 -> 6.1406157e-06 | T35: = | U35: =(S35*$Z$7)*12/44 -> 4.6724503e-05 | V35: = | W35: =U35/(12/44) -> 0.00017132318
B36: Calves | C36: 37 | D36: x | E36: 118 | F36: x | G36: 6.41 | H36: = | I36: =C36*E36*G36*365 -> 10214912 | J36: x | K36: 0.17 | L36: x | M36: 0.011 | N36: = | O36: =(I36*K36)*M36 -> 19101.885 | P36: = | Q36: =O36*0.000662 -> 12.645448 | R36: = | S36: =Q36/1000000 -> 1.2645448e-05 | T36: = | U36: =(S36*$Z$7)*12/44 -> 9.6220364e-05 | V36: = | W36: =U36/(12/44) -> 0.000352808
B37: Beef Cows | C37: 49 | D37: x | E37: 533 | F37: x | G37: 6.9170915 | H37: = | I37: =C37*E37*G37*365 -> 65938592 | J37: x | K37: 0.17 | L37: x | M37: 0.011 | N37: = | O37: =(I37*K37)*M37 -> 123305.17 | P37: = | Q37: =O37*0.000662 -> 81.628021 | R37: = | S37: =Q37/1000000 -> 8.1628021e-05 | T37: = | U37: =(S37*$Z$7)*12/44 -> 0.00062111503 | V37: = | W37: =U37/(12/44) -> 0.0022774218
B38: Beef Replacement Heifers | C38: 13 | D38: x | E38: 420 | F38: x | G38: 7.4880281 | H38: = | I38: =C38*E38*G38*365 -> 14922891 | J38: x | K38: 0.17 | L38: x | M38: 0.011 | N38: = | O38: =(I38*K38)*M38 -> 27905.807 | P38: = | Q38: =O38*0.000662 -> 18.473644 | R38: = | S38: =Q38/1000000 -> 1.8473644e-05 | T38: = | U38: =(S38*$Z$7)*12/44 -> 0.00014056764 | V38: = | W38: =U38/(12/44) -> 0.00051541466
B39: Steer Stockers | C39: 18 | D39: x | E39: 318 | F39: x | G39: 7.9391091 | H39: = | I39: =C39*E39*G39*365 -> 16586863 | J39: x | K39: 0.17 | L39: x | M39: 0.011 | N39: = | O39: =(I39*K39)*M39 -> 31017.434 | P39: = | Q39: =O39*0.000662 -> 20.533541 | R39: = | S39: =Q39/1000000 -> 2.0533541e-05 | T39: = | U39: =(S39*$Z$7)*12/44 -> 0.00015624158 | V39: = | W39: =U39/(12/44) -> 0.0005728858
B40: Heifer Stockers | C40: 10 | D40: x | E40: 420 | F40: x | G40: 8.3348602 | H40: = | I40: =C40*E40*G40*365 -> 12777341 | J40: x | K40: 0.17 | L40: x | M40: 0.011 | N40: = | O40: =(I40*K40)*M40 -> 23893.627 | P40: = | Q40: =O40*0.000662 -> 15.817581 | R40: = | S40: =Q40/1000000 -> 1.5817581e-05 | T40: = | U40: =(S40*$Z$7)*12/44 -> 0.00012035741 | V40: = | W40: =U40/(12/44) -> 0.00044131052
B41: Swine
B42: Breeding Swine | C42: 6 | D42: x | E42: 198 | F42: x | G42: 2.6 | H42: = | I42: =C42*E42*G42*365 -> 1127412 | J42: x | K42: 0.48 | L42: x | M42: 0.29615216 | N42: = | O42: =(I42*K42)*M42 -> 160265.04 | P42: = | Q42: =O42*0.000662 -> 106.09546 | R42: = | S42: =Q42/1000000 -> 0.00010609546 | T42: = | U42: =(S42*$Z$7)*12/44 -> 0.00080728996 | V42: = | W42: =U42/(12/44) -> 0.0029600632
B43: Market Under 60 lbs | C43: 10 | D43: x | E43: 15.88 | F43: x | G43: 8.8 | H43: = | I43: =C43*E43*G43*365 -> 510065.6 | J43: x | K43: 0.48 | L43: x | M43: 0.29664168 | N43: = | O43: =(I43*K43)*M43 -> 72627.224 | P43: = | Q43: =O43*0.000662 -> 48.079222 | R43: = | S43: =Q43/1000000 -> 4.8079222e-05 | T43: = | U43: =(S43*$Z$7)*12/44 -> 0.00036583917 | V43: = | W43: =U43/(12/44) -> 0.0013414103
B44: Market 60-119 lbs | C44: 6 | D44: x | E44: 40.6 | F44: x | G44: 5.4 | H44: = | I44: =C44*E44*G44*365 -> 480135.6 | J44: x | K44: 0.48 | L44: x | M44: 0.29664168 | N44: = | O44: =(I44*K44)*M44 -> 68365.551 | P44: = | Q44: =O44*0.000662 -> 45.257995 | R44: = | S44: =Q44/1000000 -> 4.5257995e-05 | T44: = | U44: =(S44*$Z$7)*12/44 -> 0.00034437219 | V44: = | W44: =U44/(12/44) -> 0.001262698
B45: Market 120-179 lbs | C45: 7 | D45: x | E45: 67.82 | F45: x | G45: 5.4 | H45: = | I45: =C45*E45*G45*365 -> 935712.54 | J45: x | K45: 0.48 | L45: x | M45: 0.29664168 | N45: = | O45: =(I45*K45)*M45 -> 133234.24 | P45: = | Q45: =O45*0.000662 -> 88.201069 | R45: = | S45: =Q45/1000000 -> 8.8201069e-05 | T45: = | U45: =(S45*$Z$7)*12/44 -> 0.00067112995 | V45: = | W45: =U45/(12/44) -> 0.0024608098
B46: Market over 180 lbs | C46: 4 | D46: x | E46: 90.75 | F46: x | G46: 5.4 | H46: = | I46: =C46*E46*G46*365 -> 715473 | J46: x | K46: 0.48 | L46: x | M46: 0.29664168 | N46: = | O46: =(I46*K46)*M46 -> 101874.77 | P46: = | Q46: =O46*0.000662 -> 67.4411 | R46: = | S46: =Q46/1000000 -> 6.74411e-05 | T46: = | U46: =(S46*$Z$7)*12/44 -> 0.00051316546 | V46: = | W46: =U46/(12/44) -> 0.0018816067
B47: Poultry
B48: Layers
B49: Hens > 1 yr | C49: 2560 | D49: x | E49: 1.8 | F49: x | G49: 10.8 | H49: = | I49: =C49*E49*G49*365 -> 18164736 | J49: x | K49: 0.39 | L49: x | M49: 0.050976002 | N49: = | O49: =(I49*K49)*M49 -> 361126.59 | P49: = | Q49: =O49*0.000662 -> 239.06581 | R49: = | S49: =Q49/1000000 -> 0.00023906581 | T49: = | U49: =(S49*$Z$7)*12/44 -> 0.0018190734 | V49: = | W49: =U49/(12/44) -> 0.006669936
B50: Pullets | C50: 938 | D50: x | E50: 1.8 | F50: x | G50: 9.7 | H50: = | I50: =C50*E50*G50*365 -> 5977780.2 | J50: x | K50: 0.39 | L50: x | M50: 0.050976002 | N50: = | O50: =(I50*K50)*M50 -> 118842.1 | P50: = | Q50: =O50*0.000662 -> 78.673471 | R50: = | S50: =Q50/1000000 -> 7.8673471e-05 | T50: = | U50: =(S50*$Z$7)*12/44 -> 0.0005986336 | V50: = | W50: =U50/(12/44) -> 0.0021949898
B51: Chickens | C51: 16 | D51: x | E51: 1.8 | F51: x | G51: 10.8 | H51: = | I51: =C51*E51*G51*365 -> 113529.6 | J51: x | K51: 0.39 | L51: x | M51: 0.050976002 | N51: = | O51: =(I51*K51)*M51 -> 2257.0412 | P51: = | Q51: =O51*0.000662 -> 1.4941613 | R51: = | S51: =Q51/1000000 -> 1.4941613e-06 | T51: = | U51: =(S51*$Z$7)*12/44 -> 1.1369209e-05 | V51: = | W51: =U51/(12/44) -> 4.16871e-05
B52: Broilers | C52: 54090.909 | D52: x | E52: 0.9 | F52: x | G52: 15 | H52: = | I52: =C52*E52*G52*365 -> 2.6653295e+08 | J52: x | K52: 0.36 | L52: x | M52: 0.015 | N52: = | O52: =(I52*K52)*M52 -> 1439278 | P52: = | Q52: =O52*0.000662 -> 952.802 | R52: = | S52: =Q52/1000000 -> 0.000952802 | T52: = | U52: =(S52*$Z$7)*12/44 -> 0.0072499571 | V52: = | W52: =U52/(12/44) -> 0.026583176
B53: Turkeys | C53: 243.333 | D53: x | E53: 6.8 | F53: x | G53: 9.7 | H53: = | I53: =C53*E53*G53*365 -> 5858339.3 | J53: x | K53: 0.36 | L53: x | M53: 0.015 | N53: = | O53: =(I53*K53)*M53 -> 31635.032 | P53: = | Q53: =O53*0.000662 -> 20.942391 | R53: = | S53: =Q53/1000000 -> 2.0942391e-05 | T53: = | U53: =(S53*$Z$7)*12/44 -> 0.00015935256 | V53: = | W53: =U53/(12/44) -> 0.00058429272
B54: Other
B55: Sheep on Feed | C55: 0 | D55: x | E55: 27 | F55: x | G55: 9.2054795 | H55: = | I55: =C55*E55*G55*365 -> 0 | J55: x | K55: 0.36056372 | L55: x | M55: 0.012 | N55: = | O55: =(I55*K55)*M55 -> 0 | P55: = | Q55: =O55*0.000662 -> 0 | R55: = | S55: =Q55/1000000 -> 0 | T55: = | U55: =(S55*$Z$7)*12/44 -> 0 | V55: = | W55: =U55/(12/44) -> 0
B56: Sheep Not on Feed | C56: 22 | D56: x | E56: 27 | F56: x | G56: 9.2054795 | H56: = | I56: =C56*E56*G56*365 -> 1995840 | J56: x | K56: 0.18996771 | L56: x | M56: 0.011 | N56: = | O56: =(I56*K56)*M56 -> 4170.5968 | P56: = | Q56: =O56*0.000662 -> 2.7609351 | R56: = | S56: =Q56/1000000 -> 2.7609351e-06 | T56: = | U56: =(S56*$Z$7)*12/44 -> 2.1008206e-05 | V56: = | W56: =U56/(12/44) -> 7.7030089e-05
B57: Goats | C57: 9.601 | D57: x | E57: 64 | F57: x | G57: 9.5342466 | H57: = | I57: =C57*E57*G57*365 -> 2138334.7 | J57: x | K57: 0.16997111 | L57: x | M57: 0.011 | N57: = | O57: =(I57*K57)*M57 -> 3998.0065 | P57: = | Q57: =O57*0.000662 -> 2.6466803 | R57: = | S57: =Q57/1000000 -> 2.6466803e-06 | T57: = | U57: =(S57*$Z$7)*12/44 -> 2.0138831e-05 | V57: = | W57: =U57/(12/44) -> 7.384238e-05
B58: Horses | C58: 65.511 | D58: x | E58: 450 | F58: x | G58: 10 | H58: = | I58: =C58*E58*G58*365 -> 1.0760182e+08 | J58: x | K58: 0.33056882 | L58: x | M58: 0.011 | N58: = | O58: =(I58*K58)*M58 -> 391267.86 | P58: = | Q58: =O58*0.000662 -> 259.01933 | R58: = | S58: =Q58/1000000 -> 0.00025901933 | T58: = | U58: =(S58*$Z$7)*12/44 -> 0.0019709016 | V58: = | W58: =U58/(12/44) -> 0.0072266392
B59: TOTAL | O59: =SUM(O30:O58) -> 6574150.2 | Q59: =SUM(Q30:Q58) -> 4352.0875 | S59: =SUM(S30:S58) -> 0.0043520875 | U59: =SUM(U30:U58) -> 0.033115429 | W59: =SUM(W30:W58) -> 0.12142324
B61: Manure Management N20 Emissions
C62: Number of Animals ('000 head) | E62: Total K-Nitrogen Excreted (kg) | G62: Unvolatilized N from Manure in Anaerobic Lagoons and Liquid Systems (kg) | I62: Unvolatilized N from Manure in Solid Storage, Drylot & Other Systems (kg) | K62: Emissions from Anaerobic Lagoons and Liquid Systems (kg N2O-N) | M62: Emissions from Solid Storage, Drylot, & Other Systems (kg N2O-N) | O62: Total N2O Emissions (kg N2O) | Q62: Emissions (MTCE) | S62: Emissions (MMTCE) | U62: Emissions (MMTCO2E)
B63: Dairy
B64: Dairy Cows | C64: 70 | E64: 6790168 | G64: 1569976.9 | I64: 1758775.7 | K64: 1569.9769 | L64: + | M64: 35175.514 | N64: = | O64: 57742.915 | P64: = | Q64: =O64/1000*$Z$8*12/44 -> 4299.2225 | R64: = | S64: =Q64/10^6 -> 0.0042992225 | T64: = | U64: =S64/(12/44) -> 0.015763816
B65: Dairy Replacement Heifers | C65: 30 | E65: 1615782 | G65: 373590.22 | I65: 792106.84 | K65: 373.59022 | L65: + | M65: 15842.137 | N65: = | O65: 24894.786 | P65: = | Q65: =O65/1000*$Z$8*12/44 -> 1853.53 | R65: = | S65: =Q65/10^6 -> 0.00185353 | T65: = | U65: =S65/(12/44) -> 0.0067962767
B66: Beef Cattle
B67: Feedlot Heifers | C67: 3.912 | E67: 179912.88 | G67: NA | I67: 179912.88 | K67: NA | L67: + | M67: 3598.2576 | N67: = | O67: 5654.4048 | P67: = | Q67: =O67/1000*$Z$8*12/44 -> 420.99614 | R67: = | S67: =Q67/10^6 -> 0.00042099614 | T67: = | U67: =S67/(12/44) -> 0.0015436525
B68: Feedlot Steer | C68: 7.395 | E68: 340096.05 | G68: NA | I68: 340096.05 | K68: NA | L68: + | M68: 6801.921 | N68: = | O68: 10688.733 | P68: = | Q68: =O68/1000*$Z$8*12/44 -> 795.82476 | R68: = | S68: =Q68/10^6 -> 0.00079582476 | T68: = | U68: =S68/(12/44) -> 0.0029180241
B69: Swine
B70: Breeding Swine | C70: 6 | E70: 101900.7 | G70: 76526.437 | I70: 3831.7624 | K70: 76.526437 | L70: + | M70: 76.635249 | N70: = | O70: 240.68265 | P70: = | Q70: =O70/1000*$Z$8*12/44 -> 17.919917 | R70: = | S70: =Q70/10^6 -> 1.7919917e-05 | T70: = | U70: =S70/(12/44) -> 6.5706363e-05
B71: Market Under 60 lbs | C71: 10 | E71: 34777.2 | G71: 26117.34 | I71: 1307.7238 | K71: 26.11734 | L71: + | M71: 26.154476 | N71: = | O71: 82.141424 | P71: = | Q71: =O71/1000*$Z$8*12/44 -> 6.1158024 | R71: = | S71: =Q71/10^6 -> 6.1158024e-06 | T71: = | U71: =S71/(12/44) -> 2.2424609e-05
B72: Market 60-119 lbs | C72: 6 | E72: 37343.88 | G72: 28044.892 | I72: 1404.2384 | K72: 28.044892 | L72: + | M72: 28.084768 | N72: = | O72: 88.203751 | P72: = | Q72: =O72/1000*$Z$8*12/44 -> 6.5671702 | R72: = | S72: =Q72/10^6 -> 6.5671702e-06 | T72: = | U72: =S72/(12/44) -> 2.4079624e-05
B73: Market 120-179 lbs | C73: 7 | E73: 72777.642 | G73: 54655.303 | I73: 2736.6508 | K73: 54.655303 | L73: + | M73: 54.733017 | N73: = | O73: 171.89593 | P73: = | Q73: =O73/1000*$Z$8*12/44 -> 12.798433 | R73: = | S73: =Q73/10^6 -> 1.2798433e-05 | T73: = | U73: =S73/(12/44) -> 4.6927589e-05
B74: Market over 180 lbs | C74: 4 | E74: 55647.9 | G74: 41791.033 | I74: 2092.5228 | K74: 41.791033 | L74: + | M74: 41.850455 | N74: = | O74: 131.43662 | P74: = | Q74: =O74/1000*$Z$8*12/44 -> 9.7860541 | R74: = | S74: =Q74/10^6 -> 9.7860541e-06 | T74: = | U74: =S74/(12/44) -> 3.5882198e-05
B75: Poultry
B76: Layers
B77: Hens > 1 yr | C77: 2560 | E77: 1395993.6 | G77: 69799.68 | I77: 1326193.9 | K77: 69.79968 | L77: + | M77: 6630.9696 | N77: = | O77: 10529.78 | P77: = | Q77: =O77/1000*$Z$8*12/44 -> 783.99001 | R77: = | S77: =Q77/10^6 -> 0.00078399001 | T77: = | U77: =S77/(12/44) -> 0.00287463
B78: Pullets | C78: 938 | E78: 382084.92 | G78: 19104.246 | I78: 362980.67 | K78: 19.104246 | L78: + | M78: 1814.9034 | N78: = | O78: 2882.012 | P78: = | Q78: =O78/1000*$Z$8*12/44 -> 214.57889 | R78: = | S78: =Q78/10^6 -> 0.00021457889 | T78: = | U78: =S78/(12/44) -> 0.00078678927
B79: Chickens | C79: 16 | E79: 8724.96 | G79: 436.248 | I79: 8288.712 | K79: 0.436248 | L79: + | M79: 41.44356 | N79: = | O79: 65.811127 | P79: = | Q79: =O79/1000*$Z$8*12/44 -> 4.8999375 | R79: = | S79: =Q79/10^6 -> 4.8999375e-06 | T79: = | U79: =S79/(12/44) -> 1.7966438e-05
B80: Broilers | C80: 54090.909 | E80: 19545750 | G80: NA | I80: 19545750 | K80: NA | L80: + | M80: 390915 | N80: = | O80: 614295 | P80: = | Q80: =O80/1000*$Z$8*12/44 -> 45737.055 | R80: = | S80: =Q80/10^6 -> 0.045737055 | T80: = | U80: =S80/(12/44) -> 0.16770253
B81: Turkeys | C81: 243.333 | E81: 446924.85 | G81: NA | I81: 446924.85 | K81: NA | L81: + | M81: 8938.4971 | N81: = | O81: 14046.21 | P81: = | Q81: =O81/1000*$Z$8*12/44 -> 1045.8042 | R81: = | S81: =Q81/10^6 -> 0.0010458042 | T81: = | U81: =S81/(12/44) -> 0.0038346153
B82: Other
B83: Sheep on Feed | C83: 0 | E83: 0 | G83: NA | I83: 0 | K83: NA | L83: + | M83: 0 | N83: = | O83: 0 | P83: = | Q83: =O83/1000*$Z$8*12/44 -> 0 | R83: = | S83: =Q83/10^6 -> 0 | T83: = | U83: =S83/(12/44) -> 0
B84: Sheep Not on Feed | C84: 22 | E84: 91060.2 | G84: NA | I84: 0 | K84: NA | L84: + | M84: 0 | N84: = | O84: 0 | P84: = | Q84: =O84/1000*$Z$8*12/44 -> 0 | R84: = | S84: =Q84/10^6 -> 0 | T84: = | U84: =S84/(12/44) -> 0
B85: TOTAL | E85: 31098945 | G85: 2260042.3 | I85: 24772403 | K85: 2260.0423 | M85: 469986.1 | O85: =SUM(O64:O84) -> 741514.01 | Q85: =SUM(Q64:Q84) -> 55209.089 | S85: =Q85/10^6 -> 0.055209089 | U85: =S85/(12/44) -> 0.20243333
B87: Ag Soils- Plant Residues & Legumes in Maryland
B88: Legumes and Crop Residue Calculations
C89: Units | E89: Crop Production | G89: metric tons/bushel: | I89: Residue: Crop Mass Ratio | K89: Crop Production (metric tons) | M89: Residue Dry Matter Fraction | O89: Fraction Residue Applied | Q89: Nitrogen Content of Residue | S89: Nitrogen Returned to Soil | U89: N content of Aboveground Biomass for N fixing | W89: N-Fixed by Crops (kg) | Z89: EF Direct | AA89: Direct N2O Emissions (metric tons N2O) | AC89: Direct Emissions (MMTCE) | AE89: Direct Emissions (MMTCO2E)
B90: Alfalfa | C90: '000 tons | E90: 156 | G90: NA | I90: 0 | K90: =E90*0.9072*1000 -> 141523.2 | M90: 0.85 | O90: 0 | Q90: NA | S90: NA | U90: 0.03 | W90: =(K90*1000)*(1+I90)*M90*U90 -> 3608841.6 | Y90: Residues | Z90: 0.01 | AA90: =S111/1000*Z90*44/28 -> 402.03381 | AC90: =AA90*$Z$8*12/44*10^-6 -> 0.029933245 | AE90: 0.0092700358
B91: Corn for Grain | C91: '000 bushels | E91: 60350 | G91: 0.025401147 | I91: 1 | K91: =E91*1000*G91 -> 1532959.2 | M91: 0.91 | O91: 0.9 | Q91: 0.0058 | S91: =(K91*1000)*I91*M91*O91*Q91 -> 7281862.9 | U91: 0.03 | W91: NA | Y91: Legumes | Z91: 0.01 | AA91: =W111/1000*Z91*44/28 -> 603.78692 | AC91: =AA91*$Z$8*12/44*10^-6 -> 0.04495468 | AE91: 0.013922029
B92: All Wheat | C92: '000 bushels | E92: 8500 | G92: 0.027215443 | I92: 1.3 | K92: =E92*1000*G92 -> 231331.26 | M92: 0.93 | O92: 0.9 | Q92: 0.0062 | S92: =(K92*1000)*I92*M92*O92*Q92 -> 1560611.6 | U92: 0.03 | W92: NA
B93: Barley | C93: '000 bushels | E93: 2784 | G93: 0.021772 | I93: 1.2 | K93: =E93*1000*G93 -> 60613.248 | M93: 0.93 | O93: 0.9 | Q93: 0.0077 | S93: =(K93*1000)*I93*M93*O93*Q93 -> 468775.59 | U93: 0.03 | W93: NA
B94: Sorghum for Grain | C94: '000 bushels | E94: 0 | G94: 0.02540117 | I94: 1.4 | K94: =E94*1000*G94 -> 0 | M94: 0.91 | O94: 0.9 | Q94: 0.0108 | S94: =(K94*1000)*I94*M94*O94*Q94 -> 0 | U94: 0.03 | W94: NA
B95: Oats | C95: '000 bushels | E95: 0 | G95: 0.014514959 | I95: 1.3 | K95: =E95*1000*G95 -> 0 | M95: 0.92 | O95: 0.9 | Q95: 0.007 | S95: =(K95*1000)*I95*M95*O95*Q95 -> 0 | U95: 0.03 | W95: NA
B96: Rye | C96: '000 bushels | E96: 0 | G96: 0.025401046 | I96: 1.6 | K96: =E96*1000*G96 -> 0 | M96: 0.9 | O96: 0.9 | Q96: 0.0048 | S96: =(K96*1000)*I96*M96*O96*Q96 -> 0 | U96: 0.03 | W96: NA
B97: Millet | C97: '000 bushels | E97: 0 | G97: 0.027215 | I97: 1.4 | K97: =E97*1000*G97 -> 0 | M97: 0.89 | O97: 0.89 | Q97: 0.007 | S97: =(K97*1000)*I97*M97*O97*Q97 -> 0 | U97: 0.03 | W97: NA
B98: Rice | C98: '000 hundred weight | E98: 0 | G98: NA | I98: 1.4 | K98: =(E98*0.454)*100 -> 0 | M98: 0.91 | O98: 1 | Q98: 0.0072 | S98: =(K98*1000)*I98*M98*O98*Q98 -> 0 | U98: 0.03 | W98: NA
B99: Soybeans | C99: '000 bushels | E99: 15810 | G99: 0.027215692 | I99: 2.1 | K99: =E99*1000*G99 -> 430280.09 | M99: 0.87 | O99: 0.9 | Q99: 0.023 | S99: =(K99*1000)*I99*M99*O99*Q99 -> 16272720 | U99: 0.03 | W99: =(K99*1000)*(1+I99)*M99*U99 -> 34813962
B100: Peanuts | C100: '000 lbs | E100: 0 | G100: NA | I100: 1 | K100: =(E100*1000/2000*0.9072) -> 0 | M100: 0.86 | O100: 0.9 | Q100: 0.0106 | S100: =(K100*1000)*I100*M100*O100*Q100 -> 0 | U100: 0.03 | W100: =(K100*1000)*(1+I100)*M100*U100 -> 0
B101: Dry Edible Beans | C101: '000 hundred weight | E101: 0 | G101: NA | I101: 2.1 | K101: =(E101*0.454)*100 -> 0 | M101: 0.87 | O101: 1.55 | Q101: 0.0168 | S101: =(K101*1000)*I101*M101*O101*Q101 -> 0 | U101: 0.03 | W101: =(K101*1000)*(1+I101)*M101*U101 -> 0
B102: Dry Edible Peas | C102: '000 hundred weight | E102: 0 | G102: NA | I102: 1.5 | K102: =(E102*0.454)*100 -> 0 | M102: 0.87 | O102: 0.9 | Q102: 0.0168 | S102: =(K102*1000)*I102*M102*O102*Q102 -> 0 | U102: 0.03 | W102: =(K102*1000)*(1+I102)*M102*U102 -> 0
B103: Austrian Winter Peas | C103: '000 hundred weight | E103: 0 | G103: NA | I103: 1.5 | K103: =(E103*0.454)*100 -> 0 | M103: 0.87 | O103: 0.9 | Q103: 0.0168 | S103: =(K103*1000)*I103*M103*O103*Q103 -> 0 | U103: 0.03 | W103: =(K103*1000)*(1+I103)*M103*U103 -> 0
B104: Lentils | C104: '000 hundred weight | E104: 0 | G104: NA | I104: 2.1 | K104: =(E104*0.454)*100 -> 0 | M104: 0.87 | O104: 1.55 | Q104: 0.0168 | S104: =(K104*1000)*I104*M104*O104*Q104 -> 0 | U104: 0.03 | W104: =(K104*1000)*(1+I104)*M104*U104 -> 0
...

Sheet Agriculture_Liming
B2: CO2 from Urea Fertilization in Maryland
B4: Year | D4: Total Urea Applied to Soil | E4: Emission Factor | F4: Carbon Dioxide Emissions | G4: Carbon Dioxide Emissions
D5: (Metric Tons) | E5: (Ton C/Ton urea) | F5: (MTCO2E) | G5: (MMTCO2E)
B7: 2006 | D7: 7020 | E7: 0.2 | F7: =D7*E7*(44/12) -> 5148 | G7: =F7/1000000 -> 0.005148
B12: Emissions from Liming of Soils are calculated by summing carbon emissions from the application of both limestone and dolomite to soil. The masses of limestone and dolomite are multiplied by their carbon emission factors, converted to million metric tons carbon dioxide equivalent, and then summed. For more information, please refer to the Agriculture Chapter of the User's Guide.
B14: CO2 from Liming of Agric Soils in Maryland
B16: Year | D16: Total Applied to Soil | E16: Emission Factor | F16: Carbon Dioxide Emissions | G16: Total Carbon Dioxide Emissions
D17: ('000 Metric Tons) | E17: (Ton C/Ton limestone) | F17: (MTCO2E) | G17: (MMTCO2E)
B19: 2006 | C19: Limestone | D19: 459.67 | E19: 0.059 | F19: =D19*E19*(44/12)*1000 -> 99441.943 | G19: =F19/1000000 -> 0.099441943
B20: 2006 | C20: Dolomite | D20: 75.97 | E20: 0.064 | F20: =D20*E20*(44/12)*1000 -> 17827.627 | G20: =F20/1000000 -> 0.017827627
G21: =G19+G20 -> 0.11726957

Sheet Incinerators
A1: Incinerator Emissions
E4: 2006
D6: Incinerator #1 | E6: Incinerator #4 | F6: Incinerator #5 | G6: Incinerator #6 | H6: Total | I6: CO2 Emissions | J6: Natural Gas Usage (ft3)
H7: (tons) | I7: (short tons)
B8: Fort Detrick | C8: MSW Processed (tons) | D8: 1219.623 | E8: 1080.387 | F8: 334.2985 | G8: 379.186 | H8: =D8+E8+F8+G8 -> 3013.4945 | I8: =H8*C26*C28*0.001102 -> 2996.9698 | J8: 26155300
B10: Harford Resources Recovery | C10: MSW Processed (tons) | H10: 116483 | I10: =H10*C26*C28*0.001102 -> 115844.26 | J10: 9577100
B12: Montgomery Resource Recovery | C12: MSW Processed (tons) | D12: 207388 | E12: 194349 | F12: 217351 | H12: =SUM(D12:G12) -> 619088 | I12: =H12*C26*C28*0.001102 -> 615693.19 | J12: 26155300
B14: Wheelabrator Baltimore | C14: MSW Processed (tons) | D14: 219952 | E14: 225614.5 | F14: 225917.2 | H14: =D14+E14+F14 -> 671483.7 | I14: =H14*C26*C28*0.001102 -> 667801.57 | J14: 16300000
G16: Total | H16: =SUM(H8:H15) -> 1410068.2 | I16: =SUM(I8:I15) -> 1402336 | J16: =SUM(J8:J15) -> 78187700
C18: Natural Gas Usage (ft3) | H18: CO2 (metric tons) | I18: =I16*0.90718 -> 1272171.2
H20: CO2 (MMTCO2E) | I20: =I18/1000000 -> 1.2721712
B24: MSW | E24: Natural Gas
B26: Default high Heat Value (mmbtu/S tons) | C26: 9.95 | E26: 0.001028
B28: Default CO2 Emission factor (kg /mmbtu) | C28: 90.7 | E28: 53.02
B30: CO2 Emissions ( tons/yr) | C30: =H16*C26*C28*0.001102 -> 1402336 | E30: =J16*E26*E28*0.001102 -> 4696.268
B32: CO2 Emissions ( metric tons/yr) | C32: =C30*0.90718 -> 1272171.2 | E32: =E30*0.90718 -> 4260.3604
B34: CO2 Emissions ( million metric tons/yr) | C34: =C32/1000000 -> 1.2721712 | E34: =E32/1000000 -> 0.0042603604
B39: Default N2O Emission factor (kg /mmbtu) | C39: 0.0042 | E39: 0.0001
B41: N2O Emissions ( metric tons/yr) | C41: =H16*C26*C39*0.001102 -> 64.937278 | E41: =J16*E26*E39*0.001102 -> 0.0088575405
B43: N2O GWP | C43: =$C$55 -> 273 | E43: =$C$55 -> 273
B45: N2O Emissions ( MMTCO2E) | C45: =(C41*C43)/1000000 -> 0.017727877 | E45: =(E41*E43)/1000000 -> 2.4181086e-06
B51: Global Warming Potential
B53: CO2_GWP= | C53: =Summary!$E4 -> 1
B54: CH4_GWP = | C54: =Summary!$E5 -> 27.9
B55: N2O_GWP= | C55: =Summary!$E6 -> 273
B56: SF6_GWP = | C56: =Summary!$E7 -> 24300

Sheet Landfills
A1: Landfill Emissions
I3: Uncontrolled Landfills
I4: Flared Landfills
I5: LFTGE Landfills
B8: County | C8: Facility Name | D8: TOTAL Landfill Capacity (Million tons) | E8: Correct Capacity (MegaGrams) | F8: Average Acceptance / Yearly Disposal (tons/yr) | G8: Average Acceptance / Yearly Disposal (Mg/yr) | H8: Year Opened | I8: Year Closed | J8: CO2 Generation (short tons) LandGEM 3.0 | K8: CH4 Generation (short tons/yr) LandGEM 3.0 | L8: CH4 Collection Efficiency (%) | M8: CH4 Collected (tons) | N8: Flare Control Efficeincy (%) | O8: Amount of CH4 Flared (tons) | P8: CO2 Generated from CH4 Combustion, tons | Q8: Uncombusted CH4 (Flare Emission, tons) | R8: Uncollected Landfill CH4 | S8: Surface Oxidation % | T8: Amount of CH4 Removed By Oxidation (tons) | U8: Fugitive Landfill CH4 Emission (tons) | V8: Total CH4 Emission, tons | W8: Total methane emissions (CO2e) | X8: Total GHG Emissions (tons)
B10: Allegany | C10: Mountainview Municipal Landfill | D10: 4.26 | E10: =D10*1000000*0.9071847 -> 3864606.8 | F10: 125000 | G10: =F10*0.9071847 -> 113398.09 | H10: 1992 | I10: 2015 | J10: 9505 | K10: 3464 | L10: 0.8 | M10: =K10*L10 -> 2771.2 | N10: 0.98 | O10: =M10*N10 -> 2715.776 | P10: =O10*2.75 -> 7468.384 | Q10: =M10*(1-N10) -> 55.424 | R10: =K10*(1-L10) -> 692.8 | S10: 0.1 | T10: =R10*S10 -> 69.28 | U10: =R10*(1-S10) -> 623.52 | V10: =U10+Q10 -> 678.944 | W10: =V10*$D$83 -> 18942.538 | X10: =J10+P10+W10 -> 35915.922
C11: Vale Summit | D11: 1.5 | E11: =D11*1000000*0.9071847 -> 1360777.1 | F11: 75000 | G11: =F11*0.9071847 -> 68038.852 | H11: 1971 | I11: 1992 | J11: 4319 | K11: 1574 | R11: =K11 -> 1574 | S11: 0.1 | T11: =R11*S11 -> 157.4 | U11: =R11*(1-S11) -> 1416.6 | V11: =U11 -> 1416.6 | W11: =V11*$D$83 -> 39523.14 | X11: =J11+W11 -> 43842.14
B13: Anne Arundel | C13: Annapolis | D13: 0.85 | E13: =D13*1000000*0.9071847 -> 771106.99 | F13: 23000 | G13: =F13*0.9071847 -> 20865.248 | H13: 1960 | I13: 1993 | J13: 2306 | K13: 840.3 | R13: =K13 -> 840.3 | S13: 0.1 | T13: =R13*S13 -> 84.03 | U13: =R13*(1-S13) -> 756.27 | V13: =U13 -> 756.27 | W13: =V13*$D$83 -> 21099.933 | X13: =J13+W13 -> 23405.933
C14: Fort G. Meade Municipal Landfill | D14: 0.67 | E14: =D14*1000000*0.9071847 -> 607813.75 | F14: 11000 | G14: =F14*0.9071847 -> 9979.0317 | H14: 1976 | I14: 1996 | J14: 3757 | K14: 1369 | R14: =K14 -> 1369 | S14: 0.1 | T14: =R14*S14 -> 136.9 | U14: =R14*(1-S14) -> 1232.1 | V14: =U14 -> 1232.1 | W14: =V14*$D$83 -> 34375.59 | X14: =J14+W14 -> 38132.59
