{"text_format":"1","workbook":"xlsx","n_sheets":20,"sheets":["Summ GHG Rpt Expanded","EGU Production RGGI Units","EGU Production Non-RGGI Units","Imported Electricity","Transportation","Residential","Commercial","Industrial","LimeT&DSodaODS","Cement","Ammonia & Urea Consumption","Iron And Steel","Landfills","Incinerators","OpenBurn","Natural Gas and Oil","Mining","Wastewater","Agricultural","Land Use"],"not_rendered":{"charts":0,"images":1,"macros":0,"external_links":0,"defined_names":69,"comments":13,"pivot_tables":0},"unopened":[],"bounds":{"document_bytes":16777216,"sheet_cells":100000,"rows_first":2000,"rows_last":500,"rows_between":2000,"halvings":0,"cell_chars":16384,"cell_head_chars":4096},"cells_cut":0,"cells_raw":0,"read":"whole","date_system":"1900"}

{"sheet":"Summ GHG Rpt Expanded","index":0,"n_rows":190,"n_cols":9,"rows_kept":190,"cut":false,"hidden":false,"merged":[[177,1,177,2],[1,5,1,8],[8,1,8,2],[9,1,9,2],[168,1,168,2],[170,1,170,2]]}
[null,"Maryland GHG Emissions by Sectors",null,"Final"]
[null,null,null,null,null,"Global Warming Potential"]
[null,null,null,null,null,null,"(Change this Column)","AR2","AR5"]
[null,null,null,null,null,"CO2_GWP=",1,1,1]
[null,null,null,null,null,"CH4_GWP =",28,21,28]
[null,null,null,null,null,"N2O_GWP=",265,310,265]
[null,null,null,null,null,"SF6_GWP =",23500,23900,23500]
[null,null,null,null,null,"PFCs_GWP=",11100,9200,11100]
[null,"MMtCO2e",null,2006]
[null,"Energy Use (CO2, CH4, N2O)",null,{"$f":"D11+D31+D48+D81","v":96.015067519925751}]
[null,"Electricity Use (Consumption)b",null,{"$f":"D12+D30","v":42.457414206129286}]
[null,null,"Electricity Production (in-state)",{"$f":"D13+D17+D21","v":32.146587295694516}]
[null,null,"      Coal",{"$f":"SUM(D14:D16)","v":28.259377083675432}]
[null,null,"CO2",{"$f":"'EGU Production RGGI Units'!F261","v":28.130573867498466}]
[null,null,"CH4",{"$f":"'EGU Production RGGI Units'!G280","v":8.4758873159930456E-3}]
[null,null,"N2O",{"$f":"'EGU Production RGGI Units'!G292","v":0.12032732886097269}]
[null,null,"      Natural Gas",{"$f":"SUM(D18:D20)","v":3.6499513800019345}]
[null,null,"CO2",{"$f":"'EGU Production RGGI Units'!F265+'EGU Production Non-RGGI Units'!I105","v":3.6484130104806791}]
[null,null,"CH4",{"$f":"'EGU Production RGGI Units'!G283+'EGU Production Non-RGGI Units'!G117","v":7.9035498339737466E-4}]
[null,null,"N2O",{"$f":"'EGU Production RGGI Units'!G295+'EGU Production Non-RGGI Units'!G129","v":7.4801453785822982E-4}]
[null,null,"      Oil",{"$f":"SUM(D22:D24)","v":0.23725883201715006}]
[null,null,"CO2",{"$f":"'EGU Production RGGI Units'!F263+'EGU Production Non-RGGI Units'!I103+'EGU Production Non-RGGI Units'!I104","v":0.23657260855402951}]
[null,null,"CH4",{"$f":"'EGU Production RGGI Units'!G281+'EGU Production RGGI Units'!G282+'EGU Production Non-RGGI Units'!G115+'EGU Production Non-RGGI Units'!G116","v":2.372130489799396E-4}]
[null,null,"N2O",{"$f":"'EGU Production RGGI Units'!G293+'EGU Production RGGI Units'!G294+'EGU Production Non-RGGI Units'!G127+'EGU Production Non-RGGI Units'!G128","v":4.4901041414059981E-4}]
[null,null,"      Wood",{"$f":"SUM(D26:D28)","v":0}]
[null,null,"CO2",0]
[null,null,"CH4",0]
[null,null,"N2O",0]
[null,null,"      MSW/LFG"]
[null,null,"Net Imported Electricity ",{"$f":"'Imported Electricity'!K76","v":10.310826910434773}]
[null,"Residential/Commercial/Industrial (RCI) Fuel Use",null,{"$f":"D32+D36+D40+D44","v":16.893541495979825}]
[null,null," Coal",{"$f":"SUM(D33:D35)","v":2.9980582282399628}]
[null,null,"CO2",{"$f":"Residential!G7+Commercial!G8+Industrial!J9","v":2.9761269853411139}]
[null,null,"CH4",{"$f":"Residential!G31+Commercial!G37+Industrial!H70","v":9.5131053210643201E-3}]
[null,null,"N2O",{"$f":"Residential!G18+Commercial!G22+Industrial!H39","v":1.2418137577784453E-2}]
[null,null," Natural Gas & LPG",{"$f":"SUM(D37:D39)","v":9.2148206118244786}]
[null,null,"CO2",{"$f":"Residential!G11+Residential!G10+Commercial!G14+Commercial!G11+Industrial!J29+Industrial!J17","v":9.1880239703649558}]
[null,null,"CH4",{"$f":"Residential!G35+Residential!G34+Commercial!G43+Commercial!G40+Industrial!H90+Industrial!H78","v":2.1334047275086612E-2}]
[null,null,"N2O",{"$f":"Residential!G22+Residential!G21+Commercial!G28+Commercial!G25+Industrial!H59+Industrial!H47","v":5.4625941844359885E-3}]
[null,null," Petroleum",{"$f":"SUM(D41:D43)","v":4.5778311975433512}]
[null,null,"CO2",{"$f":"Residential!G8+Residential!G9+Commercial!G12+Commercial!G13+Commercial!G9+Commercial!G10+Industrial!J13+Industrial!J14+Industrial!J15+Industrial!J16+Industrial!J18+Industrial!J21+Industrial!J23+Industrial!J24+Industrial!J26+Industrial!J28+Industrial!J19","v":4.5574772247834741}]
[null,null,"CH4",{"$f":"Residential!G32+Residential!G33+Commercial!G38+Commercial!G39+Commercial!G41+Commercial!G42+Industrial!H74+Industrial!H75+Industrial!H76+Industrial!H77+Industrial!H80+Industrial!H84+Industrial!H85+Industrial!H87","v":1.1345131041036273E-2}]
[null,null,"N2O",{"$f":"Residential!G19+Residential!G20+Commercial!G23+Commercial!G24+Commercial!G26+Commercial!G27+Industrial!H43+Industrial!H44+Industrial!H45+Industrial!H46+Industrial!H49+Industrial!H53+Industrial!H54+Industrial!H56","v":9.0088417188412401E-3}]
[null,null," Wood ",{"$f":"SUM(D45:D47)","v":0.102831458372034}]
[null,null,"CO2",0]
[null,null,"CH4",{"$f":"Residential!G36+Commercial!G44+Industrial!H91","v":8.1523695997068768E-2}]
[null,null,"N2O",{"$f":"Residential!G23+Commercial!G29+Industrial!H60","v":2.130776237496524E-2}]
[null,"Transportation ",null,{"$f":"D49+D53+D57+D61+D65+D69+D73+D77","v":35.408342693846663}]
[null,null,"Onroad Gasoline",{"$f":"SUM(D50:D52)","v":23.699662903225807}]
[null,null,"CO2",{"$f":"Transportation!E96","v":23.195}]
[null,null,"CH4",{"$f":"(Transportation!G96)*($G$5/21)","v":6.1599999999999995E-2}]
[null,null,"N2O",{"$f":"Transportation!I96*($G$6/310)","v":0.44306290322580644}]
[null,null,"Nonroad Gasoline",{"$f":"SUM(D54:D56)","v":1.0438950226499677}]
[null,null,"CO2",{"$f":"Transportation!O64+Transportation!O65+Transportation!O66+Transportation!O67","v":1.0395505155055149}]
[null,null,"CH4",{"$f":"(Transportation!AE64+Transportation!AE65+Transportation!AE66+Transportation!AE67)/1000000","v":1.2272729843938604E-3}]
[null,null,"N2O",{"$f":"SUM(Transportation!X64:X67)/1000000","v":3.1172341600589366E-3}]
[null,null,"Onroad Diesel",{"$f":"SUM(D58:D60)","v":5.9099645161290324}]
[null,null,"CO2",{"$f":"Transportation!E97","v":5.907}]
[null,null,"CH4",{"$f":"Transportation!G97*($G$5/21)","v":3.9999999999999996E-4}]
[null,null,"N2O",{"$f":"Transportation!I97*($G$6/310)","v":2.5645161290322582E-3}]
[null,null,"Nonroad Diesel",{"$f":"SUM(D62:D64)","v":1.5036462706718854}]
[null,null,"CO2",{"$f":"SUM(Transportation!O56:O58)","v":1.4880829330956415}]
[null,null,"CH4",{"$f":"SUM(Transportation!AE56:AE58)/1000000","v":5.6285455006948757E-3}]
[null,null,"N2O",{"$f":"SUM(Transportation!X56:X58)/1000000","v":9.9347920755490284E-3}]
[null,null,"Rail",{"$f":"SUM(D66:D68)","v":0.23870174671458705}]
[null,null,"CO2",{"$f":"Transportation!O59","v":0.23660057910605095}]
[null,null,"CH4",{"$f":"Transportation!AE59/1000000","v":5.2156642765079997E-4}]
[null,null,"N2O",{"$f":"Transportation!X59/1000000","v":1.57960118088528E-3}]
[null,null,"Marine Vessels (Gas & Oil)",{"$f":"SUM(D70:D72)","v":0.99702914091470674}]
[null,null,"CO2",{"$f":"Transportation!O60+Transportation!O68+Transportation!O69","v":0.98859813830762433}]
[null,null,"CH4",{"$f":"(Transportation!AE60+Transportation!AE68+Transportation!AE69)/1000000","v":1.9643870039656691E-3}]
[null,null,"N2O",{"$f":"(Transportation!X60+Transportation!X68+Transportation!X69)/1000000","v":6.4666156031167989E-3}]
[null,null,"Lubricants, Natural Gas, and LPG ",{"$f":"SUM(D74:D76)","v":0.29595514575746695}]
[null,null,"CO2",{"$f":"Transportation!O63+Transportation!O70+Transportation!S79","v":0.29595514575746695}]
[null,null,"CH4",0]
[null,null,"N2O",0]
[null,null,"Jet Fuel and Aviation Gasoline",{"$f":"SUM(D78:D80)","v":1.7194879477832066}]
[null,null,"CO2",{"$f":"Transportation!O55+Transportation!O61+Transportation!O62","v":1.7033436072509349}]
[null,null,"CH4",{"$f":"(Transportation!AE55+Transportation!AE61+Transportation!AE62)/1000000","v":2.1680325981631964E-3}]
[null,null,"N2O",{"$f":"(Transportation!X55+Transportation!X61+Transportation!X62)/1000000","v":1.3976307934108444E-2}]
[null,"Fossil Fuel Industry",null,{"$f":"D82+D86+D90","v":1.2557691239699857}]
[null,null," Natural Gas Industry",{"$f":"SUM(D83:D85)","v":1.0819714280883856}]
[null,null,"CO2",{"$f":"'Natural Gas and Oil'!H70","v":1.286356102429063E-4}]
[null,null,"CH4",{"$f":"'Natural Gas and Oil'!J70+'Natural Gas and Oil'!F51+'Natural Gas and Oil'!F34+'Natural Gas and Oil'!F10","v":1.0817817255870072}]
[null,null,"N2O",{"$f":"'Natural Gas and Oil'!I70","v":6.1066891135461553E-5}]
[null,null," Oil Industry",{"$f":"SUM(D87:D89)","v":0}]
[null,null,"CO2",0]
[null,null,"CH4",0]
[null,null,"N2O",0]
[null,null," Coal Mining",{"$f":"SUM(D91:D93)","v":0.17379769588159999}]
[null,null,"CO2",0]
[null,null,"CH4",{"$f":"Mining!C35+Mining!C36","v":0.17379769588159999}]
[null,null,"N2O",0]
[null,"Industrial Processes",null,{"$f":"D95+D99+D103+D107+D111+D115+D119+D123+D127","v":7.437239446018082}]
[null,null," Cement Manufacture",{"$f":"SUM(D96:D98)","v":1.4832417277099998}]
[null,null,"CO2",{"$f":"Cement!G48","v":1.4832417277099998}]
[null,null,"CH4",0]
[null,null,"N2O",0]
[null,null," Limestone and Dolomite ",{"$f":"SUM(D100:D102)","v":0.11394119158533558}]
[null,null,"CO2",{"$f":"'LimeT&DSodaODS'!D43/1000000","v":0.11394119158533558}]
[null,null,"CH4",0]
[null,null,"N2O",0]
[null,null," Soda Ash ",{"$f":"SUM(D104:D106)","v":4.7611020076877966E-2}]
[null,null,"CO2",{"$f":"'LimeT&DSodaODS'!D44/1000000","v":4.7611020076877966E-2}]
[null,null,"CH4",0]
[null,null,"N2O",0]
[null,null," Iron and Steel",{"$f":"SUM(D108:D110)","v":3.5971163869434326}]
[null,null,"CO2",{"$f":"'Iron And Steel'!M15","v":3.5971163869434326}]
[null,null,"CH4",0]
[null,null,"N2O",0]
[null,null," ODS Substitutes",{"$f":"SUM(D112:D114)","v":1.9712824418788801}]
[null,null,"CO2",0]
[null,null,"CH4",0]
[null,null,"HFC, PFC, SF6",{"$f":"'LimeT&DSodaODS'!D51/1000000","v":1.9712824418788801}]
[null,null," Electricity Transmission and Dist.",{"$f":"SUM(D116:D118)","v":0.22341969702657621}]
[null,null,"CO2",0]
[null,null,"CH4",0]
[null,null,"HFC, PFC, SF6",{"$f":"'LimeT&DSodaODS'!D54/1000000","v":0.22341969702657621}]
[null,null," Semiconductor Manufacturing",{"$f":"SUM(D120:D122)","v":0}]
[null,null,"CO2",0]
[null,null,"CH4",0]
[null,null,"HFC, PFC, SF6",0]
[null,null," Ammonia and Urea Production (Nonfertilizer Usage)",{"$f":"SUM(D124:D126)","v":6.2698079697975711E-4}]
[null,null,"CO2",{"$f":"'LimeT&DSodaODS'!D45/1000000","v":6.2698079697975711E-4}]
[null,null,"CH4",0]
[null,null,"HFC, PFC, SF6",0]
[null,null," Aluminum Production",{"$f":"SUM(D128:D130)","v":0}]
[null,null,"CO2",0]
[null,null,"CH4",0]
[null,null,"HFC, PFC, SF6",0]
[null,"Agriculture",null,{"$f":"D132+D136+D140+D144+D148","v":1.761147020768461}]
[null,null,"Enteric Fermentation",{"$f":"SUM(D133:D135)","v":0.5587572393611373}]
[null,null,"CO2",0]
[null,null,"CH4",{"$f":"Agricultural!M25","v":0.5587572393611373}]
[null,null,"N2O",0]
[null,null,"Manure Management",{"$f":"SUM(D137:D139)","v":0.31835966162062634}]
[null,null,"CO2",0]
[null,null,"CH4",{"$f":"Agricultural!W59","v":0.12185844860509826}]
[null,null,"N2O",{"$f":"Agricultural!U85","v":0.19650121301552806}]
[null,null,"Agricultural Soils",{"$f":"SUM(D141:D143)","v":0.87165658347217401}]
[null,null,"CO2",0]
[null,null,"CH4",0]
[null,null,"N2O",{"$f":"Agricultural!E221","v":0.87165658347217401}]
[null,null,"Agricultural Burning",{"$f":"SUM(D145:D147)","v":7.2252795181278855E-3}]
[null,null,"CO2",0]
[null,null,"CH4",{"$f":"Agricultural!E231","v":5.190811533074411E-3}]
[null,null,"N2O",{"$f":"Agricultural!E235","v":2.0344679850534744E-3}]
[null,null,"Urea Fertilizer Usage",{"$f":"SUM(D149:D151)","v":5.1482567963954153E-3}]
[null,null,"CO2",{"$f":"'Land Use'!T15","v":5.1482567963954153E-3}]
[null,null,"CH4",0]
[null,null,"N2O",0]
[null,"Waste Management",null,{"$f":"D153+D157+D161+D165","v":4.6525514397855661}]
[null,null,"Waste Combustion",{"$f":"SUM(D154:D156)","v":1.2893795393093614}]
[null,null,"CO2",{"$f":"Incinerators!C34","v":1.2721711605512047}]
[null,null,"CH4",0]
[null,null,"N2O",{"$f":"Incinerators!C45","v":1.72083787581567E-2}]
[null,null,"Landfills",{"$f":"SUM(D158:D160)","v":2.6855718563889219}]
[null,null,"CO2",{"$f":"Landfills!V101","v":0.53481026779417729}]
[null,null,"CH4",{"$f":"Landfills!V97/1000000","v":2.1507615885947446}]
[null,null,"N2O",0]
[null,null,"Wastewater Management",{"$f":"SUM(D162:D164)","v":0.64460004408728189}]
[null,null,"CO2",0]
[null,null,"CH4",{"$f":"Wastewater!C28+Wastewater!C30","v":0.50308189214572796}]
[null,null,"N2O",{"$f":"Wastewater!C29","v":0.14151815194155398}]
[null,null,"Residential Open Burning",{"$f":"SUM(D166:D168)","v":3.3000000000000002E-2}]
[null,null,"CO2",{"$f":"OpenBurn!D7","v":3.3000000000000002E-2}]
[null,null,"CH4",0]
[null,null,"N2O",0]
[null,"Gross Emissions (Consumption Basis, Excludes Sinks)",null,{"$f":"D152+D131+D94+D81+D48+D31+D11","v":109.86600542649786}]
[]
[null,"Emissions Sinks",null,{"$f":"SUM(D172:D175)","v":-11.790349165079254}]
[null,null,"Forested Landscape",{"$f":"'Land Use'!T6+'Land Use'!T7+'Land Use'!T8+'Land Use'!T9+'Land Use'!T11","v":-10.446577825333891}]
[null,null,"Urban Forestry and Land Use",{"$f":"'Land Use'!T16+'Land Use'!T17+'Land Use'!T25","v":-1.3313091422990766}]
[null,null,"Agricultural Soils (Cultivation Practices)",{"$f":"'Land Use'!T10","v":-5.1420444948206523E-2}]
[null,null,"Forest Fires",{"$f":"SUM(D176:D177)","v":3.8958247501919986E-2}]
[null,null,"CH4",{"$f":"'Land Use'!T23","v":3.245248726775999E-2}]
[null,null,"N2O",{"$f":"'Land Use'!T24","v":6.505760234159998E-3}]
[null,"Net Emissions (Consumptions Basis) (Including forestry, land use, and ag sinks)",null,{"$f":"D169+D171","v":98.075656261418615}]
[]
[]
[]
[null,null,null,{"$f":"D9","v":2006}]
[null,null,"Electricity Use (Consumption)",{"$f":"D11","v":42.457414206129286}]
[null,null,"RCI Fuel Use",{"$f":"D31","v":16.893541495979825}]
[null,null,"Transportation - Onroad",{"$f":"D49+D57","v":29.60962741935484}]
[null,null,"Transportation - Nonroad",{"$f":"D53+D61+D65+D69+D73+D77","v":5.79871527449182}]
[null,null,{"$f":"B81","v":"Fossil Fuel Industry"},{"$f":"D81","v":1.2557691239699857}]
[null,null,{"$f":"B94","v":"Industrial Processes"},{"$f":"D94","v":7.437239446018082}]
[null,null,{"$f":"B131","v":"Agriculture"},{"$f":"D131","v":1.761147020768461}]
[null,null,{"$f":"B152","v":"Waste Management"},{"$f":"D152","v":4.6525514397855661}]

{"sheet":"EGU Production RGGI Units","index":1,"n_rows":310,"n_cols":11,"rows_kept":310,"cut":false,"hidden":false,"merged":[[48,7,48,8],[130,7,130,8],[167,7,167,8],[273,8,273,9]]}
["Electric Power Production (RGGI Units) and CO2 Emissions in Maryland"]
[]
[null,"RGGI COAL COMBUSTION BY UNIT"]
[null,null,null,null,null,null,"Red = RGGI  Data"]
[]
[]
[null,"Plant ID","Plant Name ","Equipment Description","Fuel Type","Usage","Heat Content","Heat Content ","Fuel Heat Input","Fuel Heat Input","CO2 Emmission "]
[null,null,null,null,null,"(tons)",null,"Units","(MMBTU)","(MMBTU)","(tons)"]
[null,null,null,null,null,null,null,null,"(ECR)","     RGGI","     RGGI"]
[]
[null,"001-0203","AES WARRIOR RUN COGEN"]
[null,null,"001-3-0127","ACF Boiler ","Coal",637044,11356,"Btu/lb",{"$f":"F12*G12*2000/1000000","v":14468543.328},14751582,1546789]
[]
[null,"003-0468"," Brandon Shores "]
[null,null,null,"Unit 1","P-Coal",1905266,11356,"Btu/lb",{"$f":"(F15*G15*2000)/1000000","v":43272401.391999997},39865596,4090213.4]
[null,null,null,"Unit 2","P-Coal",1676361,11356,"Btu/lb",38073511.031999998,39027527,4004228.7]
[null,null,null,null,null,{"$f":"SUM(F15:F16)","v":3581627},null,null,null,{"$f":"SUM(J15:J16)","v":78893123},8094442.0999999996]
[]
[null,"24-005-0079","C.P.Crane "]
[null,null,"3-0108","Boiler Unit 1","P-Coal",404552,11356,"Btu/lb",{"$f":"(F20*G20*2000)/1000000","v":9188185.0240000002},10825025,1110643.8]
[null,null,"3-0109","Boiler Unit 2","P-Coal",369913,11356,"Btu/lb",8401464.0559999999,9519110,976658.5]
[null,null,null,null,null,{"$f":"SUM(F20:F21)","v":774465},null,null,null,{"$f":"SUM(J20:J21)","v":20344135},2087302.3]
[null,"033-00014","Chalk Point"]
[null,null,"1600-14-30004","Unit 1","Coal",726410,12810,"Btu/ lb",{"$f":"(F24*G24*2000)/1000000","v":18610624.199999999},19830382,2031754]
[null,null,"1600-14-30005","Unit 2","Coal",780539,12802,"Btu/ lb",19984920.556000002,21186709,2170183]
[null,null,null,null,null,null,null,null,null,{"$f":"SUM(J24:J25)","v":41017091},4201937]
[null,"003-0014","HERBERT A WAGNER"]
[null,null,"4-0308","Unit 2","P-Coal",301760,24,"MMBtu/ tons",{"$f":"(F28*G28)","v":7242240},8755729,898338.2]
[null,null,"3-0003","Unit 3","P-Coal",735196,24,"MMBtu/ tons",17644704,18039441,1850845.3]
[null,null,null,null,null,{"$f":"SUM(F28:F29)","v":1036956},null,null,null,{"$f":"SUM(J28:J29)","v":26795170},2749183.5]
[null,"043-0005","R P SMITH"]
[null,null,"043-0005-3-0005","Unit 3 (9)","Coal",53689.5,11736,"Btu/lb",{"$f":"(F32*G32*2000)/1000000","v":1260199.9439999999},1260200,129294]
[null,null,"043-0005-3-0006","Unit 4 (11)","Coal",201790.9,11736,"Btu/lb",4736436.0048000002,4736436,485957]
[null,null,null,null,null,{"$f":"SUM(F32:F33)","v":255480.4},null,null,null,{"$f":"SUM(J32:J33)","v":5996636},615251]
[null,"031-0019","Mirant Dickerson"]
[null,null,"1500-19-30001","Boiler 1","Coal",401640,12910,"Btu/lb",{"$f":"(F36*G36*2000)/1000000","v":10370344.800000001},10305447,1057336]
[null,null,"1500-19-30002","Boiler 2","Coal",342990,12910,"Btu/lb",8856001.8000000007,8948983,918164]
[null,null,"1500-19-30003","Boiler 3","Coal",418238,12910,"Btu/lb",10798905.16,11940584,1225103]
[null,null,null,null,null,{"$f":"SUM(F36:F38)","v":1162868},null,null,null,{"$f":"SUM(J36:J38)","v":31195014},3200603]
[null,"017-0014","Mirant Morgantown"]
[null,null,"0800-14-30002",1,"Coal (Sc)",1325700,13282,"Btu/lb",{"$f":"(F41*G41*2000)/1000000","v":35215894.799999997},35354741,3625815.6]
[null,null,"080-14-30003",2,"Coal",1321775,13282,"Btu/lb",35111631.100000001,35112681,3600876.8]
[null,null,null,null,null,{"$f":"SUM(F41:F42)","v":2647475},null,null,null,{"$f":"SUM(J41:J42)","v":70467422},7226692.4000000004]
[]
[null,null,"Luke","Penwood Boiler (24-26)","Coal",null,null,null,null,12554530.306191761,1285927.8608228231]
[]
[]
[]
[null,null,null,null,null,null,null,"Coal (MMBTU)",null,{"$f":"J45+J43+J39+J34+J30+J26+J22+J17+J12","v":302014703.30619174},31008128.160822824]
[]
[]
[]
[]
[]
[]
[null,"RGGI OIL COMBUSTION BY UNIT"]
[]
[null,null,null,null,"DFO = #2 Oil"]
[]
[]
[]
[null,null,null,"Equipment Description","Fuel Type","Usage","Heat Content","Heat Content","Fuel Heat Input","Fuel Heat Input","CO2 Emmission "]
[null,null,null,null,null,"(gallons)",null," Unit","(MMBTU)","(MMBTU)","(tons)"]
[null,null,null,null,null,null,null,null,"(ECR)","     RGGI","     RGGI"]
[]
[null,"001-0203","AES WARRIOR RUN COGEN","ACF Boiler ","Diesel (#2)",242200,140000,"Btu/gal",{"$f":"F66*G66/1000000","v":33908}]
[null,null,"001-3-0127","Emergency Engine (Boiler Feed Pump)","Diesel (#2)",623,140000,"Btu/gal",87.22]
[null,null,null,null,null,{"$f":"SUM(F66:F67)","v":242823},null,null,{"$f":"SUM(I66:I67)","v":33995.22}]
[]
[null,"003-0468"," Brandon Shores "]
[null,null,"3-0015","Unit 1","S-No. 2 Oil",851000,139,"MMBtu/ 1E+03 gal",{"$f":"(F71*G71)/1000","v":118289}]
[null,null,"3-0016","Unit 2","S-No. 2 Oil",667000,139,"MMBtu/ 1E+03 gal",92713]
[null,null,null,null,null,{"$f":"SUM(F71:F72)","v":1518000},null,null,{"$f":"SUM(I71:I72)","v":211002}]
[]
[]
[null,"033-00014","Chalk Point","Unit 1","#2 Oli",609840,133631,"Btu/gal",{"$f":"(F76*G76)/1000000","v":81493.529039999994}]
[null,null,"1600-14-30004","Unit 2","#2 Oli",691824,133470,"Btu/gal",92337.749280000004]
[null,null,"1600-14-30005","Unit 3","#2 Oli",862585,132252,"Btu/gal",114078.59142]
[null,null,"1600-14-40998","Unit 4","#2 Oli",581096,132424,"Btu/gal",76951.056704000002]
[null,null,"1600-14-40999"," CT 1","#2 Oli",255034,132725,"Btu/gal",33849.387649999997]
[null,null,"1600-14-41145","CT2","#2 Oli",188951,133243,"Btu/gal",25176.398093,13108,1029]
[null,null,"1600-14-90752","CT3**","#2 Oli",116978,135480,"Btu/gal",15848.17944]
[null,null,"1600-14-90753","CT4**","#2 Oli",145371,135572,"Btu/gal",19708.237212]
[null,null,"1600-14-90754","CT5**","#2 Oli",136900,134671,"Btu/gal",18436.459900000002]
[null,null,"1600-14-90755","CT6**","#2 Oli",180983,134133,"Btu/gal",{"$f":"SUM(I76:I84)","v":477879.58873899997}]
[null,null,null,null,null,{"$f":"SUM(F76:F85)","v":3769562}]
[]
[null,"003-0014","HERBERT A WAGNER"]
[null,null,"4-0007","CT","No.2 Oil",144000,139,"MMBTU/10E+03 gallons",{"$f":"(F89*G89)/1000","v":20016}]
[]
[null,"024-025-0024","Perryman "]
[null,null,"5-0088","Unit 51 CT","No.2 Oil",630000,139,"MMBTU/10E+03 gallons",{"$f":"(F92*G92)/1000","v":87570}]
[null,null,"4-0081","Unit 1 CT","No.2 Oil",972000,139,"MMBTU/10E+03 gallons",135108,104981,8241]
[null,null,"4-0082","Unit 2 CT","No.2 Oil",856000,139,"MMBTU/10E+03 gallons",118984,108127,8488]
[null,null,"4-0083","Unit 3 CT","No.2 Oil",743000,139,"MMBTU/10E+03 gallons",103277,120981,9497]
[null,null,"4-0084","Unit 4 CT","No.2 Oil",2000,139,"MMBTU/10E+03 gallons",278,{"$f":"SUM(J93:J95)","v":334089},26226]
[null,null,null,null,null,{"$f":"SUM(F92:F96)","v":3203000},null,null,{"$f":"SUM(I92:I96)","v":445217}]
[null,"043-0005","R P SMITH"]
[null,null,"043-0005-3-0005","Unit 3 (9)","#2 Oil",4439283.7,141000,"Btu/ gal",{"$f":"(F99*G99)/1000000","v":625939.00170000002}]
[null,null,"043-0005-3-0006","Unit 4 (11)","#2 Oil",4498304.96,141000,"Btu/ gal",634260.99936000002]
[null,null,null,null,null,{"$f":"SUM(F99:F100)","v":8937588.6600000001},null,null,{"$f":"SUM(I99:I100)","v":1260200.0010600002}]
[null,"005-0078","Riverside"]
[null,null,"4-0658","Combustion Turbine # 7","#2 Oil",202000,139,"MMBTU/10E+03 gallons",{"$f":"(F103*G103)/1000","v":28078}]
[null,null,"4-0659","Combustion Turbine #8 ","#2 Oil",236000,139,"MMBTU/10E+03 gallons",32804]
[null,null,null,null,null,{"$f":"SUM(F103:F104)","v":438000},null,null,{"$f":"SUM(I103:I104)","v":60882}]
[]
[null,"019-0013","Vienna Generating Station"]
[null,null,"4-0065","Unit 8","#2 Oil",82113,138097,"Btu/gallons",{"$f":"(F108*G108)/1000000","v":11339.558961000001}]
[]
[null,"031-0019","Mirant Dickerson"]
[null,null,"1500-19-30001","Boiler 1","#2 Oil",202101,139181,"Btu/gal",{"$f":"(F111*G111)/1000000","v":28128.619280999999}]
[null,null,"1500-19-30002","Boiler 2","#2 Oil",355692,139181,"Btu/gal",49505.568251999997]
[null,null,"1500-19-30003","Boiler 3","#2 Oil",243688,139181,"Btu/gal",33916.739527999998]
[null,null,null,null,null,{"$f":"SUM(F111:F113)","v":801481},null,null,{"$f":"SUM(I111:I113)","v":111550.92706099999}]
[]
[]
[null,"031-1822","Mirant Station H"]
[null,null,"1518-22-90362","CT 1","#2 Oil",114941,139181,"Btu/gal",{"$f":"(F118*G118)/1000000","v":15997.603321000001}]
[null,null,"158-22-90363","CT 2","#2 Oil",258154,139181,"Btu/gal",35930.131873999999]
[null,null,null,null,null,{"$f":"SUM(F118:F119)","v":373095},null,null,{"$f":"SUM(I118:I119)","v":51927.735195000001}]
[null,"017-0014","Mirant Morgantown"]
[null,null,"0800-14-4-0070","CT 3","No. 2 Fuel Oil",566623,138840,"Btu/ gallons",{"$f":"(F122*G122)/1000000","v":78669.937319999997},128286,13156]
[null,null,"0800-14-4-0074","CT 5","No. 2 Fuel Oil",741105,138840,"Btu/ gallons",102895.01820000001,159490,16356]
[null,null,"0800-14-4-0075","CT 6","No. 2 Fuel Oil",671219,138840,"Btu/ gallons",93192.045960000003,142572,14621]
[null,null,null,null,null,{"$f":"SUM(F122:F124)","v":1978947},null,null,{"$f":"SUM(I122:I124)","v":274757.00148000004},430348,44133]
[]
[]
[null,"001-0011","Luke (NewPage)"]
[null,10200203,"01-0011-3-0018","No. 24 Boiler","#2 Oil",null,null,null,null,35410.726068730211,2871.6388218339957]
[]
[null,null,null,null,null,null,null,"Distillate Fuel Oil (MMBTU)",null,{"$f":"J129+J125+J96+J81","v":812955.72606873023},74259.638821834]
[]
[null,"005-0078","Riverside"]
[null,null,"4-1363","Combustion Turbine # 6 ","Kerosene",64000,132,"MMBTU/10E+03 gallons",{"$f":"(F134*G134)/1000","v":8448},318364,17510]
[]
[]
[]
[null,null,null,null,"RFO = #6 Oil"]
[]
[null,"Plant ID","Plant Name ","Equipment Description","Fuel Type","Usage","Usage Unit","Heat Content","Heat Content Unit","Fuel Heat Input","CO2 Emmission "]
[null,null,null,null,null,null,null,null,null,"(MMBTU)","(tons)"]
[null,null,null,null,null,null,null,null,null,null,"     RGGI"]
[null,"033-00014","Chalk Point"]
[]
[null,null,"1600-14-40998","Unit 3","#6 Oil",7447756,"gallons",151500,"Btu/gal"]
[null,null,"1600-14-40999","Unit 4","#6 Oil",468556,"gallons",151650,"Btu/gal"]
[null,null,null,null,null,{"$f":"SUM(F145:F146)","v":7916312}]
[]
[null,"003-0014","HERBERT A WAGNER"]
[null,null,"4-0307","Unit 1","No. 6 Oil",1381000,"gallons",151,"MMBTU/10E+03 gallons"]
[null,null,"4-0017","Boiler 2  (Unit 4)","P-No.6 Oil",689000,"gallons",151,"MMBTU/10E+03 gallons",1168171,100937]
[null,null,null,null,null,{"$f":"SUM(F150:F151)","v":2070000}]
[]
[null,"019-0013","Vienna Generating Station"]
[null,null,"4-0065","Unit 8","#6 Oil",800843,"gallons",150334,"Btu/gallons",168136,13643]
[]
[null,"017-0014","Mirant Morgantown"]
[null,null,"0800-14-30002",1,"Waste Oil",38840,"gallons",138840,"Btu/ gallons"]
[null,null,"080-14-30003",2,"Waste Oil",7620,"gallons",138840,"Btu/ gallons"]
[]
[]
[null,"Severstal ","Pennwood Boilers No. 1 -  No. 4",null,"#6 Oil",null,null,null,null,69490.446926729041,5926.5710326627122]
[null,"5-0491-15"]
[]
[null,null,null,null,null,null,null,"Residual Fuel Oil (MMBTU)",null,{"$f":"SUM(J151:J164)","v":1405797.4469267291},120506.57103266272]
[]
[]
[null,null,null,null,null,null,null,"Total Petroleum (MMBTU)",null,{"$f":"J165+J134+J131","v":2537117.1729954593},212276.2098544967]
[]
[]
[]
[]
[]
[null,"RGGI NATURAL GAS COMBUSTION BY UNIT"]
[]
[]
[]
[]
[null,"Plant ID","Plant Name ","Equipment Description","Fuel Type","Usage","Heat Content","Heat Content Unit","Fuel Heat Input","Fuel Heat Input","CO2 Emmission "]
[null,null,null,null,null,"(Scf)",null,null,"(MMBTU)","(MMBTU)","(tons)"]
[null,null,null,null,null,null,null,null,"(ECR)","     RGGI","     RGGI"]
[null,"001-0203","AES WARRIOR RUN COGEN"]
[null,null,"001-6-0136","Limestone Dryer","Natural Gas",4505600,1020,"Btu/scf",{"$f":"F183*G183/1000000","v":4595.7120000000004}]
[null,null,"001-6-0243/0244","Natural Gas (Space)  Heater","Natural Gas",612700,1021,"Btu/scf",625.56669999999997]
[null,null,null,null,null,{"$f":"SUM(F183:F184)","v":5118300}]
[null,"24-005-0079","C.P.Crane "]
[null,null,"3-0108","Boiler Unit 1","S-Gas",50000000,1044,"MMBtu/1E+06 scf",{"$f":"(F187*G187)/1000000","v":52200}]
[null,null,"3-0109","Boiler Unit 2","S-Gas",51000000,1044,"MMBtu/1E+06 scf",53244]
[null,null,null,null,null,{"$f":"SUM(F187:F188)","v":101000000}]
[]
[null,"033-00014","Chalk Point"]
[null,null,"1600-14-30004","Unit 1","Gas",23884500,1052,"MMBtu/1E+06 scf",{"$f":"(F192*G192)/1000000","v":25126.493999999999}]
[null,null,"1600-14-30005","Unit 2","Gas",35159000,1050,"MMBtu/1E+06 scf",36916.949999999997]
[null,null,"1600-14-40998","Unit 3","Gas",2232939000,1040,"MMBtu/1E+06 scf",2322256.56,4124736,272718]
[null,null,"1600-14-40999","Unit 4","Gas",2865514000,1041,"MMBtu/1E+06 scf",2983000.074,4412283,279485]
[null,null,"1600-14-90752","CT3**","Gas",151803000,1044,"MMBtu/1E+06 scf",158482.33199999999,223457,13612]
[null,null,"1600-14-90753","CT4**","Gas",150036000,1044,"MMBtu/1E+06 scf",156637.584,237292,14539]
[null,null,"1600-14-90754","CT5**","Gas",135210000,1044,"MMBtu/1E+06 scf",141159.24,290042,17585]
[null,null,"1600-14-90755","CT6**","Gas",178511000,1043,"MMBtu/1E+06 scf",186186.973,311222,19063]
[null,null,null,null,null,{"$f":"SUM(F192:F199)","v":5773056500},null,null,null,{"$f":"SUM(J194:J199)","v":9599032},617002]
[]
[null,"033-01827","Chalkpoint -SMECO "]
[null,null,"1827-5-1289","Combustion Turbine","Gas",446473000,1050,"Btu/scf",{"$f":"(F203*G203)/1000000","v":468796.65},185898,14593]
[]
[null,"003-0014","HERBERT A WAGNER"]
[null,null,"4-0307","Unit 1","Gas",361000000,1044,"MMBTU/ 10E+06 scf",{"$f":"(F206*G206)/1000000","v":376884},565015,38237]
[null,null,"4-0308","Unit 2","S-Gas",52000000,1044,"MMBTU/ 10E+06 scf",54288]
[null,null,"3-0003","Unit 3","S-Gas",161000000,1044,"MMBTU/ 10E+06 scf",168084]
[null,null,"4-0017","Boiler 2  (Unit 4)","S-Gas",57000000,1044,"MMBTU/ 10E+06 scf",59508]
[null,null,null,null,null,{"$f":"SUM(F206:F209)","v":631000000},null,null,{"$f":"SUM(I206:I209)","v":658764}]
[]
[]
[null,"024-025-0024","Perryman "]
[null,null,"5-0088","Unit 51 CT","Gas",550000000,1044,"MMBTU/ 10E+06 scf",{"$f":"(F214*G214)/1000000","v":574200},620987,38852]
[]
[null,"005-0078","Riverside"]
[null,null,"4-1363","Combustion Turbine # 6 ","Gas",53000000,1044,"MMBTU/10E+06 scf",{"$f":"(F217*G217)/1000000","v":55332}]
[null,null,"4-1082"," Boiler #4","Gas",164000000,1044,"MMBTU/10E+06 scf",171216,177348,10540]
[null,null,null,null,null,{"$f":"SUM(F217:F218)","v":217000000}]
[]
[null,"510-0006"," Westport"]
[null,null,"5-0005","Combustion Turbine Unit 5 ","Gas",91000000,1044,"MMBTU/10E+06 scf",{"$f":"(F222*G222)/1000000","v":95004},103000,5665]
[]
[null,"031-1822","Mirant Station H"]
[null,null,"1518-22-90362","CT 1","Gas",481631000,1035,"MMBTU/10E+06 scf",{"$f":"(F225*G225)/1000000","v":498488.08500000002},413560,24853]
[null,null,"158-22-90363","CT 2","Gas",409949000,1035,"MMBTU/10E+06 scf",424297.21500000003,403584,24246]
[null,null,null,null,null,{"$f":"SUM(F225:F226)","v":891580000},null,null,null,{"$f":"SUM(J225:J226)","v":817144},49099]
[null,"033-2200","Panda Brandywine"]
[null,null,"5-0844",1,"Natural Gas",2373289.27,1.044,"MMBtu/ scf",{"$f":"(F229*G229)","v":2477713.9978800002},2477714,90209]
[null,null,"5-0845",2,"Natural Gas",1473520.11,1.044,"MMBtu/  scf",1538354.9948400001,1538356,69247]
[null,null,null,null,null,{"$f":"SUM(F229:F230)","v":3846809.38},null,null,null,{"$f":"SUM(J229:J230)","v":4016070},159456]
[]
[null,"015-0202","Rock Spring "]
[null,null,"5-0076","Turbine 1","Natural Gas",317189.6551724138,1.044,"MMBtu/  scf",{"$f":"(F234*G234)","v":331146},331146,19679]
[null,null,"5-0077","Turbine 2","Natural Gas",315825.67049808428,1.044,"MMBtu/  scf",329722,329722,19595]
[null,null,"5-0078","Turbine 3","Natural Gas",274061.30268199235,1.044,"MMBtu/  scf",286120,286121,17004]
[null,null,"5-0079","Turbine 4","Natural Gas",417124.5210727969,1.044,"MMBtu/ scf",435478,435478,25880]
[null,null,null,null,null,{"$f":"SUM(F234:F237)","v":1324201.1494252873},null,null,null,{"$f":"SUM(J234:J237)","v":1382467},82158]
[]
[null,null,"Luke","Penwood Boiler (24-26)","Natural Gas",null,null,null,null,131127.74895404352,7672.2764339655105]
[]
[]
[null,null,"Severstal",null,"BFG",null,null,null,null,10667544.356418801,2911339.3126537916]
[null,null,null,null,"Natural Gas",null,null,null,null,1288772.9418088738,76940.116313545397]
[null,null,null,null,null,null,null,null,null,{"$f":"SUM(J243:J244)","v":11956317.298227675},2988279.4289673371]
[]
[]
[]
[]
[null,null,null,null,null,null,null,"Natural Gas (MMBTU)",null,{"$f":"J245+J240+J238+J231+J227+J222+J218+J214+J206+J203+J200","v":29554406.047181718},4011553.7054013028]
[]
[]
[]
[]
[null,"CO2 EMISSION SUMMARY"]
[null,"RGGI ALL UNITS"]
[]
[null,null,"MMBTU","CO2 Emission ","CO2 Emission ","CO2 Emission","CO2 Emission "]
[null,null,null,"(short tons)","(metric tons)"," (MMTCO2)","(MMTC)"]
[]
[null,"Coal",{"$f":"J49","v":302014703.30619174},31008128.160822824,{"$f":"D261*0.9072","v":28130573.867498465},{"$f":"E261/1000000","v":28.130573867498466},{"$f":"F261*(12/44)","v":7.6719746911359445}]
[]
[null,"Petroleum",{"$f":"J168","v":2537117.1729954593},212276.2098544967,{"$f":"D263*0.9072","v":192576.97757999939},{"$f":"E263/1000000","v":0.19257697757999939},{"$f":"F263*(12/44)","v":5.2520993885454378E-2}]
[]
[null,"Natural Gas",{"$f":"J250","v":29554406.047181718},4011553.7054013028,{"$f":"D265*0.9072","v":3639281.521540062},{"$f":"E265/1000000","v":3.6392815215400622},{"$f":"F265*(12/44)","v":0.99253132405638056}]
[]
[null,"Total",null,{"$f":"SUM(D261:D266)","v":35231958.076078624},31962432.366618525,{"$f":"E267/1000000","v":31.962432366618525},{"$f":"SUM(G261:G266)","v":8.7170270090777802}]
[]
[]
[]
[]
[]
[null,"CH4 EMISSION SUMMARY"]
[null,"RGGI ALL UNITS",null,null,null,null,null,null,"Global Warming Potential"]
[]
[null,"Electric Power Sector CH4",null,null,2006,null,null,null,"CO2_GWP=",{"$f":"'Summ GHG Rpt Expanded'!G4","v":1}]
[null,null,null,null,null,null,null,null,"CH4_GWP =",{"$f":"'Summ GHG Rpt Expanded'!G5","v":28}]
[null,null,"Consumption","Emission Factor","Emissions ","GWP","Emissions ",null,"N2O_GWP=",{"$f":"'Summ GHG Rpt Expanded'!G6","v":265}]
[null,"Fuel Type","(Billion Btu)","(metric tons CH4 /BBtu)","(metric tons CH4)",null,"(MMTCO2E)",null,"SF6_GWP =",{"$f":"'Summ GHG Rpt Expanded'!G7","v":23500}]
[null,"Coal",{"$f":"J49/1000","v":302014.70330619172},1.0023030599890001E-3,{"$f":"C280*D280","v":302.71026128546595},{"$f":"$J$277","v":28},{"$f":"E280*F280/1000000","v":8.4758873159930456E-3},null,"PFCs_GWP=",{"$f":"'Summ GHG Rpt Expanded'!G8","v":11100}]
[null,"Distillate Fuel",{"$f":"J131/1000","v":812.9557260687302},3.006909179967E-3,2.4444840356228026,28,6.8445552997438463E-5]
[null,"Residual Fuel",{"$f":"J165/1000","v":1405.797446926729},3.006909179967E-3,4.2271052483381526,28,1.1835894695346827E-4]
[null,"Natural Gas",{"$f":"J250/1000","v":29554.406047181717},9.4955026735800007E-4,28.063394163708292,28,7.8577503658383216E-4]
[null,null,null,null,null,"Total",{"$f":"SUM(G280:G283)","v":9.4484668525277836E-3}]
[]
[null,"N2O EMISSION SUMMARY"]
[null,"RGGI ALL UNITS"]
[null,"Electric Power Sector N2O",null,null,2006]
[]
[null,null,"Consumption","Emission Factor","Emissions","GWP","Emissions "]
[null,"Fuel Type","(Billion Btu)","(metric tons N2O/BBtu)","(metric tons N2O)",null,"(MMTCO2E)"]
[null,"Coal",{"$f":"C280","v":302014.70330619172},1.5034545899835E-3,{"$f":"C292*D292","v":454.06539192819884},{"$f":"$J$278","v":265},{"$f":"E292*F292/1000000","v":0.12032732886097269}]
[null,"Distillate Fuel",812.9557260687302,6.0138183599339984E-4,0.48889680712456041,265,1.295576538880085E-4]
[null,"Residual Fuel",1405.797446926729,6.0138183599339984E-4,0.84542104966763032,265,2.2403657816192203E-4]
[null,"Natural Gas",29554.406047181717,9.4955026735800017E-5,2.8063394163708297,265,7.4367994533826992E-4]
[null,null,null,null,null,"Total",{"$f":"SUM(G292:G295)","v":0.12142460303836088}]
[]
[]
[null,"GHG EMISSION SUMMARY"]
[null,"RGGI ALL UNITS"]
[null,"Electric Power Sector GHG",null,null,2006]
[]
[null,null,null,"Emissions ","Emissions ","Emissions ","Emissions "]
[null,null,"Consumption","CO2","N2O","CH4","Total"]
[null,"Fuel Type","(Billion Btu)","(MMTCO2E)","(MMTCO2E)","(MMTCO2E)","(MMTCO2E)"]
[null,"Coal",{"$f":"C292","v":302014.70330619172},{"$f":"K49*0.9072/1000000","v":28.130573867498466},{"$f":"G292","v":0.12032732886097269},{"$f":"G280","v":8.4758873159930456E-3},{"$f":"D306+E306+F306","v":28.259377083675432}]
[null,"Distillate Fuel",812.9557260687302,{"$f":"K131*0.9072/1000000","v":6.7368344339167802E-2},1.295576538880085E-4,6.8445552997438463E-5,6.7566347546053243E-2]
[null,"Residual Fuel",1405.797446926729,{"$f":"K165*0.9072/1000000","v":0.10932356124083162},2.2403657816192203E-4,1.1835894695346827E-4,0.10966595676594701]
[null,"Natural Gas",29554.406047181717,{"$f":"K250*0.9072/1000000","v":3.6392815215400622},7.4367994533826992E-4,7.8577503658383216E-4,3.6408109765219843]
[null,null,null,{"$f":"SUM(D306:D309)","v":31.946547294618529},0.12142460303836088,9.4484668525277836E-3,{"$f":"SUM(D310:F310)","v":32.077420364509415}]

{"sheet":"EGU Production Non-RGGI Units","index":2,"n_rows":143,"n_cols":10,"rows_kept":143,"cut":false,"hidden":false,"merged":[[111,8,111,9],[133,1,133,3],[135,1,137,1],[61,1,61,2],[65,5,65,7],[76,5,76,7],[90,5,90,7],[97,1,97,3],[105,1,105,5],[109,1,109,3],[117,1,117,4],[121,1,121,3],[123,1,124,1],[129,1,129,5],[69,1,69,2],[79,1,79,2],[47,1,47,2],[55,1,55,2],[5,1,5,2],[11,1,11,2],[18,1,18,2],[25,1,25,2],[37,1,37,2]]}
["Electric Power Production (Non-RGGI Units) Emissions in Maryland"]
[]
[null,"Plant Name ","Equipment Description","Fuel Type","Usage","Usage Unit","Heat Content","Heat Content Unit","Fuel Heat Input\n(MMBTU)"]
[]
[null,"NON-RGGI DISTILLATE OIL COMBUSTION BY UNIT"]
[null,"C.P.Crane "]
[null,"4-0091","Aux Boiler # 2","S-No. 2 Oil",25000,"gallons",139,"MMBtu/ 1E+03 gal",{"$f":"(E7*G7)/1000","v":3475}]
[null,"4-1107","Aux Boiler # 3","S-No. 2 Oil",197000,"gallons",139,"MMBtu/ 1E+03 gal",27383]
[null,"4-0089","CT (14 MW)","S-No. 2 Oil",129000,"gallons",139,"MMBtu/ 1E+03 gal",17931]
[null,null,null,null,null,null,null,"#2 Fuel Oil",{"$f":"SUM(I7:I9)","v":48789}]
[]
[null,"CPSG- Philadelphia Road Power"]
[null,"4-0431","Unit 1 CT","No. 2 Oil",365000,"gallons",139,"MMBTU/ 1E+03 gallons",{"$f":"(E13*G13)/1000","v":50735}]
[null,"4-0432","Unit 2 CT","No. 2 Oil",351000,"gallons",139,"MMBTU/ 1E+03 gallons",48789]
[null,"4-0433","Unit 3 CT","No. 2 Oil",273000,"gallons",139,"MMBTU/ 1E+03 gallons",37947]
[null,"4-0434","Unit 4 CT","No. 2 Oil",251000,"gallons",139,"MMBTU/ 1E+03 gallons",34889]
[null,null,null,null,null,null,null,"#2 Fuel Oil",{"$f":"SUM(I13:I16)","v":172360}]
[]
[null,"Connectiv - Crisfield Generation "]
[null,"039-0017-9-0021","Unit 1 General Motors 2.5 MW","No. 2 Oil",134214,"gallons",140983,"Btu/gal",{"$f":"E20*G20/1000000","v":18921.892361999999}]
[null,"039-0017-9-0022","Unit 2 General Motors 2.5 MW","No. 2 Oil",141428,"gallons",140983,"Btu/gal",19938.943724000001]
[null,"039-0017-9-0023","Unit 3 General Motors 2.5 MW","No. 2 Oil",148690,"gallons",140983,"Btu/gal",20962.762269999999]
[null,"039-0017-9-0024","Unit 4 General Motors 2.5 MW","No. 2 Oil",104704,"gallons",140983,"Btu/gal",14761.484032]
[null,null,null,null,null,null,null,"#2 Fuel Oil",{"$f":"SUM(I20:I23)","v":74585.082387999995}]
[]
[null,"Easton Utility"]
[null,"041-0029-9-0023",null,"#2 Fuel Oil",31429,"gallons",139,"MMBTU/ 10E+03 gallons",{"$f":"(E27*G27)/1000","v":4368.6310000000003}]
[null,"041-0029-9-0024",null,"#2 Fuel Oil",29676,"gallons",140,"MMBTU/ 10E+03 gallons",4154.6400000000003]
[null,"041-0029-9-0025",null,"#2 Fuel Oil",43067,"gallons",141,"MMBTU/ 10E+03 gallons",6072.4470000000001]
[null,"041-0029-9-0026",null,"#2 Fuel Oil",45535,"gallons",142,"MMBTU/ 10E+03 gallons",6465.97]
[null,"041-0029-9-0027",null,"#2 Fuel Oil",41436,"gallons",143,"MMBTU/ 10E+03 gallons",5925.348]
[null,"041-0029-9-0028",null,"#2 Fuel Oil",55907,"gallons",144,"MMBTU/ 10E+03 gallons",8050.6080000000002]
[null,"041-0029-9-0029",null,"#2 Fuel Oil",70929,"gallons",145,"MMBTU/ 10E+03 gallons",10284.705]
[null,"041-0029-9-0030",null,"#2 Fuel Oil",73718,"gallons",146,"MMBTU/ 10E+03 gallons",10762.828]
[null,"041-0029-9-0031",null,"#2 Fuel Oil",3491,"gallons",147,"MMBTU/ 10E+03 gallons",513.17700000000002]
[null,"041-0029-9-0032",null,"#2 Fuel Oil",3717,"gallons",148,"MMBTU/ 10E+03 gallons",550.11599999999999]
[null,null,null,null,null,null,null,"#2 Fuel Oil",{"$f":"SUM(I27:I36)","v":57148.470000000008}]
[null,"Easton Utility-Airport Park"]
[null,"041-0069-4-0101","Solar Turbines \nTaurus T-60;52.02","#2 Fuel Oil",60197,"gallons",137000,"Btu/gallon",{"$f":"(E39*G39)/1000000","v":8246.9889999999996}]
[null,"041-0069-4-0102","Solar Turbines \nTaurus T-60-780;52 M","#2 Fuel Oil",60972,"gallons",137000,"Btu/gallon",8353.1640000000007]
[null,"041-0069-9-0033","Diesel Gen","#2 Fuel Oil",26413,"gallons",137000,"Btu/gallon",3618.5810000000001]
[null,"041-0069-9-0034","Diesel Gen","#2 Fuel Oil",18374,"gallons",137000,"Btu/gallon",2517.2379999999998]
[null,"041-0069-9-0035","Diesel Gen","#2 Fuel Oil",25028,"gallons",137000,"Btu/gallon",3428.8359999999998]
[null,"041-0069-9-0036","Diesel Gen","#2 Fuel Oil",22917,"gallons",137000,"Btu/gallon",3139.6289999999999]
[null,"041-0069-9-0037","Diesel Gen","#2 Fuel Oil",3620,"gallons",137000,"Btu/gallon",495.94]
[null,"041-0069-9-0038","Diesel Gen","#2 Fuel Oil",3566,"gallons",137000,"Btu/gallon",488.54199999999997]
[null,null,null,null,null,null,null,"#2 Fuel Oil",{"$f":"SUM(I39:I46)","v":30288.918999999998}]
[null,"Berlin Town Power Plant"]
[null,"9-0028","EMD Diesel Gen -3600 HP","No. 2 Oil",11831,"gallons",140983,"Btu/gal",{"$f":"(E49*G49)/1000000","v":1667.969873}]
[null,"9-0029","FM Diesel Gen -1600HP","No. 2 Oil",15038,"gallons",140984,"Btu/gal",2120.1173920000001]
[null,"9-0031","Mistsu. Diesel Gen -2829 HP","No. 2 Oil",0,"gallons",null,"Btu/gal",0]
[null,"9-0032","Mistsu. Diesel Gen -2829 HP","No. 2 Oil",12159,"gallons",140986,"Btu/gal",1714.2487739999999]
[null,"9-0033","Mistsu. Diesel Gen -2829 HP","No. 2 Oil",26726,"gallons",140987,"Btu/gal",3768.0185620000002]
[null,null,null,null,null,null,null,"#2 Fuel Oil",{"$f":"SUM(I49:I53)","v":9270.3546009999991}]
[]
[null,"Riverside"]
[]
[null,"4-0658","Combustion Turbine # 7","#2 Oil",202000,"gallons",139,"MMBTU/10E+03 gallons",{"$f":"(E58*G58)/1000","v":28078}]
[null,"4-0659","Combustion Turbine #8 ","#2 Oil",236000,"gallons",139,"MMBTU/10E+03 gallons",32804]
[null,null,null,null,null,null,null,"#2 Fuel Oil",{"$f":"SUM(I58:I59)","v":60882}]
[]
[null,"Perryman "]
[null,"4-0083","Unit 3 CT","No.2 Oil",743000,"gallons",139,"MMBTU/10E+03 gallons",{"$f":"(E63*G63)/1000","v":103277}]
[]
[]
[null,null,null,null,null,"Distillate Fuel Oil Total",null,null,{"$f":"I63+I60+I54+I47+I37+I24+I17+I10","v":556600.82598900003}]
[]
[]
[null,"NON-RGGI RESIDUAL OIL COMBUSTION BY UNIT"]
[null,"Easton Utility-Airport Park"]
[null,"041-0069-9-0033","Diesel Gen","# 6 Fuel Oil",52845,"gallons",137001,"Btu/gallon",{"$f":"(E71*G71)/1000000","v":7239.8178449999996}]
[null,"041-0069-9-0034","Diesel Gen","# 6 Fuel Oil",37030,"gallons",137001,"Btu/gallon",5073.1470300000001]
[null,"041-0069-9-0035","Diesel Gen","# 6 Fuel Oil",106975,"gallons",137001,"Btu/gallon",14655.681975]
[null,"041-0069-9-0036","Diesel Gen","# 6 Fuel Oil",110608,"gallons",137001,"Btu/gallon",15153.406607999999]
[null,null,null,null,null,null,null,"# 6 Fuel Oil Total",{"$f":"SUM(I71:I74)","v":42122.053457999995}]
[]
[null,null,null,null,null,"Residual Fuel Oil Total",null,null,{"$f":"I75","v":42122.053457999995}]
[]
[null,"NON-RGGI NATURAL GAS COMBUSTION BY UNIT"]
[null,"CPSG- Notch Cliff "]
[null,"9-1094","Unit 1 CT","Gas",15000000,"scf",1044,"MMBTU/ 1 E+06 scf",{"$f":"(E81*G81)/1000000","v":15660}]
[null,"9-1095","Unit 2 CT","Gas",15000000,"scf",1044,"MMBTU/ 1 E+06 scf",15660]
[null,"9-1096","Unit 3 CT","Gas",19000000,"scf",1044,"MMBTU/ 1 E+06 scf",19836]
[null,"9-1097","Unit 4 CT","Gas",20000000,"scf",1044,"MMBTU/ 1 E+06 scf",20880]
[null,"9-1098","Unit 5 CT","Gas",28000000,"scf",1044,"MMBTU/ 1 E+06 scf",29232]
[null,"9-1099","Unit 6 CT","Gas",25000000,"scf",1044,"MMBTU/ 1 E+06 scf",26100]
[null,"9-1100","Unit 7 CT","Gas",24000000,"scf",1044,"MMBTU/ 1 E+06 scf",25056]
[null,"9-1101","Unit 8 CT","Gas",19000000,"scf",1044,"MMBTU/ 1 E+06 scf",19836]
[null,null,null,null,null,null,null,"Natural Gas Total",{"$f":"SUM(I81:I88)","v":172260}]
[]
[null,null,null,null,null,"Natural Gas Total",null,null,{"$f":"I89","v":172260}]
[]
[]
[]
[]
[]
[null,"ELECTRIC POWER SECTOR"]
[null,"CO2 EMISSION SUMMARY: NON-RGGI ALL UNITS",null,null,2006]
[]
[null,null,"Consumption","Emission Factor","Combustion","Emissions ","Emissions ","Emissions ","Emissions ","Emissions "]
[null,"Fuel Type","(Billion Btu)","(lbs C/Million Btu)","Efficiency (%)","(short tons carbon)","(short tons CO2 )","(metric tons CO2 )","(MMTCO2 E )","(MMTCE )"]
[null,"Coal",0,55.80081818181818,1,{"$f":"C102*1000*D102*E102/2000","v":0},{"$f":"F102*(44/12)","v":0},{"$f":"G102*0.9072","v":0},{"$f":"H102/1000000","v":0},{"$f":"I102*(12/44)","v":0}]
[null,"Distillate Fuel",{"$f":"I66/1000","v":556.60082598899999},43.942731277533035,1,12229.280262643777,44840.694296360511,40679.477865658257,4.0679477865658259E-2,1.1094403054270433E-2]
[null,"Residual Fuel",{"$f":"I77/1000","v":42.122053457999996},47.33480176211453,1,996.91952512381033,3655.3715921206376,3316.1531083718423,3.3161531083718424E-3,9.0440539319232055E-4]
[null,"Natural Gas",{"$f":"I91/1000","v":172.26},31.872246696035241,1,2745.1566079295153,10065.574229074889,9131.4889406167404,9.1314889406167409E-3,2.4904060747136564E-3]
[null,"                                                                                                                                                                Total",null,null,null,null,{"$f":"SUM(G102:G105)","v":58561.640117556039},53127.119914646843,5.3127119914646845E-2]
[]
[]
[null,"ELECTRIC POWER SECTOR"]
[null,"CH4 EMISSION SUMMARY: NON-RGGI ALL UNITS",null,null,2006]
[]
[null,null,"Consumption","Emission Factor","Emissions ","GWP","Emissions ",null,"Global Warming Potential"]
[null,"Fuel Type","(Billion Btu)","(metric tons CH4 /BBtu)","(metric tons CH4)",null,"(MMTCO2E)"]
[null,"Coal",0,1.0023030599890001E-3,{"$f":"C114*D114","v":0},{"$f":"$J$115","v":28},{"$f":"E114*F114/1000000","v":0},null,"CO2_GWP=",{"$f":"'Summ GHG Rpt Expanded'!G4","v":1}]
[null,"Distillate Fuel",{"$f":"C103","v":556.60082598899999},3.006909179967E-3,1.6736481332435389,28,4.6862147730819087E-5,null,"CH4_GWP =",{"$f":"'Summ GHG Rpt Expanded'!G5","v":28}]
[null,"Residual Fuel",42.122053457999996,3.006909179967E-3,0.1266571892219209,28,3.5464012982137851E-6,null,"N2O_GWP=",{"$f":"'Summ GHG Rpt Expanded'!G6","v":265}]
[null,"Natural Gas",172.26,9.4955026735800007E-4,0.16356952905508909,28,4.5799468135424944E-6,null,"SF6_GWP =",{"$f":"'Summ GHG Rpt Expanded'!G7","v":23500}]
[null,null,null,null,null,"Total",{"$f":"SUM(G114:G117)","v":5.4988495842575369E-5},null,"PFCs_GWP=",{"$f":"'Summ GHG Rpt Expanded'!G8","v":11100}]
[]
[]
[null,"ELECTRIC POWER SECTOR"]
[null,"N2O EMISSION SUMMARY: NON-RGGI ALL UNITS",null,null,2006]
[]
[null,"Fuel Type","Consumption","Emission Factor","Emissions","GWP","Emissions "]
[null,null,"(Billion Btu)","(metric tons N2O/BBtu)","(metric tons N2O)",null,"(MMTCO2E)"]
[null,"Coal",0,1.5034545899835E-3,{"$f":"C126*D126","v":0},{"$f":"$J$116","v":265},{"$f":"E126*F126/1000000","v":0}]
[null,"Distillate Fuel",{"$f":"C115","v":556.60082598899999},6.0138183599339984E-4,0.33472962664870765,265,8.8703351061907525E-5]
[null,"Residual Fuel",42.122053457999996,6.0138183599339984E-4,2.5331437844384175E-2,265,6.7128310287618068E-6]
[null,"Natural Gas",172.26,9.4955026735800017E-5,1.6356952905508908E-2,265,4.3345925199598607E-6]
[null,"                                                                                                                                                             Total",null,null,null,null,{"$f":"SUM(G126:G129)","v":9.9750774610629192E-5}]
[]
[]
[null,"ELECTRIC POWER SECTOR"]
[null,"GHG EMISSION SUMMARY: NON-RGGI ALL UNITS",null,null,2006]
[]
[null,"Fuel Type",null,"Emissions ","Emissions ","Emissions ","Emissions "]
[null,null,"Consumption","CO2","N2O","CH4","Total"]
[null,null,"(Billion Btu)","(MMTCO2E)","(MMTCO2E)","(MMTCO2E)","(MMTCO2E)"]
[null,"Coal",0,0,{"$f":"G126","v":0},{"$f":"G114","v":0},{"$f":"D139+E139+F139","v":0}]
[null,"Distillate Fuel",{"$f":"C127","v":556.60082598899999},{"$f":"I103","v":4.0679477865658259E-2},8.8703351061907525E-5,4.6862147730819087E-5,4.0815043364450986E-2]
[null,"Residual Fuel",42.122053457999996,3.3161531083718424E-3,6.7128310287618068E-6,3.5464012982137851E-6,3.3264123406988181E-3]
[null,"Natural Gas",172.26,9.1314889406167409E-3,4.3345925199598607E-6,4.5799468135424944E-6,9.1404034799502428E-3]
[null,"Total",null,{"$f":"SUM(D139:D142)","v":5.3127119914646845E-2},9.9750774610629192E-5,5.4988495842575369E-5,{"$f":"SUM(D143:F143)","v":5.3281859185100047E-2}]

{"sheet":"Imported Electricity","index":3,"n_rows":85,"n_cols":20,"rows_kept":85,"cut":false,"hidden":false,"merged":[[33,2,33,10],[53,4,53,9],[80,4,80,9]]}
["Projected Electric Consumption (Imported Electricity) Emissions for Maryland"]
[]
[null,null,null,null,"Fuel Consumption For Electricity Generation"]
[]
[null,null,1991,1992,1993,1994,1995,1996,1997,1998,1999,2000,2001,2002,2003,2004,2005,2006,2007,2008]
[]
[null,"Coal (Short Tons)",null,null,null,null,null,null,null,null,null,11420038,11135140,11364983,11852129,11608446,11745248.199999999,11687602.6,11937518,11098391]
[null,"Petroleum (Barrels)",null,null,null,null,null,null,null,null,null,4143417,5514960,4108104,6164252,5672819.25,6574936.7400000002,1050222.03,1790746,791418]
[null,"Natural Gas (Mcf)",null,null,null,null,null,null,null,null,null,29023288,17985486,22627073,11162538,9994238.0399999991,18619350,16620796.5,21481869,17563616]
[null,"Other Gases (MMBTU)",null,null,null,null,null,null,null,null,null,758,7537,9278,6717,5127.03,4266.24,4141.3100000000004,4703.42,4194.0200000000004]
[]
[]
[]
[null,null," MD In-State Gross Generation (MWh)"]
[]
[null,null,1991,1992,1993,1994,1995,1996,1997,1998,1999,2000,2001,2002,2003,2004,2005,2006,2007,2008]
[null,"Coal",22835671,23850470,25126979,25624758,27595256,27992005,27620925,29294727,29687655,29451065,28379409,28712053,29939086,29195458,29302792,29408022,29699186,27218239]
[null,"Petroleum",4078506,2749511,4164790,4275226,1479469,1472027,1565010,3454350,4290788,2388595,3021639,2282432,3572183,3296842,3805569,580726,984831,405840]
[null,"Natural Gas",1517463,1077542,772304,1172042,1548884,987627,1412585,1990596,2125193,2852876,1760812,2214431,1195642,1183301,1886986,1770206,2240927,1848147]
[null,"Other Gases",478704,506572,475788,501762,685721,539335,564036,82316,59891,74572,439980,504513,325355,411565,342466,332444,377560,337823]
[null,"Nuclear",9036100,10663950,12300816,11235408,12937971,12092768,13212967,13330598,13312335,13827243,13656267,12128005,13690713,14580260,14703221,13830411,14353192,14678695]
[null,"Hydroelectric Conventional",1407287,1824659,1658271,2009536,1442006,2457463,1588375,1739737,1424197,1732619,1183518,1660989,2646984,2507521,1703639,2104275,1652216,1974078]
[null,"Wood and Wood Derived Fuels",160602,174801,175122,168822,175144,167554,155906,155647,171088,179580,11939,182904,225240,192384,205985,218066,203097,197704]
[null,"Other Biomass",336551,329854,303818,352064,501192,565838,587592,605046,614474,638830,361076,338727,370811,396824,417380,408095,400364,414781]
[null,"Other",null,null,null,null,null,null,null,null,null,null,247700,255034,278224,288616,293561,304635,286550,285645]
[null,"Total",39850884,41177359,44977888,45339618,46365643,46274617,46707396,50653017,51685621,51145380,49062340,48279088,52244237,52052770,52661600,48956880,50197924,47360953]
[]
[null,null,"MD -Electricity Losses (MWh) (Transmission and Distribution) Assume 6.25 %"]
[]
[null,null,1991,1992,1993,1994,1995,1996,1997,1998,1999,2000,2001,2002,2003,2004,2005,2006,2007,2008]
[null,"T &D Losses",{"$f":"C26*6.25%","v":2490680.25},2573584.9375,2811118,2833726.125,2897852.6875,2892163.5625,2919212.25,3165813.5625,3230351.3125,3196586.25,3066396.25,3017443,3265264.8125,3253298.125,3291350,3059805,3137370.25,2960059.5625]
[]
[]
[null,null," Net MD In-State Electricity Generated (MWh) = MD Gross In-State Electricity Generated - T &D Losses"]
[]
[]
[null,null,1991,1992,1993,1994,1995,1996,1997,1998,1999,2000,2001,2002,2003,2004,2005,2006,2007,2008]
[null,"Net In -State Generated Electricity",{"$f":"C26-C31","v":37360203.75},38603774.0625,42166770,42505891.875,43467790.3125,43382453.4375,43788183.75,47487203.4375,48455269.6875,47948793.75,45995943.75,45261645,48978972.1875,48799471.875,49370250,45897075,47060553.75,44400893.4375]
[]
[]
[null,null,null,null,"Electricity Consumption (MWh) (MD Retail Sales)"]
[]
[null,null,1991,1992,1993,1994,1995,1996,1997,1998,1999,2000,2001,2002,2003,2004,2005,2006,2007,2008]
[null,"Residential",20295448,19762032,21546122,21666119,22233807,22985772,21936662,22406855,23342423,23949315,24294096,25489053,26671274,27951978,28439645,26905386,28194802,27144255]
[null,"Commercial",10667414,10769686,11316964,13253588,23096405,23126094,23418552,24284167,24988489,25804298,26243614,21044289,16950347,17264135,17931771,29729030,30691159,30002993]
[null,"Industrial",19448114,19768026,20200630,19037490,10057219,10098447,10127852,10343675,9936115,10066312,10176724,20874507,27175526,21194572,21516638,6057030,5980358,5649943]
[null,"Transportation",0,0,0,0,0,0,0,0,0,0,0,0,461436,481015,477331,481697,524341,528586]
[null,"Others",696831,689042,808686,794428,770615,787207,781420,798935,819198,857876,925586,972057,0,0,0,0,0,0]
[null,"Total Electric Consumption (Mwh) NET",51107809,50988788,53872404,54751623,56158046,56997520,56264486,57833638,59086225,{"$f":"SUM(L44:L48)","v":60677801},61640020,68379906,71258583,66891700,68365385,63173143,65390660,63325777]
[null,"Total Electric Consumption (Mwh) GROSS",{"$f":"C49*1.0625","v":54302047.0625},54175587.25,57239429.25,58173599.4375,59667923.875,60559865,59781016.375,61448240.375,62779114.0625,64470163.5625,65492521.25,72653650.125,75712244.4375,71072431.25,72638221.5625,67121464.4375,69477576.25,67283638.0625]
[]
[]
[]
[null,null,null,null,"Electricity Imported (MWh) = MD Retail Sales - Net In-state Generation"]
[]
[null,null,1991,1992,1993,1994,1995,1996,1997,1998,1999,2000,2001,2002,2003,2004,2005,2006,2007,2008]
[null,"Gross Imported Electricity to Meet MD Demand (MWh)",{"$f":"C50-C26","v":14451163.0625},12998228.25,12261541.25,12833981.4375,13302280.875,14285248,13073620.375,10795223.375,11093493.0625,13324783.5625,16430181.25,24374562.125,23468007.4375,19019661.25,19976621.5625,18164584.4375,19279652.25,19922685.0625]
[]
[]
[null,null,null,null,"GHG Associated with Imported Electricity"]
[]
[null,"PJM Average CO2 Emission Rate (lbs/MWh)",null,null,null,null,null,null,"CO2 Emission"]
[null,"(CO2 Emission Rate of Marginal Units)",null,null,null,null,null,null,"(short tons)"]
[null,1252,null,null,null,null,null,null,{"$f":"(B64*R57)/2000","v":11371029.857875001}]
[null,{"$f":"K74*2204.623/K70","v":1253.1420396132953}]
[null,null,"Coal","Nuclear","Natural Gas","Oil","Hydroelectric","Solid Waste","Wind","Captured CH4","Total"]
[]
[null,"PJM Electricity Generation Fuel Mix 2006",57.478968906379997,34.975470491460001,5.1416049313599999,0.30854740784000007,1.1203992572399999,0.56948828446999999,0.11589154815,0.15204403887999998,{"$f":"SUM(C68:J68)","v":99.862414865779996}]
[]
[null,"Maryland 2006  Import Share (MWh)",{"$f":"(C68/100)*R57","v":10440815.840803765},{"$f":"(D68/100)*R57","v":6353148.8698341483},{"$f":"(E68/100)*R57","v":933951.16919955111},{"$f":"(F68/100)*R57","v":56046.354426814309},{"$f":"(G68/100)*R57","v":203515.8691184826},{"$f":"(H68/100)*R57","v":103445.18029422335},{"$f":"(I68/100)*R57","v":21051.218119632718},{"$f":"(J68/100)*R57","v":27618.167824542928},{"$f":"SUM(C70:J70)","v":18139592.669621162}]
[]
[null,"Imported Electric CO2 Emissions Factors (tons/MWh)",0.92714314889927729,null,0.56866252342279933,0.88599531833454104,null,0.44810377532467283,null,0.12969805403896778]
[]
[null,"Imported Electric CO2 Emissions (metric tons)",{"$f":"C70*C72","v":9680130.8757202588},null,{"$f":"E70*E72","v":531103.02863069053},49656.807631875854,null,{"$f":"H70*H72","v":46354.17582898293},null,{"$f":"J70*J72","v":3582.0226229648501},{"$f":"SUM(C74:J74)","v":10310826.910434773}]
[]
[null,"Imported Electric CO2 Emissions (MMTCO2)",{"$f":"C74/1000000","v":9.6801308757202591},null,{"$f":"E74/1000000","v":0.53110302863069059},4.9656807631875854E-2,null,{"$f":"H74/1000000","v":4.6354175828982928E-2},null,{"$f":"J74/1000000","v":3.5820226229648501E-3},10.310826910434773]
[]
[]
[]
[]
[null,null,null,null," Imported Electricity Emissions  (MMTCO2E)"]
[]
[null,null,1991,1992,1993,1994,1995,1996,1997,1998,1999,2000,2001,2002,2003,2004,2005,2006,2007,2008]
[null,"Gross Imported Electricity to Meet MD Demand (MWh)",{"$f":"(C57*$B$64/2204.62262)/1000000","v":8.206781509957473},7.3816632476536954,6.9633004332505672,7.2883878691900561,7.5543340181731411,8.1125587362430309,7.4244782580975235,6.1305819612338004,6.2999686151501058,7.5671132414716853,9.330661283426366,13.842256494900699,13.327426220343325,10.801220884234599,11.344676394661141,{"$f":"K76","v":10.310826910434773},{"$f":"(S57*$B$64/2204.62262)/1000000","v":10.948869161561991},11.314045983185094]
[null,null,null,null,null,null,null,null,null,null,null,null,null,null,null,null,null,{"$f":"+R57*B64/2204/1000000","v":10.318538890993647}]

{"sheet":"Transportation","index":4,"n_rows":119,"n_cols":33,"rows_kept":119,"cut":false,"hidden":false,"merged":[[113,8,114,8],[115,1,116,1],[117,1,118,1],[38,3,38,4],[41,3,41,4],[41,5,41,7],[42,3,42,4],[42,5,42,7],[43,3,43,4],[44,5,44,7],[44,3,44,4],[48,3,48,4],[113,1,114,1],[113,2,114,2],[113,4,113,6],[36,3,36,4],[36,5,36,6],[37,3,37,4],[37,5,37,6],[38,5,38,6],[33,3,33,4],[33,5,33,6],[34,3,34,4],[34,5,34,6],[35,3,35,4],[35,5,35,6],[30,3,30,4],[30,5,30,6],[31,5,31,6],[31,3,31,4],[32,3,32,4],[32,5,32,6],[19,3,19,4],[19,5,19,6],[24,5,24,6],[25,5,25,6],[30,18,30,19],[20,3,20,4],[20,5,20,6],[21,3,21,4],[21,5,21,6],[22,3,22,4],[22,5,22,6],[23,5,23,6],[23,3,23,4],[24,3,24,4],[25,3,25,4],[28,1,28,5],[1,0,1,10],[17,3,17,4],[17,5,17,6],[18,3,18,4],[18,5,18,6]]}
["Transportation Consumption and GHG Emissions"]
[]
[null,"Activity Data (Consumption)"]
[null," State Energy Data  2006","(Barrels)",null,"(Gallons)",null,"(Billion Btu)"]
[null,"Aviation Gasoline ",107.81010999999999,null,4526231.38217822,null,{"$f":"544009.905172277/1000","v":544.00990517227706}]
[null,"Distillate Fuel  Oil ",14834.5936,null,623052931.20000005,null,86411.507719999994]
[null,"Jet Fuel Naphtha ",0,null,0,null,0]
[null,"Jet Fuel Kerosene Type ",4144.0214299999998,null,23496601.510000002,null,23496.60151]
[null,"Liquidfied Petroleum Gases",43.623379999999997,null,{"$f":"C9*42*1000","v":1832181.96},null,157.26228]
[null,"Lubricant ",265.99846000000002,null,11171935.32,null,1613.2806599999999]
[null,"Motor Gasoline",64604.700989999998,null,2721404088,null,{"$f":"E11*C47/1000000000","v":338101.80108494399}]
[null,"Ethanol",3892.6155199999998,null,163489851.83999997,null,13775.966329999999]
[null,"Natural Gases -  (Million Cubic Feet)",3236.1390000000001,null,{"$f":"C13","v":3236.1390000000001},null,3348.01233]
[null,"Residual Fuel Oil",1221.47559,null,{"$f":"C14*42*1000","v":51301974.780000001},null,7679.4170299999996]
[]
[]
[null,"                                                     Gasoline Fuel Usage"]
[null,"Source","Year","Subsource",null,"Vehicle / Fuel Type",null,null,"Amount\n(gal)",null,"Percentage",null,"Percentage of NR Gasoline"]
[null,"FHWA Data MF-24",2006,"Farm Equipment",null,"Gasoline Tractor",null,null,11991000,null,{"$f":"I19/$I$24","v":4.4061813726503085E-3},null,{"$f":"I19/SUM($I$19:$I$23)","v":0.15466235518679342},null,null,null,null,null,null,null,9702000]
[null,"FHWA Data MF-24",2006,"Construction",null,"Gasoline Construction",null,null,10970000,null,4.0310073937097728E-3,null,0.14149328966717736,null,null,null,null,null,null,null,8297000]
[null,"FHWA Data MF-24",2006,"Non-Highway Industrial",null,"Gasoline HD Utility",null,null,19725000,null,7.2480967038218106E-3,null,0.25441705913264118,null,null,null,null,null,null,null,24818000]
[null,"FHWA Data MF-24",2006,"Non-Highway Industrial",null,"Gasoline Small Utility",null,null,9811178.4685605839,null,3.6051898767341692E-3,null,0.12654657402264508,null,null,null,null,null,null,null,16130243.465111727]
[null,"FHWA Data MF-24",2006,"Boat (Marine Gasoline)",null,"Gasoline",null,null,25033000,null,9.1985604454636952E-3,null,0.32288072199074302,null,null,null,null,null,null,null,24070000]
[null,"MD Comptroller",2006,"Motor Gasoline (Total Sold)",null,"All",null,null,2721404088,null,1]
[null,"MD Comptroller",2006,"Motor Gasoline (On-Road Mobile)",null,"All",null,null,{"$f":"I24-SUM(I19:I23)","v":2643873909.5314393},null,0.97151096420762018]
[null,"MD Comptroller",2006,"Motor Gasoline (Non-Road Mobile)",null,"All",null,null,{"$f":"I24-I25","v":77530178.468560696},null,2.8489035792379797E-2,null,{"$f":"SUM(M19:M23)","v":1}]
[]
[null,null,null,null,null,null,null,null,{"$f":"I21+I22","v":29536178.468560584}]
[null,"                                           Diesel Fuel Usage"]
[]
[null,"Source","Year","Subsource",null,"Vehicle / Fuel Type",null,null,"Amount\n(gal)",null,"Percentage",null,"Percentage of NR Diesel",null,null,null,null,null,"Global Warming Potential"]
[null,"EIA Adjusted Sales Data",2006,"Farm Equipment",null,"Diesel Tractor",null,null,16854000,null,{"$f":"I32/$I$37","v":2.7050671228749688E-2},null,{"$f":"I32/SUM($I$32:$I$36)","v":9.0471293336338424E-2}]
[null,"FHWA Data MF-24 (Allocated from Gasoline Construction State Percent)",2006,"Construction",null,"Diesel Construction",null,null,118516224.14723189,null,0.1902185483967945,null,0.63618820932357023,null,null,null,null,null,"CO2_GWP=",{"$f":"'Summ GHG Rpt Expanded'!G4","v":1}]
[null,"EIA State Energy Data",2006,"Non-Highway Industrial",null,"Diesel HD Utility",null,null,11441263.232021492,null,1.8363228321525777E-2,null,6.1416036668000468E-2,null,null,null,null,null,"CH4_GWP =",{"$f":"'Summ GHG Rpt Expanded'!G5","v":28}]
[null,"MDE Survey",2006,"Locomotive",null,"Diesel Fuel",null,null,23342571.949999999,null,3.7464829681552417E-2,null,0.12530157079109025,null,null,null,null,null,"N2O_GWP=",{"$f":"'Summ GHG Rpt Expanded'!G6","v":265}]
[null,"EIA State Energy Data",2006,"Boat (Marine)",null,"Distillate Fuel Oil**",null,null,16137076.548987413,null,2.5900009037606805E-2,null,8.6622889881000836E-2,null,null,null,null,null,"SF6_GWP =",{"$f":"'Summ GHG Rpt Expanded'!G7","v":23500}]
[null,"EIA State Energy Data",2006,"Distillate Fuel  Oil",null,"All",null,null,623052931.20000005,null,1,null,null,null,null,null,null,null,"PFCs_GWP=",{"$f":"'Summ GHG Rpt Expanded'!G8","v":11100}]
[null,"Calculated",2006,"Motor Diesel (On-Road)",null,"All",null,null,{"$f":"I37-SUM(I32:I36)","v":436761795.32175928},null,0.70100271333377084]
[null,"Calculated",2006,"Motor Diesel (Non-Road)",null,"All",null,null,{"$f":"I37-I38","v":186291135.87824076},null,0.29899728666622916,null,{"$f":"SUM(M32:M36)","v":1.0000000000000002}]
[]
[]
[null,null,2006,"Diesel (gallons)",null,"Total",null,null,{"$f":"SUM(I32:I35)","v":170154059.32925335}]
[null,null,2006,"Locomotive",null,"Residual Fuel Oil",null,null,0]
[null,"EIA State Energy Data",2006,"Boat (Marine)",null,"Residual Fuel Oil**",null,null,51301974.751073644]
[null,null,null,"Residual Fuel (gallons)",null,"Total",null,null,{"$f":"SUM(I43:I44)","v":51301974.751073644}]
[null,"CONSTANTS"]
[null,"Gasoline",124238,"Btu/Gallon"]
[null,"Diesel",138690,"Btu/Gallon"]
[]
[null,"Emissions Data (MMTCO2e)"]
[null,"Transportation Sector Emissions: Non-Road Mobile Sources  2006"]
[null,null,null,null,null,null,null,null,null,null,null,null,"CO2 Emissions",null,null,null,null,null,null,"N2O Emissions",null,null,null,null,null,null,"CH4 Emissions",null,null,null,null,null,"CH4 &"]
[null,null,"Consumption",null,"Consumption",null,"Emission Factor",null,"Combustion",null,"Emissions ",null,"Emissions ",null,"Emissions ",null,null,null,null,null,null,null,null,null,null,null,null,null,null,null,null,null,"N2O"]
[null,"Fuel Type","(gallon)",null,"(Billion Btu)",null,"(lbs C/Million Btu)",null,"Efficiency (%)",null,"(short tons carbon)",null,"(MMTCE)",null,"(MMTCO2E)",null,"Energy Content\nkg/MBtu","Density\nkg/gallon","N2O EF\ng/kg fuel","N2O EM\nGigagrams",null,"N2O\nMTCE",null,"N2O\nMTCO2E",null,"CH4 EF\ng/kg fuel","CH4 EM\nGigagrams",null,"CH4\nMTCE",null,"CH4\nMTCO2E",null,"TOTAL\nMTCO2E"]
[null,"Aviation Gasoline",{"$f":"E5","v":4526231.38217822},null,{"$f":"G5","v":544.00990517227706},"x",41.563876651982376,"x",1,"=",{"$f":"E55*1000*G55*I55/2000","v":11305.580298018574},"=",{"$f":"K55*0.90718/1000000","v":1.025619633475649E-2},"=",{"$f":"M55*44/12","v":3.7606053227440463E-2},null,22.257999999999999,null,0.04,{"$f":"E55*1000*Q55*S55/1000000000","v":4.8434289877298162E-4},"=",{"$f":"T55*$T$35*12/44*1000","v":35.004782229501856},"=",{"$f":"V55*44/12","v":128.35086817484014},null,2.64,{"$f":"E55*1000*Q55*Z55/1000000000","v":3.1966631319016788E-2},"=",{"$f":"AA55*$T$34*12/44*1000","v":244.10882098158277},"=",{"$f":"AC55*44/12","v":895.06567693247018},"x",{"$f":"X55+AE55","v":1023.4165451073103}]
[null,"Distillate Fuel - Farm",{"$f":"I32","v":16854000},null,{"$f":"C56*$C$48/1000000000","v":2337.48126},"x",43.942731277533035,"x",1,"=",51357.655437224668,"=",4.659063785954147E-2,"=",0.17083233881831872,null,null,3.1920000000000002,0.08,{"$f":"C56*R56*S56/1000000000","v":4.3038374400000004E-3},"=",311.05006952727274,"=",1140.5169216000002,null,0.45,{"$f":"C56*R56*Z56/1000000000","v":2.4209085600000003E-2},"=",184.86938094545457,"=",677.85439680000002,null,1818.3713184000003]
[null,"Distillate Fuel - Construction",118516224.14723189,null,16437.015126979593,"x",43.942731277533035,"x",1,"=",361143.66936480493,"=",0.32762231397436375,"=",1.2012818179060003,null,null,3.1920000000000002,0.08,3.0264302998237135E-2,"=",2187.2837166907748,"=",8020.0402945328415,null,0.45,0.1702367043650839,"=",1299.9893787879132,"=",4766.627722222348,null,12786.668016755189]
[null,"Distillate Fuel - Ind HD Diesel",11441263.232021492,null,1586.7887976490608,"x",43.942731277533035,"x",1,"=",34863.916864646213,"=",3.162784810126975E-2,"=",0.11596877637132241,null,null,3.1920000000000002,0.08,2.9216409789290083E-3,"=",211.15496165896016,"=",774.23485941618719,null,0.18,6.5736922025902682E-3,"=",50.199104092507504,"=",184.0633816725275,null,958.29824108871469]
[null,"Distillate Fuel - Locomotive",23342571.949999999,null,3237.3813037455002,"x",43.942731277533035,"x",1,"=",71129.688336699037,"=",6.4527430665286628E-2,"=",0.23660057910605095,null,null,3.1920000000000002,0.08,5.9607591731520001E-3,"=",430.80032205962181,"=",1579.60118088528,null,0.25,1.8627372416099998E-2,"=",142.24538935930909,"=",521.56642765079994,null,2101.16760853608]
[null,"Distillate Fuel - Marine",16137076.548987413,null,2238.0511465790646,"x",43.942731277533035,"x",1,"=",49173.040059749263,"=",4.4608798481403332E-2,"=",0.16356559443181221,null,null,3.1920000000000002,0.08,4.1207638675494259E-3,"=",297.81884315470853,"=",1092.002424900598,null,0.23,1.18471961192046E-2,"=",90.469497637562398,"=",331.72149133772876,null,1423.7239162383269]
[null,"Jet Fuel, Kerosene",{"$f":"C8","v":4144.0214299999998},null,{"$f":"G8","v":23496.60151},"x",42.625219031514924,"x",1,"=",500773.89292998717,"=",0.45429206018822577,"=",1.6657375540234944,null,22.24,null,0.1,{"$f":"E61*1000*Q61*S61/1000000000","v":5.2256441758240006E-2},"=",3776.7155634364367,"=",13847.957065933602,null,8.7000000000000008E-2,{"$f":"E61*1000*Q61*Z61/1000000000","v":4.5463104329668803E-2},"=",347.17279669928899,"=",1272.9669212307263,"x",15120.923987164329]
[null,"Jet Fuel, Naphtha",0,null,0,"x",43.5,"x",1,"=",0,"=",0,"=",0,null,null,null,0.1,null,null,null,null,null,null,8.6999999999999994E-2]
[null,"LPG",{"$f":"E9","v":1832181.96},null,{"$f":"G9","v":157.26228},"x",37.905939726350034,"x",1,"=",2980.5872534541913,"=",2.7039291445885732E-3,"=",9.9144068634914352E-3]
[null,"Motor Gasoline - Farm",{"$f":"I19","v":11991000},null,{"$f":"K26*G11","v":9632.1943125770431},"x",42.62265,"x",1,"=",205274.82345848094,"=",0.18622121434506475,"=",0.68281111926523741,null,null,2.8008999999999999,0.08,{"$f":"C64*R64*S64/1000000000","v":2.6868473519999999E-3},"=",{"$f":"T64*$T$35*12/44*1000","v":194.18578589454546},"=",{"$f":"V64*44/12","v":712.01454827999999},null,0.45,{"$f":"C64*R64*Z64/1000000000","v":1.5113516355E-2},"=",{"$f":"AA64*$T$34*12/44*1000","v":115.41230671090911},"=",{"$f":"AC64*44/12","v":423.17845794000004},null,{"$f":"X64+AE64","v":1135.1930062199999}]
[null,"Motor Gasoline - Construction",10970000,null,{"$f":"C65*C47/1000000000","v":1362.89086},"x",42.62265,"x",1,"=",29045.010056989497,"=",2.634905222349973E-2,"=",9.6613191486165692E-2,null,null,2.8008999999999999,0.08,2.4580698399999999E-3,"=",177.65141116363637,"=",651.38850760000003,null,0.45,1.3826642849999999E-2,"=",105.58527267272727,"=",387.14599980000003,null,1038.5345074000002]
[null,"Motor Gasoline - Ind HD Utility",19725000,null,{"$f":"C66*C47/1000000000","v":2450.5945499999998},"x",42.62265,"x",1,"=",52225.416898278745,"=",4.7377853701780513E-2,"=",0.17371879690652856,null,null,2.8008999999999999,0.08,4.4198202000000006E-3,"=",319.43245990909099,"=",1171.2523530000003,null,0.18,9.9445954499999996E-3,"=",75.940547072727284,"=",278.44867260000007,null,1449.7010256000003]
[null,"Motor Gasoline - Ind Small Utility",9811178.4685605839,null,{"$f":"C67*C47/1000000000","v":1218.9211905770298},"x",42.62265,"x",1,"=",25976.825641774019,"=",2.3565656685704553E-2,"=",8.640740784758337E-2,null,null,2.8008999999999999,0.08,2.1984103818073072E-3,"=",158.88511395789175,"=",582.57875117893639,null,0.18,4.9464233590664408E-3,"=",37.77268746923464,"=",138.49985405386033,null,721.07860523279669]
[null,"Motor Gasoline - Marine",25033000,null,{"$f":"C68*C47/1000000000","v":3110.0498539999999},"x",42.62265,"x",1,"=",66279.283204796549,"=",6.0127240137727335E-2,"=",0.22046654717166689,null,null,2.8008999999999999,0.08,5.6091943759999999E-3,"=",405.39177535636367,"=",1486.4365096399999,null,0.23,1.6126433831E-2,"=",123.14731289127273,"=",451.54014726800006,null,1937.976656908]
[null,"Residual Fuel",{"$f":"E14","v":51301974.780000001},null,{"$f":"G14","v":7679.4170299999996},"x",47.33480176211453,"x",1,"=",181751.84138182816,"=",0.16488163546476689,"=",0.60456599670414524,null,null,3.5750000000000002,0.08,1.4672364787080002E-2,"=",1060.4118187026002,"=",3888.1766685762009,null,0.23,4.2183048762855009E-2,"=",322.12509964362005,"=",1181.1253653599401,null,5069.302033936141]
[null,"Natural Gas",{"$f":"E13","v":3236.1390000000001},null,{"$f":"G13","v":3348.01233},"x",31.872246696035241,"x",1,"=",53354.337461563875,"=",4.8401987858381512E-2,"=",0.17747395548073222]
[null,"Other",null,null,null,"x",null,"x",null,"=",0,"=",0,"=",0]
[]
[]
[]
[]
[null,null,null,null,"Non-Energy ",null,null,null,"Net combustible "]
[null,null,"Consumption",null,"Consumption",null,null,null,"Consumption",null,"Emission Factor",null,"Combustion",null,"Emissions ",null,"Emissions ",null,"Emissions "]
[null,null,"(Billion Btu)",null,"(Billion Btu)",null,"Storage Factor (%)",null,"(Billion Btu)",null,"(lbs C/Million Btu)",null,"Efficiency (%)",null,"(short tons carbon)",null,"(MMTCE)",null,"(MMTCO2E)"]
[null,"Lubricants",1613.2806599999999,"- (",1613.2806599999999,"x",9.2393732597307904E-2,") =",{"$f":"C79-(E79*G79)","v":1464.2236380955515},"x",44.581497797356818,"x",1,"=",{"$f":"I79*1000*K79*M79/2000","v":32638.641448297309},"=",{"$f":"O79*0.90718/1000000","v":2.9609122749066352E-2},"=",{"$f":"Q79*44/12","v":0.10856678341324329}]
[]
[null,"International Bunker Fuels",null,null,null,null,2006]
[]
[null,null,"Consumption",null,"Emission Factor",null,"Combustion",null,"Emissions ",null,"Emissions ",null,"Emissions "]
[null,"Fuel Type","(Billion Btu)",null,"(lbs C/Million Btu)",null,"Efficiency (%)",null,"(short tons carbon)",null,"(MMTCE)",null,"(MMTCO2E)"]
[null,"Jet Fuel, Kerosene",0,"x",42.625219031514924,"x",1,"=",{"$f":"C85*1000*E85*G85/2000","v":0},"=",{"$f":"I85*0.90718/1000000","v":0},"=",{"$f":"K85*44/12","v":0}]
[null,"Distillate Fuel",3.4633750619999999,"x",43.942731277533035,"x",1,"=",76.095079831387665,"=",6.9031934521438258E-5,"=",2.5311709324527361E-4]
[null,"Residual Fuel",0.76888614600000016,"x",47.33480176211453,"x",1,"=",18.197536649273129,"=",1.6508441297487598E-5,"=",6.0530951424121194E-5]
[null,"Total",null,null,null,null,null,null,null,null,{"$f":"SUM(K85:K87)","v":8.5540375818925863E-5},null,{"$f":"SUM(M85:M87)","v":3.1364804466939479E-4}]
[]
[]
[null,"Transportation Sector: On-Road Mobile Sources  2006"]
[]
[null,null,"VMT (Millions)",null,"CO2",null,"CH4",null,"N2O",null,"CO2e"]
[null,"TOTAL",56618,null,29.100999999999999,null,4.7E-2,null,0.52100000000000002,null,29.67]
[null,"By Fuel Type"]
[null,"Gasoline",52720,null,23.195,null,4.6199999999999998E-2,null,0.51829999999999998,null,23.76]
[null,"Diesel",3898,null,5.907,null,2.9999999999999997E-4,null,3.0000000000000001E-3,null,5.91]
[null,"By MOVES Vehicle Type"]
[null,"Motorcycle",319,null,0.12,null,5.0000000000000001E-4,null,4.0000000000000002E-4,null,0.12]
[null,"Passenger Car",29337,null,10.959,null,1.78E-2,null,0.17219999999999999,null,11.15]
[null,"Passenger Truck",18070,null,9.4600000000000009,null,2.0199999999999999E-2,null,0.2571,null,9.74]
[null,"Light Commercial Truck",5833,null,3.117,null,6.7000000000000002E-3,null,8.3299999999999999E-2,null,3.21]
[null,"Intercity Bus",15,null,2.7E-2,null,0,null,0,null,0.03]
[null,"Transit Bus",40,null,5.1999999999999998E-2,null,0,null,0,null,0.05]
[null,"School Bus",129,null,0.124,null,2.0000000000000001E-4,null,8.0000000000000004E-4,null,0.13]
[null,"Refuse Truck",33,null,5.6000000000000001E-2,null,0,null,0,null,0.06]
[null,"Single Unit Short-haul Truck",655,null,0.65600000000000003,null,8.0000000000000004E-4,null,5.4000000000000003E-3,null,0.66]
[null,"Single Unit Long-haul Truck",49,null,4.7E-2,null,0,null,2.9999999999999997E-4,null,0.05]
[null,"Motor Home",20,null,2.1000000000000001E-2,null,0,null,2.0000000000000001E-4,null,0.02]
[null,"Combination Short-haul Truck",1163,null,2.339,null,1E-4,null,8.0000000000000004E-4,null,2.34]
[null,"Combination Long-haul Truck",953,null,2.1230000000000002,null,1E-4,null,5.9999999999999995E-4,null,2.12]
[]
[]
[null,"Scenario","Fuel Type",null,"MOVES2010a Output",null,null,null,"Actual Statewide               Fuel Sales2                                              (Thousand gallons)"]
[null,null,null,null,"Energy Consumption (Trillion BTU)",null,"Estimated Fuel Consumption1  (Thousand Gallons)"]
[null,2006,"Gasoline",null,305.89999999999998,null,2462240,null,2642371]
[null,null,"Diesel",null,76.3,null,550454,null,558703]
[null,"2020 BAU","Gasoline",null,402.3,null,3237943,null,"-----"]
[null,null,"Diesel",null,101.6,null,732275,null,"-----"]

{"sheet":"Residential","index":5,"n_rows":61,"n_cols":11,"rows_kept":61,"cut":false,"hidden":false,"merged":[[4,9,4,10]]}
["Residential Consumption and CO2 Emissions in Maryland"]
[]
[null,"Residential Sector CO2",null,null,2006]
[]
[null,null,"Consumption","Emission Factor","Combustion","Emissions ","Emissions ",null,null,"Global Warming Potential"]
[null,"Fuel Type","(Billion Btu)","(lbs C/Million Btu)","Efficiency (%)","(short tons carbon)","(MMTCO2E)"]
[null,"Coal",94.086020000000005,56.792727272727269,1,{"$f":"C7*1000*D7*E7/2000","v":2671.7008370181816},{"$f":"F7*(44/12)*0.90718/1000000","v":8.8869497395292294E-3},null,null,"CO2_GWP=",{"$f":"'Summ GHG Rpt Expanded'!G4","v":1}]
[null,"Distillate Fuel",19718.99265,43.942731277533035,1,433253.19754129945,1.4411416644002255,null,null,"CH4_GWP =",{"$f":"'Summ GHG Rpt Expanded'!G5","v":28}]
[null,"Kerosene",2477.4286499999998,43.436123348017617,1,53804.948213656382,0.17897283404170425,null,null,"N2O_GWP=",{"$f":"'Summ GHG Rpt Expanded'!G6","v":265}]
[null,"LPG",6645.3969800000004,37.905939726350034,1,125950.00869077428,0.41895087257502089,null,null,"SF6_GWP =",{"$f":"'Summ GHG Rpt Expanded'!G7","v":23500}]
[null,"Natural Gas",73811.31078,31.872246696035241,1,1176266.1530689427,3.9126454720506394,null,null,"PFCs_GWP=",{"$f":"'Summ GHG Rpt Expanded'!G8","v":11100}]
[null,null,null,null,"Total",null,{"$f":"SUM(G7:G11)","v":5.9605977928071194}]
[]
[null,"Residential Sector N20",null,null,2006]
[]
[null,null,"Consumption","Emission Factor","Emissions ","GWP","Emissions "]
[null,"Fuel Type","(Billion Btu)","(metric tons N2O/BBtu)","(metric tons N2O)",null,"(MMTCO2E)"]
[null,"Coal",94.086020000000005,1.5034545899835E-3,{"$f":"C18*D18","v":0.14145405862227939},{"$f":"$K$9","v":265},{"$f":"E18*F18/1000000","v":3.7485325534904037E-5}]
[null,"Distillate Fuel",19718.99265,6.0138183599339984E-4,11.858644003797357,265,3.1425406610062997E-3]
[null,"Kerosene",2477.4286499999998,6.0138183599339984E-4,1.4898805900796499,265,3.9481835637110723E-4]
[null,"LPG",6645.3969800000004,6.0138183599339984E-4,3.9964210367373947,265,1.0590515747354095E-3]
[null,"Natural Gas",73811.31078,9.4955026735800017E-5,7.0087549885193443,265,1.8573200719576263E-3]
[null,"Wood",6903.1058000000003,3.7982010694320003E-3,26.219383831962244,265,6.9481367154699946E-3]
[null,null,null,null,null,"Total",{"$f":"SUM(G18:G23)","v":1.3439352705075342E-2}]
[]
[]
[null,"Residential Sector CH4",null,null,2006]
[]
[null,null,"Consumption","Emission Factor","Emissions ","GWP","Emissions "]
[null,"Fuel Type","(Billion Btu)","(metric tons CH4 /BBtu)","(metric tons CH4)",null,"(MMTCO2E)"]
[null,"Coal",94.086020000000005,0.3006909179967,{"$f":"C31*D31","v":28.290811724455878},{"$f":"$K$8","v":28},{"$f":"E31*F31/1000000","v":7.9214272828476465E-4}]
[null,"Distillate Fuel",19718.99265,1.0023030599889999E-2,197.64406672995599,28,5.5340338684387678E-3]
[null,"Kerosene",2477.4286499999998,1.0023030599889999E-2,24.83134316799417,28,6.952776087038368E-4]
[null,"LPG",6645.3969800000004,1.0023030599889999E-2,66.60701727895659,28,1.8649964838107845E-3]
[null,"Natural Gas",73811.31078,4.7477513367900001E-3,350.43774942596713,28,9.8122569839270805E-3]
[null,"Wood",6903.1058000000003,0.28486508020740003,1966.4537873971685,28,5.5060706047120725E-2]
[null,null,null,null,null,"Total",{"$f":"SUM(G31:G36)","v":7.3759413720285966E-2}]
[]
[]
[]
[null,"Residential Sector 2006 GHG Emissions "]
[]
[null,null,"Emissions ","Emissions ","Emissions ","Emissions "]
[null,null,"CO2","N2O","CH4","Total"]
[null,"Fuel Type","(MMTCO2E)","(MMTCO2E)","(MMTCO2E)","(MMTCO2E)"]
[null,"Coal",{"$f":"G7","v":8.8869497395292294E-3},{"$f":"G18","v":3.7485325534904037E-5},{"$f":"G31","v":7.9214272828476465E-4},{"$f":"C46+D46+E46","v":9.7165777933488993E-3}]
[null,"Distillate Fuel",1.4411416644002255,3.1425406610062997E-3,5.5340338684387678E-3,1.4498182389296708]
[null,"Kerosene",0.17897283404170425,3.9481835637110723E-4,6.952776087038368E-4,0.1800629300067792]
[null,"LPG",0.41895087257502089,1.0590515747354095E-3,1.8649964838107845E-3,0.42187492063356707]
[null,"Natural Gas",3.9126454720506394,1.8573200719576263E-3,9.8122569839270805E-3,3.9243150491065242]
[null,"Wood",0,6.9481367154699946E-3,5.5060706047120725E-2,6.2008842762590721E-2]
[null,null,null,null,"Total",{"$f":"SUM(F46:F51)","v":6.0477965592324807}]
[]
[]
[]
[]
[]
[null,"- Default state-level data derived from EIA’s State Energy Consumption, Price, and Expenditure Estimates (SEDS) 2007: Consumption Estimates (EIA 2009)  http://www.eia.doe.gov/emeu/states/_seds.html"]
[]
[]
[null,"- Default state synthetic natural gas data obtained from Table 12 of EIA’s Historical Natural Gas Annual (EIA 2009), and Table 8 for Natural Gas Annual publications from 2001-2007 http://www.eia.doe.gov/oil_gas/natural_gas/data_publications/natural_gas_annual/nga.html"]

{"sheet":"Commercial","index":6,"n_rows":73,"n_cols":11,"rows_kept":73,"cut":false,"hidden":false,"merged":[[4,9,4,10]]}
["Commercial Consumption and CO2 Emissions in Maryland"]
[]
[]
[null,"Commercial Sector CO2",null,null,2006]
[null,null,null,null,null,null,null,null,null,"Global Warming Potential"]
[null,null,"Consumption","Emission Factor","Combustion","Emissions ","Emissions "]
[null,"Fuel Type","(Billion Btu)","(lbs C/Million Btu)","Efficiency (%)","(short tons carbon)","(MMTCO2E)",null,null,"CO2_GWP=",{"$f":"'Summ GHG Rpt Expanded'!G4","v":1}]
[null,"Coal",951.31425000000002,56.792727272727269,1,{"$f":"C8*1000*D8*E8/2000","v":27013.865375454545},{"$f":"F8*(44/12)*0.90718/1000000","v":8.9856940768117802E-2},null,null,"CH4_GWP =",{"$f":"'Summ GHG Rpt Expanded'!G5","v":28}]
[null,"Distillate Fuel",10493.920109999999,43.942731277533035,1,230565.75572081495,0.76693702167429922,null,null,"N2O_GWP=",{"$f":"'Summ GHG Rpt Expanded'!G6","v":265}]
[null,"Kerosene",353.45787999999999,43.436123348017617,1,7676.4200370044045,2.5534280673622067E-2,null,null,"SF6_GWP =",{"$f":"'Summ GHG Rpt Expanded'!G7","v":23500}]
[null,"LPG",1172.7171000000001,37.905939726350034,1,22226.471854330004,7.3932506034974005E-2,null,null,"PFCs_GWP=",{"$f":"'Summ GHG Rpt Expanded'!G8","v":11100}]
[null,"Motor Gasoline",170.91419000000002,42.62265,1,3642.4078502017505,1.2115838363002087E-2]
[null,"Residual Fuel",301.52722,47.33480176211453,1,7136.3655922907474,2.3737883172719174E-2]
[null,"Natural Gas",65040.950519999999,31.872246696035241,1,1036500.6101590306,3.4477396195882544]
[null,null,null,null,null,"Total",{"$f":"SUM(G8:G14)","v":4.4398540902749888}]
[]
[]
[null,"Commercial Sector N2O",null,null,2006]
[]
[null,null,"Consumption","Emission Factor","Emissions","GWP","Emissions "]
[null,"Fuel Type","(Billion Btu)","(metric tons N2O/BBtu)","(metric tons N2O)",null,"(MMTCO2E)"]
[null,"Coal",951.31425000000002,1.5034545899835E-3,{"$f":"C22*D22","v":1.4302577756792108},{"$f":"$K$9","v":265},{"$f":"E22*F22/1000000","v":3.7901831055499086E-4}]
[null,"Distillate Fuel",10493.920109999999,6.0138183599339984E-4,6.3108529425198601,265,1.6723760297677628E-3]
[null,"Kerosene",353.45787999999999,6.0138183599339984E-4,0.21256314882073479,265,5.6329234437494722E-5]
[null,"LPG",1172.7171000000001,6.0138183599339984E-4,0.70525076269885556,265,1.8689145211519672E-4]
[null,"Motor Gasoline",178.19621000000001,6.0138183599339984E-4,0.10716396393686545,265,2.8398450443269342E-5]
[null,"Residual Fuel",301.52722,6.0138183599339984E-4,0.18133299316558579,265,4.8053243188880236E-5]
[null,"Natural Gas",65040.950519999999,9.4955026735800017E-5,6.1759651955484456,265,1.6366307768203381E-3]
[null,"Wood",2101.198550000001,3.7982010694320003E-3,7.9807745796989717,265,2.1149052636202275E-3]
[null,null,null,null,null,"Total",{"$f":"SUM(G22:G29)","v":6.1226027609481599E-3}]
[]
[]
[null,"Commercial Sector CH4",null,null,2006]
[]
[null,null,"Consumption","Emission Factor","Emissions ","GWP","Emissions "]
[null,"Fuel Type","(Billion Btu)","(metric tons CH4 /BBtu)","(metric tons CH4)",null,"(MMTCO2E)"]
[null,"Coal",951.31425000000002,1.0023030599889999E-2,{"$f":"C37*D37","v":9.5350518378614044},{"$f":"$K$8","v":28},{"$f":"E37*F37/1000000","v":2.6698145146011935E-4}]
[null,"Distillate Fuel",10493.920109999999,1.0023030599889999E-2,105.18088237533102,28,2.9450647065092685E-3]
[null,"Kerosene",353.45787999999999,1.0023030599889999E-2,3.5427191470122472,28,9.9196136116342932E-5]
[null,"LPG",1172.7171000000001,1.0023030599889999E-2,11.754179378314261,28,3.2911702259279929E-4]
[null,"Motor Gasoline",178.19621000000001,1.0023030599889999E-2,1.7860660656144243,28,5.000984983720388E-5]
[null,"Residual Fuel",301.52722,1.0023030599889999E-2,3.022216552759764,28,8.4622063477273382E-5]
[null,"Natural Gas",65040.950519999999,4.7477513367900001E-3,308.79825977742223,28,8.6463512737678227E-3]
[null,"Wood",2101.198550000001,0.28486508020740003,598.55809347742297,28,1.6759626617367844E-2]
[null,null,null,null,null,"Total",{"$f":"SUM(G37:G44)","v":2.9180969121128674E-2}]
[]
[]
[null,"Commercial Sector 2006 GHG Emission"]
[]
[]
[null,null,null,"CO2","CH4","N2O","GHG"]
[null,null,"Consumption","Emissions ","Emissions ","Emissions ","Emissions "]
[null,"Fuel Type","(Billion Btu)","(MMTCO2E)","(MMTCO2E)","(MMTCO2E)","(MMTCO2E)"]
[null,"Coal",{"$f":"C8","v":951.31425000000002},{"$f":"G8","v":8.9856940768117802E-2},{"$f":"G37","v":2.6698145146011935E-4},{"$f":"G22","v":3.7901831055499086E-4},{"$f":"D54+E54+F54","v":9.0502940530132914E-2}]
[null,"Distillate Fuel",10493.920109999999,0.76693702167429922,2.9450647065092685E-3,1.6723760297677628E-3,0.77155446241057624]
[null,"Kerosene",353.45787999999999,2.5534280673622067E-2,9.9196136116342932E-5,5.6329234437494722E-5,2.5689806044175905E-2]
[null,"LPG",1172.7171000000001,7.3932506034974005E-2,3.2911702259279929E-4,1.8689145211519672E-4,7.4448514509681998E-2]
[null,"Motor Gasoline",170.91419000000002,1.2115838363002087E-2,5.000984983720388E-5,2.8398450443269342E-5,1.2194246663282561E-2]
[null,"Residual Fuel",301.52722,2.3737883172719174E-2,8.4622063477273382E-5,4.8053243188880236E-5,2.387055847938533E-2]
[null,"Natural Gas",65040.950519999999,3.4477396195882544,8.6463512737678227E-3,1.6366307768203381E-3,3.4580226016388429]
[null,"Wood",{"$f":"C44","v":2101.198550000001},0,1.6759626617367844E-2,2.1149052636202275E-3,1.8874531880988071E-2]
[null,null,null,null,null,"Total",{"$f":"SUM(G54:G61)","v":4.4751576621570663}]
[]
[]
[]
[]
[]
[]
[null,"- Default state-level data derived from EIA’s State Energy Consumption, Price, and Expenditure Estimates (SEDS) 2007: Consumption Estimates (EIA 2009)  http://www.eia.doe.gov/emeu/states/_seds.html"]
[]
[]
[]
[null,"- Default state synthetic natural gas data obtained from Table 12 of EIA’s Historical Natural Gas Annual (EIA 2009), and Table 8 for Natural Gas Annual publications from 2001-2007 http://www.eia.doe.gov/oil_gas/natural_gas/data_publications/natural_gas_annual/nga.html"]

{"sheet":"Industrial","index":7,"n_rows":127,"n_cols":11,"rows_kept":127,"cut":false,"hidden":false,"merged":[[1,0,1,9],[34,9,34,10]]}
["Industrial Consumption and CO2 Emissions in Maryland"]
[]
[]
[null,"Industrial Sector CO2",null,2006]
[null,null,"Total ","Non-Energy ",null,"Net combustible "]
[null,null,"Consumption","Consumption",null,"Consumption","Emission Factor","Combustion","Emissions ","Emissions "]
[null,"Fuel Type","(Billion Btu)","(Billion Btu)","Storage Factor (%)","(Billion Btu)","(lbs C/Million Btu)","Efficiency (%)","(short tons carbon)","(MMTCO2E)"]
[null,"Coking Coal",0,0,0.1,{"$f":"C8-(D8*E8)","v":0},56.195454545454538,1,{"$f":"(F8*1000*G8*H8)/2000","v":0},{"$f":"I8*(44/12)*0.90718/1000000","v":0}]
[null,"Other Coal",30430.66779,307.25402853954921,0,30430.66779,56.852727272727272,1,865033.22829591809,2.8773830948334669]
[null,"Asphalt and Road Oil",19576.189249999999,19576.189249999999,1,0,45.418502202643168,1,0,0]
[null,"Aviation Gasoline Blending Components",0,0,0,0,41.563876651982376,1,{"$f":"F11*G11*H11/2000","v":0},0]
[null,"Crude Oil",0,0,0,0,44.823453232864388,1,0,0]
[null,"Distillate Fuel",12446.073039999999,118.8273577409505,0.5,12386.659361129525,43.942731277533035,1,{"$f":"(F13*1000*G13*H13)/2000","v":272151.82186622685},0.90526586245554674]
[null,"Feedstocks, Naphtha less than 401 F",726.11391000000003,715.1466275548712,0.61918625610433442,283.3049471186585,39.955947136563871,1,5659.858745300071,1.8826539074058166E-2]
[null,"Feedstocks, Other Oils greater than 401 F",912.92358999999999,661.47104106953759,0.61918625610433442,503.34981255871656,43.942731277533035,1,11059.282775932152,3.6786787211790468E-2]
[null,"Kerosene",172.24553,0,0,172.24553,43.436123348017617,1,3740.8390436123345,1.2443252666475536E-2]
[null,"LPG",3241.0028299999999,2263.7016790260022,0.61918625610433442,1839.3498624267938,37.454057213788957,1,34445.557491753993,0.11457717643302107]
[null,"Lubricants",2154.1493500000001,2154.1493500000001,9.2393732597307904E-2,1955.1194509814354,44.581497797356818,1,43581.076748749168,0.144964897751411]
[null,"Motor Gasoline",5174.2152900000001,0,0,5174.2152900000001,42.62265,1,110269.38366515926,0.36679199140231694]
[null,"Motor Gasoline Blending Components",0,0,0,0,42.62265,1,{"$f":"F20*G20*H20/2000","v":0},0]
[null,"Misc. Petro Products",157.07159999999999,157.07159999999999,0,157.07159999999999,44.823453232864388,1,{"$f":"(F21*1000*G21*H21)/2000","v":3520.2457584055905},1.170948733940474E-2]
[null,"Petroleum Coke",0,0,0.5,0,61.343612334801762,1,{"$f":"F22*G22*H22/2000","v":0},0]
[null,"Pentanes Plus",161.77572000000001,122.04430006839266,0.61918625610433442,86.207566761777997,40.176211453744486,1,{"$f":"(F23*1000*G23*H23)/2000","v":1731.746715566994},5.7603552799029073E-3]
[null,"Residual Fuel",4766.90751,0,0.5,4766.90751,47.33480176211453,1,112820.31100209249,0.37527720902788697]
[null,"Still Gas",0,0,0.8,0,38.568281938325988,1,{"$f":"F25*G25*H25/2000","v":0},0]
[null,"Special Naphthas",3076.9398200000001,3034.4904438139852,0,3076.9398200000001,43.744493392070481,1,{"$f":"(F26*1000*G26*H26)/2000","v":67299.586811894274},0.22386041026805226]
[null,"Unfinished Oils",0,0,0,0,44.823453232864388,1,{"$f":"F27*G27*H27/2000","v":0},0]
[null,"Waxes",241.17277999999999,241.17277999999999,0.57999999999999996,101.29256760000001,43.63436123348017,1,{"$f":"(F28*1000*G28*H28)/2000","v":2209.9182424625551},7.3509099810563291E-3]
[null,"Natural Gas",23810.834429999999,1279.7490342444869,0.61918625610433442,23018.431416733016,31.872246696035241,1,366824.56233494135,1.2201783236830441]
[null,null,null,null,null,null,null,"Total",{"$f":"SUM(I8:I29)","v":1900347.4194980152},6.321176297407435]
[]
[]
[]
[null,"Industrial Sector N2O",null,2006]
[null,null,"Total ","Non-Energy ",null,null,null,null,null,"Global Warming Potential"]
[null,null,"Consumption","Consumption","Emission Factor","Emissions","GWP","Emissions "]
[null,"Fuel Type","(Billion Btu)","(Billion Btu)","(metric tons N2O/BBtu)","(metric tons N2O)",null,"(MMTCO2E)",null,"CO2_GWP=",{"$f":"'Summ GHG Rpt Expanded'!G4","v":1}]
[null,"Coking Coal",0,0,1.5034545899835E-3,{"$f":"(C38-D38)*E38","v":0},{"$f":"$K$39","v":265},{"$f":"F38*G38/1000000","v":0},null,"CH4_GWP =",{"$f":"'Summ GHG Rpt Expanded'!G5","v":28}]
[null,"Other Coal",30430.66779,307.25402853954921,1.5034545899835E-3,45.289184685639846,265,1.2001633941694559E-2,null,"N2O_GWP=",{"$f":"'Summ GHG Rpt Expanded'!G6","v":265}]
[null,"Asphalt and Road Oil",19576.189249999999,19576.189249999999,6.0138183599339984E-4,0,265,0,null,"SF6_GWP =",{"$f":"'Summ GHG Rpt Expanded'!G7","v":23500}]
[null,"Aviation Gasoline Blending Components",0,0,6.0138183599339984E-4,0,265,0,null,"PFCs_GWP=",{"$f":"'Summ GHG Rpt Expanded'!G8","v":11100}]
[null,"Crude Oil",0,0,6.0138183599339984E-4,0,265,0]
[null,"Distillate Fuel",12446.073039999999,118.8273577409505,6.0138183599339984E-4,7.4133816411386571,265,1.964546134901744E-3]
[null,"Feedstocks, Naphtha less than 401 F",726.11391000000003,715.1466275548712,6.0138183599339984E-4,6.5955244527097596E-3,265,1.7478139799680863E-6]
[null,"Feedstocks, Other Oils greater than 401 F",912.92358999999999,661.47104106953759,6.0138183599339984E-4,0.15121899554102169,265,4.0073033818370746E-5]
[null,"Kerosene",172.24553,0,6.0138183599339984E-4,0.10358533307305623,265,2.74501132643599E-5]
[null,"LPG",3241.0028299999999,2263.7016790260022,6.0138183599339984E-4,0.58773116049120555,265,1.5574875753016949E-4]
[null,"Lubricants",2154.1493500000001,2154.1493500000001,6.0138183599339984E-4,0,265,0]
[null,"Motor Gasoline",5394.6696899999997,0,6.0138183599339984E-4,3.2442563627501451,265,8.5972793612878844E-4]
[null,"Motor Gasoline Blending Components",0,0,6.0138183599339984E-4,0,265,0]
[null,"Misc. Petro Products",157.07159999999999,157.07159999999999,6.0138183599339984E-4,0,265,0]
[null,"Petroleum Coke",0,0,6.0138183599339984E-4,0,265,0]
[null,"Pentanes Plus",161.77572000000001,122.04430006839266,6.0138183599339984E-4,2.389375426509479E-2,265,6.3318448802501189E-6]
[null,"Residual Fuel",4766.90751,0,6.0138183599339984E-4,2.8667315903745259,265,7.5968387144924928E-4]
[null,"Still Gas",0,0,6.0138183599339984E-4,0,265,0]
[null,"Special Naphthas",3076.9398200000001,3034.4904438139852,6.0138183599339984E-4,2.5528283787520138E-2,265,6.7649952036928366E-6]
[null,"Unfinished Oils",0,0,6.0138183599339984E-4,0,265,0]
[null,"Waxes",241.17277999999999,241.17277999999999,6.0138183599339984E-4,0,265,0]
[null,"Natural Gas",23810.834429999999,1279.7490342444869,9.4955026735800017E-5,2.1394398161405581,265,5.6695155127724781E-4]
[null,"Wood",12165.362289999999,"NA",3.7982010694320003E-3,{"$f":"C60*E60","v":46.206492059905727},265,1.2244720395875017E-2]
[null,null,null,null,null,null,"Total",{"$f":"SUM(H38:H60)","v":2.863538039000342E-2}]
[]
[]
[]
[null,"Industrial Sector CH4",null,2006]
[null,null,"Total ","Non-Energy "]
[null,null,"Consumption","Consumption","Emission Factor","Emissions ","GWP","Emissions "]
[null,"Fuel Type","(Billion Btu)","(Billion Btu)","(metric tons CH4 /BBtu)","(metric tons CH4)",null,"(MMTCO2E)"]
[null,"Coking Coal",0,0,1.0023030599889999E-2,{"$f":"(C69-D69)*E69","v":0},{"$f":"$K$38","v":28},{"$f":"F69*G69/1000000","v":0}]
[null,"Other Coal",30430.66779,307.25402853954921,1.0023030599889999E-2,301.92789790426559,28,8.4539811413194364E-3]
[null,"Asphalt and Road Oil",19576.189249999999,19576.189249999999,3.006909179967E-3,0,28,0]
[null,"Aviation Gasoline Blending Components",0,0,3.006909179967E-3,0,28,0]
[null,"Crude Oil",0,0,3.006909179967E-3,0,28,0]
[null,"Distillate Fuel",12446.073039999999,118.8273577409505,3.006909179967E-3,37.066908205693295,28,1.0378734297594124E-3]
[null,"Feedstocks, Naphtha less than 401 F",726.11391000000003,715.1466275548712,3.006909179967E-3,3.2977622263548806E-2,28,9.2337342337936654E-7]
[null,"Feedstocks, Other Oils greater than 401 F",912.92358999999999,661.47104106953759,3.006909179967E-3,0.75609497770510858,28,2.1170659375743038E-5]
[null,"Kerosene",172.24553,0,3.006909179967E-3,0.51792666536528131,28,1.4501946630227876E-5]
[null,"LPG",3241.0028299999999,2263.7016790260022,3.006909179967E-3,2.9386558024560285,28,8.2282362468768795E-5]
[null,"Lubricants",2154.1493500000001,2154.1493500000001,3.006909179967E-3,0,28,0]
[null,"Motor Gasoline",5394.6696899999997,0,3.006909179967E-3,16.221281813750728,28,4.5419589078502041E-4]
[null,"Motor Gasoline Blending Components",0,0,3.006909179967E-3,0,28,0]
[null,"Misc. Petro Products",157.07159999999999,157.07159999999999,3.006909179967E-3,0,28,0]
[null,"Petroleum Coke",0,0,3.006909179967E-3,0,28,0]
[null,"Pentanes Plus",161.77572000000001,122.04430006839266,3.006909179967E-3,0.11946877132547397,28,3.3451255971132711E-6]
[null,"Residual Fuel",4766.90751,0,3.006909179967E-3,14.333657951872633,28,4.0134242265243368E-4]
[null,"Still Gas",0,0,3.006909179967E-3,0,28,0]
[null,"Special Naphthas",3076.9398200000001,3034.4904438139852,3.006909179967E-3,0.12764141893760073,28,3.5739597302528205E-6]
[null,"Unfinished Oils",0,0,3.006909179967E-3,0,28,0]
[null,"Waxes",241.17277999999999,241.17277999999999,3.006909179967E-3,0,28,0]
[null,"Natural Gas",23810.834429999999,1279.7490342444869,9.4955026735800007E-4,21.394398161405576,28,5.9904314851935616E-4]
[null,"Wood",12165.362289999999,"NA",2.8486508020740004E-2,{"$f":"C91*E91","v":346.54869044929296},28,9.7033633325802043E-3]
[null,null,null,null,null,null,"Total",{"$f":"SUM(H69:H91)","v":2.0775596792841342E-2}]
[]
[]
[]
[null,"Industrial Sector GHG",null,2006]
[null,null,"Total ","Non-Energy ","CO2","CH4","N2O","GHG"]
[null,null,"Consumption","Consumption","Emissions ","Emissions ","Emissions ","Emissions "]
[null,"Fuel Type","(Billion Btu)","(Billion Btu)","(MMTCO2E)","(MMTCO2E)","(MMTCO2E)","(MMTCO2E)"]
[null,"Coking Coal",0,0,0,0,0,{"$f":"SUM(E100:G100)","v":0}]
[null,"Other Coal",30430.66779,307.25402853954921,2.8774465306035415,6.3404858559895777E-3,1.4039647252548351E-2,2.8978266637120793]
[null,"Asphalt and Road Oil",19576.189249999999,19576.189249999999,0,0,0,0]
[null,"Aviation Gasoline Blending Components",0,0,0,0,0,0]
[null,"Crude Oil",0,0,0,0,0,0]
[null,"Distillate Fuel",12446.073039999999,118.8273577409505,0.90528582025581705,7.7840507231955922E-4,2.2981483087529835E-3,0.90836237363688954]
[null,"Feedstocks, Naphtha less than 401 F",726.11391000000003,715.1466275548712,1.8826954130366155E-2,6.9253006753452496E-7,2.0446125803400259E-6,1.8829691273014031E-2]
[null,"Feedstocks, Other Oils greater than 401 F",912.92358999999999,661.47104106953759,3.678759822586071E-2,1.5877994531807281E-5,4.6877888617716728E-5,3.6850354109010233E-2]
[null,"Kerosene",172.24553,0,1.2443526994672069E-2,1.0876459972670908E-5,3.2111453252647428E-5,1.2486514907897386E-2]
[null,"LPG",3241.0028299999999,2263.7016790260022,0.11457970244057047,6.1711771851576596E-5,1.8219665975227373E-4,0.11482361087217433]
[null,"Lubricants",2154.1493500000001,2154.1493500000001,0.14496809369703922,0,0,0.14496809369703922]
[null,"Motor Gasoline",5394.6696899999997,0,0.36680007782378576,3.4064691808876528E-4,1.0057194724525449E-3,0.36814644421432707]
[null,"Motor Gasoline Blending Components",0,0,0,0,0,0]
[null,"Misc. Petro Products",157.07159999999999,157.07159999999999,1.1709745490760357E-2,0,0,1.1709745490760357E-2]
[null,"Petroleum Coke",0,0,0,0,0,0]
[null,"Pentanes Plus",161.77572000000001,122.04430006839266,5.7604822746620491E-3,2.5088441978349531E-6,7.4070638221793847E-6,5.7703981826820634E-3]
[null,"Residual Fuel",4766.90751,0,0.37528548251736049,3.010068169893253E-4,8.8868679301610306E-4,0.37647517612736592]
[null,"Still Gas",0,0,0,0,0,0]
[null,"Special Naphthas",3076.9398200000001,3034.4904438139852,0.22386534557108512,2.6804697976896153E-6,7.913767974131244E-6,0.22387593980885692]
[null,"Unfinished Oils",0,0,0,0,0,0]
[null,"Waxes",241.17277999999999,241.17277999999999,7.3510720417274437E-3,0,0,7.3510720417274437E-3]
[null,"Natural Gas",23810.834429999999,1279.7490342444869,1.2202052241509489,4.4928236138951707E-4,6.6322634300357297E-4,1.221317732855342]
[null,"Wood",12165.362289999999,"NA",0,7.2775224994351519E-3,1.4324012538570775E-2,2.1601535038005926E-2]
[null,null,null,null,null,null,"Total",{"$f":"SUM(H100:H122)","v":6.3703953459671725}]
[]
[]
[]
[null,"- Default state synthetic natural gas data obtained from Table 12 of EIA’s Historical Natural Gas Annual (EIA 2009), and Table 8 for Natural Gas Annual publications from 2001-2007 http://www.eia.doe.gov/oil_gas/natural_gas/data_publications/natural_gas_annual/nga.html"]

{"sheet":"LimeT&DSodaODS","index":8,"n_rows":57,"n_cols":16,"rows_kept":57,"cut":false,"hidden":false,"merged":[[3,14,3,15]]}
["Limestone & Dolomite; Soda Ash; Ammonia & Urea; ODS; Electric Power T&D Summary (MTCO2E)"]
[]
[null,null,"Limestone and Dolomite Use"]
[null,null,null,"Consumption\n(Metric Tons)",null,"Emission Factor\n(t CO2/t production)",null,"Emissions\n(MTCE)",null,"Emissions\n(MTCO2E)",null,null,null,null,"Global Warming Potential"]
[null,null,"Limestone",258957.25360303544,"x",0.44,"=",{"$f":"J5*12/44","v":31074.870432364252},"=",{"$f":"IF(ISERROR(D5*F5),0,D5*F5)","v":113941.19158533559}]
[null,null,"Dolomite",0,"x",0.48400000000000004,"=",0,"=",0,null,null,null,null,"CO2_GWP=",{"$f":"'Summ GHG Rpt Expanded'!G4","v":1}]
[null,null,"Magesium Production from Dolomite",null,"x",1.7966666666666669,"=",0,"=",0,null,null,null,null,"CH4_GWP =",{"$f":"'Summ GHG Rpt Expanded'!G5","v":28}]
[null,null,null,null,null,null,null,null,null,null,null,null,null,null,"N2O_GWP=",{"$f":"'Summ GHG Rpt Expanded'!G6","v":265}]
[null,null,"Soda Ash Use",null,null,null,null,null,null,null,null,null,null,null,"SF6_GWP =",{"$f":"'Summ GHG Rpt Expanded'!G7","v":23500}]
[null,null,null,"Manufacture and Consumption\n(Metric tons)",null,"Emission Factor\n(t CO2/t production)",null,"Emissions\n(MTCE)",null,"Emissions\n(MTCO2E)",null,null,null,null,"PFCs_GWP=",{"$f":"'Summ GHG Rpt Expanded'!G8","v":11100}]
[null,null,"Manufacture",0,"x",9.74E-2,"=",{"$f":"J11*12/44","v":0},"=",{"$f":"IF(ISERROR(D11*F11),0,D11*F11)","v":0}]
[null,null,"Consumption",114725.34958283848,"x",0.41499999999999998,"=",12984.823657330357,"=",47611.020076877969]
[]
[null,null,"Ammonia Production and Urea Consumption"]
[null,null,null,"Production & Consumption\n(Metric Tons)",null,"Emission Factor\n(mt CO2/mt activity)",null,"Subract emissions from Urea",null,"Emissions\n(MTCE)",null,"Emissions\n(MTCO2E)"]
[null,null,"Ammonia Production ",0,"x",1.2,"- (",{"$f":"D17*F17","v":626.98079697975709},") =",{"$f":"L16*12/44","v":0},"=",{"$f":"IF(D16>0,D16*F16-(H16),0)","v":0}]
[null,null,"Urea Consumption",858.87780408185904,null,0.73,null,null,"   =",170.99476281266104,"=",{"$f":"D17*F17","v":626.98079697975709}]
[]
[]
[null,null,"Ozone Depleting Substances (ODS) Substitutes"]
[null,null,null," National Emissions\n(Metric Tons CO2 Eq.)",null,"State Population",null,"National Population",null,"Apportioned National Emissions\n(MTCE)",null,"Apportioned National Emissions\n(MTCO2E)"]
[null,null,2006,104985827.14000005,"x",5602258,"/",298362973,"=",{"$f":"L22*12/44","v":537622.48414878547},"=",{"$f":"D22*F22/H22","v":1971282.4418788801}]
[]
[]
[null,null,"Electric Power Transmission & Distribution (T&D)"]
[null,null,null,"SF6 Consumption\n(Metric Tons)",null,"Emission Factor\n(t SF6/t Consumption)",null,"Emissions\n(Metric Tons SF6)",null,"Emissions ",null,"Emissions\n(MTCO2E)"]
[null,null,2006,9.5072211500670711,"x",1,"=",{"$f":"IF(ISERROR(D27*F27), ,D27*F27)","v":9.5072211500670711},"=",{"$f":"H27*$P$9*12/44","v":60932.644643611689},"=",{"$f":"J27/(12/44)","v":223419.69702657621}]
[]
[]
[null,null,"Aluminum Production (EastAlCo Shut Down)"]
[null,null,null,"Production\n(Metric Tons)",null,"Emission Factor\n(t CE/t Production)",null,null,null,"Emissions\n(MTCE)",null,"Emissions\n(MTCO2E)"]
[null,null,2006,0,"x",0.42545454545454542,"=",null,null,{"$f":"IF(ISERROR(D32*F32),0,D32*F32)","v":0},"=",{"$f":"J32/(12/44)","v":0}]
[]
[]
[]
[]
[]
[]
[null,null,null,2006]
[null,null,"Carbon Dioxide Emissions",{"$f":"D41+D42+D43+D44+D45+D46","v":162179.19245919332}]
[null,null,"Cement Manufacture",0]
[null,null,"Lime Manufacture",0]
[null,null,"Limestone and Dolomite Use",{"$f":"J5","v":113941.19158533559}]
[null,null,"Soda Ash",{"$f":"J12","v":47611.020076877969}]
[null,null,"Ammonia & Urea",{"$f":"L17","v":626.98079697975709}]
[null,null,"Iron & Steel Production",0]
[null,null,"Nitrous Oxide Emissions",{"$f":"D48+D49","v":0}]
[null,null,"Nitric Acid Production",0]
[null,null,"Adipic Acid Production",0]
[null,null,"HFC, PFC, and SF6 Emissions",{"$f":"D51+D52+D53+D54+D55+D56","v":2194702.1389054563}]
[null,null,"ODS Substitutes",{"$f":"L22","v":1971282.4418788801}]
[null,null,"Semiconductor Manufacturing",0]
[null,null,"Magnesium Production",0]
[null,null,"Electric Power Transmission and Distribution Systems",{"$f":"L27","v":223419.69702657621}]
[null,null,"HCFC-22 Production",0]
[null,null,"Aluminum Production",{"$f":"L32","v":0}]
[null,null,"Total Emissions",{"$f":"D40+D47+D50","v":2356881.3313646498}]

{"sheet":"Cement","index":9,"n_rows":112,"n_cols":13,"rows_kept":112,"cut":false,"hidden":false,"merged":[[45,2,45,5],[47,2,47,5]]}
["Cement Industry Production Emissions"]
[]
[null,null,null,"WSC Methodology used in Emission Certification Reports."]
[]
[]
[]
[null,null,"CO2 from Raw Meal Converted to Clinker"]
[null,null,null,"Holcim","Lehigh","Essroc","MD Total"]
[null,null,"Facility:"]
[]
[null,null,"Year",2006,2006,2006]
[]
[null,null,"Clinker Produced (metric tonnes)",557447,1917452,218353,{"$f":"SUM(D13:F13)","v":2693252}]
[]
[null,null,"Calcination Emission Factor ( kg CO2/ tonnes Clinker)",525,540,525]
[]
[null,null,"Clinker CO2 Emission (tonnes CO2/yr)",{"$f":"(D13*D15)/1000","v":292659.67499999999},1035424.08,114635.325,{"$f":"SUM(D17:F17)","v":1442719.0799999998}]
[]
[]
[null,null,"CO2 from Calcination of CKD leaving the Kiln system"]
[]
[]
[null,null,"CKD Produced (metric tonnes)",17474,0,699.45,{"$f":"SUM(D23:F23)","v":18173.45}]
[]
[null,null,"CKD Emission Factor ( t CO2/ tonnes CKD)",{"$f":"525/1000","v":0.52500000000000002},0.52500000000000002,0.52500000000000002]
[]
[null,null,"Calcination rate of CKD [%]-Default ",1,1,1]
[]
[null,null,"CKD CO2 Emission (tonnes CO2/yr)",{"$f":"D23*D25*D27","v":9173.85},0,{"$f":"F23*F25*F27","v":367.21125000000006},{"$f":"SUM(D29:F29)","v":9541.0612500000007}]
[]
[]
[null,null,"CO2 from Organic Carbon Content of Raw Meal"]
[]
[]
[null,null,"Clinker Produced (metric tonnes)",557447,1917452,218353]
[]
[null,null," Raw Meal to Clinker Ratio (Default)",1.55,1.55,1.78]
[]
[null,null,"Raw Meal Consumption (metric tonnes)",{"$f":"D35*D37","v":864042.85},2972050.6,388668.34]
[]
[null,null,"Organic Carbon Content of Raw Meal (Average)",2E-3,2E-3,2E-3]
[]
[null,null," CO2 Emission (tonnes CO2/yr)",{"$f":"(D39*D41)*(44/12)","v":6336.3142333333335},21795.037733333334,2850.2344933333338,{"$f":"SUM(D43:F43)","v":30981.586460000002}]
[]
[]
[null,null,"                                                                        MD Total Cement Process CO2 (metric tonnes) = ",null,null,null,{"$f":"G17+G29+G43","v":1483241.7277099998}]
[]
[null,null,"                                            MD Total Cement Process CO2 (million metric tonnes CO2 Equivalent) = ",null,null,null,{"$f":"G46/1000000","v":1.4832417277099998}]
[]
[]
[]
[]
[]
[]
[]
[]
[]
[]
[]
[null,null,null,"SIT Methodology"]
[]
[]
[null,"Production",null,"Emission Factor",null,"Emissions ",null,"Emissions from Cement Kiln Dust",null,"Emissions ",null,"Emissions ","Emissions "]
[null,"(Metric Tons)",null,"(t CO2/t production)",null,"(Metric Tons CO2)",null,"(Metric Tons CO2)",null,"(MTCE)",null,"(MTCO2E)","(MMTCO2E)"]
[]
[null,{"$f":"G13","v":2693252},"x",0.50696255349500718,"=",{"$f":"B66*D66","v":1365377.9111255351},"+",{"$f":"F66*20%","v":273075.58222510706},"=",{"$f":"L66*(12/44)","v":446850.95273199334},"=",{"$f":"F66+H66","v":1638453.4933506423},{"$f":"L66/1000000","v":1.6384534933506423}]
[null,"(Clinker)"]
[]
[]
[]
[]
[]
[]
[]
[]
[]
[]
[null,null,"CO2 from Raw Meal Converted to Clinker"]
[null,null,null,"MD Total"]
[null,null,"Year",2006]
[]
[null,null,"Clinker Produced (metric tonnes)",2693252]
[]
[null,null,"Calcination Emission Factor ( kg CO2/ tonnes Clinker)",530]
[]
[null,null,"Clinker CO2 Emission (tonnes CO2/yr)",1442719.08]
[]
[null,null,"CO2 from Calcination of CKD leaving the Kiln system"]
[]
[null,null,"CKD Produced (metric tonnes)",18173.45]
[]
[null,null,"CKD Emission Factor ( t CO2/ tonnes CKD)",0.52500000000000002]
[]
[null,null,"Calcination rate of CKD [%]-Default ",1]
[]
[null,null,"CKD CO2 Emission (tonnes CO2/yr)",9541.0612500000007]
[]
[null,null,"CO2 from Organic Carbon Content of Raw Meal"]
[]
[null,null,"Clinker Produced (metric tonnes)",2693252]
[]
[null,null," Raw Meal to Clinker Ratio (Default)",1.6266666666666667]
[]
[null,null,"Raw Meal Consumption (metric tonnes)",4381023.2533333339]
[]
[null,null,"Organic Carbon Content of Raw Meal (Average)",2E-3]
[]
[null,null," CO2 Emission (tonnes CO2/yr)",30981.586460000002]
[]
[null,null,"MD Total Cement Process CO2 (metric tonnes) ",1483241.7277099998]
[]
[null,null,"MD Total Cement Process CO2 (million metric tonnes CO2 Equivalent) ",1.4832417277099998]

{"sheet":"Ammonia & Urea Consumption","index":10,"n_rows":8,"n_cols":10,"rows_kept":8,"cut":false,"hidden":false,"merged":[]}
["Ammonia Production and Urea Consumption"]
[]
[null,null,null,"Production & Consumption","Emission Factor",null,"Subract emissions",null,"Emissions ","Emissions "]
[null,null,null,"(Metric Tons)","(mt CO2/mt activity)",null," from Urea",null,"(MTCO2E)","(MMTCO2E)"]
[]
[]
[null,2006,"Ammonia Production ",0,1.2,null,{"$f":"D8*E8","v":627.06999999999994},null,{"$f":"IF(D7>0,D7*E7-(G7),0)","v":0}]
[null,18,"Urea Consumption",859,0.73,null,null,null,{"$f":"D8*E8","v":627.06999999999994},{"$f":"I8/1000000","v":6.2706999999999997E-4}]

{"sheet":"Iron And Steel","index":11,"n_rows":15,"n_cols":13,"rows_kept":15,"cut":false,"hidden":false,"merged":[]}
["Iron & Steel Industry Production Emissions"]
[]
[]
[null,null,null,null,2008,null,null,null,null,2006]
[]
[null,null,null,"Product","Production","CO2 Emission","Carbon","CH4 Emission ","N2O Emission","Production","CO2 Emission","CO2 Emission","CO2 Emission"]
[null,null,null,null,"(tons)","(tons)","Intensity","(tons)","(tons)","(tons)","(tons)","(metric tons)","MMTCO2E"]
[]
[null,null,"Sinter Strand","Sinter",2431393,609888,{"$f":"F9/E9","v":0.25083892237906419},3940,null,2491713,{"$f":"G9*J9","v":625018.60379790515},{"$f":"K9*0.9072","v":567016.87736545957},{"$f":"L9/1000000","v":0.56701687736545958}]
[]
[null,null,"L Blast Furnace","Iron",2493066,3019471,{"$f":"F11/E11","v":1.211147639091785},null,null,2545136,{"$f":"G11*J11","v":3082535.4575675093},{"$f":"K11*0.9072","v":2796476.1671052445},{"$f":"L11/1000000","v":2.7964761671052445}]
[]
[null,null,"BOF","Steel",2692020,246133,{"$f":"F13/E13","v":9.1430598583962977E-2},null,null,2816577,{"$f":"G13*J13","v":257521.32106782269},{"$f":"K13*0.9072","v":233623.34247272875},{"$f":"L13/1000000","v":0.23362334247272876}]
[]
[null,null,null,null,null,null,null,null,null,null,null,{"$f":"SUM(L9:L14)","v":3597116.386943433},3.5971163869434326]

{"sheet":"Landfills","index":12,"n_rows":104,"n_cols":24,"rows_kept":104,"cut":false,"hidden":false,"merged":[[91,16,91,20],[101,16,101,20],[102,16,102,20],[103,16,103,20],[92,16,92,20],[93,16,93,20],[94,16,94,20],[95,16,95,20],[96,16,96,20],[97,16,97,20],[99,16,99,20],[98,16,98,20],[100,16,100,20],[86,16,86,20],[87,16,87,20],[88,16,88,20],[89,16,89,20],[90,16,90,20],[86,12,86,13],[84,6,84,9],[85,6,85,9],[86,6,86,9],[81,6,81,9],[82,6,82,9],[82,12,82,13],[83,6,83,9],[81,16,81,20],[79,2,79,3],[83,12,83,13],[84,12,84,13],[85,12,85,13],[82,16,82,20],[83,16,83,20],[84,16,84,20],[85,16,85,20],[79,6,79,9],[79,12,79,13],[79,16,79,20],[80,6,80,9],[80,12,80,13],[80,16,80,20]]}
["Landfill Emissions"]
[]
[null,null,null,null,null,null,null,null,"Uncontrolled Landfills"]
[null,null,null,null,null,null,null,null,"Flared Landfills"]
[null,null,null,null,null,null,null,null,"LFTGE Landfills"]
[]
[]
[null,"County","Facility Name","TOTAL Landfill Capacity (Million tons)","Correct Capacity (MegaGrams)","Average Acceptance / Yearly Disposal (tons/yr)","Average Acceptance / Yearly Disposal (Mg/yr)","Year Opened","Year Closed","CO2 Generation (short tons) LandGEM 3.0","CH4 Generation (short tons/yr) LandGEM 3.0","CH4 Collection Efficiency (%)","CH4 Collected (tons)","Flare Control Efficeincy (%)","Amount of CH4 Flared (tons)","CO2 Generated from CH4 Combustion, tons","Uncombusted CH4  (Flare Emission, tons)  ","Uncollected Landfill  CH4","Surface Oxidation %","Amount of CH4 Removed By Oxidation (tons)","Fugitive Landfill CH4 Emission (tons)","Total  CH4 Emission, tons ","Total methane emissions (CO2e) ","Total GHG Emissions (tons)"]
[]
[null,"Allegany","Mountainview Municipal Landfill",4.26,{"$f":"D10*1000000*0.9071847","v":3864606.8219999997},125000,{"$f":"F10*0.9071847","v":113398.08749999999},1992,2015,9505,3464,0.8,{"$f":"K10*L10","v":2771.2000000000003},0.98,{"$f":"M10*N10","v":2715.7760000000003},{"$f":"O10*2.75","v":7468.3840000000009},{"$f":"M10*(1-N10)","v":55.424000000000056},{"$f":"K10*(1-L10)","v":692.79999999999984},0.1,{"$f":"R10*S10","v":69.279999999999987},{"$f":"R10*(1-S10)","v":623.51999999999987},{"$f":"U10+Q10","v":678.94399999999996},{"$f":"V10*$D$83","v":19010.432000000001},{"$f":"J10+P10+W10","v":35983.816000000006}]
[null,null,"Vale Summit",1.5,1360777.05,75000,68038.852499999994,1971,1992,4319,1574,null,null,null,null,null,null,{"$f":"K11","v":1574},0.1,157.4,1416.6000000000001,{"$f":"U11","v":1416.6000000000001},{"$f":"V11*$D$83","v":39664.800000000003},{"$f":"J11+W11","v":43983.8}]
[]
[null,"Anne Arundel","Annapolis",0.85,{"$f":"D13*1000000*0.9071847","v":771106.995},23000,{"$f":"F13*0.9071847","v":20865.248100000001},1960,1993,2306,840.3,null,null,null,null,null,null,{"$f":"K13","v":840.3},0.1,{"$f":"R13*S13","v":84.03},{"$f":"R13*(1-S13)","v":756.27},{"$f":"U13","v":756.27},21175.559999999998,{"$f":"J13+W13","v":23481.559999999998}]
[null,null,"Fort G. Meade Municipal Landfill",0.67,607813.74899999995,11000,9979.0316999999995,1976,1996,3757,1369,null,null,null,null,null,null,1369,0.1,136.9,1232.1000000000001,1232.1000000000001,34498.800000000003,38255.800000000003]
[null,null,"Millersville Municipal Landfill",14.3,12972741.209999999,358288,325033.39179359999,1975,2060,18620,6787,0.95599999999999996,{"$f":"K15*L15","v":6488.3719999999994},0.99909999999999999,{"$f":"M15*N15","v":6482.532465199999},{"$f":"O15*2.75","v":17826.964279299998},{"$f":"M15*(1-N15)","v":5.8395348000000764},{"$f":"K15*(1-L15)","v":298.62800000000027},0.1,29.862800000000028,268.76520000000028,{"$f":"U15+Q15","v":274.60473480000036},7688.9325744000098,26308.932574400009]
[null,null,"Sudley Road",0.7,635029.28999999992,61000,55338.2667,1982,1993,2723,992.3,null,null,null,null,null,null,{"$f":"K16","v":992.3},0.1,99.23,893.06999999999994,{"$f":"U16","v":893.06999999999994},25005.96,27728.959999999999]
[null,null,"Solley Road",null,1122641.432,null,null,1963,1982,{"$f":"2485","v":2485},{"$f":"905.8","v":905.8},{"$f":"8.61%","v":8.6099999999999996E-2},{"$f":"K17*L17","v":77.989379999999997},0.99909999999999999,{"$f":"M17*N17","v":77.919189557999999},{"$f":"O17*2.75","v":214.27777128450001},{"$f":"M17*(1-N17)","v":7.0190442000000922E-2},{"$f":"K17*(1-L17)","v":827.81061999999997},0.1,82.781062000000006,745.02955799999995,{"$f":"U17+Q17","v":745.09974844199996},20862.792956375997,23347.792956375997]
[null,null,"Glen Burnie",null,3487273,null,null,1953,1982,{"$f":"7040","v":7040},{"$f":"2566","v":2566},null,null,null,null,null,null,{"$f":"K18","v":2566},0.1,256.60000000000002,2309.4,{"$f":"U18","v":2309.4},64663.200000000004,71703.200000000012]
[]
[null,null,null,null,null,null,null,null,null,null,null,null,null,null,null,null,null,null,null,{"$f":"R20*S20","v":0}]
[null,"Baltimore City","Quarantine Road Municipal Landfill",18.320622,{"$f":"D21*1000000*0.9071847","v":16620187.9728834},523000,{"$f":"F21*0.9071847","v":474457.5981},1985,2019,45940,16740,null,null,null,null,null,null,{"$f":"K21","v":16740},0.1,1674,{"$f":"R21*(1-S21)","v":15066},{"$f":"U21","v":15066},421848,{"$f":"J21+W21","v":467788}]
[null,null,"Eastern Municipal Landfill",22.812999999999999,20695604.561099999,250000,226796.17499999999,1982,2033,{"$f":"14880","v":14880},{"$f":"7802","v":7802},0.85,{"$f":"K22*L22","v":6631.7},0.99199999999999999,{"$f":"M22*N22","v":6578.6463999999996},{"$f":"O22*2.75","v":18091.277599999998},{"$f":"M22*(1-N22)","v":53.053600000000046},{"$f":"K22*(1-L22)","v":1170.3000000000002},0.1,117.03000000000003,1053.2700000000002,{"$f":"U22+Q22","v":1106.3236000000002},30977.060800000007,{"$f":"J22+P22+W22","v":63948.338400000008}]
[null,null,"Norris Farm",null,7259745.9500000002,null,null,1968,1986,{"$f":"19190","v":19190},{"$f":"6995","v":6995},0.21129999999999999,1478.0435,0.98,1448.48263,3983.3272324999998,29.560870000000026,5516.9564999999993,0.1,551.69565,4965.2608499999997,4994.8217199999999,139855.00816,163028.33539249998]
[]
[null,"Calvert","Appeal Municipal Landfill",2.7992900000000001,{"$f":"D25*1000000*0.9071847","v":2539473.058863},20000,{"$f":"F25*0.9071847","v":18143.694},1992,2037,{"$f":"2625","v":2625},{"$f":"956.6","v":956.6},null,null,null,null,null,null,{"$f":"K25","v":956.6},0.1,{"$f":"R25*S25","v":95.660000000000011},{"$f":"R25*(1-S25)","v":860.94},{"$f":"U25","v":860.94},24106.32,{"$f":"J25+W25","v":26731.32}]
[null,null,"Barstow",0.6,544310.81999999995,28000,25401.171599999998,1975,1993,1974,719.3,null,null,null,null,null,null,719.3,0.1,71.929999999999993,647.37,647.37,18126.36,20100.36]
[]
[null,"Caroline","Midshore I Regional Landfill",null,null,null,null,null,null,{"$f":"9484","v":9484},{"$f":"3456","v":3456},0.64,{"$f":"K28*L28","v":2211.84},0.98,{"$f":"M28*N28","v":2167.6032},{"$f":"O28*2.75","v":5960.9088000000002},{"$f":"M28*(1-N28)","v":44.236800000000045},{"$f":"K28*(1-L28)","v":1244.1599999999999},0.1,{"$f":"R28*S28","v":124.416},{"$f":"R28*(1-S28)","v":1119.7439999999999},{"$f":"U28+Q28","v":1163.9808},32591.4624,{"$f":"J28+P28+W28","v":48036.371200000001}]
[]
[null,"Carroll","Hoods Mill",0.5,{"$f":"D30*1000000*0.9071847","v":453592.35},35000,{"$f":"F30*0.9071847","v":31751.464499999998},1981,1994,1767,643.9,null,null,null,null,null,null,{"$f":"K30","v":643.9},0.1,{"$f":"R30*S30","v":64.39},{"$f":"R30*(1-S30)","v":579.51},{"$f":"U30","v":579.51},16226.279999999999,{"$f":"J30+W30","v":17993.28}]
[null,null,"Northern Municpal Landfill",3.5041869999999999,3178944.8323388998,80000,72574.775999999998,1988,2053,8168,2977,7.0199999999999999E-2,{"$f":"K31*L31","v":208.9854},0.97699999999999998,{"$f":"M31*N31","v":204.1787358},{"$f":"O31*2.75","v":561.49152345000005},{"$f":"M31*(1-N31)","v":4.8066642000000046},2977,0.1,297.7,2679.3,2679.3,75020.400000000009,83188.400000000009]
[]
[null,"Cecil","Cecil County Central Landfill - Hog Hill",4.5049999999999999,{"$f":"D33*1000000*0.9071847","v":4086867.0734999999},null,60623.332999999999,1978,2046,{"$f":"9317","v":9317},{"$f":"3396","v":3396},0.8,{"$f":"K33*L33","v":2716.8},0.98,{"$f":"M33*N33","v":2662.4639999999999},{"$f":"O33*2.75","v":7321.7759999999998},{"$f":"M33*(1-N33)","v":54.336000000000055},{"$f":"K33*(1-L33)","v":679.19999999999982},0.1,{"$f":"R33*S33","v":67.919999999999987},{"$f":"R33*(1-S33)","v":611.27999999999986},{"$f":"U33+Q33","v":665.61599999999987},18637.247999999996,{"$f":"J33+P33+W33","v":35276.02399999999}]
[]
[null,"Charles","Charles County Municipal LF #2",4.3746999999999998,{"$f":"D35*1000000*0.9071847","v":3968660.9070899999},82000,{"$f":"F35*0.9071847","v":74389.145399999994},1994,2040,{"$f":"7635","v":7635},{"$f":"2783","v":2783},null,null,null,null,null,null,{"$f":"K35","v":2783},0.1,{"$f":"R35*S35","v":278.3},{"$f":"R35*(1-S35)","v":2504.7000000000003},{"$f":"U35","v":2504.7000000000003},70131.600000000006,{"$f":"J35+W35","v":77766.600000000006}]
[null,null,"Pisgah",1.5,1360777.05,75000,68038.852499999994,1974,1994,5538,2018,null,null,null,null,null,null,2018,0.1,201.8,1816.2,1816.2,50853.599999999999,56391.6]
[]
[null,"Dorchester ","Beulah HE #1",0.8,{"$f":"D38*1000000*0.9071847","v":725747.76},35000,{"$f":"F38*0.9071847","v":31751.464499999998},1973,1995,1723,628,null,null,null,null,null,null,{"$f":"K38","v":628},0.1,{"$f":"R38*S38","v":62.800000000000004},{"$f":"R38*(1-S38)","v":565.20000000000005},{"$f":"U38","v":565.20000000000005},15825.600000000002,{"$f":"J38+W38","v":17548.600000000002}]
[null,null,"Beulah HE #2",4.0999999999999996,3719457.2699999996,null,null,1996,2010,{"$f":"3189","v":3189},{"$f":"1162","v":1162},null,null,null,null,null,null,1162,0.1,116.2,1045.8,1045.8,29282.399999999998,32471.399999999998]
[]
[null,"Frederick","Fort Detrick Municipal Landfill",1.0008999999999999,{"$f":"D41*1000000*0.9071847","v":908001.16622999986},null,{"$f":"F41*0.9071847","v":0},1991,2504,{"$f":"159.8","v":159.80000000000001},{"$f":"58.24","v":58.24},null,null,null,null,null,null,{"$f":"K41","v":58.24},0.1,{"$f":"R41*S41","v":5.8240000000000007},{"$f":"R41*(1-S41)","v":52.416000000000004},{"$f":"U41","v":52.416000000000004},1467.6480000000001,{"$f":"J41+W41","v":1627.4480000000001}]
[null,null,"Reich's Ford A Municpal Landfill",2.1,1905087.8699999999,69200,62777.181239999998,1968,1997,{"$f":"15000","v":15000},{"$f":"5467","v":5467},0.85,{"$f":"K42*L42","v":4646.95},0.85,{"$f":"M42*N42","v":3949.9074999999998},{"$f":"O42*2.75","v":10862.245625},{"$f":"M42*(1-N42)","v":697.04250000000013},{"$f":"K42*(1-L42)","v":820.05000000000007},0.1,82.00500000000001,738.04500000000007,{"$f":"U42+Q42","v":1435.0875000000001},40182.450000000004,{"$f":"J42+P42+W42","v":66044.695625000008}]
[null,null,"Reich's Ford Site B Municipal Landfill",4.2261879999999996,3833933.0929235998,100000,90718.47,1995,2045,{"$f":"404.6","v":404.6},{"$f":"159.7","v":159.69999999999999},null,null,null,null,null,null,{"$f":"K43","v":159.69999999999999},0.1,15.969999999999999,143.72999999999999,143.72999999999999,4024.4399999999996,4429.04]
[]
[null,"Garrett","Garrett County SWD&RF  or  Del Signiore",1.537185,{"$f":"D45*1000000*0.9071847","v":1394510.7130694999},38000,{"$f":"F45*0.9071847","v":34473.018599999996},1994,2028,1964,715.8,null,null,null,null,null,null,{"$f":"K45","v":715.8},0.1,{"$f":"R45*S45","v":71.58},{"$f":"R45*(1-S45)","v":644.22},{"$f":"U45","v":644.22},18038.16,{"$f":"J45+W45","v":20002.16}]
[null,null,"Round Glade",0.8,725747.76,20000,18143.694,1974,1994,2513,916.1,null,null,null,null,null,null,916.1,0.1,91.610000000000014,824.49,824.49,23085.72,25598.720000000001]
[]
[null,"Harford","Harford W.D. Center Municipal Landfill",2.98,{"$f":"D48*1000000*0.9071847","v":2703410.406},74000,{"$f":"F48*0.9071847","v":67131.667799999996},1986,2008,{"$f":"4760","v":4760},{"$f":"1735","v":1735},null,null,null,null,null,null,{"$f":"K48","v":1735},0.1,{"$f":"R48*S48","v":173.5},{"$f":"R48*(1-S48)","v":1561.5},{"$f":"U48","v":1561.5},43722,{"$f":"J48+W48","v":48482}]
[]
[null,"Montgomery","Oaks Landfill",null,null,null,null,null,null,19300,7033,0.93159999999999998,{"$f":"K50*L50","v":6551.9427999999998},0.97,{"$f":"M50*N50","v":6355.3845160000001},{"$f":"O50*2.75","v":17477.307419000001},{"$f":"M50*(1-N50)","v":196.55828400000016},{"$f":"K50*(1-L50)","v":481.05720000000014},0.1,{"$f":"R50*S50","v":48.105720000000019},{"$f":"R50*(1-S50)","v":432.95148000000012},{"$f":"U50+Q50","v":629.50976400000025},17626.273392000006,{"$f":"J50+P50+W50","v":54403.580811000007}]
[null,null,"Gude Landfill",null,null,null,null,null,null,{"$f":"12430","v":12430},{"$f":"4530","v":4530},0.47299999999999998,2142.69,0.97,2078.4092999999998,5715.6255749999991,64.280700000000053,2387.31,0.1,238.73099999999999,2148.5790000000002,2212.8597000000004,61960.07160000001,80105.697175000008]
[]
[null,"Howard","Alpha Ridge",9.9779999999999998,{"$f":"D53*1000000*0.9071847","v":9051888.9365999997},225000,{"$f":"F53*0.9071847","v":204116.5575},1980,2122,11610,4233,0.79,{"$f":"K53*L53","v":3344.07},0.98,{"$f":"M53*N53","v":3277.1886},{"$f":"O53*2.75","v":9012.26865},{"$f":"M53*(1-N53)","v":66.881400000000056},{"$f":"K53*(1-L53)","v":888.92999999999984},0.1,{"$f":"R53*S53","v":88.892999999999986},{"$f":"R53*(1-S53)","v":800.03699999999992},{"$f":"U53+Q53","v":866.91840000000002},24273.715199999999,{"$f":"J53+P53+W53","v":44895.983849999997}]
[]
[null,"Kent","Nicholson",0.6,{"$f":"D55*1000000*0.9071847","v":544310.81999999995},20000,{"$f":"F55*0.9071847","v":18143.694},1964,1992,1575,574,null,null,null,null,null,null,{"$f":"K55","v":574},0.1,{"$f":"R55*S55","v":57.400000000000006},{"$f":"R55*(1-S55)","v":516.6},{"$f":"U55","v":516.6},14464.800000000001,{"$f":"J55+W55","v":16039.800000000001}]
[]
[null,"Prince Georges","Brown Station Landfill 1",7.1,{"$f":"D57*1000000*0.9071847","v":6441011.3700000001},284000,{"$f":"F57*0.9071847","v":257640.45479999998},1968,1993,20280,7393,0.627,{"$f":"K57*L57","v":4635.4110000000001},0.997,{"$f":"M57*N57","v":4621.5047670000004},{"$f":"O57*2.75","v":12709.138109250001},{"$f":"M57*(1-N57)","v":13.906233000000013},{"$f":"K57*(1-L57)","v":2757.5889999999999},0.1,{"$f":"R57*S57","v":275.75889999999998},{"$f":"R57*(1-S57)","v":2481.8301000000001},{"$f":"U57+Q57","v":2495.7363330000003},69880.617324000006,{"$f":"J57+P57+W57","v":102869.75543325001}]
[null,null,"Brown Station Landfill B",16,14514955.199999999,280000,254011.71599999999,1992,2016,27110,9881,0.627,6195.3869999999997,0.997,6176.8008389999995,16986.202307249998,18.586161000000015,3685.6129999999998,0.1,368.56130000000002,3317.0517,3335.6378610000002,93397.860108000008,137494.06241524999]
[null,null,"CDP/Sandy Hill",7.5,6803885.25,280000,254011.71599999999,1978,2000,25620,9336,0.94299999999999995,8803.848,0.98,8627.7710399999996,23726.370360000001,176.07696000000016,532.1520000000005,0.1,53.215200000000053,478.93680000000046,655.01376000000062,18340.385280000017,67686.755640000018]
[null,null,"Saint Andrews 1 & 2 Municipal LF",1.6,1451495.52,34000,30844.2798,1960,2004,5191,1892,null,null,null,null,null,null,{"$f":"K60","v":1892},0.1,189.20000000000002,1702.8,{"$f":"U60","v":1702.8},47678.400000000001,{"$f":"J60+W60","v":52869.4}]
[]
[null,"Somerset","Somerset County Municipal LF or Fairmount Rd",1.61,393341,null,{"$f":"F62*0.9071847","v":0},1998,2023,1136,413.9,null,null,null,null,null,null,{"$f":"K62","v":413.9},0.1,{"$f":"R62*S62","v":41.39},{"$f":"R62*(1-S62)","v":372.51},{"$f":"U62","v":372.51},10430.279999999999,{"$f":"J62+W62","v":11566.279999999999}]
[null,null,"Westover/Ring",null,368200,null,0,1977,1998,1650,601.20000000000005,null,null,null,null,null,null,601.20000000000005,0.1,60.120000000000005,541.08000000000004,541.08000000000004,15150.240000000002,16800.240000000002]
[]
[null,"Talbot","Midshore II Regional Municipal LF",3.7512439999999998,{"$f":"D65*1000000*0.9071847","v":3403071.1627667998},81800,{"$f":"F65*0.9071847","v":74207.708459999994},1991,2010,8456,3082,null,null,null,null,null,null,{"$f":"K65","v":3082},0.1,{"$f":"R65*S65","v":308.20000000000005},{"$f":"R65*(1-S65)","v":2773.8},{"$f":"U65","v":2773.8},77666.400000000009,{"$f":"J65+W65","v":86122.400000000009}]
[]
[null,"Washington","Hancock Landfill",null,89729.73,null,{"$f":"F67*0.9071847","v":0},1981,1993,378.5,138,null,null,null,null,null,null,{"$f":"K67","v":138},0.1,{"$f":"R67*S67","v":13.8},{"$f":"R67*(1-S67)","v":124.2},{"$f":"U67","v":124.2},3477.6,{"$f":"J67+W67","v":3856.1}]
[null,null,"Resh Road 1 & 2 Municipal LF",2.5499999999999998,{"$f":"D68*1000000*0.9071847","v":2313320.9849999999},150000,136077.70499999999,1982,2000,18980,6916,null,null,null,null,null,null,6916,0.1,691.6,6224.4000000000005,6224.4000000000005,174283.2,193263.2]
[null,null,"Forty West",20.273,18391355.423099998,null,0,2000,2047,{"$f":"6634","v":6634},{"$f":"2418","v":2418},null,null,null,null,null,null,2418,0.1,241.8,2176.2000000000003,2176.2000000000003,60933.600000000006,67567.600000000006]
[]
[null,"Wicomico","Newland Park Municipal LF - Wicomico County Landfill",7.2,{"$f":"D71*1000000*0.9071847","v":6531729.8399999999},82000,{"$f":"F71*0.9071847","v":74389.145399999994},1955,2031,{"$f":"9116","v":9116},3322,0.378,{"$f":"K71*L71","v":1255.7160000000001},0.98,{"$f":"M71*N71","v":1230.60168},{"$f":"O71*2.75","v":3384.1546199999998},{"$f":"M71*(1-N71)","v":25.114320000000024},{"$f":"K71","v":3322},0.1,{"$f":"R71*S71","v":332.20000000000005},{"$f":"R71*(1-S71)","v":2989.8},{"$f":"U71","v":2989.8},83714.400000000009,{"$f":"J71+W71","v":92830.400000000009}]
[]
[null,"Worcester","Central Municipal LF- Worcester County Sanitary Landfill",4.8,{"$f":"D73*1000000*0.9071847","v":4354486.5599999996},70000,{"$f":"F73*0.9071847","v":63502.928999999996},1990,2028,{"$f":"2368","v":2368},{"$f":"862.9","v":862.9},null,null,null,null,null,null,{"$f":"K73*(1-L73)","v":862.9},0.1,{"$f":"R73*S73","v":86.29},{"$f":"R73*(1-S73)","v":776.61},{"$f":"U73+Q73","v":776.61},21745.08,{"$f":"J73+P73+W73","v":24113.08}]
[null,null,"Worcester Cell 2 & 3",null,null,null,null,null,null,26360,9608,0.89,{"$f":"K74*L74","v":8551.1200000000008},0.98,{"$f":"M74*N74","v":8380.097600000001},{"$f":"O74*2.75","v":23045.268400000001},{"$f":"M74*(1-N74)","v":171.02240000000018},1056.8799999999999,0.1,105.68799999999999,951.19199999999989,1122.2144000000001,31422.003200000003,80827.271600000007]
[]
[null,null,null,null,null,null,null,null,null,{"$f":"SUM(J10:J75)","v":405180.9},{"$f":"SUM(K10:K75)","v":150061.04},null,null,null,{"$f":"SUM(O10:O74)","v":67035.268462558015},184346.98827203448,1676.7966174420008,null,null,{"$f":"SUM(T10:T75)","v":8281.3676319999977}]
[]
[]
[]
[null,null,"Global Warming Potential",null,null,null,"MSW Generation (short ton CH4)",null,null,null,{"$f":"K76","v":150061.04},null,"Flared CH4 (tons)",null,{"$f":"O10+O15+O17+O22+O23+O28+O31+O33+O42+O53+O59+O71+O74","v":47803.169040558001},null,"Landfill Gas-to-Energy (tons)",null,null,null,null,{"$f":"O50+O51+O57+O58","v":19232.099421999999}]
[null,null,null,null,null,null,"CH4 GWP",null,null,null,{"$f":"$D$83","v":28},null,"CH4 GWP",null,{"$f":"$D$83","v":28},null,"CH4 GWP",null,null,null,null,{"$f":"$D$83","v":28}]
[null,null,"CO2_GWP=",{"$f":"'Summ GHG Rpt Expanded'!$G4","v":1},null,null,"MSW Generation ( MTCO2E)",null,null,null,{"$f":"K80*K81*0.9072","v":3811790.5136640002},null,"Flared CH4 (MTCO2E)",null,{"$f":"(O80*O81)*0.907184","v":1214255.5628809079},null,"Landfill Gas-to-Energy (MTCO2E)",null,null,null,null,{"$f":"(V80*V81)*0.907184","v":488517.4806973341}]
[null,null,"CH4_GWP =",{"$f":"'Summ GHG Rpt Expanded'!$G5","v":28},null,null,"Industrial  Generation (MTCO2E)",null,null,null,{"$f":"K82*7%","v":266825.33595648006}]
[null,null,"N2O_GWP=",{"$f":"'Summ GHG Rpt Expanded'!$G6","v":265}]
[null,null,"SF6_GWP =",{"$f":"'Summ GHG Rpt Expanded'!$G7","v":23500},null,null,"Potential CH4 (MTCO2E)",null,null,null,{"$f":"(K82+K83)","v":4078615.8496204801},null,"CH4 Avoided (MTCO2E)",null,{"$f":"O82+V82","v":1702773.043578242},null,"Landfill Gas-to-Energy (MTCE)",null,null,null,null,{"$f":"V82*(12/44)","v":133232.04019018202}]
[null,null,"PFCs_GWP=",{"$f":"'Summ GHG Rpt Expanded'!$G8","v":11100}]
[null,null,null,null,null,null,"Potential CH4 (MTCE)",null,null,null,{"$f":"K85*(12/44)","v":1112349.7771692218},null,"CH4 Avoided (MTCE)",null,{"$f":"O85*(12/44)","v":464392.64824861143},null,"Oxidation at MSW Landfills (tons)",null,null,null,null,{"$f":"T76","v":8281.3676319999977}]
[null,null,null,null,null,null,null,null,null,null,null,null,null,null,null,null,"CH4 GWP",null,null,null,null,{"$f":"$D$83","v":28}]
[null,null,null,null,null,null,null,null,null,null,null,null,null,null,null,null,"Oxidation at MSW Landfills (MTCO2E)",null,null,null,null,{"$f":"(V87*V88)*0.907184","v":210356.27798831201}]
[]
[null,null,null,null,null,null,null,null,null,null,null,null,null,null,null,null,"Oxidation at MSW Landfills (MTCE)",null,null,null,null,{"$f":"V89*(12/44)","v":57369.89399681236}]
[]
[null,null,null,null,null,null,null,null,null,null,null,null,null,null,null,null,"Oxidation at Industrial Landfills (MTCO2E)",null,null,null,null,{"$f":"V89*7%","v":14724.939459181842}]
[]
[null,null,null,null,null,null,null,null,null,null,null,null,null,null,null,null,"Oxidation at Industrial Landfills (MTCE)",null,null,null,null,{"$f":"V93*(12/44)","v":4015.8925797768657}]
[]
[null,null,null,null,null,null,null,null,null,null,null,null,null,null,null,null,"Total CH4 Emissions (MTCO2E)",null,null,null,null,{"$f":"(K85-O85-V89-V93)","v":2150761.5885947444}]
[]
[null,null,null,null,null,null,null,null,null,null,null,null,null,null,null,null,"CO2 Emission from (Flaring + LFGTE) (MTCO2E)",null,null,null,null,{"$f":"P76*0.907184","v":167236.63820857732}]
[]
[null,null,null,null,null,null,null,null,null,null,null,null,null,null,null,null,"Total CO2 Emissions (MMTCO2E)",null,null,null,null,{"$f":"(V99/1000000)+((J76*0.907184)/1000000)","v":0.53481026779417729}]
[]
[]
[null,null,null,null,null,null,null,null,null,null,null,null,null,null,null,null,"Total CH4 Emissions (MMTCO2E)",null,null,null,null,{"$f":"V97/1000000","v":2.1507615885947446}]

{"sheet":"Incinerators","index":13,"n_rows":57,"n_cols":10,"rows_kept":57,"cut":false,"hidden":false,"merged":[[50,1,50,2]]}
["Incinerator Emissions"]
[]
[]
[null,null,null,null,2006]
[]
[null,null,null,"Incinerator #1","Incinerator #4","Incinerator #5","Incinerator #6","Total","CO2 Emissions","Natural Gas Usage (ft3)"]
[null,null,null,null,null,null,null,"(tons)","(short tons)"]
[null,"Fort Detrick","MSW Processed (tons)",1219.623,1080.3869999999999,334.29849999999999,379.18600000000004,{"$f":"D8+E8+F8+G8","v":3013.4945000000002},{"$f":"H8*C26*C28*0.001102","v":2996.9697919646346},26155300]
[]
[null,"Harford Resources Recovery","MSW Processed (tons)",null,null,null,null,116483,{"$f":"H10*C26*C28*0.001102","v":115844.25731568997},9577100]
[]
[null,"Montgomery Resource Recovery ","MSW Processed (tons)",207388,194349,217351,null,{"$f":"SUM(D12:G12)","v":619088},{"$f":"H12*C26*C28*0.001102","v":615693.18761583988},26155300]
[]
[null,"Wheelabrator Baltimore","MSW Processed (tons)",219952,225614.5,225917.2,null,{"$f":"D14+E14+F14","v":671483.7},{"$f":"H14*C26*C28*0.001102","v":667801.572127191},16300000]
[]
[null,null,null,null,null,null,"Total",{"$f":"SUM(H8:H15)","v":1410068.1945},1402335.9868506854,78187700]
[]
[null,null,"Natural Gas Usage (ft3)",null,null,null,null,"CO2 (metric tons)",{"$f":"I16*0.90718","v":1272171.1605512048}]
[]
[null,null,null,null,null,null,null,"CO2 (MMTCO2E)",{"$f":"I18/1000000","v":1.2721711605512047}]
[]
[]
[]
[null,"MSW",null,null,"Natural Gas"]
[]
[null,"Default high Heat Value (mmbtu/S tons)",9.9499999999999993,null,1.0280000000000001E-3]
[]
[null,"Default CO2 Emission factor (kg /mmbtu)",90.7,null,53.02]
[]
[null,"CO2 Emissions ( tons/yr)",{"$f":"H16*C26*C28*0.001102","v":1402335.9868506854},null,{"$f":"J16*E26*E28*0.001102","v":4696.267976875024}]
[]
[null,"CO2 Emissions ( metric tons/yr)",{"$f":"C30*0.90718","v":1272171.1605512048},null,{"$f":"E30*0.90718","v":4260.3603832614845}]
[]
[null,"CO2 Emissions ( million metric tons/yr)",{"$f":"C32/1000000","v":1.2721711605512047},null,{"$f":"E32/1000000","v":4.2603603832614845E-3}]
[]
[]
[]
[]
[null,"Default N2O Emission factor (kg /mmbtu)",4.1999999999999997E-3,null,1E-4]
[]
[null,"N2O Emissions ( metric tons/yr)",{"$f":"H16*C26*C39*0.001102","v":64.937278332666793},null,{"$f":"J16*E26*E39*0.001102","v":8.8575405071200011E-3}]
[]
[null,"N2O GWP",{"$f":"$C$55","v":265},null,{"$f":"$C$55","v":265}]
[]
[null,"N2O Emissions ( MMTCO2E)",{"$f":"(C41*C43)/1000000","v":1.72083787581567E-2},null,{"$f":"(E41*E43)/1000000","v":2.3472482343868001E-6}]
[]
[]
[]
[]
[]
[null,"Global Warming Potential"]
[]
[null,"CO2_GWP=",{"$f":"'Summ GHG Rpt Expanded'!$G4","v":1}]
[null,"CH4_GWP =",{"$f":"'Summ GHG Rpt Expanded'!$G5","v":28}]
[null,"N2O_GWP=",{"$f":"'Summ GHG Rpt Expanded'!$G6","v":265}]
[null,"SF6_GWP =",{"$f":"'Summ GHG Rpt Expanded'!$G7","v":23500}]
[null,"PFCs_GWP=",{"$f":"'Summ GHG Rpt Expanded'!$G8","v":11100}]

{"sheet":"OpenBurn","index":14,"n_rows":7,"n_cols":4,"rows_kept":7,"cut":false,"hidden":false,"merged":[]}
["Residential Open Burning - Leaves, Brush, MSW"]
[]
[null,null,null,"Emissions "]
[null,null,null,"(MMTCO2E)"]
[]
[]
[null,2006,"Open Burning",3.3000000000000002E-2]

{"sheet":"Natural Gas and Oil","index":15,"n_rows":85,"n_cols":11,"rows_kept":85,"cut":false,"hidden":false,"merged":[[45,3,46,3],[53,1,53,8],[14,1,14,8],[20,2,20,5],[21,7,21,8],[35,1,35,8],[37,1,37,8],[54,1,54,8],[55,1,55,8],[56,1,56,8],[57,1,57,8],[66,3,66,5]]}
["Emissions from Natural Gas Activities in MD"]
[]
[]
[null,"Natural Gas - Production",null,2006]
[]
[null,null,"Activity Data","Emission Factor","Metric Tons CH4","MMTCO2E"]
[null,null,null,"metric tons CH4 per year per activity unit"]
[null,"Total number of wells",7,4.1021717966689701,{"$f":"C8*D8","v":28.715202576682792},{"$f":"E8*$I$25/1000000","v":8.0402567214711812E-4}]
[null,"Number of off-shore platforms not in the Gulf of Mexico",0,13.055796863999998,0,0]
[null,"Total  ",null,null,21.095017507998922,{"$f":"F8+F9","v":8.0402567214711812E-4}]
[]
[]
[null,"Number of Wells from EIA, \" Natural Gas Navigator- Maryland Natural Gas Number of Gas and Gas Condensate Wells\" acccessed from: http://tonto.eia.doe.gov/dnav/ng/hist/na1170_smd_8a.htm"]
[]
[null,"Emission factor from US EPA, Emissions Inventory Improvements Program, Volume VII: Chpater 5. Methods for Estimating Methane Emissions from Natural Gas and Oil Systems. This factor represents emissions not just from wells but also from pneumatic devices, dehydrator vents, Kimray pumps, gas engines, and well clean-ups"]
[]
[]
[]
[]
[null,"Natural Gas - Distribution"]
[]
[null,null,"Activity Data","Emission Factor","Metric Tons CH4","MMTCO2E",null,"Global Warming Potential"]
[null,"Distribution pipeline",null,"(metric tons CH4 per year per activity unit)"]
[null,null,null,null,null,null,null,"CO2_GWP=",{"$f":"'Summ GHG Rpt Expanded'!$G4","v":1}]
[null,"Miles of cast iron distribution pipeline",1467,5.8037235656204409,{"$f":"C25*D25","v":8514.0624707651859},{"$f":"E25*$I$25/1000000","v":0.2383937491814252},null,"CH4_GWP =",{"$f":"'Summ GHG Rpt Expanded'!$G5","v":28}]
[null,"Miles of unprotected steel distribution pipeline",602,2.1221753994811778,1277.5495904876691,3.5771388533654733E-2,null,"N2O_GWP=",{"$f":"'Summ GHG Rpt Expanded'!$G6","v":265}]
[null,"Miles of protected steel distribution pipeline",5402,6.0046884276387047E-2,324.37326886104285,9.0824515281091988E-3,null,"SF6_GWP =",{"$f":"'Summ GHG Rpt Expanded'!$G7","v":23500}]
[null,"Miles of plastic distribution pipeline",6309,0.37164760100393374,2344.724714733818,6.5652292012546909E-2,null,"PFCs_GWP=",{"$f":"'Summ GHG Rpt Expanded'!$G8","v":11100}]
[]
[null,"Services"]
[null,"Total number of services",964468,1.5267140136098032E-2,{"$f":"C31*D31","v":14724.668112782198},{"$f":"E31*$I$25/1000000","v":0.41229070715790156}]
[null,"Number of unprotected steel services",111375,3.2750300015441415E-2,3647.5646642197876,0.10213181059815406]
[null,"Number of protected steel services",179097,3.4007868318860182E-3,609.07071923029025,1.7053980138448124E-2]
[null,"Total  ",null,null,{"$f":"SUM(E25:E33)","v":31442.013541079992},0.88037637915023981]
[]
[null,"Miles of Distribution pipeline from US Department of Transport, Office of Pipeline Safety, \"  Distribution and Transmission Annuals data:1990 -2005\" . Acess from http://www.phmsa.dot.gov/portal/"]
[]
[null,"All emission factors from US EPA, Emissions Inventory Improvements Program, Volume VII: Chapter 5. Methods for Estimating Methane Emissions from Natural Gas and Oil Systems. "]
[]
[]
[]
[]
[null,"Natural Gas - Transmission"]
[]
[null,null,"Activity Data","Emission Factor","Metric Tons CH4","MMTCO2E"]
[null,null,null,"metric tons CH4 per year per activity unit"]
[]
[null,"Miles of transmission pipeline",899,0.61847932799999994,{"$f":"C48*D48","v":556.01291587199989},{"$f":"E48*$I$25/1000000","v":1.5568361644415996E-2}]
[null,"Number of gas transmission compressor stations",{"$f":"C48*0.006","v":5.3940000000000001},983.65967615375553,5305.8602931733576,0.14856408820885403]
[null,"Number of gas storage compressor stations",{"$f":"C48*0.0015","v":1.3485},964.14925058889139,1300.1552644191202,3.6404347403735368E-2]
[null,"Total  ",null,null,{"$f":"SUM(E47:E50)","v":7162.0284734644774},{"$f":"SUM(F48:F50)","v":0.20053679725700541}]
[]
[]
[null,"Number of LNG storage compressor stations from EIA, US LNG Markets and Uses, http://www.eia.doe.gov/pub/oil_gas/natural_gas/feature_articles/2003/lng/lng2003.pdf "]
[null,"Miles of transmission pipeline from US Department of Transport, Office of Pipeline Safety, \"  Distribution and Transmission Annuals data:1990 -2005\" . Acess from http://www.phmsa.dot.gov/portal/"]
[null,"Number of gas transmission compressor stations = miles of transmission pipeline x 0.006 -EIIP, Volume VII: Chapter 5,March 2005"]
[null,"Number of gas storage compressor station  = miles of transmission pipeline x 0.0015 -EIIP, Volume VII: Chapter 5,March 2005"]
[null,"All emission factors from US EPA, Emissions Inventory Improvements Program, Volume VII: Chapter 5. Methods for Estimating Methane Emissions from Natural Gas and Oil Systems. "]
[]
[]
[]
[]
[]
[]
[null,"Natural Gas - Consumption as Pipeline Fuel"]
[]
[null,null,2006,"                         Emission Factors:",null,null," Combustion","CO2 Emissions","N2O Emissions","CH4 Emissions","GHG Emissions"]
[null,"NG Consumption","(Billion Btus)","Carbon","N2O","CH4","Efficiency (%)","(MMTCO2E)","(MMTCO2E)","(MMTCO2E)"]
[null,null,null,"(lbs/MMBtu)","(Mt/BBtu)","(Mt/BBtu)"]
[null,"NGPZB (Billion Btus)",2426.84465,31.87,9.4955026735800017E-5,9.4955026735800007E-4,1,{"$f":"C70*1000*D70*(44/12)*0.00045359237*0.001/1000000","v":1.286356102429063E-4},{"$f":"C70*E70*$I$26*0.000001","v":6.1066891135461553E-5},{"$f":"C70*F70*$I$25*0.000001","v":6.4523507614827307E-5},{"$f":"H70+I70+J70","v":2.5422600899319516E-4}]
[]
[null,"NGPZB (Million Btus)",{"$f":"C70*1000","v":2426844.65}]
[]
[]
[null,"Natural Gas as Pipeline Fuel Activity Data (Billion Btu)  was obtained from: http://www.eia.doe.gov/states/sep_fuel/html/csv/fuel_adjust_consum.csv "]
[]
[]
[]
[null,"Emissions by Gas (MMTCO2e)"]
[null,null,2006]
[null,"Natural Gas",{"$f":"C82+C83+C84+C85","v":1.0819714280883856}]
[null,"Production",{"$f":"F10","v":8.0402567214711812E-4}]
[null,"Transmission",{"$f":"F51","v":0.20053679725700541}]
[null,"Distribution",{"$f":"F34","v":0.88037637915023981}]
[null,"Pipeline Fuel",{"$f":"K70","v":2.5422600899319516E-4}]

{"sheet":"Mining","index":16,"n_rows":63,"n_cols":17,"rows_kept":63,"cut":false,"hidden":false,"merged":[[5,15,5,16]]}
["Emissions from Mining in MD"]
[]
[null,"CH4 from Coal Mining in MD"]
[null,"Emissions from:","Coal Basin(s)                            (if applicable)","Measured Ventilation Emissions\n(mcf)",null,"Degasification System Emissions\n(mcf)",null,"Methane Recovered from Degasification Systems and Usef for Energy\n(mcf)",null,"Emissions\n(mcf CH4)",null,"Emissions\n(MTCH4)",null,"Emissions\n(MTCO2E)"]
[null,"Mines"]
[null,"Underground Mines",null,0,"+",0,"-",0,"=",{"$f":"D6+F6-H6","v":0},"=",{"$f":"J6*1000000*0.0000192","v":0},"=",{"$f":"(L6*$Q$9)","v":0},null,"Global Warming Potential"]
[]
[null,null,null,"Surface Coal Production\n('000 short tons)",null,"Basin-specific EF\n(ft3/short ton)",null,"Emissions\n('000 ft3 CH4)",null,"Emissions\n(MTCH4)",null,"Emissions\n(MTCO2E)",null,null,null,"CO2_GWP=",{"$f":"'Summ GHG Rpt Expanded'!$G4","v":1}]
[null,"Surface Mines","Northern Appalachian Basin",2228,"x",119,"=",{"$f":"D9*F9","v":265132},"=",5090.5343999999996,"=",{"$f":"(J9*$Q$9)","v":142534.9632},null,null,null,"CH4_GWP =",{"$f":"'Summ GHG Rpt Expanded'!$G5","v":28}]
[null,null,"---",0,"x",0,"=","-","=","-","=","-",null,null,null,"N2O_GWP=",{"$f":"'Summ GHG Rpt Expanded'!$G6","v":265}]
[null,null,null,null,null,null,null,null,null,null,null,null,null,null,null,"SF6_GWP =",{"$f":"'Summ GHG Rpt Expanded'!$G7","v":23500}]
[null,"Post-Mining Activity",null,"Coal Production\n('000 short tons)",null,"Basin- & Mine-specific EF\n(ft3/short ton)",null,"Emissions\n('000 ft3 CH4)",null,"Emissions\n(MTCH4)",null,"Emissions\n(MTCO2E)",null,null,null,"PFCs_GWP=",{"$f":"'Summ GHG Rpt Expanded'!$G8","v":11100}]
[null,"Underground Mines","Northern Appalachian Basin",0,"x",44.98,"=",{"$f":"D13*F13","v":0},"=",{"$f":"H13*0.0000192*1000","v":0},"=",{"$f":"(J13*$Q$9)","v":0}]
[null,null,"---",0,"x",0,"=","-","=","-","=","-"]
[null,"Surface Mines","Northern Appalachian Basin",2228,"x",19.337499999999999,"=",{"$f":"D15*F15","v":43083.95},"=",{"$f":"H15*0.0000192*1000","v":827.21183999999994},"=",{"$f":"(J15*$Q$9)","v":23161.931519999998}]
[null,null,"---",0,"x",0,"=","---","=","---","=","---"]
[null,"Post-Mining Total",null,null,null,null,null,{"$f":"SUM(H13:H16)","v":43083.95},"=",{"$f":"SUM(J13:J16)","v":827.21183999999994},"=",{"$f":"SUM(L13:L16)","v":23161.931519999998}]
[]
[null,"Total Coal Mining","(MTCO2E)",{"$f":"SUM(D20:D22)","v":165696.89471999998}]
[null,null,"Underground Mines",{"$f":"N6","v":0}]
[null,null,"Surface Mines",{"$f":"SUM(L9:L10)","v":142534.9632}]
[null,null,"Post-Mining Activity",{"$f":"L17","v":23161.931519999998}]
[]
[]
[null,"Maryland Abandoned Coal Mines Emissions Summary"]
[null,null,null,"Default MD Abandoned Mine Emissions\nGg/Year",null,"Mine Status\nPercent ",null,"Emissions\n(MTCE)",null,"Emissions\n(MTCH4)",null,"Emissions\n(MTCO2E)"]
[null,null,"Vented",0.2893143272,"x",0.125,"=",{"$f":"D27*F27*1000*12/44*$Q$9","v":276.16367596363636},"=",{"$f":"D27*F27*1000","v":36.164290899999997},"=",{"$f":"D27*F27*1000*$Q$9","v":1012.6001451999999}]
[null,null,"Sealed",0.2893143272,"x",0.25,"=",552.32735192727273,"=",72.328581799999995,"=",2025.2002903999999]
[null,null,"Flooded",0.2893143272,"x",0.625,"=",1380.8183798181817,"=",180.82145450000002,"=",5063.0007260000002]
[]
[]
[null,"Maryland Coal Mines Emissions Summary"]
[null,"Emissions (MMTCO2E)"]
[null,null,2006]
[null,"Coal Mining",{"$f":"D19/1000000","v":0.16569689471999999}]
[null,"Abandoned Coal Mines",{"$f":"SUM(C37:C39)","v":8.1008011616000002E-3}]
[null,"Vented",{"$f":"L27/1000000","v":1.0126001452E-3}]
[null,"Sealed",2.0252002904000001E-3]
[null,"Flooded",5.0630007260000004E-3]
[]
[]
[]
[null,"Emissions (MTCO2E)"]
[null,null,2006]
[null,"Coal Mining",{"$f":"D19","v":165696.89471999998}]
[null,"Abandoned Coal Mines",{"$f":"SUM(C47:C49)","v":8100.8011616000003}]
[null,"Vented",{"$f":"L27","v":1012.6001451999999}]
[null,"Sealed",2025.2002903999999]
[null,"Flooded",5063.0007260000002]
[]
[null,"Emissions (MTCE)",2006]
[null,"Coal Mining",{"$f":"C45*12/44","v":45190.062196363629}]
[null,"Abandoned Coal Mines",{"$f":"SUM(C54:C56)","v":2209.3094077090909}]
[null,"Vented",{"$f":"H27","v":276.16367596363636}]
[null,"Sealed",552.32735192727273]
[null,"Flooded",1380.8183798181817]
[]
[null,"Emissions by Gas (MTCH4)",2006]
[null,"Coal Mining",{"$f":"C45/21","v":7890.3283199999987}]
[null,"Abandoned Coal Mines",{"$f":"SUM(C61:C63)","v":289.31432719999998}]
[null,"Vented",{"$f":"J27","v":36.164290899999997}]
[null,"Sealed",72.328581799999995]
[null,"Flooded",180.82145450000002]

{"sheet":"Wastewater","index":17,"n_rows":36,"n_cols":39,"rows_kept":36,"cut":false,"hidden":false,"merged":[[2,1,2,8],[24,1,24,13],[26,7,26,8]]}
[null,"Maryland Wastewater Emissions Summary"]
[]
[null,"Maryland Municipal Wastewater Methane Emissions"]
[null,"Year","State Population",null,"Per Capita BOD5\n(kg/day)",null,"Days per Year\n(days)",null,"Unit Conversion\n(metric tons/kg)",null,"Emission Factor\n(Gg CH4/Gg BOD5)",null,"WW BOD5 anaerobically digested\n(percent)",null,"Emissions\n(metric tons CH4)",null,"CH4 GWP\n(CO2 Eq.)",null,"Unit Conversion\n(MMT/MT)",null,"C/CO2",null,"Emissions\n(MMTCE)",null,"Emissions\n(MMTCO2E)"]
[null,2006,5602258,"x",0.09,"x",365,"x",1E-3,"x",0.6,"x",0.16250000000000001,"=",{"$f":"C5*$E$5*$G$5*$M$5*$K$5*$I$5","v":17943.332091749999},"x",{"$f":"I30","v":28},"x",9.9999999999999995E-7,"x",{"$f":"12/44","v":0.27272727272727271},"=",{"$f":"O5*Q$5*S$5*U$5","v":0.13702180870063635},"=",{"$f":"W5*44/12","v":0.50241329856899997}]
[]
[null,"Maryland Direct Nitrous Oxide Emissions from Municipal Wastewater Treatment"]
[null,"Year","State Population",null,"Fraction of Population not on Septic",null,"Direct N2O Emissions from Wastewater Treatment\n (g N2O/person/year)",null,"Unit Conversion\n(g/metric ton)",null,"Emissions\n(Metric Tons N2O)",null,"N2O GWP\n(CO2 Eq.)",null,"Unit Conversion\n(MMT/MT)\n",null,"C/CO2",null,"Emissions\n(MMTCE)",null,"Emissions\n(MMTCO2E)"]
[null,2006,5602258,"x",0.79,"x",4,"x",9.9999999999999995E-7,"=",{"$f":"C9*E9*G9*I9","v":17.703135280000001},"x",{"$f":"I31","v":265},"x",{"$f":"1/1000000","v":9.9999999999999995E-7},"x",{"$f":"12/44","v":0.27272727272727271},"=",{"$f":"K9*M9*O9*Q9","v":1.2794538679636366E-3},"=",{"$f":"S9*44/12","v":4.6913308492000007E-3}]
[]
[null,"Maryland Effulent Nitrous Oxide Emissions from Municipal Wastewater Treatment"]
[null,"Year","State Population",null,"Protein\n(kg/ person/ year)",null,"FracNPR \n(kg N/kg protein) ",null,"Fraction Non-Consumption N",null,"Unit Conversion\n(metric tons/kg)",null,"N in Domestic Wastewater\n(metric tons)",null,"Direct N Emissions from Domestic Wastewater\n(metric tons)",null,"Biosolids Available N\n(metric tons)",null,"Percentage of Biosolids Used as Fertilizer",null,"Emission Factor\n(kg N2O-N/ kg sewage N-produced) ",null,"N2O/N2",null,"Emissions \n(metric tons N2O)",null,"N2O GWP\n(CO2 Eq.)",null,"Unit Conversion\n(MMT/MT)",null,"C/CO2",null,"Emissions from Biosolids\n(MMTCE)",null,"Direct Emissions\n(MMTCE)",null,"Total Emissions\n(MMTCE)",null,"Emission\n(MMTCO2E)"]
[null,null,null,null,null,null,null,null,null,null,null,null,null,null,null,null,null,null,null,null,null,null,null,null,null,null,null,null,"(MMT/MT)"]
[null,2006,5602258,"x",41.9,"x",0.16,"x",1.75,"x",1E-3,"=",{"$f":"C14*E14*G14*I14*K14","v":65725.690856000001},"-",11.265631541818182,"=",{"$f":"M14-O14","v":65714.425224458188},"x",0,"x",5.0000000000000001E-3,"x",{"$f":"44/28","v":1.5714285714285714},"=",{"$f":"Q14*(1-S14)*U14*W14","v":516.32762676360005},"x",{"$f":"I31","v":265},"x",{"$f":"1/1000000","v":9.9999999999999995E-7},"x",{"$f":"12/44","v":0.27272727272727271},"=",{"$f":"Y14*AA$14*AC$14*AE$14","v":3.7316405752460181E-2},"+",{"$f":"0.00149671961912727*($I$31/310)","v":1.279453867963634E-3},"=",{"$f":"AG14+AI14","v":3.8595859620423813E-2},"=",{"$f":"AK14/AE14","v":0.14151815194155398}]
[]
[null,"Maryland Industrial Wastewater Methane Emissions - CH4"]
[null,"Year","Production Processed",null,"WW Outflow ",null,"Unit Conversion",null,"COD ",null,"Emission Factor",null,"COD Degraded",null,"Emissions ",null,"Unit Conversion",null,"Emissions ",null,"CH4 GWP",null,"C/CO2",null,"Emissions ",null,"Emissions "]
[null,null,"(metric tons)",null,"(m3/metric ton)",null,"(l/m3)",null,"(g COD/l)",null,"(g CH4/g COD)",null,"(percent)",null,"(g CH4)",null,"(g/Tg)",null,"(Tg or MMT CH4)",null,"(CO2 Eq.)",null,null,null,"(MMTCE)",null,"(MMTCO2E)"]
[null,2006,8935.92,"x",7.9,"x",1000,"x",4.0999999999999996,"x",0.25,"x",0.33,"=",{"$f":"C19*$E$19*$I$19*$M$19*$K$19*$G$19","v":23878342.026000001},"x",9.9999999999999998E-13,"=",{"$f":"O19*Q19","v":2.3878342026000001E-5},"x",{"$f":"I30","v":28},"x",{"$f":"12/44","v":0.27272727272727271},"=",{"$f":"S19*U$19*W$19","v":1.8234370274400002E-4},"=",{"$f":"Y19*44/12","v":6.6859357672799998E-4}]
[]
[]
[]
[]
[]
[null,"Emissions were not calculated for the following sources: Industrial fruits & vegetables, Industrial poultry, and Industrial pulp & paper."]
[]
[null,"Emissions (MMTCO2E)",2006,null,null,null,null,"Global Warming Potential"]
[null,"Municipal CH4",{"$f":"Y5","v":0.50241329856899997}]
[null,"Municipal N2O",{"$f":"AM14","v":0.14151815194155398},null,null,null,null,"CO2_GWP=",{"$f":"'Summ GHG Rpt Expanded'!$G4","v":1}]
[null,"Industrial CH4",{"$f":"SUM(C31:C34)","v":6.6859357672799998E-4},null,null,null,null,"CH4_GWP =",{"$f":"'Summ GHG Rpt Expanded'!$G5","v":28}]
[null,"Fruits & Vegetables",0,null,null,null,null,"N2O_GWP=",{"$f":"'Summ GHG Rpt Expanded'!$G6","v":265}]
[null,"Red Meat",{"$f":"AA19","v":6.6859357672799998E-4},null,null,null,null,"SF6_GWP =",{"$f":"'Summ GHG Rpt Expanded'!$G7","v":23500}]
[null,"Poultry",0,null,null,null,null,"PFCs_GWP=",{"$f":"'Summ GHG Rpt Expanded'!$G8","v":11100}]
[null,"Pulp & Paper",0]
[null,"Total Emissions",{"$f":"SUM(C28:C30)","v":0.644600044087282}]
[null,null,null,null,null,null,null,null,null,null,null,null,null,null,null,null,null,null,{"$f":"SUM(C28:C30)","v":0.644600044087282}]

{"sheet":"Agricultural","index":18,"n_rows":250,"n_cols":81,"rows_kept":250,"cut":false,"hidden":false,"merged":[[146,79,146,80],[180,2,180,4],[183,2,183,4],[1,1,1,18],[2,24,2,25],[146,33,146,39],[146,41,146,44],[146,46,146,47],[146,49,146,50],[146,52,146,57],[146,59,146,63],[146,65,146,66],[146,68,146,70],[146,72,146,74],[146,76,146,77]]}
["Agricultural Emissions in Maryland"]
[]
[null,"Enteric Fermentation Emissions",null,null,null,null,null,null,null,null,null,null,null,null,null,null,null,null,null,null,null,null,null,null,"Global Warming Potential"]
[null,null,"Number of Animals\n('000 head)",null,"Emission Factor\n(kg CH4/head)",null,"Emissions\n(kg CH4)",null,"Emissions\n(MMTCH4)",null,"Emissions\n(MMTCE)",null,"Emissions\n(MMTCO2E)"]
[null,"Dairy Cattle",null,null,null,null,null,null,null,null,null,null,null,null,null,null,null,null,null,null,null,null,null,null,"CO2_GWP=",{"$f":"'Summ GHG Rpt Expanded'!$G4","v":1}]
[null,"Dairy Cows",70,"x",129.14362824819554,"=",{"$f":"C6*E6*1000","v":9040053.9773736876},"=",{"$f":"G6/1000*10^-6","v":9.0400539773736865E-3},"=",{"$f":"(I6*$Z$6)*12/44","v":6.9033139463580875E-2},"=",{"$f":"K6/(12/44)","v":0.25312151136646321},null,null,null,null,null,null,null,null,null,null,null,"CH4_GWP =",{"$f":"'Summ GHG Rpt Expanded'!$G5","v":28}]
[null,"Dairy Replacement Heifers",30,"x",62.580097028641497,"=",1877402.9108592449,"=",1.8774029108592448E-3,"=",1.4336531319288777E-2,"=",5.2567281504058851E-2,null,null,null,null,null,null,null,null,null,null,null,"N2O_GWP=",{"$f":"'Summ GHG Rpt Expanded'!$G6","v":265}]
[null,"   Replacements 0-12 mos.",0,"x",46.088127631421706,"=",0,"=",0,"=",0,"=",0,null,null,null,null,null,null,null,null,null,null,null,"SF6_GWP =",{"$f":"'Summ GHG Rpt Expanded'!$G7","v":23500}]
[null,"   Replacements 12-24 mos.",0,"x",69.571209567953133,"=",0,"=",0,"=",0,"=",0,null,null,null,null,null,null,null,null,null,null,null,"PFCs_GWP=",{"$f":"'Summ GHG Rpt Expanded'!$G8","v":11100}]
[null,"Beef Cattle"]
[null,"Beef Cows",49,"x",93.473136169388326,"=",{"$f":"C11*E11*1000","v":4580183.6723000277},"=",{"$f":"G11/1000*10^-6","v":4.580183672300028E-3},"=",{"$f":"(I11*$Z$6)*12/44","v":3.4975948043018394E-2},"=",{"$f":"K11/(12/44)","v":0.12824514282440078}]
[null,"Beef Replacement Heifers",13,"x",65.827953765515716,"=",855763.39895170426,"=",8.557633989517043E-4,"=",6.534920501085742E-3,"=",2.3961375170647722E-2]
[null,"   Replacements 0-12 mos.",0,"x",59.202111218634663,"=",0,"=",0,"=",0,"=",0]
[null,"   Replacements 12-24 mos.",0,"x",68.604947979802589,"=",0,"=",0,"=",0,"=",0]
[null,"Heifer Stockers",10,"x",59.110511174382182,"=",591105.11174382176,"=",5.9110511174382174E-4,"=",4.513893580589185E-3,"=",1.6550943128827014E-2]
[null,"Steer Stockers",18,"x",57.315384474713255,"=",1031676.9205448386,"=",1.0316769205448385E-3,"=",7.8782601205242206E-3,"=",2.8886953775255478E-2]
[null,"Feedlot Heifers",3.9119999999999999,"x",33.198701729144084,"=",129873.32116441167,"=",1.2987332116441166E-4,"=",9.9175990707368899E-4,"=",3.6364529926035264E-3]
[null,"Feedlot Steer",7.3949999999999996,"x",32.164080937316001,"=",237853.37853145183,"=",2.3785337853145182E-4,"=",1.8163348906038137E-3,"=",6.6598945988806512E-3]
[null,"Bulls",3,"x",53,"=",159000,"=",1.5899999999999999E-4,"=",1.214181818181818E-3,"=",4.4519999999999994E-3]
[null,"Other"]
[null,"Sheep",22,"x",8,"=",{"$f":"C21*E21*1000","v":176000},"=",{"$f":"G21/1000*10^-6","v":1.76E-4},"=",{"$f":"(I21*$Z$6)*12/44","v":1.3439999999999999E-3},"=",{"$f":"K21/(12/44)","v":4.9280000000000001E-3}]
[null,"Goats",9.6010000000000009,"x",5,"=",48005,"=",4.8004999999999999E-5,"=",3.665836363636364E-4,"=",1.3441400000000002E-3]
[null,"Swine",33,"x",1.5,"=",49500,"=",4.9499999999999997E-5,"=",3.7799999999999992E-4,"=",1.3859999999999999E-3]
[null,"Horses",65.510999999999996,"x",18,"=",1179197.9999999998,"=",1.1791979999999998E-3,"=",9.0047847272727265E-3,"=",3.3017544000000003E-2]
[null,"TOTAL",null,null,null,null,{"$f":"SUM(G6:G24)","v":19955615.691469189},null,{"$f":"SUM(I6:I24)","v":1.9955615691469183E-2},null,{"$f":"SUM(K6:K24)","v":0.15238833800758289},null,{"$f":"SUM(M6:M24)","v":0.5587572393611373}]
[]
[null,"Manure Management Methane Emissions"]
[null,null,"Number of Animals ('000 head)",null,"Typical Animal Mass (TAM) (kg)",null,"Volatile Solids (VS)  [kg VS/1000 kg animal mass/day]",null,"Total VS (kg/yr)",null,"Max Pot. Emissions (m3 CH4/ kg VS)",null,"Weighted MCF",null,"Emissions      (m3 CH4)",null,"Emissions (Metric Tons CH4)",null,"Emissions (MMTCH4)",null,"Emissions (MMTCE)",null,"Emissions  (MMTCO2E)"]
[null,"Dairy Cattle"]
[null,"Dairy Cows",70,"x",604,"x",7.7593643204450569,"=",{"$f":"C30*E30*G30*365","v":119744062.06597221},"x",0.24,"x",0.11665927034202894,"=",{"$f":"(I30*K30)*M30","v":3352621.1780176666},"=",{"$f":"O30*0.000662","v":2219.4352198476954},"=",{"$f":"Q30/1000000","v":2.2194352198476952E-3},"=",{"$f":"(S30*$Z$6)*12/44","v":1.6948414406109672E-2},"=",{"$f":"U30/(12/44)","v":6.214418615573547E-2}]
[null,"Dairy Replacement Heifers",30,"x",476,"x",6.6952291393811194,"=",34896873.320282273,"x",0.17,"x",1.2415102875984794E-2,"=",73652.206294657299,"=",48.757760567063137,"=",4.875776056706314E-5,"=",3.7233198978484582E-4,"=",1.3652172958777682E-3]
[null,"Beef Cattle"]
[null,"Feedlot Heifers",3.9119999999999999,"x",420,"x",3.4985074354695973,"=",{"$f":"C33*E33*G33*365","v":2098088.4947224981},"x",0.33,"x",1.3058095817636893E-2,"=",{"$f":"(I33*K33)*M33","v":9041.0233973294198},"=",{"$f":"O33*0.000662","v":5.9851574890320762},"=",{"$f":"Q33/1000000","v":5.9851574890320764E-6},"=",{"$f":"(S33*$Z$6)*12/44","v":4.5704839007154044E-5},"=",{"$f":"U33/(12/44)","v":1.6758440969289818E-4}]
[null,"Feedlot Steer",7.3949999999999996,"x",420,"x",3.1748040407958564,"=",3599127.7126623648,"x",0.33,"x",1.2961076918545806E-2,"=",15394.028470750623,"=",10.190846847636914,"=",1.0190846847636914E-5,"=",7.7821012291045527E-5,"=",2.8534371173383362E-4]
[null,"Bulls",3,"x",750,"x",6.04,"=",4960350,"x",0.17,"x",1.0999999999999999E-2,"=",9275.8545000000013,"=",6.1406156790000015,"=",6.1406156790000016E-6,"=",4.6891974276000014E-5,"=",1.7193723901200007E-4]
[null,"Calves",37,"x",118,"x",6.41,"=",10214911.9,"x",0.17,"x",1.0999999999999999E-2,"=",19101.885253,"=",12.645448037486002,"=",1.2645448037486003E-5,"=",9.6565239558984027E-5,"=",3.5407254504960813E-4]
[null,"Beef Cows",49,"x",533,"x",6.9170914509065149,"=",65938592.259513788,"x",0.17,"x",1.0999999999999999E-2,"=",123305.16752529079,"=",81.628020901742502,"=",8.1628020901742507E-5,"=",6.2334125052239734E-4,"=",2.2855845852487902E-3]
[null,"Beef Replacement Heifers",13,"x",420,"x",7.48802808883105,"=",14922891.178231398,"x",0.17,"x",1.0999999999999999E-2,"=",27905.806503292715,"=",18.473643905179777,"=",1.8473643905179777E-5,"=",1.4107146254864556E-4,"=",5.1726202934503378E-4]
[null,"Steer Stockers",18,"x",318,"x",7.9391090838300862,"=",16586863.044482848,"x",0.17,"x",1.0999999999999999E-2,"=",31017.433893182922,"=",20.533541237287096,"=",2.0533541237287096E-5,"=",1.5680158763019237E-4,"=",5.7493915464403868E-4]
[null,"Heifer Stockers",10,"x",420,"x",8.3348602459430108,"=",12777340.757030636,"x",0.17,"x",1.0999999999999999E-2,"=",23893.627215647291,"=",15.817581216758509,"=",1.581758121675851E-5,"=",1.2078880201888317E-4,"=",4.4289227406923835E-4]
[null,"Swine"]
[null,"Breeding Swine",6,"x",198,"x",2.6,"=",{"$f":"C42*E42*G42*365","v":1127412},"x",0.48,"x",0.29615215683717488,"=",{"$f":"(I42*K42)*M42","v":160265.03781317425},"=",{"$f":"O42*0.000662","v":106.09545503232135},"=",{"$f":"Q42/1000000","v":1.0609545503232136E-4},"=",{"$f":"(S42*$Z$6)*12/44","v":8.1018347479227225E-4},"=",{"$f":"U42/(12/44)","v":2.9706727409049985E-3}]
[null,"Market Under 60 lbs",10,"x",15.88,"x",8.8000000000000007,"=",510065.60000000009,"x",0.48,"x",0.29664167888686049,"=",72627.223644688245,"=",48.079222052783621,"=",4.8079222052783623E-5,"=",3.6715042294852945E-4,"=",1.3462182174779414E-3]
[null,"Market 60-119 lbs",6,"x",40.6,"x",5.4,"=",480135.60000000009,"x",0.48,"x",0.29664167888686049,"=",68365.550629128062,"=",45.257994516482782,"=",4.5257994516482781E-5,"=",3.4560650358041401E-4,"=",1.2672238464615181E-3]
[null,"Market 120-179 lbs",7,"x",67.819999999999993,"x",5.4,"=",935712.54,"x",0.48,"x",0.29664167888686049,"=",133234.24263412252,"=",88.201068623789112,"=",8.820106862378911E-5,"=",6.7353543312711681E-4,"=",2.4696299214660954E-3]
[null,"Market over 180 lbs",4,"x",90.75,"x",5.4,"=",715473,"x",0.48,"x",0.29664167888686049,"=",101874.77372074498,"=",67.441100203133189,"=",6.7441100203133192E-5,"=",5.1500476518756251E-4,"=",1.8883508056877294E-3]
[null,"Poultry"]
[null,"Layers"]
[null,"Hens > 1 yr",2560,"x",1.8,"x",10.8,"=",{"$f":"C49*E49*G49*365","v":18164736},"x",0.39,"x",5.0976002349833779E-2,"=",{"$f":"(I49*K49)*M49","v":361126.59375784302},"=",{"$f":"O49*0.000662","v":239.06580506769208},"=",{"$f":"Q49/1000000","v":2.3906580506769209E-4},"=",{"$f":"(S49*$Z$6)*12/44","v":1.8255934205169216E-3},"=",{"$f":"U49/(12/44)","v":6.6938425418953795E-3}]
[null,"Pullets",938,"x",1.8,"x",9.6999999999999993,"=",5977780.2000000002,"x",0.39,"x",5.0976002349833779E-2,"=",118842.10163357604,"=",78.673471281427339,"=",7.8673471281427346E-5,"=",6.0077923523999064E-4,"=",2.2028571958799658E-3]
[null,"Chickens",16,"x",1.8,"x",10.8,"=",113529.60000000001,"x",0.39,"x",5.0976002349833779E-2,"=",2257.0412109865188,"=",1.4941612816730756,"=",1.4941612816730755E-6,"=",1.1409958878230761E-5,"=",4.1836515886846124E-5]
[null,"Broilers",54090.909,"x",0.9,"x",15,"=",266532954.09750003,"x",0.36,"x",1.4999999999999999E-2,"=",1439277.9521265002,"=",952.80200430774323,"=",9.5280200430774328E-4,"=",7.2759425783500394E-3,"=",2.6678456120616811E-2]
[null,"Turkeys",243.333,"x",6.8,"x",9.6999999999999993,"=",5858339.3081999989,"x",0.36,"x",1.4999999999999999E-2,"=",31635.032264279995,"=",20.942391358953358,"=",2.0942391358953359E-5,"=",1.5992371583200746E-4,"=",5.8638695805069405E-4]
[null,"Other"]
[null,"Sheep on Feed",0,"x",27,"x",9.205479452054794,"=",{"$f":"C55*E55*G55*365","v":0},"x",0.36056372132540354,"x",1.2E-2,"=",{"$f":"(I55*K55)*M55","v":0},"=",{"$f":"O55*0.000662","v":0},"=",{"$f":"Q55/1000000","v":0},"=",{"$f":"(S55*$Z$6)*12/44","v":0},"=",{"$f":"U55/(12/44)","v":0}]
[null,"Sheep Not on Feed",22,"x",27,"x",9.205479452054794,"=",1995840,"x",0.1899677145284622,"x",1.0999999999999999E-2,"=",4170.5967970093461,"=",2.7609350796201872,"=",2.7609350796201873E-6,"=",2.1083504244372339E-5,"=",7.7306182229365246E-5]
[null,"Goats",9.6010000000000009,"x",64,"x",9.5342465753424666,"=",2138334.7200000007,"x",0.16997111299915041,"x",1.0999999999999999E-2,"=",3998.0064555543945,"=",2.6466802735770094,"=",2.6466802735770093E-6,"=",2.0211012998224432E-5,"=",7.4107047660156258E-5]
[null,"Horses",65.510999999999996,"x",450,"x",10,"=",107601817.5,"x",0.33056881903143587,"x",1.0999999999999999E-2,"=",391267.86310272198,"=",259.01932537400199,"=",2.5901932537400197E-4,"=",1.9779657574014696E-3,"=",7.2525411104720555E-3]
[null,"TOTAL",null,null,null,null,null,null,null,null,null,null,null,null,{"$f":"SUM(O30:O58)","v":6574150.2268611463},null,{"$f":"SUM(Q30:Q58)","v":4352.0874501820799},null,{"$f":"SUM(S30:S58)","v":4.352087450182081E-3},null,{"$f":"SUM(U30:U58)","v":3.3234122346844974E-2},null,{"$f":"SUM(W30:W58)","v":0.12185844860509826}]
[]
[null,"Manure Management N20 Emissions"]
[null,null,"Number of Animals\n('000 head)",null,"Total K-Nitrogen Excreted\n(kg)",null,"Unvolatilized N from Manure in Anaerobic Lagoons and Liquid Systems\n(kg)",null,"Unvolatilized N from Manure in Solid Storage, Drylot & Other Systems\n(kg)",null,"Emissions from Anaerobic Lagoons and Liquid Systems\n(kg N2O-N)",null,"Emissions from Solid Storage, Drylot, & Other Systems\n(kg N2O-N)",null,"Total N2O Emissions\n(kg N2O)",null,"Emissions\n(MTCE)",null,"Emissions\n(MMTCE)",null,"Emissions\n(MMTCO2E)"]
[null,"Dairy"]
[null,"Dairy Cows",70,null,6790168,null,1569976.8631212725,null,1758775.718417271,null,1569.9768631212726,"+",35175.514368345423,"=",57742.914792304808,"=",{"$f":"O64/1000*$Z$7*12/44","v":4173.2379327165754},"=",{"$f":"Q64/10^6","v":4.1732379327165756E-3},"=",{"$f":"S64/(12/44)","v":1.5301872419960779E-2}]
[null,"Dairy Replacement Heifers",30,null,1615782,null,373590.21983665443,null,792106.83796093287,null,373.59021983665446,"+",15842.136759218658,"=",24894.786335915032,"=",1799.2141033684047,"=",1.7992141033684047E-3,"=",6.597118379017484E-3]
[null,"Beef Cattle",null,null,null,null,null,null,null,null," "]
[null,"Feedlot Heifers",3.9119999999999999,null,179912.88,null,"NA",null,179912.88,null,"NA","+",3598.2576000000004,"=",5654.4048000000003,"=",{"$f":"O67/1000*$Z$7*12/44","v":408.65925599999997},"=",{"$f":"Q67/10^6","v":4.0865925599999997E-4},"=",{"$f":"S67/(12/44)","v":1.4984172719999999E-3}]
[null,"Feedlot Steer",7.3949999999999996,null,340096.05,null,"NA",null,340096.05,null,"NA","+",6801.9209999999985,"=",10688.732999999997,"=",772.50388499999997,"=",7.7250388499999995E-4,"=",2.8325142449999998E-3]
[null,"Swine",null,null,null,null,null,null,null,null," "]
[null,"Breeding Swine",6,null,101900.7,null,76526.437263209998,null,3831.7624434341997,null,76.526437263209999,"+",76.635248868684002,"=",240.6826496358334,"=",{"$f":"O70/1000*$Z$7*12/44","v":17.394791496407962},"=",{"$f":"Q70/10^6","v":1.7394791496407962E-5},"=",{"$f":"S70/(12/44)","v":6.3780902153495872E-5}]
[null,"Market Under 60 lbs",10,null,34777.199999999997,null,26117.339861159999,null,1307.7237825431998,null,26.117339861159998,"+",26.154475650863997,"=",82.141424376037705,"=",5.9365847617227248,"=",5.9365847617227251E-6,"=",2.1767477459649993E-5]
[null,"Market 60-119 lbs",6,null,37343.879999999997,null,28044.891644364005,null,1404.23840931528,null,28.044891644364004,"+",28.084768186305602,"=",88.203751162480813,"=",6.3747256521974771,"=",6.3747256521974769E-6,"=",2.3373994058057417E-5]
[null,"Market 120-179 lbs",7,null,72777.641999999993,null,54655.303198872592,null,2736.6508310276517,null,54.655303198872595,"+",54.733016620553038,"=",171.8959311448117,"=",12.423387750920483,"=",1.2423387750920483E-5,"=",4.5552421753375103E-5]
[null,"Market over 180 lbs",4,null,55647.9,null,41791.033115370003,null,2092.5227527973998,null,41.791033115370006,"+",41.850455055947997,"=",131.43662426921401,"=",9.499283299456831,"=",9.4992832994568306E-6,"=",3.4830705431341715E-5]
[null,"Poultry",null,null,null,null,null,null,null,null," "]
[null,"Layers"]
[null,"Hens > 1 yr",2560,null,1395993.6000000001,null,69799.679999999993,null,1326193.92,null,69.799679999999995,"+",6630.9695999999994,"=",10529.780297142855,"=",{"$f":"O77/1000*$Z$7*12/44","v":761.01593965714267},"=",{"$f":"Q77/10^6","v":7.6101593965714265E-4},"=",{"$f":"S77/(12/44)","v":2.7903917787428568E-3}]
[null,"Pullets",938,null,382084.92,null,19104.245999999999,null,362980.67399999994,null,19.104246,"+",1814.9033699999998,"=",2882.0119679999998,"=",208.29086495999999,"=",2.0829086496E-4,"=",7.6373317152000008E-4]
[null,"Chickens",16,null,8724.9599999999991,null,436.24799999999999,null,8288.7119999999995,null,0.43624800000000002,"+",41.443559999999998,"=",65.811126857142852,"=",4.7563496228571429,"=",4.7563496228571426E-6,"=",1.7439948617142859E-5]
[null,"Broilers",54090.909,null,19545749.967150003,null,"NA",null,19545749.967150003,null,"NA","+",390914.99934300006,"=",614294.99896757153,"=",44396.774925383579,"=",4.4396774925383582E-2,"=",0.16278817472640647]
[null,"Turkeys",243.333,null,446924.85443999997,null,"NA",null,446924.85443999997,null,"NA","+",8938.4970887999989,"=",14046.209710971427,"=",1015.1578836565714,"=",1.0151578836565713E-3,"=",3.7222455734074286E-3]
[null,"Other",null,null,null,null,null,null,null,null," "]
[null,"Sheep on Feed",0,null,0,null,"NA",null,0,null,"NA","+",0,"=",0,"=",{"$f":"O83/1000*$Z$7*12/44","v":0},"=",{"$f":"Q83/10^6","v":0},"=",{"$f":"S83/(12/44)","v":0}]
[null,"Sheep Not on Feed",22,null,91060.2,null,"NA",null,0,null,"NA","+",0,"=",0,"=",0,"=",0,"=",0]
[null,"TOTAL"," ",null,31098944.753590003,null,2260042.2620409038,null,24772402.512187321,null,2260.0422620409031,null,469986.10065374651,null,{"$f":"SUM(O64:O84)","v":741514.01137935114},null,{"$f":"SUM(Q64:Q84)","v":53591.23991332583},null,5.359123991332583E-2,null,0.19650121301552806]
[]
[null,"Ag Soils- Plant Residues & Legumes in Maryland"]
[null,"Legumes and Crop Residue Calculations"]
[null,null,"Units",null,"Crop Production ",null,"metric tons/bushel:",null,"Residue: Crop Mass Ratio",null,"Crop Production (metric tons)",null,"Residue Dry Matter Fraction",null,"Fraction Residue Applied ",null,"Nitrogen Content of Residue",null,"Nitrogen Returned to Soil",null,"N content of Aboveground Biomass for N fixing",null,"N-Fixed by Crops (kg)",null,null,"EF Direct","Direct N2O Emissions (metric tons N2O)",null,"Direct Emissions (MMTCE)",null,"Direct Emissions  (MMTCO2E)"]
[null,"Alfalfa  ","'000 tons",null,156,null,"NA",null,0,null,{"$f":"E90*0.9072*1000","v":141523.20000000001},null,0.85,null,0,null,"NA",null,"NA",null,0.03,null,{"$f":"(K90*1000)*(1+I90)*M90*U90","v":3608841.6},null,"Residues",0.01,{"$f":"S111/1000*Z90*44/28","v":402.03381228776044},null,{"$f":"AA90*$Z$7*12/44*10^-6","v":2.9056080069888138E-2},null,9.2700358370483606E-3]
[null,"Corn for Grain ","'000 bushels",null,60350,null,2.5401147108E-2,null,1,null,{"$f":"E91*1000*G91","v":1532959.2279678001},null,0.91,null,0.9,null,5.7999999999999996E-3,null,{"$f":"(K91*1000)*I91*M91*O91*Q91","v":7281862.9246926438},null,0.03,null,"NA",null,"Legumes",0.01,{"$f":"W111/1000*Z91*44/28","v":603.78691717004938},null,4.3637327195471753E-2,null,1.3922028916565602E-2]
[null,"All Wheat ","'000 bushels",null,8500,null,2.7215442853E-2,null,1.3,null,231331.26425050001,null,0.93,null,0.9,null,6.1999999999999998E-3,null,1560611.6015120081,null,0.03,null,"NA"]
[null,"Barley ","'000 bushels",null,2784,null,2.1772E-2,null,1.2,null,60613.248,null,0.93,null,0.9,null,7.7000000000000002E-3,null,468775.58644223999,null,0.03,null,"NA"]
[null,"Sorghum for Grain","'000 bushels",null,0,null,2.5401169512752383E-2,null,1.4,null,0,null,0.91,null,0.9,null,1.0800000000000001E-2,null,0,null,0.03,null,"NA"]
[null,"Oats","'000 bushels",null,0,null,1.4514959222223263E-2,null,1.3,null,0,null,0.92,null,0.9,null,7.0000000000000001E-3,null,0,null,0.03,null,"NA"]
[null,"Rye","'000 bushels",null,0,null,2.5401046494036766E-2,null,1.6,null,0,null,0.9,null,0.9,null,4.7999999999999996E-3,null,0,null,0.03,null,"NA"]
[null,"Millet","'000 bushels",null,0,null,2.7215E-2,null,1.4,null,0,null,0.89,null,0.89,null,7.0000000000000001E-3,null,0,null,0.03,null,"NA"]
[null,"Rice","'000 hundred weight",null,0,null,"NA",null,1.4,null,{"$f":"(E98*0.454)*100","v":0},null,0.91,null,1,null,7.1999999999999998E-3,null,0,null,0.03,null,"NA"]
[null,"Soybeans ","'000 bushels",null,15810,null,2.7215692074999999E-2,null,2.1,null,{"$f":"E99*1000*G99","v":430280.09170574998},null,0.87,null,0.9,null,2.3E-2,null,16272719.760210589,null,0.03,null,{"$f":"(K99*1000)*(1+I99)*M99*U99","v":34813962.219912231}]
[null,"Peanuts","'000 lbs",null,0,null,"NA",null,1,null,{"$f":"(E100*1000/2000*0.9072)","v":0},null,0.86,null,0.9,null,1.06E-2,null,0,null,0.03,null,0]
[null,"Dry Edible Beans","'000 hundred weight",null,0,null,"NA",null,2.1,null,{"$f":"(E101*0.454)*100","v":0},null,0.87,null,1.55,null,1.6799999999999999E-2,null,0,null,0.03,null,0]
[null,"Dry Edible Peas","'000 hundred weight",null,0,null,"NA",null,1.5,null,0,null,0.87,null,0.9,null,1.6799999999999999E-2,null,0,null,0.03,null,0]
[null,"Austrian Winter Peas","'000 hundred weight",null,0,null,"NA",null,1.5,null,0,null,0.87,null,0.9,null,1.6799999999999999E-2,null,0,null,0.03,null,0]
[null,"Lentils","'000 hundred weight",null,0,null,"NA",null,2.1,null,0,null,0.87,null,1.55,null,1.6799999999999999E-2,null,0,null,0.03,null,0]
[null,"Wrinkled Seed Peas","'000 hundred weight",null,0,null,"NA",null,1.5,null,0,null,0.87,null,0.9,null,1.6799999999999999E-2,null,0,null,0.03,null,0]
[null,"Red Clover","metric tons",null,null,null,"NA",null,null,null,{"$f":"E106","v":0},null,null,null,null,null,null,null,"NA",null,0.03,null,0]
[null,"White Clover","metric tons",null,null,null,"NA",null,null,null,0,null,null,null,null,null,null,null,"NA",null,0.03,null,0]
[null,"Birdsfoot Trefoil","metric tons",null,null,null,"NA",null,null,null,0,null,null,null,null,null,null,null,"NA",null,0.03,null,0]
[null,"Arrowleaf Clover","metric tons",null,null,null,"NA",null,null,null,0,null,null,null,null,null,null,null,"NA",null,0.03,null,0]
[null,"Crimson Clover","metric tons",null,null,null,"NA",null,null,null,0,null,null,null,null,null,null,null,"NA",null,0.03,null,0]
[null,"TOTAL",null,null,null,null,null,null,null,null,{"$f":"SUM(K90:K110)","v":2396707.0319240498},null,null,null,null,null,null,null,{"$f":"SUM(S90:S105)","v":25583969.872857481},null,null,null,{"$f":"SUM(W90:W110)","v":38422803.819912232}]
[]
[null,"Ag Soils Plant Fertilizer Emissions in Maryland"]
[null,"Fertilizer Calculations",2006]
[null,"Growing Year Entry","Total Fertilizer Use (kg N)",null,"Total N in Fertilizers (Calendar Year)",null,"Volatilzation\n(Percent)",null,"N Content of Non-Manure Organics",null,"Unvolatized N\n(kg)",null,"Volatized N\n(kg)",null,"Direct N2O Emissions\n(metric tons)",null,"Indirect N2O Emissions\n(metric tons)",null,"Direct Emissions\n(MMTCE)",null,"Indirect Emissions\n(MMTCE)",null,"Direct Emissions\n(MMTCO2E)",null,"Indirect Emissions\n(MMTCO2E)"]
[null,"Synthetic ",49456900.012091137,null,{"$f":"$C116*0.65+$C132*0.35","v":51202458.01237797},null,0.1,null,null,null,{"$f":"($E116*(1-G116))","v":46082212.211140171},null,5120245.8012377974,null,{"$f":"(K116+K117)/1000*0.01*44/28","v":724.45278594706372},null,{"$f":"(M116+M117)/1000*0.01*44/28","v":80.53693967673783},null,{"$f":"O116*$Z$7*12/44*10^-6","v":5.2358178620719606E-2},null,{"$f":"Q116*310*12/44*10^-6","v":6.8090321726696533E-3},null,{"$f":"S116/(12/44)","v":0.1919799882759719},null,{"$f":"U116/(12/44)","v":2.4966451299788729E-2}]
[null,"Organic  ",572099.98790886719,null,{"$f":"SUM(E118:E124)","v":592291.9876220352},null,0.2,null,4.1000000000000002E-2,null,{"$f":"$E126*I117*(1-G117)","v":19328.712763893323},null,4832.1781909733309]
[null,"Dried Blood",null,null,{"$f":"$C118*0.65+$C134*0.35","v":0}]
[null,"Compost",null,null,0]
[null,"Dried Manure",2899.6234868568599,null,3001.9643326046762]
[null,"Activated Sewage Sludge",494982.34741945093,null,512452.51632060623]
[null,"Other Sewage Sludge",null,null,0]
[null,"Tankage",null,null,0]
[null,"Other ",74218.017002559413,null,76837.506968824368]
[null,"Dried Manure %",5.0683858558632873E-3,null,{"$f":"IF(E117=0,0,E120/E117)","v":5.0683858558632873E-3}]
[null,"Non-Manure Organics",569200.36442201026,null,{"$f":"E117*(1-E125)","v":589290.02328943054}]
[null,"Manure Organics",2899.6234868568599,null,{"$f":"E117*E125","v":3001.9643326046767}]
[]
[]
[null,"Fertilizer Calculations",2007]
[null,"Growing Year Entry","Total Fertilizer Use (kg N)"]
[null,"Synthetic ",54444208.584339224]
[null,"Organic  ",629791.41566077585]
[null,"Dried Blood"]
[null,"Compost"]
[null,"Dried Manure",3192.0259032791919]
[null,"Activated Sewage Sludge",544897.11570846592]
[null,"Other Sewage Sludge"]
[null,"Tankage"]
[null,"Other ",81702.274049030704]
[null,"Dried Manure %",5.0683858558632864E-3]
[null,"Non-Manure Organics",626599.38975749665]
[null,"Manure Organics",3192.0259032791923]
[]
[null,"Agriculture Soils - Emissions from Animals & Runoff",null,null,null,null,null,null,null,null,null,null,null,null,null,null,null,null,null,null,null,null,null,null,null,null,null,null,null,null,null,null,null,"Percentage Breakdown of Manure Management Systems "]
[null,null,null,null,null,null,null,null,null,null,null,null,"K-NITROGEN EXCRETED BY MANAGEMENT SYSTEM (kg):",null,null,null,null,null,"DIRECT EMISSIONS (MT N)",null,null,null,null,null,null,null,null,null,null,null,null,null,null,"Source: US Inventory spreadsheets. See Manure-N2O.xls, WMS sheets."]
[null,null,"Number of Animals\n('000 head)",null,"TAM\n(kg)",null,"K-Nitrogen\n(kg/day/1000kg)",null,"Total K-Nitrogen Excreted\n(kg)",null,"Indirect Animal N2O Emissions\n(metric tons N)",null,"Managed Systems",null,"Unmanaged Systems - Pasture, Range, and Paddock",null,"Unmanaged Systems - Daily Spread",null,"Manure Applied to Soils",null,"Pasture, Range and Paddock",null,"Leaching and Runoff",null,null,null,null,null,null,null,null,null,null,"Dairy Cows ",null,null,null,null,null,null,null,"Dairy Heifers",null,null,null,null,"Feedlot Beef",null,null,"NOF Beef",null,null,"Swine",null,null,null,null,null,null,"Layers",null,null,null,null,null,"Broilers",null,null,"Turkeys",null,null,null,"Sheep",null,null,null,"Goats",null,null,"Horses"]
[null,"Dairy Cattle",null,null,null,null,null,null,null,null,null,null,null,null,null,null,null,null,null,null,null,null,null,null,null,null,null,null,null,null,null,null,null,"Year & State","Anaerobic Lagoon","Liquid/ Slurry","Daily Spread","Solid Storage","Pasture","Deep Pit",null,"Year & State","Managed","PRP","Daily Spread",null,"STATE","Dry Lot",null,"STATE","Pasture",null,"Year & State","Pasture","Solid Storage","Liquid/ Slurry","Anaerobic Lagoon","Deep Pit",null,"Year & State","Solid Storage","Liquid/ Slurry","Anaerobic Lagoon","Poultry without bedding",null,"State","Litter",null,"State","Litter","Range",null,"Year & State","On Feed (PRP)","Not on Feed (PRP)",null,"STATE","Pasture, Range & Paddock",null,"STATE","Pasture, Range & Paddock"]
[null,"Dairy Cows",70,null,604,null,0.44,null,{"$f":"C149*E149*G149*365","v":6790168},null,{"$f":"(I149*0.2*0.01)/1000","v":13.580336000000001},null,{"$f":"C149*(AI149+AJ149+AL149+AN149)*E149*G149*365","v":3328752.5815385436},null,{"$f":"C149*(AM149)*E149*G149*365","v":447882.21253309777},null,{"$f":"C149*(AK149)*E149*G149*365","v":3013533.2059283582},null,{"$f":"((M149+Q149)*(1-0.2)*0.0125)/1000","v":63.422857874669035},null,{"$f":"(O149*0.02)/1000","v":8.9576442506619554},null,{"$f":"K117","v":19328.712763893323},"Unvolatilized N from Organic Fertilizers (kg)",null,null,null,null,null,null,null,null,null,"2006MD",7.6488535055593554E-2,0.15472472257238745,0.44380834258126728,0.22861605738914034,6.5960402236453913E-2,3.0401940165157418E-2,null,"2006MD",{"$f":"1-SUM(AR149:AS149)","v":0.49023125518227884},6.5960402236453913E-2,0.44380834258126728,null,"2006MD",1,null,"2006MD",1,null,"2006MD",0.21140679400000001,3.7602905999999998E-2,0.214504853,0.15671048400000001,0.37977496300000002,null,"2006MD",0,0,0.05,0.95,null,"MD",1,null,"MD",0.9,0.1,null,"MD",0,1,null,"MD",1,null,"MD",1]
[null,"Dairy Replacement Heifers",30,null,476,null,0.31,null,1615782,null,3.2315640000000001,null,{"$f":"C150*(AQ149)*E150*G150*365","v":792106.83796093287},null,{"$f":"C150*(AR149)*E150*G150*365","v":106577.63064642198},null,{"$f":"C150*(AK149)*E150*G150*365","v":717097.53139264521},null,15.092043693535782,null,2.1315526129284397,null,{"$f":"K116","v":46082212.211140171},"Unvolatilized N from Synthetic Fertilizers (kg)"]
[null,"Beef Cattle",null,null,null,null,null,null,null,null,null,null,null,null,null,null,null,null,null,null,null,null,{"$f":"SUM(W149:W150)/1000*0.3","v":13830.462277171218},"Fertilizer Runoff/Leached (metric tons N)"]
[null,"Feedlot Heifers",3.9119999999999999,null,420,null,0.3,null,{"$f":"C152*E152*G152*365","v":179912.88},null,{"$f":"(I152*0.2*0.01)/1000","v":0.35982575999999999},null,{"$f":"C152*(AV149)*E152*G152*365","v":179912.88},null,"NA",null,"NA",null,{"$f":"((M152)*(1-0.2)*0.0125)/1000","v":1.7991288000000001},null,"NA"]
[null,"Feedlot Steer",7.3949999999999996,null,420,null,0.3,null,340096.04999999993,null,0.68019209999999997,null,{"$f":"C153*AV149*E153*G153*365","v":340096.04999999993},null,"NA",null,"NA",null,3.4009604999999996,null,"NA",null,{"$f":"I177","v":39420248.386150002},"Total N excreted by Livestock (kg)"]
[null,"Bulls",3,null,750,null,0.31,null,254587.5,null,0.50917500000000004,null,"NA",null,{"$f":"C154*(AY$149)*E154*G154*365","v":254587.5},null,"NA",null,"NA",null,{"$f":"(O154*0.02)/1000","v":5.0917500000000002},null,{"$f":"(W153*(1-0)*0.3)/1000","v":11826.074515845001},"Manure Runoff/Leached (metric tons N)"]
[null,"Calves",37,null,118,null,0.3,null,478077,null,0.95615400000000006,null,"NA",null,478077,null,"NA",null,"NA",null,9.5615400000000008]
[null,"Beef Cows",49,null,533,null,0.33,null,3145792.6500000004,null,6.2915853000000013,null,"NA",null,3145792.6500000004,null,"NA",null,"NA",null,62.915853000000013,null,{"$f":"SUM(W151,W154)*0.0075","v":192.42402594762163},"TOTAL Runoff/Leached (metric tons N2O-N)"]
[null,"Steer Stockers",13,null,318,null,0.31,null,467762.1,null,0.93552419999999992,null,"NA",null,467762.1,null,"NA",null,"NA",null,9.3552420000000005]
[null,"Total Beef Heifers",23,null,420,null,0.31,null,1093029,null,2.1860580000000001,null,"NA",null,1093029,null,"NA",null,"NA",null,21.860580000000002]
[null,"Swine"]
[null,"Breeding Swine",6,null,198,null,0.23499999999999999,null,{"$f":"C160*E160*G160*365","v":101900.7},null,{"$f":"(I160*0.2*0.01)/1000","v":0.20380139999999999},null,{"$f":"C160*(BC149+BD149+BE149+BF149)*E160*G160*365","v":80358.199706644213},null,{"$f":"C160*(BB$149)*E160*G160*365","v":21542.500293355803},null,"NA",null,{"$f":"((M160)*(1-0.2)*0.0125)/1000","v":0.80358199706644218},null,{"$f":"(O160*0.02)/1000","v":0.43085000586711608}]
[null,"Market Under 60 lbs",10,null,15.88,null,0.6,null,34777.199999999997,null,6.9554400000000002E-2,null,{"$f":"C161*(BC149+BD149+BE149+BF149)*E161*G161*365","v":27425.063643703201},null,7352.1363562968008,null,"NA",null,0.27425063643703201,null,0.14704272712593602]
[null,"Market 60-119 lbs",6,null,40.6,null,0.42,null,37343.880000000005,null,7.4687760000000006E-2,null,{"$f":"C162*(BC149+BD149+BE149+BF149)*E162*G162*365","v":29449.130053679284},null,7894.7499463207205,null,"NA",null,0.2944913005367929,null,0.15789499892641443]
[null,"Market 120-179 lbs",7,null,67.819999999999993,null,0.42,null,72777.641999999993,null,0.14555528400000001,null,{"$f":"C163*(BC149+BD149+BE149+BF149)*E163*G163*365","v":57391.954029900247},null,15385.687970099749,null,"NA",null,0.5739195402990025,null,0.30771375940199497]
[null,"Market over 180 lbs",4,null,90.75,null,0.42,null,55647.9,null,0.11129580000000001,null,{"$f":"C164*(BC149+BD149+BE149+BF149)*E164*G164*365","v":43883.555868167401},null,11764.3441318326,null,"NA",null,0.43883555868167406,null,0.23528688263665201]
[null,"Poultry"]
[null,"Layers"]
[null,"Hens > 1 yr",2560,null,1.8,null,0.83,null,{"$f":"C167*E167*G167*365","v":1395993.5999999999},null,{"$f":"(I167*0.2*0.01)/1000","v":2.7919871999999994},null,{"$f":"C167*(BI$149+BJ$149+BK$149+BL$149)*E167*G167*365","v":1395993.5999999999},null,"NA",null,"NA",null,{"$f":"((M167)*(1-0.042)*(1-0.2)*0.0125)/1000","v":13.373618688000001},null,"NA"]
[null,"Pullets",938,null,1.8,null,0.62,null,382084.92,null,0.76416983999999999,null,382084.92,null,"NA",null,"NA",null,3.6603735336000001,null,"NA"]
[null,"Chickens",16,null,1.8,null,0.83,null,8724.9599999999991,null,1.7449919999999997E-2,null,8724.9599999999991,null,"NA",null,"NA",null,{"$f":"(((M169)*(0.958)*(1-0.2)*0.0125))/1000","v":8.3585116800000012E-2},null,"NA"]
[null,"Broilers",54090.909,null,0.9,null,1.1000000000000001,null,19545749.967150003,null,39.09149993430001,null,19545749.967150003,null,"NA",null,"NA",null,187.24828468529705,null,"NA"]
[null,"Turkeys",0,null,6.8,null,0.74,null,0,null,0,null,0,null,{"$f":"C171*(BS149)*E171*G171*365","v":0},null,"NA",null,0,null,{"$f":"(O171*0.02)/1000","v":0}]
[null,"Other"]
[null,"Sheep on Feed",0,null,27,null,0.42,null,{"$f":"C173*E173*G173*365","v":0},null,{"$f":"(I173*0.2*0.01)/1000","v":0},null,{"$f":"C173*(1-BV149)*E173*G173*365","v":0},null,{"$f":"C173*(BV149)*E173*G173*365","v":0},null,"NA",null,{"$f":"((M173)*(1-0.2)*0.0125)/1000","v":0},null,{"$f":"(O173*0.02)/1000","v":0}]
[null,"Sheep Not on Feed",22,null,27,null,0.42,null,91060.2,null,0.18212040000000002,null,{"$f":"C174*(1-BW149)*E174*G174*365","v":0},null,{"$f":"C174*(BW149)*E174*G174*365","v":91060.2},null,"NA",null,0,null,1.821204]
[null,"Goats",9.6010000000000009,null,64,null,0.45,null,100925.712,null,0.201851424,null,"NA",null,{"$f":"C175*(BZ149)*E175*G175*365","v":100925.712},null,"NA",null,"NA",null,2.01851424]
[null,"Horses",65.510999999999996,null,450,null,0.3,null,3228054.5249999994,null,6.4561090499999993,null,"NA",null,{"$f":"C176*CC149*E176*G176*365","v":3228054.5249999994},null,"NA",null,"NA",null,64.561090499999992]
[null,"TOTAL",null,null,null,null,null,null,{"$f":"SUM(I149:I176)","v":39420248.386150002},null,{"$f":"SUM(K149:K176)","v":78.840496772300014},null,{"$f":"SUM(M149:M176)","v":26211929.699951574},null,{"$f":"SUM(O149:O176)","v":9477687.9488774259},null,{"$f":"SUM(Q149:Q176)","v":3730630.7373210033},null,{"$f":"SUM(S149:S176)","v":290.46593192492281},null,{"$f":"SUM(U149:U176)","v":189.55375897754851}]
[]
[null,"EMISSIONS SUMMARY  2006"]
[null,null,null,null,null,null,"Livestock\n(Metric Tons N2O)",null,"Livestock\n(MMTCE)",null,"Livestock\n(MMTCO2E)",null,null,null,"Leaching and Runoff\n(Metric Tons N2O)",null,"Leaching and Runoff\n(MMTCE)",null,"Leaching and Runoff\n(MMTCO2E)"]
[null,null,"Indirect N2O Emissions",null,null,null,{"$f":"K177*44/28","v":123.89220921361432},null,{"$f":"G181*$Z$7*12/44*10^-6","v":8.954027847711217E-3},null,{"$f":"I181/(12/44)","v":3.2831435441607798E-2},null,null,"TOTAL Runoff/Leached",{"$f":"W156*44/28","v":302.38061220340541},null,{"$f":"O181*$Z$7*12/44*10^-6","v":2.1853871518337026E-2},null,{"$f":"Q181/(12/44)","v":8.0130862233902436E-2}]
[null,null,null,null,"Direct N2O Emissions - Manure Applied to Soils (including Daily Spread)",null,{"$f":"(U177+S177)*44/28","v":754.31665713245491},null,5.4516522038209239E-2,null,0.19989391414010055,null,null,"Fertilizer Runoff/Leached",{"$f":"SUM(W151)*0.0075*44/28","v":163.00187683808937},null,1.1780590189661915E-2,null,4.3195497362093695E-2]
[null,null,null,null,"Direct N2O Emissions - Pasture, Range, and Paddock",null,{"$f":"U177*44/28","v":297.87019267900484},null,2.1527891198164437E-2,null,7.8935601059936272E-2,null,null,"Manure Runoff/Leached ",{"$f":"SUM(W154)*0.0075*44/28","v":139.37873536531609},null,1.0073281328675117E-2,null,3.6935364871808762E-2]
[null,null,"Direct N2O Emissions",null,null,null,{"$f":"SUM(G182:G183)","v":1052.1868498114598},null,7.6044413236373662E-2,null,0.27882951520003679]
[]
[null,"Agricultural Residue Burning CH4 Emissions",null,null,null,null,null,null,null,null,null,null,null,null,null,null,null,null,null,null,null,null,null,null,null,null,null,null,null,null,null,null,null,"Percentage Breakdown of Manure Management Systems "]
[null,"Crop","Units",null,"Crop Production        ",null,"metric tons/bushel",null,"Crop Production     (metric tons)",null,"Residue/Crop Ratio",null,"Fraction   Residue Burned",null,"Dry Matter Fraction",null,"Burning Efficiency",null,"Combustion Efficiency",null,"Carbon Content",null,"Total C Released  (metric tons C)",null,"CH4 Emissions  (metric tons CH4)",null,"CH4 Emissions  (MMTCE)",null,"CH4 Emissions  (MMTCO2E)"]
[]
[null,"Barley","'000 bushels",null,2784,"=",2.1772E-2,null,{"$f":"E189*G189*1000","v":60613.248},"x",1.2,"x",0.03,"x",0.93,"x",0.93,"x",0.88,"=",0.44850000000000001,"=",{"$f":"I189*K189*M189*O189*Q189*S189*U189","v":744.87101326853542},"=",4.9658067551235696,"=",{"$f":"Y189/(10^6)*$Z$6*12/44","v":3.7920706130034534E-5},"=",{"$f":"AA189/(12/44)","v":1.3904258914345996E-4}]
[null,"Corn","'000 bushels",null,60350,"=",2.5401147108E-2,null,1532959.2279677999,"x",1,"x",0.03,"x",0.91,"x",0.93,"x",0.88,"=",0.44779999999999998,"=",15337.089823834229,"=",102.24726549222818,"=",7.8079730012246969E-4,"=",2.8629234337823892E-3]
[null,"Peanuts","'000 pounds",null,0,"=","NA",null,{"$f":"(E191*1000/2000*0.9072)","v":0},"x",1,"x",0.03,"x",0.86,"x",0.93,"x",0.88,"=",0.45,"=",0,"=",0,"=",0,"=",0]
[null,"Rice","'000 cwt",null,0,"=","NA",null,0,"x",1.4,"x",0,"x",0.91,"x",0.93,"x",0.88,"=",0.38059999999999999,"=",0,"=",0,"=",0,"=",0]
[null,"Soybeans","'000 bushels",null,15810,"=",2.7215692074999999E-2,null,{"$f":"E193*G193*1000","v":430280.09170575003},"x",2.1,"x",0.03,"x",0.87,"x",0.93,"x",0.88,"=",0.45,"=",8685.3872946237061,"=",57.902581964158038,"=",4.4216517136266143E-4,"=",1.6212722949964253E-3]
[null,"Sugarcane","'000 tons",null,0,"=","NA",null,{"$f":"E194*0.9072*1000","v":0},"x",0.8,"x",0.03,"x",0.62,"x",0.93,"x",0.88,"=",0.42349999999999999,"=",0,"=",0,"=",0,"=",0]
[null,"Wheat","'000 bushels",null,8500,"=",2.7215442853E-2,null,{"$f":"E195*G195*1000","v":231331.26425050001},"x",1.3,"x",0.03,"x",0.93,"x",0.93,"x",0.88,"=",0.44280000000000003,"=",3040.5707954578766,"=",20.270471969719175,"=",1.5479269504149187E-4,"=",5.6757321515213692E-4]
[null,"Other","metric tons",null,null,"=","NA",null,{"$f":"E196","v":0},"x",null,"x",null,"x",null,"x",null,"x",null,"=",null,"=",0,"=",0,"=",0,"=",0]
[null,"___________","metric tons",null,null,"=","NA",null,0,"x",null,"x",null,"x",null,"x",null,"x",null,"=",null,"=",0,"=",0,"=",0,"=",0]
[]
[null,"TOTAL",null,null,null,null,null,null,null,null,null,null,null,null,null,null,null,null,null,null,null,null,{"$f":"SUM(W189:W197)","v":27807.918927184346},null,{"$f":"SUM(Y189:Y197)","v":185.38612618122897},null,{"$f":"SUM(AA189:AA197)","v":1.4156758726566574E-3},null,{"$f":"SUM(AC189:AC197)","v":5.190811533074411E-3}]
[]
[null,"Agricultural Residue Burning N2O Emissions",null,null,null,null,null,null,null,null,null,null,null,null,null,null,null,null,null,null,null,null,null,null,null,null,null,null,null,null,null,null,null,"Percentage Breakdown of Manure Management Systems "]
[null,"Crop","Units",null,"Crop Production        ",null,"metric tons/bushel",null,"Crop Production     (metric tons)",null,"Residue/Crop Ratio",null,"Fraction Residue Burned",null,"Dry Matter Fraction",null,"Burning Efficiency",null,"Combustion Efficiency",null,"Nitrogen Content",null,"Total N Released  (metric tons)",null,"N2O Emissions  (metric tons)",null,"N2O Emissions  (MMTCE)",null,"N2O Emissions  (MMTCO2E)"]
[]
[null,"Barley","'000 bushels",null,2784,"=",2.1772E-2,null,{"$f":"E204*G204*1000","v":60613.248},"x",1.2,"x",0.03,"x",0.93,"x",0.93,"x",0.88,"=",7.7000000000000002E-3,"=",{"$f":"I204*K204*M204*O204*Q204*S204*U204","v":12.788197998144309},"=",0.14067017797958739,"=",{"$f":"Y204/(10^6)*$Z$7*12/44","v":1.0166617408524726E-5},"=",{"$f":"AA204/(12/44)","v":3.727759716459066E-5}]
[null,"Corn","'000 bushels",null,60350,"=",2.5401147108E-2,null,1532959.2279677999,"x",1,"x",0.03,"x",0.91,"x",0.93,"x",0.88,"=",5.7999999999999996E-3,"=",198.6492205856153,"=",2.1851414264417683,"=",1.5792613036556417E-4,"=",5.7906247800706869E-4]
[null,"Peanuts","'000 pounds",null,0,"=","NA",null,{"$f":"(E206*1000/2000*0.9072)","v":0},"x",1,"x",0.03,"x",0.86,"x",0.93,"x",0.88,"=",1.06E-2,"=",0,"=",0,"=",0,"=",0]
[null,"Rice","'000 cwt",null,0,"=","NA",null,0,"x",1.4,"x",0,"x",0.91,"x",0.93,"x",0.88,"=",7.1999999999999998E-3,"=",0,"=",0,"=",0,"=",0]
[null,"Soybeans","'000 bushels",null,15810,"=",2.7215692074999999E-2,null,{"$f":"E208*G208*1000","v":430280.09170575003},"x",2.1,"x",0.03,"x",0.87,"x",0.93,"x",0.88,"=",2.3E-2,"=",443.91979505854493,"=",4.883117745643994,"=",3.5291623707154327E-4,"=",1.2940262025956588E-3]
[null,"Sugarcane","'000 tons",null,0,"=","NA",null,{"$f":"E209*0.9072*1000","v":0},"x",0.8,"x",0.03,"x",0.62,"x",0.93,"x",0.88,"=",4.0000000000000001E-3,"=",0,"=",0,"=",0,"=",0]
[null,"Wheat","'000 bushels",null,8500,"=",2.7215442853E-2,null,{"$f":"E210*G210*1000","v":231331.26425050001},"x",1.3,"x",0.03,"x",0.93,"x",0.93,"x",0.88,"=",6.1999999999999998E-3,"=",42.573484489247591,"=",0.46830832938172345,"=",3.3845920168951836E-5,"=",1.2410170728615675E-4]
[null,"Other",null,null,0,"=","NA",null,{"$f":"E211","v":0},"x",null,"x",null,"x",null,"x",null,"x",null,"=",null,"=",0,"=",0,"=",0,"=",0]
[null,null,null,null,0,"=","NA",null,0,"x",null,"x",null,"x",null,"x",null,"x",null,"=",null,"=",0,"=",0,"=",0,"=",0]
[]
[null,"TOTAL",null,null,null,null,null,null,null,null,null,null,null,null,null,null,null,null,null,null,null,null,{"$f":"SUM(W204:W212)","v":697.93069813155205},null,{"$f":"SUM(Y204:Y212)","v":7.6772376794470736},null,{"$f":"SUM(AA204:AA212)","v":5.5485490501458402E-4},null,{"$f":"SUM(AC204:AC212)","v":2.0344679850534749E-3}]
[]
[null,"TOTAL AGRICULTURE",null,null,null,null,null,null,null,null,null,null,null,null,null,null,null,null,null,null,null,null,null,null,null,null,null,null,null,null,null,null,null,"Percentage Breakdown of Manure Management Systems "]
[]
[null,"Emissions (MMTCO2 Eq.)",2006,null,"2006\nMMTCO2E"]
[null,"Enteric Fermentation",{"$f":"M25","v":0.5587572393611373},null,{"$f":"C219","v":0.5587572393611373}]
[null,"Manure Management",{"$f":"W59+U85","v":0.31835966162062634},null,0.31835966162062634]
[null,"Ag Soils",{"$f":"C250*$Z$7/1000000","v":0.87165658347217401},null,0.87165658347217401]
[null,"Rice Cultivation",0,null,0]
[null,"Agricultural Residue Burning",{"$f":"AC199+AC214","v":7.2252795181278855E-3},null,7.2252795181278855E-3]
[null,"TOTAL",{"$f":"SUM(C219:C223)","v":1.7559987639720656},null,1.7559987639720656]
[]
[null,"Emissions by Gas \n(MMTCH4 or MMTN2O)",2006,null,"2006\nMMTCO2E"]
[null,"Methane",{"$f":"SUM(C228:C231)","v":2.4493089267832491E-2},null,{"$f":"C227*$Z$6","v":0.68580649949930972}]
[null,"Enteric Fermentation",1.9955615691469183E-2,null,0.55875723936113708]
[null,"Manure Management",4.352087450182081E-3,null,0.12185844860509827]
[null,"Rice Cultivation",0,null,0]
[null,"Agricultural Residue Burning",1.8538612618122896E-4,null,5.190811533074411E-3]
[null,"Nitrous Oxide",{"$f":"SUM(C233:C235)","v":4.0384613753688889E-3},null,{"$f":"C232*$Z$7","v":1.0701922644727555}]
[null,"Manure Management",7.415140113793511E-4,null,0.19650121301552803]
[null,"Ag Soils",3.2892701263100908E-3,null,0.87165658347217412]
[null,"Agricultural Residue Burning",7.6772376794470732E-6,null,2.0344679850534744E-3]
[]
[null,"Nitrous Oxide Emissions from Ag Soils (metric tons N2O)",2006]
[null,"Direct",{"$f":"SUM(C239:C243)","v":2782.4603652163332}]
[null,"Fertilizers",{"$f":"O116","v":724.45278594706372}]
[null,"Crop Residues",{"$f":"AA90","v":402.03381228776044}]
[null,"N-Fixing Crops",603.78691717004938]
[null,"Histosols",0]
[null,"Livestock",{"$f":"G184","v":1052.1868498114598}]
[null,"Indirect",{"$f":"SUM(C245:C247)","v":506.80976109375757}]
[null,"Fertilizers",{"$f":"Q116","v":80.53693967673783}]
[null,"Livestock",{"$f":"G181","v":123.89220921361432}]
[null,"Leaching/Runoff",{"$f":"+O181","v":302.38061220340541}]
[null,"Fertilizer Runoff/Leached",{"$f":"O182","v":163.00187683808937}]
[null,"Manure Runoff/Leached ",139.37873536531609]
[null,"TOTAL",{"$f":"C244+C238","v":3289.2701263100907}]

{"sheet":"Land Use","index":19,"n_rows":54,"n_cols":21,"rows_kept":54,"cut":false,"hidden":false,"merged":[]}
["Land Use, Land-Use Change, and Forestry Emissions and Sequestration"]
[]
[null,null,"Emissions* (MMTCO2E)"]
[null,null,null,1990,1991,1992,1993,1994,1995,1996,1997,1998,1999,2000,2001,2002,2003,2004,2005,2006,2007]
[null,null,"Forest Carbon Flux",{"$f":"D6+D7+D8+D9+D10+D11","v":-1.3786016094899192},-1.3786016094898481,-1.378601609489861,-1.4529442632555916,-1.452944263255572,-1.4529442632555851,-1.4529442632555787,-1.4529442632555851,-1.4529442632555851,-4.8763551966630923,-10.497998270281999,-10.497998270282093,-10.497998270282045,-10.497998270282059,-10.497998270282098,-10.497998270282032,-10.497998270282098,-10.497998270282098]
[null,null,"Aboveground Biomass",-1.1893409441380904,-1.1893409441380385,-1.1893409441380385,-1.1893409441380385,-1.1893409441380904,-1.1893409441380385,-1.1893409441380385,-1.1893409441380385,-1.1893409441380385,-3.5713489374136125,-7.4828859971418584,-7.4828859971419632,-7.4828859971419108,-7.4828859971419108,-7.4828859971419632,-7.4828859971419108,-7.4828859971419632,-7.4828859971419632]
[null,null,"Belowground Biomass",-0.22520706970959853,-0.22520706970959203,-0.22520706970959203,-0.22520706970959853,-0.22520706970959203,-0.22520706970959203,-0.22520706970959203,-0.22520706970959853,-0.22520706970959203,-0.67819876681679081,-1.4220643692774915,-1.4220643692774655,-1.4220643692774786,-1.4220643692774915,-1.4220643692774786,-1.4220643692774655,-1.4220643692774786,-1.4220643692774786]
[null,null,"Dead Wood",-9.9749329396212019E-2,-9.9749329396198988E-2,-9.9749329396212019E-2,-9.9749329396212019E-2,-9.9749329396198988E-2,-9.9749329396212019E-2,-9.9749329396205511E-2,-9.9749329396205511E-2,-9.9749329396212019E-2,-0.28332848191679949,-0.58478702466936561,-0.58478702466937205,-0.58478702466937205,-0.58478702466937205,-0.58478702466937205,-0.58478702466937205,-0.58478702466937205,-0.58478702466937205]
[null,null,"Litter",0.18749263985187525,0.18749263985187525,0.18749263985187525,0.18749263985187525,0.18749263985187525,0.18749263985187525,0.18749263985187525,0.18749263985187525,0.18749263985187525,2.8708282540942893E-2,-0.23203429258065059,-0.23203429258065711,-0.23203429258065059,-0.23203429258065059,-0.23203429258065059,-0.23203429258065059,-0.23203429258065059,-0.23203429258065059]
[null,null,"Soil Organic Carbon",0.59866658180080867,0.59866658180080867,0.59866658180080867,0.59866658180080867,0.59866658180086074,0.59866658180080867,0.59866658180080867,0.59866658180080867,0.59866658180080867,0.35261884860759568,-5.1420444948206523E-2,-5.1420444948206523E-2,-5.1420444948206523E-2,-5.1420444948206523E-2,-5.1420444948206523E-2,-5.1420444948206523E-2,-5.1420444948206523E-2,-5.1420444948206523E-2]
[null,null,"Total wood products and landfills",-0.65046348789870234,-0.65046348789870234,-0.65046348789870234,-0.72480614166442658,-0.72480614166442658,-0.72480614166442658,-0.72480614166442658,-0.72480614166442658,-0.72480614166442658,-0.72480614166442658,-0.72480614166442658,-0.72480614166442658,-0.72480614166442658,-0.72480614166442658,-0.72480614166442658,-0.72480614166442658,-0.72480614166442658,-0.72480614166442658]
[null,null,"Liming of Agricultural Soils",0,0,0,0,0,0,0,0,0,0,0,0,0,0,0,0,0,0]
[null,null,"Limestone",0,0,0,0,0,0,0,0,0,0,0,0,0,0,0,0,0,0]
[null,null,"Dolomite",0,0,0,0,0,0,0,0,0,0,0,0,0,0,0,0,0,0]
[null,null,"Urea Fertilization",4.5533313979860286E-3,6.2814607033777857E-3,6.6705218784964757E-3,6.2737115727720819E-3,6.9904755511203849E-3,5.7743596722005493E-3,6.6635404759744768E-3,8.1949637424778479E-3,7.6812272521092264E-3,7.9880350781698865E-3,9.5535736792766637E-3,8.213225558680334E-3,8.2133998608969125E-3,7.5342492364450083E-3,1.0193971997943693E-2,6.6942203271946532E-3,5.1482567963954153E-3,4.547456758956802E-3]
[null,null,"Urban Trees",-1.269896023,-1.2963562886999997,-1.3228165543999999,-1.3492768200999998,-1.3757370857999998,-1.4021973514999995,-1.4286576171999996,-1.4551178828999993,-1.4815781485999997,-1.5080384142999992,-1.5344986799999998,-1.5609589457000037,-1.5874192114000076,-1.613879477100002,-1.6403397428000059,-1.6668000084999999,-1.1694595733333335,-1.7197205399000073]
[null,null,"Landfilled Yard Trimmings and Food Scraps",-0.45749848141087734,-0.43364243245915407,-0.42685899692008078,-0.37186678024305642,-0.32704599092527553,-0.26898025396719133,-0.21992671139543396,-0.23260303177156461,-0.22923912671305591,-0.21234060426161178,-0.21231676947693673,-0.21802405505873565,-0.22263432394918187,-0.19197427112010765,-0.18744340397737064,-0.18674581868934073,-0.18467683894012488,-0.16284073022072465]
[null,null,"Grass",-3.7476700839395673E-2,-3.4907486993188359E-2,-3.3956433101933331E-2,-2.6768294538661811E-2,-2.1634723729736641E-2,-1.5251642043051579E-2,-9.7205305233770221E-3,-9.6416153842099929E-3,-9.8250129492662552E-3,-8.4139027294219196E-3,-8.262806853943306E-3,-9.8924974622418057E-3,-1.1141026710961115E-2,-7.7906107871290632E-3,-6.5853399756642065E-3,-7.6898202626143565E-3,-8.4802520728281365E-3,-8.376949107391226E-3]
[null,null,"Leaves",-0.18775413189431356,-0.18022086497482728,-0.17725456687430405,-0.15457553207368552,-0.1370890806126181,-0.11490029065098975,-9.4437431702286481E-2,-9.0327202862476114E-2,-8.7314694700182285E-2,-7.9610900883203689E-2,-7.5857996251008739E-2,-7.7904726685860848E-2,-7.9271780263166489E-2,-6.6647250455588614E-2,-6.0326814607326244E-2,-6.1632909805335728E-2,-6.1942198859260007E-2,-5.8310081401474693E-2]
[null,null,"Branches",-0.18694640365122364,-0.17896310951941205,-0.17570136813684348,-0.15213572116687116,-0.13396072119164659,-0.11097178454709297,-8.9799974989547685E-2,-8.5513503357103518E-2,-8.236667140618352E-2,-7.4392552342463808E-2,-7.0503599926044672E-2,-7.259815664929449E-2,-7.3990353815439516E-2,-6.0964628330083773E-2,-5.4456453367069189E-2,-5.5714975515899441E-2,-5.6039595623909609E-2,-5.2671991717843709E-2]
[null,null,"Landfilled Food Scraps",-4.5321245025944507E-2,-3.9550970971726385E-2,-3.9946628806999944E-2,-3.8387232463837885E-2,-3.4361465391274236E-2,-2.7856536726057032E-2,-2.596877418022274E-2,-4.7120710167774971E-2,-4.9732747657423845E-2,-4.9923248306522353E-2,-5.7692366445940002E-2,-5.7628674261338532E-2,-5.8231163159614727E-2,-5.6571781547306216E-2,-6.6074796027310992E-2,-6.1708113105491215E-2,-5.821479238412712E-2,-4.3481707994015018E-2]
[null,null,"Forest Fires",5.6030846399999991E-4,5.6030846399999991E-4,5.6030846399999991E-4,5.6030846399999991E-4,5.6030846399999991E-4,5.6030846399999991E-4,5.6030846399999991E-4,5.6030846399999991E-4,5.6030846399999991E-4,5.6030846399999991E-4,5.6030846399999991E-4,5.6030846399999991E-4,5.6030846399999991E-4,5.6030846399999991E-4,5.6030846399999991E-4,5.6030846399999991E-4,3.8958247501919986E-2,0]
[null,null,"CH4",4.6674079199999997E-4,4.6674079199999997E-4,4.6674079199999997E-4,4.6674079199999997E-4,4.6674079199999997E-4,4.6674079199999997E-4,4.6674079199999997E-4,4.6674079199999997E-4,4.6674079199999997E-4,4.6674079199999997E-4,4.6674079199999997E-4,4.6674079199999997E-4,4.6674079199999997E-4,4.6674079199999997E-4,4.6674079199999997E-4,4.6674079199999997E-4,3.245248726775999E-2,0]
[null,null,"N2O",9.3567671999999992E-5,9.3567671999999992E-5,9.3567671999999992E-5,9.3567671999999992E-5,9.3567671999999992E-5,9.3567671999999992E-5,9.3567671999999992E-5,9.3567671999999992E-5,9.3567671999999992E-5,9.3567671999999992E-5,9.3567671999999992E-5,9.3567671999999992E-5,9.3567671999999992E-5,9.3567671999999992E-5,9.3567671999999992E-5,9.3567671999999992E-5,6.505760234159998E-3,0]
[null,null,"N2O from Settlement Soils",1.9783789823906425E-2,2.5933501356201878E-2,2.8432903490202228E-2,2.4807276177968685E-2,2.5803540784425909E-2,2.8939266253370604E-2,2.8793086704347243E-2,2.8052291604399277E-2,2.4168959729723268E-2,2.8899390906263811E-2,3.6480713801147209E-2,2.7940909919462423E-2,2.632568221373403E-2,2.561344176463216E-2,3.4700340638404853E-2,2.8962586863582555E-2,2.2827269974381791E-2,2.4288595517778181E-2]
[null,null,"Total",{"$f":"D12+D15+D25+D16+D17+D22+D5","v":-3.0810986842149042},-3.075825060125422,-3.092613426977243,-3.142446567383907,-3.1223730151813012,-3.0888479343332049,-3.0655116562066906,-3.1038576141162721,-3.1313510431228084,-6.5592864807762696,-12.198219123814511,-12.24026682709869,-12.272952415092604,-12.270144019037092,-12.280326795959127,-12.315326981816595,-11.78520090828286,-12.351723488126094]
[null,null,"* Note that parentheses indicate net sequestration."]
[]
[]
[null,null,"Emissions (MMTCE)*"]
[null,null,null,1990,1991,1992,1993,1994,1995,1996,1997,1998,1999,2000,2001,2002,2003,2004,2005,2006,2007]
[null,null,"Forest Carbon Flux",-0.37598225713361433,-0.37598225713359495,-0.37598225713359845,-0.39625752634243405,-0.39625752634242872,-0.39625752634243233,-0.39625752634243055,-0.39625752634243233,-0.39625752634243233,-1.3299150536353888,-2.8630904373496362,-2.863090437349662,-2.8630904373496486,-2.8630904373496526,-2.8630904373496633,-2.8630904373496451,-2.8630904373496633,-2.8630904373496633]
[null,null,"Aboveground Biomass",-0.32436571203766107,-0.32436571203764686,-0.32436571203764686,-0.32436571203764686,-0.32436571203766107,-0.32436571203764686,-0.32436571203764686,-0.32436571203764686,-0.32436571203764686,-0.97400425565825799,-2.0407870901295979,-2.0407870901296263,-2.0407870901296121,-2.0407870901296121,-2.0407870901296263,-2.0407870901296121,-2.0407870901296263,-2.0407870901296263]
[null,null,"Belowground Biomass",-6.1420109920799604E-2,-6.1420109920797827E-2,-6.1420109920797827E-2,-6.1420109920799604E-2,-6.1420109920797827E-2,-6.1420109920797827E-2,-6.1420109920797827E-2,-6.1420109920799604E-2,-6.1420109920797827E-2,-0.18496330004094297,-0.38783573707567953,-0.38783573707567243,-0.38783573707567598,-0.38783573707567953,-0.38783573707567598,-0.38783573707567243,-0.38783573707567598,-0.38783573707567598]
[null,null,"Dead Wood",-2.7204362562603279E-2,-2.7204362562599727E-2,-2.7204362562603279E-2,-2.7204362562603279E-2,-2.7204362562599727E-2,-2.7204362562603279E-2,-2.7204362562601503E-2,-2.7204362562601503E-2,-2.7204362562603279E-2,-7.727140415912713E-2,-0.15948737036437244,-0.15948737036437421,-0.15948737036437421,-0.15948737036437421,-0.15948737036437421,-0.15948737036437421,-0.15948737036437421,-0.15948737036437421]
[null,null,"Litter",5.1134356323238705E-2,5.1134356323238705E-2,5.1134356323238705E-2,5.1134356323238705E-2,5.1134356323238705E-2,5.1134356323238705E-2,5.1134356323238705E-2,5.1134356323238705E-2,5.1134356323238705E-2,7.8295316020753347E-3,-6.328207979472289E-2,-6.3282079794724666E-2,-6.328207979472289E-2,-6.328207979472289E-2,-6.328207979472289E-2,-6.328207979472289E-2,-6.328207979472289E-2,-6.328207979472289E-2]
[null,null,"Soil Organic Carbon",0.16327270412749328,0.16327270412749328,0.16327270412749328,0.16327270412749328,0.1632727041275075,0.16327270412749328,0.16327270412749328,0.16327270412749328,0.16327270412749328,9.6168776892980645E-2,-1.4023757713147234E-2,-1.4023757713147234E-2,-1.4023757713147234E-2,-1.4023757713147234E-2,-1.4023757713147234E-2,-1.4023757713147234E-2,-1.4023757713147234E-2,-1.4023757713147234E-2]
[null,null,"Total Wood products and landfills",-0.17739913306328248,-0.17739913306328248,-0.17739913306328248,-0.19767440227211636,-0.19767440227211636,-0.19767440227211636,-0.19767440227211636,-0.19767440227211636,-0.19767440227211636,-0.19767440227211636,-0.19767440227211636,-0.19767440227211636,-0.19767440227211636,-0.19767440227211636,-0.19767440227211636,-0.19767440227211636,-0.19767440227211636,-0.19767440227211636]
[null,null,"Liming of Agricultural Soils",0,0,0,0,0,0,0,0,0,0,0,0,0,0,0,0,0,0]
[null,null,"Limestone",0,0,0,0,0,0,0,0,0,0,0,0,0,0,0,0,0,0]
[null,null,"Dolomite",0,0,0,0,0,0,0,0,0,0,0,0,0,0,0,0,0,0]
[null,null,"Urea Fertilization",1.2418176539961898E-3,1.7131256463757598E-3,1.8192332395899479E-3,1.7110122471196588E-3,1.9064933321237415E-3,1.5748253651456045E-3,1.8173292207203119E-3,2.2349901115848677E-3,2.0948801596661526E-3,2.1785550213190602E-3,2.6055200943481812E-3,2.2399706069128186E-3,2.240018143880976E-3,2.0547952463031843E-3,2.7801741812573709E-3,1.825696452871269E-3,1.4040700353805679E-3,1.2402154797154915E-3]
[null,null,"Urban Trees",-0.34633527900000005,-0.35355171509999994,-0.3607681512,-0.36798458729999994,-0.37520102339999994,-0.38241745949999989,-0.38963389559999989,-0.39685033169999984,-0.40406676779999995,-0.41128320389999978,-0.41849963999999995,-0.42571607610000101,-0.43293251220000212,-0.44014894830000056,-0.44736538440000162,-0.45458182050000001,-0.31894352000000004,-0.46901469270000201]
[null,null,"Landfilled Yard Trimmings and Food Scraps",-0.12477231311205746,-0.11826611794340566,-0.11641609006911295,-0.10141821279356085,-8.9194361161438779E-2,-7.335825108196127E-2,-5.998001219875472E-2,-6.343719048315398E-2,-6.2519761830833437E-2,-5.7911073889530484E-2,-5.7904573493710018E-2,-5.9461105925109725E-2,-6.0718451986140509E-2,-5.2356619396392995E-2,-5.1120928357464721E-2,-5.0930677824365653E-2,-5.0366410620034059E-2,-4.4411108242015815E-2]
[null,null,"Grass",-1.0220918410744274E-2,-9.5202237254150071E-3,-9.2608453914363627E-3,-7.3004439650895848E-3,-5.9003791990190841E-3,-4.1595387390140669E-3,-2.6510537791028244E-3,-2.6295314684209072E-3,-2.6795489861635245E-3,-2.2947007443877964E-3,-2.2534927783481743E-3,-2.6979538533386744E-3,-3.0384618302621222E-3,-2.124712032853381E-3,-1.7960018115447836E-3,-2.0972237079857335E-3,-2.3127960198622193E-3,-2.2846224838339708E-3]
[null,null,"Leaves",-5.1205672334812789E-2,-4.9151144993134714E-2,-4.8342154602082923E-2,-4.2156963292823327E-2,-3.7387931076168571E-2,-3.1336442904815388E-2,-2.5755663191532677E-2,-2.4634691689766213E-2,-2.381309855459517E-2,-2.171206387723737E-2,-2.0688544432093295E-2,-2.1246743641598415E-2,-2.1619576435409044E-2,-1.8176522851524168E-2,-1.6452767620179887E-2,-1.6808975401455199E-2,-1.6893326961616367E-2,-1.5902749473129463E-2]
[null,null,"Branches",-5.0985382813970088E-2,-4.880812077802147E-2,-4.7918554946411861E-2,-4.1491560318237593E-2,-3.6534742143176348E-2,-3.0265032149207175E-2,-2.4490902269876644E-2,-2.3321864551937323E-2,-2.2463637656231869E-2,-2.028887791158104E-2,-1.9228254525284909E-2,-1.9799497267989408E-2,-2.0179187404210777E-2,-1.6626716817295575E-2,-1.4851760009200689E-2,-1.519499332251803E-2,-1.5283526079248076E-2,-1.4365088650321012E-2]
[null,null,"Landfilled Food Scraps",-1.236033955253032E-2,-1.0786628446834468E-2,-1.0894535129181803E-2,-1.0469245217410333E-2,-9.3713087430747927E-3,-7.5972372889246452E-3,-7.0823929582425659E-3,-1.2851102773029538E-2,-1.3563476633842867E-2,-1.3615431356324278E-2,-1.5734281757983637E-2,-1.5716911162183236E-2,-1.5881226316258563E-2,-1.5428667694719877E-2,-1.8020398916539362E-2,-1.6829485392406696E-2,-1.5876761559307399E-2,-1.1858647634731368E-2]
[null,null,"Forest Fires",1.5281139927272725E-4,1.5281139927272725E-4,1.5281139927272725E-4,1.5281139927272725E-4,1.5281139927272725E-4,1.5281139927272725E-4,1.5281139927272725E-4,1.5281139927272725E-4,1.5281139927272725E-4,1.5281139927272725E-4,1.5281139927272725E-4,1.5281139927272725E-4,1.5281139927272725E-4,1.5281139927272725E-4,1.5281139927272725E-4,1.5281139927272725E-4,1.0624976591432723E-2,0]
[null,null,"CH4",1.2729294327272728E-4,1.2729294327272728E-4,1.2729294327272728E-4,1.2729294327272728E-4,1.2729294327272728E-4,1.2729294327272728E-4,1.2729294327272728E-4,1.2729294327272728E-4,1.2729294327272728E-4,1.2729294327272728E-4,1.2729294327272728E-4,1.2729294327272728E-4,1.2729294327272728E-4,1.2729294327272728E-4,1.2729294327272728E-4,1.2729294327272728E-4,8.850678345752724E-3,0]
[null,null,"N2O",2.5518455999999999E-5,2.5518455999999999E-5,2.5518455999999999E-5,2.5518455999999999E-5,2.5518455999999999E-5,2.5518455999999999E-5,2.5518455999999999E-5,2.5518455999999999E-5,2.5518455999999999E-5,2.5518455999999999E-5,2.5518455999999999E-5,2.5518455999999999E-5,2.5518455999999999E-5,2.5518455999999999E-5,2.5518455999999999E-5,2.5518455999999999E-5,1.7742982456799995E-3,0]
[null,null,"N2O from Settlement Soils",5.395579042883571E-3,7.0727730971459667E-3,7.7544282246006079E-3,6.7656207758096413E-3,7.0373293048434302E-3,7.8925271600101647E-3,7.8526600102765218E-3,7.6506249830179847E-3,6.5915344717427096E-3,7.8816520653446753E-3,9.9492855821310573E-3,7.6202481598533879E-3,7.1797315128365536E-3,6.9854841176269535E-3,9.4637292650195052E-3,7.898887326431606E-3,6.2256190839223065E-3,6.6241624139395045E-3]
[null,null,"Total",-0.84029964114951938,-0.83886138003420607,-0.84344002553924813,-0.85703088201379285,-0.85155627686762758,-0.84241307299996504,-0.83604863351091563,-0.84650662203171056,-0.8540048299425842,-1.7888963129389828,-3.326787033767594,-3.3382545892087339,-3.3471688404798012,-3.3464029142828435,-3.3491800352615799,-3.3587255404954353,-3.2141457022589619,-3.3686518603980256]
[null,null,"* Note that parentheses indicate net sequestration."]